BEGIN:VCALENDAR
VERSION:2.0
PRODID:-//Calendrier des événements - ECPv6.15.17//NONSGML v1.0//EN
CALSCALE:GREGORIAN
METHOD:PUBLISH
X-WR-CALNAME:Calendrier des événements
X-ORIGINAL-URL:https://www.uqac.ca/calendrier
X-WR-CALDESC:Évènements pour Calendrier des événements
REFRESH-INTERVAL;VALUE=DURATION:PT1H
X-Robots-Tag:noindex
X-PUBLISHED-TTL:PT1H
BEGIN:VTIMEZONE
TZID:America/New_York
BEGIN:DAYLIGHT
TZOFFSETFROM:-0500
TZOFFSETTO:-0400
TZNAME:EDT
DTSTART:20180311T070000
END:DAYLIGHT
BEGIN:STANDARD
TZOFFSETFROM:-0400
TZOFFSETTO:-0500
TZNAME:EST
DTSTART:20181104T060000
END:STANDARD
BEGIN:DAYLIGHT
TZOFFSETFROM:-0500
TZOFFSETTO:-0400
TZNAME:EDT
DTSTART:20190310T070000
END:DAYLIGHT
BEGIN:STANDARD
TZOFFSETFROM:-0400
TZOFFSETTO:-0500
TZNAME:EST
DTSTART:20191103T060000
END:STANDARD
BEGIN:DAYLIGHT
TZOFFSETFROM:-0500
TZOFFSETTO:-0400
TZNAME:EDT
DTSTART:20200308T070000
END:DAYLIGHT
BEGIN:STANDARD
TZOFFSETFROM:-0400
TZOFFSETTO:-0500
TZNAME:EST
DTSTART:20201101T060000
END:STANDARD
BEGIN:DAYLIGHT
TZOFFSETFROM:-0500
TZOFFSETTO:-0400
TZNAME:EDT
DTSTART:20210314T070000
END:DAYLIGHT
BEGIN:STANDARD
TZOFFSETFROM:-0400
TZOFFSETTO:-0500
TZNAME:EST
DTSTART:20211107T060000
END:STANDARD
BEGIN:DAYLIGHT
TZOFFSETFROM:-0500
TZOFFSETTO:-0400
TZNAME:EDT
DTSTART:20220313T070000
END:DAYLIGHT
BEGIN:STANDARD
TZOFFSETFROM:-0400
TZOFFSETTO:-0500
TZNAME:EST
DTSTART:20221106T060000
END:STANDARD
BEGIN:DAYLIGHT
TZOFFSETFROM:-0500
TZOFFSETTO:-0400
TZNAME:EDT
DTSTART:20230312T070000
END:DAYLIGHT
BEGIN:STANDARD
TZOFFSETFROM:-0400
TZOFFSETTO:-0500
TZNAME:EST
DTSTART:20231105T060000
END:STANDARD
BEGIN:DAYLIGHT
TZOFFSETFROM:-0500
TZOFFSETTO:-0400
TZNAME:EDT
DTSTART:20240310T070000
END:DAYLIGHT
BEGIN:STANDARD
TZOFFSETFROM:-0400
TZOFFSETTO:-0500
TZNAME:EST
DTSTART:20241103T060000
END:STANDARD
BEGIN:DAYLIGHT
TZOFFSETFROM:-0500
TZOFFSETTO:-0400
TZNAME:EDT
DTSTART:20250309T070000
END:DAYLIGHT
BEGIN:STANDARD
TZOFFSETFROM:-0400
TZOFFSETTO:-0500
TZNAME:EST
DTSTART:20251102T060000
END:STANDARD
BEGIN:DAYLIGHT
TZOFFSETFROM:-0500
TZOFFSETTO:-0400
TZNAME:EDT
DTSTART:20260308T070000
END:DAYLIGHT
BEGIN:STANDARD
TZOFFSETFROM:-0400
TZOFFSETTO:-0500
TZNAME:EST
DTSTART:20261101T060000
END:STANDARD
BEGIN:DAYLIGHT
TZOFFSETFROM:-0500
TZOFFSETTO:-0400
TZNAME:EDT
DTSTART:20270314T070000
END:DAYLIGHT
BEGIN:STANDARD
TZOFFSETFROM:-0400
TZOFFSETTO:-0500
TZNAME:EST
DTSTART:20271107T060000
END:STANDARD
END:VTIMEZONE
BEGIN:VEVENT
DTSTART;VALUE=DATE:20260327
DTEND;VALUE=DATE:20260328
DTSTAMP:20260423T082212
CREATED:20260217T132138Z
LAST-MODIFIED:20260217T135847Z
UID:10002844-1774569600-1774655999@www.uqac.ca
SUMMARY:Journée annuelle sur le travail social de groupe
DESCRIPTION:Pour plus de détails\, visitez le site Web de la Journée annuelle sur le travail social de groupe
URL:https://www.uqac.ca/calendrier/evenement/journee-annuelle-sur-le-travail-social-de-groupe/
LOCATION:UQAC
CATEGORIES:Colloques et congrès
END:VEVENT
BEGIN:VEVENT
DTSTART;TZID=America/New_York:20260326T080000
DTEND;TZID=America/New_York:20260326T080000
DTSTAMP:20260423T082212
CREATED:20260310T194941Z
LAST-MODIFIED:20260310T200425Z
UID:10002859-1774512000-1774512000@www.uqac.ca
SUMMARY:Colloque VISAJ « Vivre\, grandir et se construire en contexte numérique »
DESCRIPTION:La Chaire VISAJ (Chaire interordre UQAC-Cégep de Jonquière sur la vie et la santé des jeunes) organise un colloque qui aura lieu le jeudi 26 mars 2026 en présence à l’UQAC. \nCe colloque\, intitulé « Vivre\, grandir et se construire en contexte numérique »\, portera sur les réalités des jeunes qui évoluent aujourd’hui dans un environnement marqué par les écrans\, les réseaux sociaux\, les jeux en ligne\, l’intelligence artificielle et les algorithmes\, qui influencent désormais les apprentissages\, les interactions et la construction identitaire.\nL’événement s’adresse particulièrement aux professionnel(le)s\, professeur(e)s\, étudiant(e)s et intervenant(e)s qui travaillent auprès des jeunes. L’inscription est gratuite. \nLa journée comprendra une séance d’affiches étudiantes\, des kiosques et un cocktail de clôture offert par le Centre intersectoriel en santé durable. \nProgrammation\n\n8 h 45 – Conférence d’ouverture avec Maude Bonenfant (UQAM): La santé mentale des jeunes en contexte vidéoludique\n9 h 45 – Jean-Martin Deslauriers (Université d’Ottawa) : Accompagner des jeunes hommes ayant développé une dépendance à la pornographie en ligne: une question de sexualité\, de pathologie ou de fonctionnement social?\n10 h 40 – Séverine Parent (UQAR): Vers une progression numérique équilibrée et équitable chez les jeunes\n11 h 15 – Luc Laberge (ÉCOBES\, Cégep de Jonquière): Le sommeil des adolescents à l’ère numérique\n13 h 20 – Yann Zoldan (UQAC): Les normes de l’amour et de la sexualité à l’ère du numérique chez des jeunes du Saguenay-Lac-Saint-Jean \n13 h 55 – Patrick Giroux (UQAC) et Yan Bilodeau (CS De La Jonquière): Interdiction des cellulaires… Quoi en penser? Comment l’école peut jouer son rôle pour encadrer les jeunes?\n15 h 00 – Conférence de fermeture avec Emmanuelle Parent et Véronique Bolduc (Le C.I.E.L.) : Bien-être numérique : sensibiliser et outiller les enfants et les ados\n\nPour plus d’information: https://colloques.uqac.ca/visaj/ \n 
URL:https://www.uqac.ca/calendrier/evenement/colloque-visaj-vivre-grandir-et-se-construire-en-contexte-numerique/
LOCATION:Auditorium de l’UQAC (P0-5000)
CATEGORIES:Colloques et congrès
END:VEVENT
BEGIN:VEVENT
DTSTART;TZID=America/New_York:20260325T130000
DTEND;TZID=America/New_York:20260325T130000
DTSTAMP:20260423T082212
CREATED:20260318T135602Z
LAST-MODIFIED:20260318T135610Z
UID:10002872-1774443600-1774443600@www.uqac.ca
SUMMARY:Mini-colloque étudiant
DESCRIPTION: 
URL:https://www.uqac.ca/calendrier/evenement/mini-colloque-etudiant/
LOCATION:Salle P0-7500 du Pavillon principal de l’UQAC
CATEGORIES:Colloques et congrès
END:VEVENT
BEGIN:VEVENT
DTSTART;VALUE=DATE:20250925
DTEND;VALUE=DATE:20250927
DTSTAMP:20260423T082212
CREATED:20250910T135744Z
LAST-MODIFIED:20250916T150355Z
UID:10002665-1758758400-1758931199@www.uqac.ca
SUMMARY:Colloque international - Linguistique\, traduction et humanités numériques à l'ère de l'intelligence artificielle
DESCRIPTION:Organisé par le centre interuniversitaire sur les humanités numériques (CRIHN) avec le soutien des Fonds de recherche du Québec et de l’Université du Québec à Chicoutimi\, sous la direction de Vincent Arnaud (UQAC)\, Michael Sinatra (Université de Montréal\, directeur du CRIHN) et Audrey Canalès (Université de Sherbrooke)\, se tiendra à l’UQAC les 25 et 26 septembre prochains\, le colloque « Linguistique\, traduction et humanités numériques à l’ère de l’intelligence artificielle » \nÀ l’heure où l’intelligence artificielle (IA) redéfinit en profondeur notre rapport au langage\, au texte et à la connaissance\, ce colloque se propose d’examiner les mutations que l’IA provoque dans le champ des humanités numériques\, en mettant l’accent sur les enjeux spécifiques à la linguistique et à la traduction. L’essor fulgurant que l’IA a eu sur la traduction automatique (TA) et le traitement automatique des langues (TAL) ouvre de nouvelles perspectives pour l’analyse et la compréhension des données textuelles\, qu’il s’agisse de corpus littéraires\, historiques\, philosophiques ou artistiques. Ces outils permettent aux membres de la communauté scientifique d’extraire des informations inédites à partir de vastes ensembles de documents\, facilitant ainsi la production de nouveaux savoirs. Toutefois\, ces avancées s’accompagnent de défis majeurs\, qu’ils soient d’ordre technique\, méthodologique et éthique. Ce colloque offre un espace de dialogue entre théorie et pratique avec un large spectre de thématiques : développements d’outils par l’entremise de démos (archivage\, annotation de corpus\, fouille de textes\, extraction multilingue…)\, mais aussi diversité des usages des grands modèles de langage (LLM) (embeddings\, classification automatique\, analyse linguistique…)\, évaluation de ces derniers ainsi que les biais que leurs usages peuvent induire. \nPour plus d’information sur le colloque: https://bit.ly/48cVhES
URL:https://www.uqac.ca/calendrier/evenement/linguistique-traduction-et-humanites-numeriques-a-lere-de-lintelligence-artificielle/
LOCATION:Campus Saguenay\, 555 boulevard de l'Université\, Chicoutimi\, Québec\, G7H2B1\, Canada
CATEGORIES:Colloques et congrès
END:VEVENT
BEGIN:VEVENT
DTSTART;VALUE=DATE:20250923
DTEND;VALUE=DATE:20250925
DTSTAMP:20260423T082212
CREATED:20250722T173328Z
LAST-MODIFIED:20250804T143023Z
UID:10002621-1758585600-1758758399@www.uqac.ca
SUMMARY:Congrès annuel du Réseau AIRS
DESCRIPTION:En collaboration avec le Réseau CARES\, le Réseau PréCRiSA ainsi que le Centre intersectoriel de santé durable (CISD) de l’UQAC\, le Congrès annuel du Réseau AIRS se tiendra à l’UQAC les 23 et 24 septembre prochains. \nThématique: « Transport et santé durable : une traversée intersectorielle! »\nLa qualité de l’environnement naturel\, industriel\, urbain et rural joue un rôle essentiel dans le concept de santé durable. Le transport\, au sens large\, constitue quant à lui un facteur déterminant de cette qualité environnementale. Dans cette perspective\, le thème retenu pour le congrès est celui du transport\, envisagé dans tout son continuum: depuis la recherche fondamentale (transport intracellulaire\, transport ionique\, bioaérosols\, migration cellulaire\, etc.) jusqu’au transport de passagers et de marchandises\, en passant par les plans d’urbanisme et la législation sur le bruit et la pollution de l’air liés aux activités de transport. Les participantes et participants exploreront également comment faire une valorisation de leurs recherches dans une perspective environnementale de santé durable dans la communauté. \n  \nVous désirez visualiser la programmation et vous inscrire? Rendez-vous sur le site web de l’événement. \nVous avez des questions? Contactez : airs.hsj@ssss.gouv.qc.ca
URL:https://www.uqac.ca/calendrier/evenement/congres-annuel-du-reseau-airs/
LOCATION:Campus Saguenay\, 555 boulevard de l'Université\, Chicoutimi\, Québec\, G7H2B1\, Canada
CATEGORIES:Colloques et congrès
END:VEVENT
BEGIN:VEVENT
DTSTART;TZID=America/New_York:20241104T083000
DTEND;TZID=America/New_York:20241106T160000
DTSTAMP:20260423T082212
CREATED:20241023T182538Z
LAST-MODIFIED:20241101T124005Z
UID:10002493-1730709000-1730908800@www.uqac.ca
SUMMARY:Colloque CREAT - Économie créative\, mieux-être et territoire
DESCRIPTION:Programmation \nInscription \nLien Zoom pour la webdiffusion : https://uqo.zoom.us/webinar/register/WN_1xcfFO48RUqBBr6SzhwflA 
URL:https://www.uqac.ca/calendrier/evenement/colloque-creat-economie-creative-mieux-etre-et-territoire/
LOCATION:Université du Québec en Outaouais (UQO) et Zoom\, 283 Boulevard Alexandre-Taché\, Gatineau\, Quebec\, J8X 3X7\, Canada
CATEGORIES:Colloques et congrès
END:VEVENT
BEGIN:VEVENT
DTSTART;TZID=America/New_York:20240924T100000
DTEND;TZID=America/New_York:20240924T150000
DTSTAMP:20260423T082212
CREATED:20240909T145624Z
LAST-MODIFIED:20240909T145624Z
UID:10002395-1727172000-1727190000@www.uqac.ca
SUMMARY:Foire de l'emploi et de l'engagement étudiant
DESCRIPTION:
URL:https://www.uqac.ca/calendrier/evenement/foire-de-lemploi-et-de-lengagement-etudiant/
LOCATION:Centre social
CATEGORIES:Colloques et congrès,Divers,Rencontres et événements festifs
ORGANIZER;CN="Services aux %C3%A9tudiants":MAILTO:info_programmes@uqac.ca
END:VEVENT
BEGIN:VEVENT
DTSTART;TZID=America/New_York:20240611T090000
DTEND;TZID=America/New_York:20240612T190000
DTSTAMP:20260423T082212
CREATED:20240528T182940Z
LAST-MODIFIED:20240528T182940Z
UID:10001766-1718096400-1718218800@www.uqac.ca
SUMMARY:Colloque Art game : médium artistique et émancipation au XXie siècle?
DESCRIPTION:
URL:https://www.uqac.ca/calendrier/evenement/colloque-art-game-medium-artistique-et-emancipation-au-xxie-siecle/
LOCATION:École NAD\, Îlot Balmoral\, 1501\, rue de Bleury\, 7e étage\, Montréal\, Québec\, H3A 0H3\, Canada
CATEGORIES:Colloques et congrès
GEO:45.5310888;-73.6250612
X-APPLE-STRUCTURED-LOCATION;VALUE=URI;X-ADDRESS=École NAD Îlot Balmoral 1501 rue de Bleury 7e étage Montréal Québec H3A 0H3 Canada;X-APPLE-RADIUS=500;X-TITLE=Îlot Balmoral\, 1501\, rue de Bleury\, 7e étage:geo:-73.6250612,45.5310888
END:VEVENT
BEGIN:VEVENT
DTSTART;TZID=America/New_York:20231107T080000
DTEND;TZID=America/New_York:20231107T170000
DTSTAMP:20260423T082212
CREATED:20231011T150424Z
LAST-MODIFIED:20231011T155923Z
UID:10001672-1699344000-1699376400@www.uqac.ca
SUMMARY:Sommet sur les feux de forêt de l’UQAC
DESCRIPTION:Les feux de forêt qui ont sévi au Québec en 2023 sont d’une ampleur inégalée depuis au moins 100 ans. Ces événements ont soulevé des questions importantes de la part du public\, des praticiens et de la classe politique sur l’avenir des forêts. Cette période difficile interpelle les scientifiques et les gestionnaires sur les conséquences\, la résilience et l’aménagement durable de la forêt boréale dans le contexte des changements climatiques. \nC’est pourquoi l’Observatoire régional de recherche sur la forêt boréale de l’UQAC\, qui a pour mission de favoriser un aménagement durable des forêts\, organise une rencontre à caractère scientifique mardi le 7 novembre 2023. Des chercheurs sur la dynamique des feux\, l’aménagement durable des forêts et les changements climatiques seront regroupés\, afin de tracer un bilan des feux de 2023\, de discuter de leurs conséquences et de dégager des orientations de recherche et de gestion entourant cette problématique. \nLien d’inscription\nTélécharger le programme
URL:https://www.uqac.ca/calendrier/evenement/sommet-sur-les-feux-de-foret-de-luqac/
LOCATION:Hôtel Le Montagnais
CATEGORIES:Colloques et congrès
ATTACH;FMTTYPE=image/jpeg:https://www.uqac.ca/calendrier/wp-content/uploads/2023/10/NUM_SommetSurLesFeux_A23_FbkEven1220x628.jpg
END:VEVENT
BEGIN:VEVENT
DTSTART;TZID=America/New_York:20230530T083000
DTEND;TZID=America/New_York:20230530T120000
DTSTAMP:20260423T082212
CREATED:20230529T144817Z
LAST-MODIFIED:20230529T154258Z
UID:10001592-1685435400-1685448000@www.uqac.ca
SUMMARY:L'UQAC et l'intégrité académique - Rencontre d'échanges
DESCRIPTION:Dans la continuité de la journée de conférences et de réflexions « intelligence artificielle et intégrité académique»\, le vice-rectorat aux études\, à la formation et à la réussite\, en collaboration avec le Carrefour\, la Bibliothèque et le Décanat des études\, tiendra une demi-journée de partage sur le positionnement de l’UQAC quant à l’intégrité académique.
URL:https://www.uqac.ca/calendrier/evenement/luqac-et-lintegrite-academique-rencontre-dechanges/
LOCATION:La Bulle (salle collaborative de la Bibliothèque Paul-Émile-Boulet)
CATEGORIES:Colloques et congrès
END:VEVENT
BEGIN:VEVENT
DTSTART;TZID=America/New_York:20230405T090000
DTEND;TZID=America/New_York:20230405T160000
DTSTAMP:20260423T082212
CREATED:20230323T122713Z
LAST-MODIFIED:20230323T123605Z
UID:10001573-1680685200-1680710400@www.uqac.ca
SUMMARY:Forum minier régional 02
DESCRIPTION:Le forum minier régional vise à informer les intervenants régionaux et le public en général des activités de développement minéral au Saguenay-Lac-Saint-Jean et également de favoriser les discussions\, par l’entremise de conférences et d’ateliers participatifs\, conduits par des spécialistes des domaines géoscientifique\, économique et social. \nS’inscrire ici : https://forms.gle/F5fipJHWGe8ibGePA
URL:https://www.uqac.ca/calendrier/evenement/forum-minier-regional-02-2/
LOCATION:Auditorium de l’UQAC (P0-5000)
CATEGORIES:Colloques et congrès
END:VEVENT
BEGIN:VEVENT
DTSTART;TZID=America/New_York:20230310T080000
DTEND;TZID=America/New_York:20230310T170000
DTSTAMP:20260423T082212
CREATED:20221115T202225Z
LAST-MODIFIED:20221115T202303Z
UID:10001462-1678435200-1678467600@www.uqac.ca
SUMMARY:Colloque les Temps composés
DESCRIPTION:Colloque des étudiant.e.s en HISTOIRE et en ARCHÉOLOGIE\nde l’Université du Québec à Chicoutimi (UQAC) \n  \nSite colloque: http://colloques.uqac.ca/lestempscomposes​ \nCourriel du colloque: les-temps-composes@uqac.ca
URL:https://www.uqac.ca/calendrier/evenement/colloque-les-temps-composes-2/
CATEGORIES:Colloques et congrès
GEO:48.4199;-71.0521877
END:VEVENT
BEGIN:VEVENT
DTSTART;TZID=America/New_York:20221020T080000
DTEND;TZID=America/New_York:20221021T170000
DTSTAMP:20260423T082212
CREATED:20221019T153917Z
LAST-MODIFIED:20221019T154324Z
UID:10001445-1666252800-1666371600@www.uqac.ca
SUMMARY:Colloque du GRIR les 20-21 octobre "Le Québec face aux changements climatiques et aux défis de la transition socio-écologique : repenser nos territoires urbains et ruraux"
DESCRIPTION:Le Groupe de recherche et d’interventions régionales (GRIR UQAC) est heureux de vous inviter à son prochain colloque portant sur le thème Le Québec face aux changements climatiques et aux défis de la transition socio-écologique : repenser nos territoires urbains et ruraux. Ce colloque se tiendra les 20 et 21 octobre 2022 à l’Hôtel La Saguenéenne dans la salle Alsace. Vous pouvez consulter la programmation de colloque directement sur la page Facebook de l’événement.\n\nLien vers l’inscription : https://forms.gle/8J8R4r2vXaiX2R1Y6
URL:https://www.uqac.ca/calendrier/evenement/colloque-du-grir-les-20-21-octobre-le-quebec-face-aux-changements-climatiques-et-aux-defis-de-la-transition-socio-ecologique-repenser-nos-territoires-urbains-et-ruraux/
CATEGORIES:Colloques et congrès
ATTACH;FMTTYPE=image/png:https://www.uqac.ca/calendrier/wp-content/uploads/2022/10/Yellow-and-Brown-Simple-Live-Webinar-Facebook-Post-1.png
GEO:48.4199;-71.0521877
END:VEVENT
BEGIN:VEVENT
DTSTART;TZID=America/New_York:20220609T083000
DTEND;TZID=America/New_York:20220609T121500
DTSTAMP:20260423T082212
CREATED:20220527T123131Z
LAST-MODIFIED:20220530T123442Z
UID:10001168-1654763400-1654776900@www.uqac.ca
SUMMARY:Colloque de pédagogie universitaire 2022
DESCRIPTION:Évaluer autrement – réflexions et pratiques inspirantes\n  \nInscription : \nhttps://www.uqac.ca/carrefour/colloque-2022/ \n 
URL:https://www.uqac.ca/calendrier/evenement/colloque-de-pedagogie-universitaire-2022/
LOCATION:En ligne
CATEGORIES:Colloques et congrès,Enseignement, recherche et formation
END:VEVENT
BEGIN:VEVENT
DTSTART;TZID=America/New_York:20220413T090000
DTEND;TZID=America/New_York:20220413T163000
DTSTAMP:20260423T082212
CREATED:20220412T172827Z
LAST-MODIFIED:20220412T172956Z
UID:10001166-1649840400-1649867400@www.uqac.ca
SUMMARY:Forum minier régional 02
DESCRIPTION: 
URL:https://www.uqac.ca/calendrier/evenement/forum-minier-regional-02/
LOCATION:Auditorium de l’UQAC (P0-5000)
CATEGORIES:Colloques et congrès
END:VEVENT
BEGIN:VEVENT
DTSTART;TZID=America/New_York:20220311T080000
DTEND;TZID=America/New_York:20220311T180000
DTSTAMP:20260423T082212
CREATED:20220303T144521Z
LAST-MODIFIED:20220303T144925Z
UID:10001155-1646985600-1647021600@www.uqac.ca
SUMMARY:Colloque Les temps composés
DESCRIPTION:«L’histoire est un travail sur le temps. Mais un temps complexe\, un temps construit\, aux faces multiples» – Antoine Prost.\n\nBienvenue au Colloque des étudiant.es en HISTOIRE et en ARCHÉOLOGIE de l’UQAC : «Les temps composés».\nFORMULE COMODALE \n\nEn présence: auditorium de l’UQAC (P0-5000) – Pavillon principal\nÀ distance: https://uqac.zoom.us/j/82783567727…\n\nEntrée libre\, sans inscription au préalable – Passeport vaccinal obligatoire
URL:https://www.uqac.ca/calendrier/evenement/colloque-les-temps-composes/
LOCATION:Auditorium de l’UQAC (P0-5000) ou ZOOM
CATEGORIES:Colloques et congrès
END:VEVENT
BEGIN:VEVENT
DTSTART;VALUE=DATE:20211115
DTEND;VALUE=DATE:20211127
DTSTAMP:20260423T082212
CREATED:20211104T194614Z
LAST-MODIFIED:20211104T195152Z
UID:10001353-1636934400-1637971199@www.uqac.ca
SUMMARY:Colloque Masculinités sans frontières : Quinzaine interrégionale en santé et bien-être des hommes et des garçons
DESCRIPTION:À l’occasion de son premier colloque\, le Laboratoire de recherche sur les réalités masculines au Saguenay–Lac-Saint-Jean (L2RM-SLSJ) est fier d’offrir un événement en ligne d’une quinzaine de jours gratuit et en accès libre avec des contenus de qualité sous la forme de webinaires en direct et en différé. Plus d’une quarantaine de conférencier·ière·s et de panélistes parleront de la diversité des enjeux entourant la santé et le bien-être des hommes et des garçons\, ainsi que des particularités de l’intervention chez la clientèle masculine en région. \nCet événement est ouvert aux chercheur·euse·s\, étudiant·e·s\, intervenant·e·s et gestionnaires des domaines de la santé et des services sociaux. \nLes personnes intéressées à participer doivent remplir le formulaire d’inscription en ligne à l’adresse suivante : colloques.uqac.ca/sbehg/formulaire-dinscription \n 
URL:https://www.uqac.ca/calendrier/evenement/colloque-masculinites-sans-frontieres-quinzaine-interregionale-en-sante-et-bien-etre-des-hommes-et-des-garcons/
LOCATION:En ligne
CATEGORIES:Colloques et congrès
END:VEVENT
BEGIN:VEVENT
DTSTART;VALUE=DATE:20200212
DTEND;VALUE=DATE:20200213
DTSTAMP:20260423T082212
CREATED:20191220T202342Z
LAST-MODIFIED:20191220T202342Z
UID:10001150-1581465600-1581551999@www.uqac.ca
SUMMARY:Salon de l'emploi 2020
DESCRIPTION:Des centaines d’offres d’emploi et de stage de niveau universitaire
URL:https://www.uqac.ca/calendrier/evenement/salon-de-lemploi-2020/
LOCATION:Centre social
CATEGORIES:Colloques et congrès
END:VEVENT
BEGIN:VEVENT
DTSTART;TZID=America/New_York:20191203T150000
DTEND;TZID=America/New_York:20191203T150000
DTSTAMP:20260423T082212
CREATED:20191202T152822Z
LAST-MODIFIED:20191202T152822Z
UID:10001145-1575385200-1575385200@www.uqac.ca
SUMMARY:Table ronde : « Nanishuteuat : côte à côte dans le développement de la Côte-Nord »
DESCRIPTION:Panélistes \n\nRéjean Porlier\, maire de Sept-Îles\nDominic Bizot\, professeur et directeur de l’Unité d’enseignement en travail social de l’UQAC\nTanya Sirois\, directrice générale du Regroupement Centres d’amitiés du Québec\nMarjolaine Tshernish\, directrice générale de l’Institut Tshakapesh\n\nLa Table ronde sera suivie du lancement du livre Des ponts interculturels à la rivière Romaine?\, publié aux Presses de l’Université du Québec.
URL:https://www.uqac.ca/calendrier/evenement/table-ronde-nanishuteuat-cote-a-cote-dans-le-developpement-de-la-cote-nord/
LOCATION:Centre d’études universitaires de l’est de la Côte-Nord (Pavillon Alouette\, Sept-Îles)
CATEGORIES:Colloques et congrès
END:VEVENT
BEGIN:VEVENT
DTSTART;TZID=America/New_York:20191112T083000
DTEND;TZID=America/New_York:20191112T160000
DTSTAMP:20260423T082212
CREATED:20191111T144413Z
LAST-MODIFIED:20191111T144413Z
UID:10001004-1573547400-1573574400@www.uqac.ca
SUMMARY:Journée scientifique du CISD : « Vivre l'intersectorialité en santé »
DESCRIPTION:
URL:https://www.uqac.ca/calendrier/evenement/journee-scientifique-du-cisd-vivre-lintersectorialite-en-sante/
LOCATION:Bibliothèque Paul-Émile-Boulet
CATEGORIES:Colloques et congrès,Conférences et présentations
END:VEVENT
BEGIN:VEVENT
DTSTART;VALUE=DATE:20191024
DTEND;VALUE=DATE:20191026
DTSTAMP:20260423T082212
CREATED:20190927T145630Z
LAST-MODIFIED:20190927T145630Z
UID:10001122-1571875200-1572047999@www.uqac.ca
SUMMARY:Colloque « Sens et non-sens : la mort à l'heure de l'aide médicale à mourir »
DESCRIPTION:
URL:https://www.uqac.ca/calendrier/evenement/colloque-sens-et-non-sens-la-mort-a-lheure-de-laide-medicale-a-mourir/
LOCATION:Auditorium de l’UQAC (P0-5000)
CATEGORIES:Colloques et congrès
END:VEVENT
BEGIN:VEVENT
DTSTART;TZID=America/New_York:20191023T080000
DTEND;TZID=America/New_York:20191025T170000
DTSTAMP:20260423T082212
CREATED:20191021T125629Z
LAST-MODIFIED:20191021T125658Z
UID:10001129-1571817600-1572022800@www.uqac.ca
SUMMARY:Symposium international francophone de recherche sur le plein air
DESCRIPTION:  \nPratiques de plein air et de pleine nature dans la francosphère : enjeux et perspectives
URL:https://www.uqac.ca/calendrier/evenement/symposium-international-francophone-de-recherche-sur-le-plein-air/
LOCATION:UQAC
CATEGORIES:Colloques et congrès
END:VEVENT
BEGIN:VEVENT
DTSTART;TZID=America/New_York:20191017T083000
DTEND;TZID=America/New_York:20191017T153000
DTSTAMP:20260423T082212
CREATED:20191015T122444Z
LAST-MODIFIED:20191015T122557Z
UID:10001128-1571301000-1571326200@www.uqac.ca
SUMMARY:Événement Éducation Formation du Saguenay Zig Zag
DESCRIPTION:
URL:https://www.uqac.ca/calendrier/evenement/evenement-education-formation-du-saguenay-zig-zag/2019-10-17/
LOCATION:Pavillon sportif
CATEGORIES:Colloques et congrès,Enseignement, recherche et formation
END:VEVENT
BEGIN:VEVENT
DTSTART;VALUE=DATE:20191016
DTEND;VALUE=DATE:20191019
DTSTAMP:20260423T082212
CREATED:20190911T181121Z
LAST-MODIFIED:20190911T181230Z
UID:10001103-1571184000-1571443199@www.uqac.ca
SUMMARY:4e édition du Colloque sur la persévérance et la réussite scolaires chez les Premiers Peuples
DESCRIPTION:Le Centre des Premières Nations Nikanite de l’UQAC et ses partenaires (MEES\, SAA\, Rio Tinto\, SAC\, CN) vous invitent à la 4e édition du Colloque sur la persévérance et la réussite scolaires chez les Premiers Peuples\, qui se déroulera sous la présidence d’honneur de monsieur Joseph Tokwiro Norton\, Grand Chef de Kahnawake. \ncolloques.uqac.ca/prscpp\n  \n  \n  \n 
URL:https://www.uqac.ca/calendrier/evenement/4e-edition-du-colloque-sur-la-perseverance-et-la-reussite-scolaires-chez-les-premiers-peuples/
LOCATION:Palais des congrès de Montréal
CATEGORIES:Colloques et congrès,Enseignement, recherche et formation
END:VEVENT
BEGIN:VEVENT
DTSTART;TZID=America/New_York:20191011T090000
DTEND;TZID=America/New_York:20191011T090000
DTSTAMP:20260423T082212
CREATED:20190927T145107Z
LAST-MODIFIED:20190927T145107Z
UID:10001118-1570784400-1570784400@www.uqac.ca
SUMMARY:Colloque « Les défis de la géographie de demain »
DESCRIPTION:Inscriptions jusqu’au 8 octobre : colloques.uqac.ca/geographie50ans/
URL:https://www.uqac.ca/calendrier/evenement/colloque-les-defis-de-la-geographie-de-demain/
LOCATION:Bibliothèque Paul-Émile-Boulet
CATEGORIES:Colloques et congrès
END:VEVENT
BEGIN:VEVENT
DTSTART;TZID=America/New_York:20190507T083000
DTEND;TZID=America/New_York:20190507T160000
DTSTAMP:20260423T082212
CREATED:20190408T154956Z
LAST-MODIFIED:20190411T125239Z
UID:10000941-1557217800-1557244800@www.uqac.ca
SUMMARY:Journée de réflexion du Comité de pédagogie universitaire (CPU) de l’UQAC
DESCRIPTION:INVITATION À TOUT LE PERSONNEL ENSEIGNANT \nJournée réflexion organisée par le Comité de pédagogie universitaire (CPU) de l’UQAC \nEnseigner à l’aide d’un dispositif de mise en ligne (présence et distance) : questionnements\, enjeux pédagogiques et pratiques gagnantes  \n  \nQue vous souhaitiez modifier un ou deux cours de 3 heures pour qu’ils soient mis en ligne ou encore\, créer un cours de 45 heures\, entièrement en ligne\, cette journée s’adresse à vous. \nConsultez l’invitation : https://www.uqac.ca/wp-content/uploads/2019/04/Programme-colloque-CPU-formation-à-distance-2019.pdf \n Inscription en ligne : https:/orms.gle/pwiZqPDisS6F2YwF7/f
URL:https://www.uqac.ca/calendrier/evenement/journee-de-reflexion-du-comite-de-pedagogie-universitaire-cpu-de-luqac/
CATEGORIES:Colloques et congrès,Enseignement, recherche et formation
ATTACH;FMTTYPE=image/jpeg:https://www.uqac.ca/calendrier/wp-content/uploads/2019/04/GRAFtv-CPU-JourneeDeReflexionH19-01.jpg
GEO:48.4199;-71.0521877
END:VEVENT
BEGIN:VEVENT
DTSTART;TZID=America/New_York:20190412T093000
DTEND;TZID=America/New_York:20190412T163000
DTSTAMP:20260423T082212
CREATED:20190329T193014Z
LAST-MODIFIED:20190329T193014Z
UID:10000938-1555061400-1555086600@www.uqac.ca
SUMMARY:35 ans du GRIR et 40 ans de la maîtrise en étude et intervention régionales : « Penser\, agir\, imaginer nos territoires »
DESCRIPTION:
URL:https://www.uqac.ca/calendrier/evenement/35-ans-du-grir-et-40-ans-de-la-maitrise-en-etude-et-intervention-regionales-penser-agir-imaginer-nos-territoires/
LOCATION:Local P2-8000
CATEGORIES:Colloques et congrès,Enseignement, recherche et formation
END:VEVENT
BEGIN:VEVENT
DTSTART;TZID=America/New_York:20190329T083000
DTEND;TZID=America/New_York:20190329T150000
DTSTAMP:20260423T082212
CREATED:20190318T152717Z
LAST-MODIFIED:20190318T152717Z
UID:10001028-1553848200-1553871600@www.uqac.ca
SUMMARY:Activité du CRDT : « Médias et territoires : le rôle des médias locaux et régionaux »
DESCRIPTION:
URL:https://www.uqac.ca/calendrier/evenement/activite-du-crdt-medias-et-territoires-le-role-des-medias-locaux-et-regionaux/
LOCATION:Local H1-1050
CATEGORIES:Colloques et congrès,Conférences et présentations,Enseignement, recherche et formation
END:VEVENT
BEGIN:VEVENT
DTSTART;TZID=America/New_York:20190327T090000
DTEND;TZID=America/New_York:20190327T160000
DTSTAMP:20260423T082212
CREATED:20190314T134812Z
LAST-MODIFIED:20190314T134852Z
UID:10001021-1553677200-1553702400@www.uqac.ca
SUMMARY:Forum minier régional
DESCRIPTION:
URL:https://www.uqac.ca/calendrier/evenement/forum-minier-regional/
LOCATION:Auditorium de l’UQAC (P0-5000)
CATEGORIES:Colloques et congrès,Enseignement, recherche et formation
END:VEVENT
BEGIN:VEVENT
DTSTART;TZID=America/New_York:20190327T083000
DTEND;TZID=America/New_York:20190327T190000
DTSTAMP:20260423T082212
CREATED:20190318T152825Z
LAST-MODIFIED:20190318T152825Z
UID:10001029-1553675400-1553713200@www.uqac.ca
SUMMARY:Expo-techno 2019
DESCRIPTION:
URL:https://www.uqac.ca/calendrier/evenement/expo-techno-2019/
LOCATION:Hôtel Le Montagnais
CATEGORIES:Colloques et congrès
END:VEVENT
END:VCALENDAR