BEGIN:VCALENDAR
VERSION:2.0
PRODID:-//Calendrier des événements - ECPv6.15.17//NONSGML v1.0//EN
CALSCALE:GREGORIAN
METHOD:PUBLISH
X-ORIGINAL-URL:https://www.uqac.ca/calendrier
X-WR-CALDESC:Évènements pour Calendrier des événements
REFRESH-INTERVAL;VALUE=DURATION:PT1H
X-Robots-Tag:noindex
X-PUBLISHED-TTL:PT1H
BEGIN:VTIMEZONE
TZID:America/New_York
BEGIN:DAYLIGHT
TZOFFSETFROM:-0500
TZOFFSETTO:-0400
TZNAME:EDT
DTSTART:20250309T070000
END:DAYLIGHT
BEGIN:STANDARD
TZOFFSETFROM:-0400
TZOFFSETTO:-0500
TZNAME:EST
DTSTART:20251102T060000
END:STANDARD
BEGIN:DAYLIGHT
TZOFFSETFROM:-0500
TZOFFSETTO:-0400
TZNAME:EDT
DTSTART:20260308T070000
END:DAYLIGHT
BEGIN:STANDARD
TZOFFSETFROM:-0400
TZOFFSETTO:-0500
TZNAME:EST
DTSTART:20261101T060000
END:STANDARD
BEGIN:DAYLIGHT
TZOFFSETFROM:-0500
TZOFFSETTO:-0400
TZNAME:EDT
DTSTART:20270314T070000
END:DAYLIGHT
BEGIN:STANDARD
TZOFFSETFROM:-0400
TZOFFSETTO:-0500
TZNAME:EST
DTSTART:20271107T060000
END:STANDARD
END:VTIMEZONE
BEGIN:VEVENT
DTSTART;VALUE=DATE:20260413
DTEND;VALUE=DATE:20260425
DTSTAMP:20260421T211527
CREATED:20260402T125932Z
LAST-MODIFIED:20260402T130116Z
UID:10002885-1776038400-1777075199@www.uqac.ca
SUMMARY:Fêtes de la reconnaissance 2026
DESCRIPTION:De 13 au 24 avril 2026\, célébrons ensemble l’engagement des membres de notre communauté. \nParce que l’engagement mérite d’être reconnu\, célébré et partagé\, participez en grand nombre à cette troisième édition des Fêtes de la reconnaissance! \nDécouvrez la programmation : https://www.uqac.ca/reconnaissance/
URL:https://www.uqac.ca/calendrier/evenement/fetes-de-la-reconnaissance-2026/
LOCATION:Divers lieux
CATEGORIES:Événements institutionnels,Rencontres et événements festifs,Vie étudiante
END:VEVENT
BEGIN:VEVENT
DTSTART;VALUE=DATE:20260413
DTEND;VALUE=DATE:20260425
DTSTAMP:20260421T211527
CREATED:20260416T182902Z
LAST-MODIFIED:20260416T182902Z
UID:10002910-1776038400-1777075199@www.uqac.ca
SUMMARY:Exposition des étudiantes et étudiants en arts
DESCRIPTION:Découvrez cette exposition\, présentée exclusivement dans le cadre des Fêtes de la reconnaissance\, et regroupant des œuvres choisies d’étudiantes et d’étudiants des cours Images grand formats et Atelier arts médiatiques de Catherine Tremblay; Éclairage au théâtre de Alexandre Nadeau ainsi que des cours de céramique de Yanick Potvin et sculptures et de dessins de Mathieu Valade. \nPar ces œuvres s’ouvre une fenêtre sur le travail réalisé par les jeunes artistes en formations :\nGuillaume Larochelle\, Jade Bisson\, Simone Maltais\, Coralie Anfraix\, Emmy Tremblay\, Brooke Elizabeth\, Naomie Lafontaine\, Dorianne Tremblay. \n– Activité proposée dans le cadre des Fêtes de la reconnaissance 2026 –
URL:https://www.uqac.ca/calendrier/evenement/exposition-des-etudiantes-et-etudiants-en-arts/
LOCATION:Centre social
CATEGORIES:Arts et performances,Enseignement, recherche et formation,Événements institutionnels,Rencontres et événements festifs
END:VEVENT
BEGIN:VEVENT
DTSTART;TZID=America/New_York:20260422T080000
DTEND;TZID=America/New_York:20260422T093000
DTSTAMP:20260421T211527
CREATED:20260410T194458Z
LAST-MODIFIED:20260410T194458Z
UID:10002899-1776844800-1776850200@www.uqac.ca
SUMMARY:Déjeuner du personnel · Campus de Sept-Îles
DESCRIPTION:Venez casser la croûte en compagnie de vos collègues lors d’un petit déjeuner convivial\, dans une ambiance festive dédiée à la célébration de notre communauté employée! \nRÉSERVÉ AU PERSONNEL DE L’UQAC \n– Activité proposée dans le cadre des Fêtes de la reconnaissance 2026 –
URL:https://www.uqac.ca/calendrier/evenement/dejeuner-du-personnel-sept-iles/
LOCATION:Hall du Pavillon Alouette
CATEGORIES:Rencontres et événements festifs
END:VEVENT
BEGIN:VEVENT
DTSTART;TZID=America/New_York:20260422T083000
DTEND;TZID=America/New_York:20260422T083000
DTSTAMP:20260421T211527
CREATED:20260410T194758Z
LAST-MODIFIED:20260410T194808Z
UID:10002900-1776846600-1776846600@www.uqac.ca
SUMMARY:Déjeuner du personnel · Campus de Montréal (NAD-UQAC)
DESCRIPTION:Participez à un petit déjeuner convivial\, et profitez de ce moment de rencontre festif et chaleureux afin de souligner l’engagement et la contribution précieuse de chaque membre de la communauté. \nRÉSERVÉ AU PERSONNEL DE L’UQAC \n– Activité proposée dans le cadre des Fêtes de la reconnaissance 2026 –
URL:https://www.uqac.ca/calendrier/evenement/dejeuner-du-personnel-montreal/
LOCATION:Cuisine (7e étage – École NAD-UQAC)
CATEGORIES:Rencontres et événements festifs
END:VEVENT
BEGIN:VEVENT
DTSTART;TZID=America/New_York:20260422T113000
DTEND;TZID=America/New_York:20260422T123000
DTSTAMP:20260421T211527
CREATED:20260407T134651Z
LAST-MODIFIED:20260407T195609Z
UID:10002892-1776857400-1776861000@www.uqac.ca
SUMMARY:Balado Ma vie de campus · Épisode spécial Inuk
DESCRIPTION:Assistez à l’enregistrement du balado Ma vie de campus\, propulsé par les Services aux étudiants\, et découvrez les coulisses du sport universitaire à l’UQAC. \n– Activité proposée dans le cadre des Fêtes de la reconnaissance 2026 –
URL:https://www.uqac.ca/calendrier/evenement/balado-ma-vie-de-campus-episode-special-inuk/
LOCATION:Centre social
CATEGORIES:Événements institutionnels,Rencontres et événements festifs
END:VEVENT
BEGIN:VEVENT
DTSTART;TZID=America/New_York:20260423T073000
DTEND;TZID=America/New_York:20260423T090000
DTSTAMP:20260421T211527
CREATED:20260407T134929Z
LAST-MODIFIED:20260410T194645Z
UID:10002894-1776929400-1776934800@www.uqac.ca
SUMMARY:Déjeuner du personnel
DESCRIPTION:Venez casser la croûte en compagnie de vos collègues lors d’un petit déjeuner convivial\, dans une ambiance festive dédiée à la célébration de notre communauté employée! \nRÉSERVÉ AU PERSONNEL DE L’UQAC \n– Activité proposée dans le cadre des Fêtes de la reconnaissance 2026 –
URL:https://www.uqac.ca/calendrier/evenement/dejeuner-du-personnel-2/
LOCATION:Centre social
CATEGORIES:Événements institutionnels,Rencontres et événements festifs
END:VEVENT
BEGIN:VEVENT
DTSTART;TZID=America/New_York:20260423T173000
DTEND;TZID=America/New_York:20260423T173000
DTSTAMP:20260421T211527
CREATED:20260410T193853Z
LAST-MODIFIED:20260410T194630Z
UID:10002897-1776965400-1776965400@www.uqac.ca
SUMMARY:Cérémonie des bourses d’excellence de la Fondation de l’UQAC
DESCRIPTION:La Fondation de l’UQAC et l’UQAC sont fières de reconnaître le succès des étudiantes et étudiants de l’Université. \nSUR INVITATION \n– Activité proposée dans le cadre des Fêtes de la reconnaissance 2026 –
URL:https://www.uqac.ca/calendrier/evenement/ceremonie-bourses-excellence-fuqac/
LOCATION:Centre social
CATEGORIES:Concours et compétitions,Enseignement, recherche et formation,Rencontres et événements festifs
END:VEVENT
END:VCALENDAR