BEGIN:VCALENDAR
VERSION:2.0
PRODID:-//Calendrier des événements - ECPv6.15.17//NONSGML v1.0//EN
CALSCALE:GREGORIAN
METHOD:PUBLISH
X-WR-CALNAME:Calendrier des événements
X-ORIGINAL-URL:https://www.uqac.ca/calendrier
X-WR-CALDESC:Évènements pour Calendrier des événements
REFRESH-INTERVAL;VALUE=DURATION:PT1H
X-Robots-Tag:noindex
X-PUBLISHED-TTL:PT1H
BEGIN:VTIMEZONE
TZID:America/New_York
BEGIN:DAYLIGHT
TZOFFSETFROM:-0500
TZOFFSETTO:-0400
TZNAME:EDT
DTSTART:20170312T070000
END:DAYLIGHT
BEGIN:STANDARD
TZOFFSETFROM:-0400
TZOFFSETTO:-0500
TZNAME:EST
DTSTART:20171105T060000
END:STANDARD
BEGIN:DAYLIGHT
TZOFFSETFROM:-0500
TZOFFSETTO:-0400
TZNAME:EDT
DTSTART:20180311T070000
END:DAYLIGHT
BEGIN:STANDARD
TZOFFSETFROM:-0400
TZOFFSETTO:-0500
TZNAME:EST
DTSTART:20181104T060000
END:STANDARD
BEGIN:DAYLIGHT
TZOFFSETFROM:-0500
TZOFFSETTO:-0400
TZNAME:EDT
DTSTART:20190310T070000
END:DAYLIGHT
BEGIN:STANDARD
TZOFFSETFROM:-0400
TZOFFSETTO:-0500
TZNAME:EST
DTSTART:20191103T060000
END:STANDARD
BEGIN:DAYLIGHT
TZOFFSETFROM:-0500
TZOFFSETTO:-0400
TZNAME:EDT
DTSTART:20200308T070000
END:DAYLIGHT
BEGIN:STANDARD
TZOFFSETFROM:-0400
TZOFFSETTO:-0500
TZNAME:EST
DTSTART:20201101T060000
END:STANDARD
BEGIN:DAYLIGHT
TZOFFSETFROM:-0500
TZOFFSETTO:-0400
TZNAME:EDT
DTSTART:20210314T070000
END:DAYLIGHT
BEGIN:STANDARD
TZOFFSETFROM:-0400
TZOFFSETTO:-0500
TZNAME:EST
DTSTART:20211107T060000
END:STANDARD
BEGIN:DAYLIGHT
TZOFFSETFROM:-0500
TZOFFSETTO:-0400
TZNAME:EDT
DTSTART:20220313T070000
END:DAYLIGHT
BEGIN:STANDARD
TZOFFSETFROM:-0400
TZOFFSETTO:-0500
TZNAME:EST
DTSTART:20221106T060000
END:STANDARD
BEGIN:DAYLIGHT
TZOFFSETFROM:-0500
TZOFFSETTO:-0400
TZNAME:EDT
DTSTART:20230312T070000
END:DAYLIGHT
BEGIN:STANDARD
TZOFFSETFROM:-0400
TZOFFSETTO:-0500
TZNAME:EST
DTSTART:20231105T060000
END:STANDARD
BEGIN:DAYLIGHT
TZOFFSETFROM:-0500
TZOFFSETTO:-0400
TZNAME:EDT
DTSTART:20240310T070000
END:DAYLIGHT
BEGIN:STANDARD
TZOFFSETFROM:-0400
TZOFFSETTO:-0500
TZNAME:EST
DTSTART:20241103T060000
END:STANDARD
BEGIN:DAYLIGHT
TZOFFSETFROM:-0500
TZOFFSETTO:-0400
TZNAME:EDT
DTSTART:20250309T070000
END:DAYLIGHT
BEGIN:STANDARD
TZOFFSETFROM:-0400
TZOFFSETTO:-0500
TZNAME:EST
DTSTART:20251102T060000
END:STANDARD
BEGIN:DAYLIGHT
TZOFFSETFROM:-0500
TZOFFSETTO:-0400
TZNAME:EDT
DTSTART:20260308T070000
END:DAYLIGHT
BEGIN:STANDARD
TZOFFSETFROM:-0400
TZOFFSETTO:-0500
TZNAME:EST
DTSTART:20261101T060000
END:STANDARD
BEGIN:DAYLIGHT
TZOFFSETFROM:-0500
TZOFFSETTO:-0400
TZNAME:EDT
DTSTART:20270314T070000
END:DAYLIGHT
BEGIN:STANDARD
TZOFFSETFROM:-0400
TZOFFSETTO:-0500
TZNAME:EST
DTSTART:20271107T060000
END:STANDARD
END:VTIMEZONE
BEGIN:VEVENT
DTSTART;TZID=America/New_York:20260420T090000
DTEND;TZID=America/New_York:20260420T090000
DTSTAMP:20260421T021330
CREATED:20260325T145802Z
LAST-MODIFIED:20260325T145802Z
UID:10002881-1776675600-1776675600@www.uqac.ca
SUMMARY:Soutenance de thèse de Mohammadhossein Dabaghi\, étudiant au doctorat en ingénierie
DESCRIPTION:CANDIDAT\nMohammadhossein Dabaghi \nPROGRAMME\nDoctorat en ingénierie \nTITRE DE LA THÈSE\nEffect of green anode cooling on carbon anode quality \nDIRECTION DE RECHERCHE\nDuygu Kocaefe\, UQAC \nCODIRECTION DE RECHERCHE\nYasar Kocaefe\, UQAC \nJURY D’ÉVALUATION\nFatma Rebaine\, UQAC\nMounir Baiteche\, Pyrotek \nPRÉSIDENCE DU JURY\nJean Perron\, UQAC \nDIRECTION DE PROGRAMME\nIssouf Fofana\, UQAC \nPour y assister à distance (connexion requise 30 minutes avant le début de la soutenance) :  https://uqac.zoom.us/my/soutenancedethese/.
URL:https://www.uqac.ca/calendrier/evenement/soutenance-de-these-de-mohammadhossein-dabaghi-etudiant-au-doctorat-en-ingenierie/
LOCATION:Local P2-4140 ou en ligne
CATEGORIES:Enseignement, recherche et formation
END:VEVENT
BEGIN:VEVENT
DTSTART;TZID=America/New_York:20260416T133000
DTEND;TZID=America/New_York:20260416T133000
DTSTAMP:20260421T021330
CREATED:20260413T131935Z
LAST-MODIFIED:20260413T154548Z
UID:10002903-1776346200-1776346200@www.uqac.ca
SUMMARY:Soutenance de thèse de Mohammad Khoshghadam Pireyousefan\, étudiant au doctorat en ingénierie
DESCRIPTION:CANDIDAT\nMohammad Khoshghadam Pireyousefan \nPROGRAMME\nDoctorat en ingénierie \nTITRE DE LA THÈSE\nStrength-Conductivity Synergy in Hypoeutectif Al-Si Alloys via Advanced Thermomechanical Processing for Conductor Cable Applications \nDIRECTION DE RECHERCHE\nMousa Javidani\, UQAC \nCODIRECTION DE RECHERCHE\nX. Grant Chen\, UQAC \nJURY D’ÉVALUATION\nAbdallah Elsayed\, University of Guelph\nSiamak Nikzad Khangholi\, Umicore \nPRÉSIDENCE DU JURY\nYasar Kocaefe\, UQAC \nDIRECTION DE PROGRAMME\nDuygu Kocaefe\, UQAC \nPour y assister à distance (connexion requise 30 minutes avant le début de la soutenance) :  https://uqac.zoom.us/my/soutenancedethese/.
URL:https://www.uqac.ca/calendrier/evenement/soutenance-de-these-de-mohammad-khoshghadam-pireyousefan-etudiant-au-doctorat-en-ingenierie/
LOCATION:Local P2-4140 ou en ligne
CATEGORIES:Enseignement, recherche et formation
END:VEVENT
BEGIN:VEVENT
DTSTART;TZID=America/New_York:20260330T083000
DTEND;TZID=America/New_York:20260330T083000
DTSTAMP:20260421T021330
CREATED:20260325T144947Z
LAST-MODIFIED:20260325T145249Z
UID:10002880-1774859400-1774859400@www.uqac.ca
SUMMARY:Soutenance de thèse d'Arnaud Back\, étudiant au doctorat en sciences de la Terre et de l'atmosphère
DESCRIPTION:CANDIDAT\nArnaud Back \nPROGRAMME\nDoctorat en sciences de la Terre et de l’atmosphère \nTITRE DE LA THÈSE\nAdvancing Quantitative Petrography Through an Automated Grain Shape Quantification Framework \nDIRECTION DE RECHERCHE\nPaul Bédard\, UQAC \nCODIRECTION DE RECHERCHE\nAmadou Barry\, INRS\nJulien Maître\, UQAC \nJURY D’ÉVALUATION\nKim H. Esbensen\, KHE Consult\nJulien Walter\, UQAC \nPRÉSIDENCE DU JURY\nAdoubi Vincent De Paul Adombi\, UQAC \nDIRECTION DE PROGRAMME\nRenée-Luce Simard\, UQAC \nPour y assister à distance (connexion requise 30 minutes avant le début de la soutenance) :  https://uqac.zoom.us/my/soutenancedethese/.
URL:https://www.uqac.ca/calendrier/evenement/soutenance-de-these-darnaud-back-etudiant-au-doctorat-en-sciences-de-la-terre-et-de-latmosphere/
LOCATION:Local P2-4140 ou en ligne
CATEGORIES:Enseignement, recherche et formation
END:VEVENT
BEGIN:VEVENT
DTSTART;TZID=America/New_York:20260309T133000
DTEND;TZID=America/New_York:20260309T133000
DTSTAMP:20260421T021330
CREATED:20260226T184520Z
LAST-MODIFIED:20260226T184554Z
UID:10002852-1773063000-1773063000@www.uqac.ca
SUMMARY:Soutenance de thèse de Mahsa Mahdavirad\, étudiante au doctorat en ingénierie
DESCRIPTION:CANDIDATE\nMahsa Mahdavirad \nPROGRAMME\nDoctorat en ingénierie \nTITRE DE LA THÈSE\nÉtude des critères de résistance au cisaillement des discontinuités rocheuses et développement de méthodes d’estimation de la taille des blocs rocheux fondées sur la persistance des discontinuités \nDIRECTION DE RECHERCHE\nAli Saeidi\, UQAC \nCODIRECTION DE RECHERCHE\nJean-François Noël\, Hydro-Québec \nJURY D’ÉVALUATION\nPatrice Rivard\, Université de Sherbrooke\nAbbas Kamali B.\, ArcelorMittal Mines et Infrastructure Canada \nPRÉSIDENCE DU JURY\nAhmed Rahem\, UQAC \nDIRECTION DE PROGRAMME\nDuygu Kocaefe\, UQAC \nPour y assister à distance (connexion requise 30 minutes avant le début de la soutenance) :  https://uqac.zoom.us/my/soutenancedethese/.
URL:https://www.uqac.ca/calendrier/evenement/soutenance-de-these-de-mahsa-mahdavirad-etudiante-au-doctorat-en-ingenierie/
LOCATION:Local P2-4140 ou en ligne
CATEGORIES:Enseignement, recherche et formation
END:VEVENT
BEGIN:VEVENT
DTSTART;TZID=America/New_York:20260224T133000
DTEND;TZID=America/New_York:20260224T133000
DTSTAMP:20260421T021330
CREATED:20260219T205335Z
LAST-MODIFIED:20260219T205755Z
UID:10002849-1771939800-1771939800@www.uqac.ca
SUMMARY:Soutenance de thèse de Elham Khoshbin\, étudiante au doctorat en ingénierie
DESCRIPTION:CANDIDATE\nElham Khoshbin \nPROGRAMME\nDoctorat en ingénierie \nTITRE DE LA THÈSE\nDesign high performance controller for reconfigurable cable driven parallel robot \nDIRECTION DE RECHERCHE\nMartin Otis\, UQAC \nCODIRECTION DE RECHERCHE\nRamy Meziane\, UQAC \nJURY D’ÉVALUATION\nPhilippe Cardou\, Université Laval\nStéphane Caro\, Centre national de la recherche scientifique – Laboratoire des Sciences du Numérique de Nantes \nPRÉSIDENCE DU JURY\nJean Perron\, UQAC \nDIRECTION DE PROGRAMME\nDuygu Kocaefe\, UQAC \nPour y assister à distance (connexion requise 30 minutes avant le début de la soutenance) :  https://uqac.zoom.us/my/soutenancedethese/.
URL:https://www.uqac.ca/calendrier/evenement/soutenance-de-these-de-elham-khoshbin-etudiant-au-doctorat-en-ingenierie/
LOCATION:Local P2-4140
CATEGORIES:Enseignement, recherche et formation
END:VEVENT
BEGIN:VEVENT
DTSTART;TZID=America/New_York:20260223T133000
DTEND;TZID=America/New_York:20260223T133000
DTSTAMP:20260421T021330
CREATED:20260127T145103Z
LAST-MODIFIED:20260127T145103Z
UID:10002827-1771853400-1771853400@www.uqac.ca
SUMMARY:Soutenance de thèse de Mahassen Ardhaoui\, étudiante au doctorat en ingénierie
DESCRIPTION:CANDIDATE\nMahassen Ardhaoui \nPROGRAMME\nDoctorat en ingénierie \nTITRE DE LA THÈSE\nAutonomisation et optimisation du transport maritime pour réduire l’impact sonore sur les cétacés \nDIRECTION DE RECHERCHE\nMartin Otis\, UQAC \nJURY D’ÉVALUATION\nMohamad Saad\, UQAT\nAnthony Deschênes\, Université Laval \nPRÉSIDENCE DU JURY\nIssouf Fofana\, UQAC \nDIRECTION DE PROGRAMME\nDuygu Kocaefe\, UQAC \nPour y assister à distance (connexion requise 30 minutes avant le début de la soutenance) :  https://uqac.zoom.us/my/soutenancedethese/.
URL:https://www.uqac.ca/calendrier/evenement/soutenance-de-these-de-mahassen-ardhaoui-etudiante-au-doctorat-en-ingenierie/
LOCATION:Local P2-4140 ou en ligne
CATEGORIES:Enseignement, recherche et formation
END:VEVENT
BEGIN:VEVENT
DTSTART;TZID=America/New_York:20260223T083000
DTEND;TZID=America/New_York:20260223T083000
DTSTAMP:20260421T021330
CREATED:20260217T212241Z
LAST-MODIFIED:20260219T205352Z
UID:10002845-1771835400-1771835400@www.uqac.ca
SUMMARY:Soutenance de thèse de Othniel Glodie Dominique Ngombe\, étudiant au doctorat en sciences de la Terre et de l'atmosphère
DESCRIPTION:CANDIDAT\nOthniel Glodie Dominique Ngombe \nPROGRAMME\nDoctorat en sciences de la Terre et de l’atmosphère \nTITRE DE LA THÈSE\nOrigine\, migration et connectivité des eaux souterraines du Bouclier Canadien révélées à partir de la modélisation des écoulements profonds en contexte de graben et de l’analyse des traceurs géochimiques \nDIRECTION DE RECHERCHE\nJulien Walter\, UQAC \nJURY D’ÉVALUATION\nNicolas Benoît\, Commission géologique du Canada\nFlorent Barbecot\, UQAM \nPRÉSIDENCE DU JURY\nDominique Genna\, UQAC \nDIRECTION DE PROGRAMME\nRénée-Luce Simard\, UQAC \nPour y assister à distance (connexion requise 30 minutes avant le début de la soutenance) :  https://uqac.zoom.us/my/soutenancedethese/.
URL:https://www.uqac.ca/calendrier/evenement/soutenance-de-these-de-othniel-glodie-dominique-ngombe-etudiant-au-doctorat-en-sciences-de-la-terre-et-de-latmosphere/
LOCATION:Local P2-4140 ou en ligne
CATEGORIES:Enseignement, recherche et formation
END:VEVENT
BEGIN:VEVENT
DTSTART;TZID=America/New_York:20251218T133000
DTEND;TZID=America/New_York:20251218T133000
DTSTAMP:20260421T021330
CREATED:20251210T212010Z
LAST-MODIFIED:20251210T212010Z
UID:10002773-1766064600-1766064600@www.uqac.ca
SUMMARY:Soutenance de thèse de Tetchi Moïse Junior Agouassi\, étudiant au doctorat en ingénierie
DESCRIPTION:CANDIDAT\nTetchi Moïse Junior Agouassi \nPROGRAMME\nDoctorat en ingénierie \nTITRE DE LA THÈSE\nComportement de gazage des liquides biodégradables utilisés dans les transformateurs : influence de la composition chimique \nDIRECTION DE RECHERCHE\nIssouf Fofana\, UQAC \nCODIRECTION DE RECHERCHE\nMohan Rao Ungarala\, GE Aerospace research\nYazid Hadjadj\, Conseil national de recherches du Canada \nJURY D’ÉVALUATION\nLuc Loiselle\, Tetra Tech\nMichel Duval\, Centre de recherche d’Hydro-Québec \nPRÉSIDENCE DU JURY\nChristophe Volat\, UQAC \nRESPONSABLE OU REPRÉSENTANT DU PROGRAMME\nDuygu Kocaefe\, UQAC \n  \nPour y assister à distance (connexion requise 30 minutes avant le début de la soutenance) :  https://uqac.zoom.us/my/soutenancedethese/
URL:https://www.uqac.ca/calendrier/evenement/soutenance-de-these-de-tetchi-moise-junior-agouassi-etudiant-au-doctorat-en-ingenierie/
LOCATION:Local P2-4140
CATEGORIES:Enseignement, recherche et formation
END:VEVENT
BEGIN:VEVENT
DTSTART;TZID=America/New_York:20251215T133000
DTEND;TZID=America/New_York:20251215T133000
DTSTAMP:20260421T021330
CREATED:20251209T153844Z
LAST-MODIFIED:20251209T153852Z
UID:10002769-1765805400-1765805400@www.uqac.ca
SUMMARY:Soutenance de thèse de Vineeth Reddy Karnati\, étudiant au doctorat en ingénierie
DESCRIPTION:CANDIDAT\nVineeth Reddy Karnati \nPROGRAMME\nDoctorat en ingénierie \nTITRE DE LA THÈSE\nÉvaluation de l’impact de paramètres géomécaniques importants sur l’érosion du massif rocheux dans l’évacuateur de crues non revêtues de barrages à l’aide d’essais avec un modèle physique \nDIRECTION DE RECHERCHE\nAli Saeidi\, UQAC \nCODIRECTION DE RECHERCHE\nAlain Rouleau\, UQAC\nMarco Quirion\, Hydro-Québec \nJURY D’ÉVALUATION\nÉric Villeneuve\, UQAR\nAdoubi Vincent De Paul Adombi\, UQAC \nPRÉSIDENCE DU JURY\nJulien Walter\, UQAC \nRESPONSABLE OU REPRÉSENTANT DU PROGRAMME\nDuygu Kocaefe\, UQAC \n  \nPour y assister à distance (connexion requise 30 minutes avant le début de la soutenance) :  https://uqac.zoom.us/my/soutenancedethese/
URL:https://www.uqac.ca/calendrier/evenement/soutenance-de-these-de-vineeth-reddy-karnati-etudiant-au-doctorat-en-ingenierie/
LOCATION:Local P2-4140
CATEGORIES:Enseignement, recherche et formation
END:VEVENT
BEGIN:VEVENT
DTSTART;TZID=America/New_York:20251113T090000
DTEND;TZID=America/New_York:20251113T090000
DTSTAMP:20260421T021330
CREATED:20251105T163635Z
LAST-MODIFIED:20251105T163635Z
UID:10002746-1763024400-1763024400@www.uqac.ca
SUMMARY:Soutenance de thèse de Samson Okikiola Oparanti
DESCRIPTION:CANDIDAT\nSamson Okikiola Oparanti \nPROGRAMME\nDoctorat en ingénierie \nTITRE DE LA THÈSE\nHuile de canola améliorée par des additifs écologiques pour l’isolation des transformateurs en climat froid \nDIRECTION DE RECHERCHE\nIssouf Fofana\, UQAC \nCODIRECTION DE RECHERCHE\nReza Jafari\, UQAC \nJURY D’ÉVALUATION\nFethi Meghnefi\, UQAC\nEsperanza Mariela Rodriguez Celis\, Hydro-Québec \nPRÉSIDENCE DU JURY\nStephan Brettschneider\, UQAC \nDIRECTION DE PROGRAMME\nDuygu Kocaefe\, UQAC \n  \nPour y assister à distance (connexion requise 30 minutes avant le début de la soutenance) :  https://uqac.zoom.us/my/soutenancedethese/
URL:https://www.uqac.ca/calendrier/evenement/soutenance-de-these-de-samson-okikiola-oparanti/
LOCATION:Local P2-4140
CATEGORIES:Enseignement, recherche et formation
END:VEVENT
BEGIN:VEVENT
DTSTART;TZID=America/New_York:20251104T190000
DTEND;TZID=America/New_York:20251104T190000
DTSTAMP:20260421T021330
CREATED:20251031T172539Z
LAST-MODIFIED:20251031T172539Z
UID:10002741-1762282800-1762282800@www.uqac.ca
SUMMARY:Rencontre d'information citoyenne | Aquifère de Laterrière
DESCRIPTION:
URL:https://www.uqac.ca/calendrier/evenement/rencontre-dinformation-citoyenne-aquifere-de-laterriere/
LOCATION:Salle municipale de Laterrière
CATEGORIES:Conférences et présentations
END:VEVENT
BEGIN:VEVENT
DTSTART;TZID=America/New_York:20251009T090000
DTEND;TZID=America/New_York:20251009T090000
DTSTAMP:20260421T021330
CREATED:20251003T144730Z
LAST-MODIFIED:20251003T190832Z
UID:10002710-1760000400-1760000400@www.uqac.ca
SUMMARY:Soutenance de thèse de Marc Alain Andoh\, étudiant au doctorat en ingénierie
DESCRIPTION:CANDIDAT\nMarc Alain Andoh \nPROGRAMME\nDoctorat en ingénierie \nTITRE DE LA THÈSE\nDéveloppement d’un modèle thermoélectrique numérique de formation des bandes sèches à la surface des isolateurs composites pollués \nDIRECTION DE RECHERCHE\nChristophe Volat\, UQAC \nJURY D’ÉVALUATION\nFethi Meghnefi\, UQAC\nGwenaël Gaborit\, Université Savoie-Mont-Blanc \nPRÉSIDENCE DU JURY\nIssouf Fofana\, UQAC \nDIRECTION DE PROGRAMME\nDuygu Kocaefe\, UQAC \n  \nPour y assister à distance (connexion requise 30 minutes avant le début de la soutenance) :  https://uqac.zoom.us/my/soutenancedethese/
URL:https://www.uqac.ca/calendrier/evenement/soutenance-de-these-de-marc-alain-andoh-etudiant-au-doctorat-en-ingenierie/
LOCATION:Local P2-4140
CATEGORIES:Enseignement, recherche et formation
END:VEVENT
BEGIN:VEVENT
DTSTART;TZID=America/New_York:20250903T133000
DTEND;TZID=America/New_York:20250903T133000
DTSTAMP:20260421T021330
CREATED:20250828T195846Z
LAST-MODIFIED:20250828T200520Z
UID:10002656-1756906200-1756906200@www.uqac.ca
SUMMARY:Soutenance de thèse de Quan Shao\, étudiant au doctorat en ingénierie
DESCRIPTION:CANDIDAT\nQuan Shao \nPROGRAMME\nDoctorat en ingénierie \nTITRE DE LA THÈSE\nNew generation of high performance aluminum electrical conductors for elevated temperature application \nDIRECTION DE RECHERCHE\nX. Grant Chen\, UQAC \nCODIRECTION DE RECHERCHE\nEmad Elgallad\, Université de Moncton \nJURY D’ÉVALUATION\nDilip Sarkar\, UQAC\nDaniel Larouche\, Université Laval \nPRÉSIDENCE DU JURY\nMousa Javidani\, UQAC \nDIRECTION DE PROGRAMME\nDuygu Kocaefe\, UQAC \n  \nPour y assister à distance (connexion requise 30 minutes avant le début de la soutenance) :  https://uqac.zoom.us/my/soutenancedethese/
URL:https://www.uqac.ca/calendrier/evenement/soutenance-de-these-de-quan-shao-etudiant-au-doctorat-en-ingenierie/
CATEGORIES:Enseignement, recherche et formation
END:VEVENT
BEGIN:VEVENT
DTSTART;TZID=America/New_York:20250813T090000
DTEND;TZID=America/New_York:20250813T090000
DTSTAMP:20260421T021330
CREATED:20250812T173756Z
LAST-MODIFIED:20250828T191815Z
UID:10002647-1755075600-1755075600@www.uqac.ca
SUMMARY:Soutenance de thèse de Mohammad Jafari Aminabadi\, étudiant au doctorat en ingénierie
DESCRIPTION:CANDIDAT\nMohammad Jafari Aminabadi \nPROGRAMME\nDoctorat en ingénierie \nTITRE DE LA THÈSE\nNonlinear programming for stochastic short-term hydropower operations planning considering uncertain prices \nDIRECTION DE RECHERCHE\nSara Séguin\, UQAC \nCODIRECTION DE RECHERCHE\nIssouf Fofana\, UQAC \nJURY D’ÉVALUATION\nHugo Tremblay\, UQAC\nPascal Côté\, Rio Tinto \nPRÉSIDENCE DU JURY\nMartin Otis\, UQAC \nDIRECTION DE PROGRAMME\nDuygu Kocaefe\, UQAC
URL:https://www.uqac.ca/calendrier/evenement/soutenance-de-these-de-mohammad-jafari-aminabadi-etudiant-au-doctorat-en-ingenierie/
LOCATION:Local P2-4140
CATEGORIES:Enseignement, recherche et formation
END:VEVENT
BEGIN:VEVENT
DTSTART;TZID=America/New_York:20250214T090000
DTEND;TZID=America/New_York:20250214T090000
DTSTAMP:20260421T021330
CREATED:20250210T150840Z
LAST-MODIFIED:20250210T150840Z
UID:10002569-1739523600-1739523600@www.uqac.ca
SUMMARY:Soutenance de thèse de Fataneh Dabaghi Zarandi
DESCRIPTION:CANDIDATE\nFataneh Dabaghi Zarandi \nPROGRAMME\nDoctorat en ingénierie \nTITRE DE LA THÈSE\nTélésurveillance des changeurs de prises en charge pour transformateurs de puissance (CPC) \nDIRECTION DE RECHERCHE\nIssouf Fofana\, UQAC \nCODIRECTION DE RECHERCHE\nHassan Ezzaidi\, UQAC\nPatrick Picher\, Hydro-Québec \nJURY D’ÉVALUATION\nHossein Hemmatjou\, Transformateurs Delta Star inc.\nNaivonirina Ravelomanantsoa\, EXP \nPRÉSIDENCE DU JURY\nStephan Brettschneider\, UQAC \nDIRECTION DE PROGRAMME (OU SON REPRÉSENTANT)\nDuygu Kocaefe\, UQAC
URL:https://www.uqac.ca/calendrier/evenement/soutenance-de-these-de-fataneh-dabaghi-zarandi/
LOCATION:Local P2-4140
END:VEVENT
BEGIN:VEVENT
DTSTART;TZID=America/New_York:20230405T090000
DTEND;TZID=America/New_York:20230405T160000
DTSTAMP:20260421T021330
CREATED:20230323T122713Z
LAST-MODIFIED:20230323T123605Z
UID:10001573-1680685200-1680710400@www.uqac.ca
SUMMARY:Forum minier régional 02
DESCRIPTION:Le forum minier régional vise à informer les intervenants régionaux et le public en général des activités de développement minéral au Saguenay-Lac-Saint-Jean et également de favoriser les discussions\, par l’entremise de conférences et d’ateliers participatifs\, conduits par des spécialistes des domaines géoscientifique\, économique et social. \nS’inscrire ici : https://forms.gle/F5fipJHWGe8ibGePA
URL:https://www.uqac.ca/calendrier/evenement/forum-minier-regional-02-2/
LOCATION:Auditorium de l’UQAC (P0-5000)
CATEGORIES:Colloques et congrès
END:VEVENT
BEGIN:VEVENT
DTSTART;TZID=America/New_York:20190925T100000
DTEND;TZID=America/New_York:20190925T100000
DTSTAMP:20260421T021330
CREATED:20190918T135230Z
LAST-MODIFIED:20190918T135241Z
UID:10001113-1569405600-1569405600@www.uqac.ca
SUMMARY:Soutenance de thèse  •  Redouane Farid\, étudiant au doctorat en ingénierie
DESCRIPTION:Development of Mechanically Durable Ecologic and Corrosion Resistance Non-Chromate Coatings for Aluminum
URL:https://www.uqac.ca/calendrier/evenement/soutenance-de-these-redouane-farid-etudiant-au-doctorat-en-ingenierie/
LOCATION:Local P2-4140
CATEGORIES:Enseignement, recherche et formation
END:VEVENT
BEGIN:VEVENT
DTSTART;TZID=America/New_York:20190916T130000
DTEND;TZID=America/New_York:20190916T130000
DTSTAMP:20260421T021330
CREATED:20190906T124000Z
LAST-MODIFIED:20190906T124721Z
UID:10001093-1568638800-1568638800@www.uqac.ca
SUMMARY:Soutenance de thèse de Kahina Bachir Cherif\, étudiante au doctorat en ingénierie
DESCRIPTION:« Optimisation de l’étape de chauffage en thermoformage à l’aide de métaheuristiques »
URL:https://www.uqac.ca/calendrier/evenement/soutenance-de-these-de-kahina-bachir-cherif-etudiante-au-doctorat-en-ingenierie/
LOCATION:Local P2-4120
CATEGORIES:Enseignement, recherche et formation
END:VEVENT
BEGIN:VEVENT
DTSTART;TZID=America/New_York:20190913T083000
DTEND;TZID=America/New_York:20190913T113000
DTSTAMP:20260421T021330
CREATED:20190906T125005Z
LAST-MODIFIED:20190906T125945Z
UID:10001094-1568363400-1568374200@www.uqac.ca
SUMMARY:Soutenance de thèse de Djilali Kairous\, étudiant au doctorat en ingénierie
DESCRIPTION:« Commande robuste par mode glissant d’un système de conversion d’énergie éolienne à génératrice asynchrone à double alimentation »
URL:https://www.uqac.ca/calendrier/evenement/soutenance-de-these-de-djilali-kairous-etudiant-au-doctorat-en-ingenierie/
LOCATION:Local P2-2090
CATEGORIES:Enseignement, recherche et formation
END:VEVENT
BEGIN:VEVENT
DTSTART;TZID=America/New_York:20190327T090000
DTEND;TZID=America/New_York:20190327T160000
DTSTAMP:20260421T021330
CREATED:20190314T134812Z
LAST-MODIFIED:20190314T134852Z
UID:10001021-1553677200-1553702400@www.uqac.ca
SUMMARY:Forum minier régional
DESCRIPTION:
URL:https://www.uqac.ca/calendrier/evenement/forum-minier-regional/
LOCATION:Auditorium de l’UQAC (P0-5000)
CATEGORIES:Colloques et congrès,Enseignement, recherche et formation
END:VEVENT
BEGIN:VEVENT
DTSTART;TZID=America/New_York:20181214T133000
DTEND;TZID=America/New_York:20181214T163000
DTSTAMP:20260421T021330
CREATED:20181206T153607Z
LAST-MODIFIED:20181207T153627Z
UID:10000982-1544794200-1544805000@www.uqac.ca
SUMMARY:Soutenance de thèse de Simon-Olivier Tremblay\, étudiant au doctorat en ingénierie
DESCRIPTION:Soutenance de thèse de Simon-Olivier Tremblay\, étudiant au doctorat en ingénierie : \n« Étude conceptuelle et développement d’un nouvel assemblage anodique » \n 
URL:https://www.uqac.ca/calendrier/evenement/soutenance-de-these-simon-olivier-tremblay/
LOCATION:Local H2-1090
CATEGORIES:Enseignement, recherche et formation
END:VEVENT
END:VCALENDAR