BEGIN:VCALENDAR
VERSION:2.0
PRODID:-//Calendrier des événements - ECPv6.15.17//NONSGML v1.0//EN
CALSCALE:GREGORIAN
METHOD:PUBLISH
X-WR-CALNAME:Calendrier des événements
X-ORIGINAL-URL:https://www.uqac.ca/calendrier
X-WR-CALDESC:Évènements pour Calendrier des événements
REFRESH-INTERVAL;VALUE=DURATION:PT1H
X-Robots-Tag:noindex
X-PUBLISHED-TTL:PT1H
BEGIN:VTIMEZONE
TZID:America/New_York
BEGIN:DAYLIGHT
TZOFFSETFROM:-0500
TZOFFSETTO:-0400
TZNAME:EDT
DTSTART:20250309T070000
END:DAYLIGHT
BEGIN:STANDARD
TZOFFSETFROM:-0400
TZOFFSETTO:-0500
TZNAME:EST
DTSTART:20251102T060000
END:STANDARD
BEGIN:DAYLIGHT
TZOFFSETFROM:-0500
TZOFFSETTO:-0400
TZNAME:EDT
DTSTART:20260308T070000
END:DAYLIGHT
BEGIN:STANDARD
TZOFFSETFROM:-0400
TZOFFSETTO:-0500
TZNAME:EST
DTSTART:20261101T060000
END:STANDARD
BEGIN:DAYLIGHT
TZOFFSETFROM:-0500
TZOFFSETTO:-0400
TZNAME:EDT
DTSTART:20270314T070000
END:DAYLIGHT
BEGIN:STANDARD
TZOFFSETFROM:-0400
TZOFFSETTO:-0500
TZNAME:EST
DTSTART:20271107T060000
END:STANDARD
END:VTIMEZONE
BEGIN:VEVENT
DTSTART;TZID=America/New_York:20260219T113000
DTEND;TZID=America/New_York:20260219T124500
DTSTAMP:20260421T204235
CREATED:20260213T185917Z
LAST-MODIFIED:20260213T185917Z
UID:10002840-1771500600-1771505100@www.uqac.ca
SUMMARY:Conférence orange : De décrocheuse à docteure
DESCRIPTION:Découvrez le parcours inspirant de Katia Bissonnette : une histoire de persévérance\, de résilience et de réussites improbables! \nEntrée libre · Places limitées \nIrrécupérable. C’est l’étiquette que le psychiatre accolait à Katia Bissonnette à 18 ans\, tout en lui remettant un formulaire d’invalidité pour l’aide sociale. Alcoolique/polytoxicomane active de 13 à 30 ans et souffrant de troubles de santé mentale\, elle a fait mentir les pronostics\, et pas qu’un peu. Malgré sa condition précaire et son mode survie continuel\, elle a obtenu en juin 2020 son doctorat en psychologie. Cette réussite improbable l’amènera à combattre chacun de ses démons intérieurs et à poursuivre d’autres objectifs pour se dépasser. Elle est aujourd’hui psychologue\, conférencière\, boxeuse et représente le Québec à l’international comme responsable à la Fondation Équipe-Québec.
URL:https://www.uqac.ca/calendrier/evenement/conference-orange-de-decrocheuse-a-docteure/
LOCATION:Auditorium de l’UQAC (P0-5000)
CATEGORIES:Conférences et présentations
END:VEVENT
BEGIN:VEVENT
DTSTART;TZID=America/New_York:20260218T111500
DTEND;TZID=America/New_York:20260218T121500
DTSTAMP:20260421T204235
CREATED:20260119T192119Z
LAST-MODIFIED:20260213T190417Z
UID:10002820-1771413300-1771416900@www.uqac.ca
SUMMARY:Panel du Carrefour : Entre exigences académiques et réalités étudiantes (regards croisés sur les défis contemporains)
DESCRIPTION:Le Carrefour de l’enseignement et de l’apprentissage vous invite à assister à ce panel : une opportunité idéale pour échanger avec des collègues\, découvrir des approches inspirantes et réfléchir à des moyens d’adapter ces pratiques à l’enseignement \n  Avec : \n· Sindy Duval\, chargée de cours (DSEA) \n· Kevin Bouchard\, professeur (DIM) \n· Vicky Gauthier\, chargée de cours (DALL) \n· Ève Simard\, conseillère (SAE)
URL:https://www.uqac.ca/calendrier/evenement/entre-exigences-academiques-et-realites-etudiantes-regards-croises-sur-les-defis-contemporains/
LOCATION:Salle P0-7000
CATEGORIES:Conférences et présentations
END:VEVENT
BEGIN:VEVENT
DTSTART;TZID=America/New_York:20260218T110000
DTEND;TZID=America/New_York:20260218T130000
DTSTAMP:20260421T204235
CREATED:20260213T185235Z
LAST-MODIFIED:20260213T190221Z
UID:10002838-1771412400-1771419600@www.uqac.ca
SUMMARY:Atelier de zoothérapie
DESCRIPTION:Avec les intervenant(e)s de Zoothérapie Mamma Mia\nDécouvrez comment le contact avec des animaux peut favoriser votre bien-être émotionnel : une pause douce\, qui fait du bien!
URL:https://www.uqac.ca/calendrier/evenement/atelier-de-zootherapie/
LOCATION:La Bulle (salle collaborative de la Bibliothèque Paul-Émile-Boulet)
CATEGORIES:Rencontres et événements festifs
END:VEVENT
BEGIN:VEVENT
DTSTART;TZID=America/New_York:20260218T073000
DTEND;TZID=America/New_York:20260218T081500
DTSTAMP:20260421T204235
CREATED:20260213T183642Z
LAST-MODIFIED:20260213T190106Z
UID:10002837-1771399800-1771402500@www.uqac.ca
SUMMARY:Haie d'honneur de la persévérance
DESCRIPTION:  \nÉtudiantes et étudiants\, profitez d’un accueil spécial pour célébrer votre persévérance et obtenez du même coup une boisson chaude pour bien démarrer votre journée!
URL:https://www.uqac.ca/calendrier/evenement/haie-dhonneur-de-la-perseverance/
LOCATION:Entrées principales de l’UQAC
CATEGORIES:Rencontres et événements festifs
END:VEVENT
BEGIN:VEVENT
DTSTART;TZID=America/New_York:20260217T143000
DTEND;TZID=America/New_York:20260217T143000
DTSTAMP:20260421T204235
CREATED:20260213T185412Z
LAST-MODIFIED:20260213T185429Z
UID:10002839-1771338600-1771338600@www.uqac.ca
SUMMARY:Pause santé et persévérance
DESCRIPTION:Avec la cohorte 2022 du baccalauréat en éducation préscolaire et en enseignement primaire du campus de Sept-Îles
URL:https://www.uqac.ca/calendrier/evenement/pause-sante-et-perseverance/
LOCATION:Hall du Pavillon Alouette
CATEGORIES:Rencontres et événements festifs
END:VEVENT
BEGIN:VEVENT
DTSTART;TZID=America/New_York:20260217T100000
DTEND;TZID=America/New_York:20260217T140000
DTSTAMP:20260421T204235
CREATED:20260120T155030Z
LAST-MODIFIED:20260213T190055Z
UID:10002821-1771322400-1771336800@www.uqac.ca
SUMMARY:Salon de l'emploi 2026
DESCRIPTION:  \n80 entreprises · +500 postes à combler\nMardi 17 février 2026\n10 h à 14 h · Centre social de l’UQAC\nuqac.ca/salonemploi\n\n  \nProposé dans le cadre de :
URL:https://www.uqac.ca/calendrier/evenement/salon-de-lemploi-2026/
LOCATION:Centre social
CATEGORIES:Activités de recrutement,Événements institutionnels
ORGANIZER;CN="Services aux %C3%A9tudiants":MAILTO:info_programmes@uqac.ca
END:VEVENT
BEGIN:VEVENT
DTSTART;VALUE=DATE:20260216
DTEND;VALUE=DATE:20260221
DTSTAMP:20260421T204235
CREATED:20260210T135858Z
LAST-MODIFIED:20260213T190524Z
UID:10002834-1771200000-1771631999@www.uqac.ca
SUMMARY:Journées de la persévérance scolaire
DESCRIPTION:Dans le cadre des Journées de la persévérance scolaire 2026\, l’UQAC souhaite célébrer celles et ceux qui incarnent\, chaque jour\, la détermination\, la curiosité et la volonté d’apprendre. Nous mettons donc en lumière des étudiant(e)s qui avancent malgré les défis\, des professeur(e)s et chargé(e)s de cours qui les soutiennent et les encouragent\, ainsi que des membres du personnel qui facilitent leur réussite par leur engagement quotidien. \n  \nDécouvrez leurs portraits : des parcours réels\, des histoires authentiques\, des modèles de persévérance!\n  \nMardi 17 février\n10 h à 14 h · Centre social\nSalon de l’emploi 2026\n80 employeurs et plus de 600 postes à pourvoir : finissantes et finissants\, votre persévérance pourrait être payante!\nuqac.ca/salonemploi \n14 h 30 · Hall du Pavillon Alouette (campus de Sept-Îles)\nPause santé et persévérance\nAvec la cohorte 2022 du baccalauréat en éducation préscolaire et en enseignement primaire \n\nMercredi 18 février\n7 h 30 à 8 h 15 · Entrées est et ouest du Pavillon principal\nHaie d’honneur de la persévérance\nÉtudiantes et étudiants\, profitez d’un accueil spécial pour célébrer votre persévérance et obtenez du même coup une boisson chaude pour bien démarrer votre journée. \n11 h à 13 h · Bibliothèque (La Bulle)\nAtelier de zoothérapie\nAvec les intervenant(e)s de Zoothérapie Mamma Mia\nDécouvrez comment le contact avec des animaux peut favoriser votre bien-être émotionnel : une pause douce\, qui fait du bien! \n11 h 15 à 12 h 15 · Local P0-7000\nPanel du Carrefour : Entre exigences académiques et réalités étudiantes – regards croisés sur les défis contemporains\nUne opportunité idéale pour échanger avec des collègues\, découvrir des approches inspirantes et réfléchir à des moyens d’adapter ces pratiques à l’enseignement.\nAvec :\n– Sindy Duval\, chargée de cours (DSEA)\n– Kevin Bouchard\, professeur (DIM)\n– Vicky Gauthier\, chargée de cours (DALL)\n– Ève Simard\, conseillère (SAE) \n\n\nJeudi 19 février\n11 h 30 à 12 h 45 · Auditorium (P0-5000)\nConférence orage : De décrocheuse à docteure\nDécouvrez le parcours inspirant de Katia Bissonnette : une histoire de persévérance\, de résilience et de réussites improbables!\nEntrée libre – Places limitées \n\n\n\n\n\n À surveiller également pendant la semaine\nPlusieurs équipes de programmes souligneront les Journées de la persévérance scolaire par différentes actions. \nInitiatives des programmes\nDes activités auront lieu en sciences fondamentales et infirmières\, en intervention plein air\, en kinésiologie ainsi qu’au Centre des Premières Nations Nikanite. \nPetite attention gourmande 🥠\nUne distribution de biscuits de fortune aura également lieu auprès d’étudiantes et d’étudiants en sciences économiques et administratives\, en sciences appliquées\, en psychologie et à l’École NAD.
URL:https://www.uqac.ca/calendrier/evenement/journees-de-la-perseverance-scolaire/
LOCATION:À déterminer
CATEGORIES:Divers,Rencontres et événements festifs,Sports
END:VEVENT
END:VCALENDAR