BEGIN:VCALENDAR
VERSION:2.0
PRODID:-//Calendrier des événements - ECPv6.15.17//NONSGML v1.0//EN
CALSCALE:GREGORIAN
METHOD:PUBLISH
X-WR-CALNAME:Calendrier des événements
X-ORIGINAL-URL:https://www.uqac.ca/calendrier
X-WR-CALDESC:Évènements pour Calendrier des événements
REFRESH-INTERVAL;VALUE=DURATION:PT1H
X-Robots-Tag:noindex
X-PUBLISHED-TTL:PT1H
BEGIN:VTIMEZONE
TZID:America/New_York
BEGIN:DAYLIGHT
TZOFFSETFROM:-0500
TZOFFSETTO:-0400
TZNAME:EDT
DTSTART:20170312T070000
END:DAYLIGHT
BEGIN:STANDARD
TZOFFSETFROM:-0400
TZOFFSETTO:-0500
TZNAME:EST
DTSTART:20171105T060000
END:STANDARD
BEGIN:DAYLIGHT
TZOFFSETFROM:-0500
TZOFFSETTO:-0400
TZNAME:EDT
DTSTART:20180311T070000
END:DAYLIGHT
BEGIN:STANDARD
TZOFFSETFROM:-0400
TZOFFSETTO:-0500
TZNAME:EST
DTSTART:20181104T060000
END:STANDARD
BEGIN:DAYLIGHT
TZOFFSETFROM:-0500
TZOFFSETTO:-0400
TZNAME:EDT
DTSTART:20190310T070000
END:DAYLIGHT
BEGIN:STANDARD
TZOFFSETFROM:-0400
TZOFFSETTO:-0500
TZNAME:EST
DTSTART:20191103T060000
END:STANDARD
BEGIN:DAYLIGHT
TZOFFSETFROM:-0500
TZOFFSETTO:-0400
TZNAME:EDT
DTSTART:20200308T070000
END:DAYLIGHT
BEGIN:STANDARD
TZOFFSETFROM:-0400
TZOFFSETTO:-0500
TZNAME:EST
DTSTART:20201101T060000
END:STANDARD
BEGIN:DAYLIGHT
TZOFFSETFROM:-0500
TZOFFSETTO:-0400
TZNAME:EDT
DTSTART:20210314T070000
END:DAYLIGHT
BEGIN:STANDARD
TZOFFSETFROM:-0400
TZOFFSETTO:-0500
TZNAME:EST
DTSTART:20211107T060000
END:STANDARD
BEGIN:DAYLIGHT
TZOFFSETFROM:-0500
TZOFFSETTO:-0400
TZNAME:EDT
DTSTART:20220313T070000
END:DAYLIGHT
BEGIN:STANDARD
TZOFFSETFROM:-0400
TZOFFSETTO:-0500
TZNAME:EST
DTSTART:20221106T060000
END:STANDARD
BEGIN:DAYLIGHT
TZOFFSETFROM:-0500
TZOFFSETTO:-0400
TZNAME:EDT
DTSTART:20230312T070000
END:DAYLIGHT
BEGIN:STANDARD
TZOFFSETFROM:-0400
TZOFFSETTO:-0500
TZNAME:EST
DTSTART:20231105T060000
END:STANDARD
END:VTIMEZONE
BEGIN:VEVENT
DTSTART;TZID=America/New_York:20220927T130000
DTEND;TZID=America/New_York:20220927T160000
DTSTAMP:20260421T154054
CREATED:20220927T122429Z
LAST-MODIFIED:20220927T123920Z
UID:10001440-1664283600-1664294400@www.uqac.ca
SUMMARY:Tragédie en Iran : invitation à se recueillir
DESCRIPTION:La communauté Iranienne de l’UQAC invite les membres de la communauté universitaire pour échanger et se recueillir. \nBienvenue à toutes et à tous. \nLieu : Salle collaborative La Bulle de la Bibliothèque Paul-Émile-Boulet
URL:https://www.uqac.ca/calendrier/evenement/tragedie-en-iran-invitation-a-se-recueillir/
LOCATION:Bibliothèque Paul-Émile-Boulet
ATTACH;FMTTYPE=image/jpeg:https://www.uqac.ca/calendrier/wp-content/uploads/2022/09/MicrosoftTeams-image-42.jpg
END:VEVENT
BEGIN:VEVENT
DTSTART;TZID=America/New_York:20191120T120000
DTEND;TZID=America/New_York:20191120T124500
DTSTAMP:20260421T154054
CREATED:20190918T130040Z
LAST-MODIFIED:20190918T130229Z
UID:10001109-1574251200-1574253900@www.uqac.ca
SUMMARY:Midi gaming  •  « Dépendance aux jeux vidéo : comment l'identifier et la traiter »
DESCRIPTION:Animatrice : \nSandra Juneau\, travailleuse sociale et professeure au Département des sciences humaines et sociales de l’UQAC
URL:https://www.uqac.ca/calendrier/evenement/midi-gaming-dependance-aux-jeux-video-comment-lidentifier-et-la-traiter/
LOCATION:Bibliothèque Paul-Émile-Boulet
CATEGORIES:Conférences et présentations
END:VEVENT
BEGIN:VEVENT
DTSTART;TZID=America/New_York:20191112T083000
DTEND;TZID=America/New_York:20191112T160000
DTSTAMP:20260421T154054
CREATED:20191111T144413Z
LAST-MODIFIED:20191111T144413Z
UID:10001004-1573547400-1573574400@www.uqac.ca
SUMMARY:Journée scientifique du CISD : « Vivre l'intersectorialité en santé »
DESCRIPTION:
URL:https://www.uqac.ca/calendrier/evenement/journee-scientifique-du-cisd-vivre-lintersectorialite-en-sante/
LOCATION:Bibliothèque Paul-Émile-Boulet
CATEGORIES:Colloques et congrès,Conférences et présentations
END:VEVENT
BEGIN:VEVENT
DTSTART;TZID=America/New_York:20191023T120000
DTEND;TZID=America/New_York:20191023T124500
DTSTAMP:20260421T154054
CREATED:20190918T125824Z
LAST-MODIFIED:20190918T130328Z
UID:10001105-1571832000-1571834700@www.uqac.ca
SUMMARY:Midi gaming  •  « L'économie des jeux vidéo sur appareils mobiles »
DESCRIPTION:Animateur \nBruno Bouchard\, directeur du Module d’informatique et de mathématique
URL:https://www.uqac.ca/calendrier/evenement/midis-gaming-leconomie-des-jeux-video-sur-appareils-mobiles/
LOCATION:Bibliothèque Paul-Émile-Boulet
CATEGORIES:Conférences et présentations
END:VEVENT
BEGIN:VEVENT
DTSTART;TZID=America/New_York:20191011T090000
DTEND;TZID=America/New_York:20191011T090000
DTSTAMP:20260421T154054
CREATED:20190927T145107Z
LAST-MODIFIED:20190927T145107Z
UID:10001118-1570784400-1570784400@www.uqac.ca
SUMMARY:Colloque « Les défis de la géographie de demain »
DESCRIPTION:Inscriptions jusqu’au 8 octobre : colloques.uqac.ca/geographie50ans/
URL:https://www.uqac.ca/calendrier/evenement/colloque-les-defis-de-la-geographie-de-demain/
LOCATION:Bibliothèque Paul-Émile-Boulet
CATEGORIES:Colloques et congrès
END:VEVENT
BEGIN:VEVENT
DTSTART;TZID=America/New_York:20190925T120000
DTEND;TZID=America/New_York:20190925T124500
DTSTAMP:20260421T154054
CREATED:20190918T125458Z
LAST-MODIFIED:20190918T130154Z
UID:10001107-1569412800-1569415500@www.uqac.ca
SUMMARY:Midi gaming  •  « Philosophie indie : gérer un studio indépendant »
DESCRIPTION:Animateur \nSamuel Taillon\, confondateur de Totema Studio
URL:https://www.uqac.ca/calendrier/evenement/midi-gaming-philosophie-indie-gerer-un-studio-independant/
LOCATION:Bibliothèque Paul-Émile-Boulet
CATEGORIES:Conférences et présentations
END:VEVENT
BEGIN:VEVENT
DTSTART;TZID=America/New_York:20190319T103000
DTEND;TZID=America/New_York:20190319T120000
DTSTAMP:20260421T154054
CREATED:20190314T131057Z
LAST-MODIFIED:20190314T131057Z
UID:10001020-1552991400-1552996800@www.uqac.ca
SUMMARY:Formation de la bibliothèque Paul-Émile-Boulet : « Droit d'auteur et les étudiants de cycles supérieurs »
DESCRIPTION:  \n 
URL:https://www.uqac.ca/calendrier/evenement/formation-de-la-bibliotheque-paul-emile-boulet-droit-dauteur-et-les-etudiants-de-cycles-superieurs/
LOCATION:Bibliothèque Paul-Émile-Boulet
CATEGORIES:Enseignement, recherche et formation
END:VEVENT
BEGIN:VEVENT
DTSTART;VALUE=DATE:20181018
DTEND;VALUE=DATE:20181112
DTSTAMP:20260421T154054
CREATED:20181012T195220Z
LAST-MODIFIED:20181022T134422Z
UID:10000952-1539820800-1541980799@www.uqac.ca
SUMMARY:Exposition « Apatride Rohinhya – un avenir incertain »
DESCRIPTION:Dans le cadre de l’édition 2018 du Zoom photo Festival Saguenay\, la bibliothèque Paul-Émile Boulet de l’UQAC est fière de présenter l’exposition-photo du photographe documentaire indépendant Abir Abdullah. Basé au Bangladesh\, Abir Abdullah photographie les gens autour de lui dont les histoires l’ont marqué et sont restées en lui d’une façon ou d’une autre. Ces dernières années\, il a documenté les communautés du Bangladesh les plus touchées par le changement climatique. Depuis 2005\, Abir a commencé à documenter les dangers qui pèsent sur l’industrie manufacturière du Bangladesh en couvrant une série d’effondrements et d’incendies de bâtiments.   \nLe vernissage de l’exposition en présence de monsieur Abir Abdullah aura lieu le 18 octobre dès 13 h à la bibliothèque Paul-Émile Boulet.
URL:https://www.uqac.ca/calendrier/evenement/exposition-apatride-rohinhya-un-avenir-incertain/
LOCATION:Bibliothèque Paul-Émile-Boulet
CATEGORIES:Arts et performances,Conférences et présentations
END:VEVENT
END:VCALENDAR