BEGIN:VCALENDAR
VERSION:2.0
PRODID:-//Calendrier des événements - ECPv6.15.17//NONSGML v1.0//EN
CALSCALE:GREGORIAN
METHOD:PUBLISH
X-ORIGINAL-URL:https://www.uqac.ca/calendrier
X-WR-CALDESC:Évènements pour Calendrier des événements
REFRESH-INTERVAL;VALUE=DURATION:PT1H
X-Robots-Tag:noindex
X-PUBLISHED-TTL:PT1H
BEGIN:VTIMEZONE
TZID:America/New_York
BEGIN:DAYLIGHT
TZOFFSETFROM:-0500
TZOFFSETTO:-0400
TZNAME:EDT
DTSTART:20250309T070000
END:DAYLIGHT
BEGIN:STANDARD
TZOFFSETFROM:-0400
TZOFFSETTO:-0500
TZNAME:EST
DTSTART:20251102T060000
END:STANDARD
BEGIN:DAYLIGHT
TZOFFSETFROM:-0500
TZOFFSETTO:-0400
TZNAME:EDT
DTSTART:20260308T070000
END:DAYLIGHT
BEGIN:STANDARD
TZOFFSETFROM:-0400
TZOFFSETTO:-0500
TZNAME:EST
DTSTART:20261101T060000
END:STANDARD
BEGIN:DAYLIGHT
TZOFFSETFROM:-0500
TZOFFSETTO:-0400
TZNAME:EDT
DTSTART:20270314T070000
END:DAYLIGHT
BEGIN:STANDARD
TZOFFSETFROM:-0400
TZOFFSETTO:-0500
TZNAME:EST
DTSTART:20271107T060000
END:STANDARD
END:VTIMEZONE
BEGIN:VEVENT
DTSTART;TZID=America/New_York:20260218T080000
DTEND;TZID=America/New_York:20260219T170000
DTSTAMP:20260422T064241
CREATED:20260209T164931Z
LAST-MODIFIED:20260209T165216Z
UID:10002833-1771401600-1771520400@www.uqac.ca
SUMMARY:SNOWJAM UQAC 2026
DESCRIPTION:Prépare-toi pour le rendez-vous ski & snow de l’hiver à l’UQAC!  \nPendant deux jours\, l’esplanade se transforme en snowpark urbain complètement fou : des modules\, de l’action\, une ambiance survoltée et un après-ski comme on les aime. \nAu programme : \n\nSki et planche à neige en plein cœur du campus\nMusique pour te garder motivé toute la journée\nNourriture gratuite\nPrix à gagner\, incluant des passes journalières au Valinouët\nDiffusion des Jeux olympiques sur place\nAprès-ski au Bar-UQAC pour finir ça en beauté\n\nUn événement organisé par les étudiants\, pour les étudiants\, ouvert à toute la communauté étudiante de l’UQAC. Que tu viennes participer\, encourager ou juste profiter de l’ambiance\, le Snow Jam\, c’est l’endroit où il faut être cet hiver. \nCarte étudiante obligatoire\nCasque obligatoire\n \nPage Facebook de l’événement
URL:https://www.uqac.ca/calendrier/evenement/snow-jam-2026/
LOCATION:Esplanade de l’UQAC (entrée est du Pavillon principal)
END:VEVENT
END:VCALENDAR