BEGIN:VCALENDAR
VERSION:2.0
PRODID:-//Calendrier des événements - ECPv6.15.17//NONSGML v1.0//EN
CALSCALE:GREGORIAN
METHOD:PUBLISH
X-ORIGINAL-URL:https://www.uqac.ca/calendrier
X-WR-CALDESC:Évènements pour Calendrier des événements
REFRESH-INTERVAL;VALUE=DURATION:PT1H
X-Robots-Tag:noindex
X-PUBLISHED-TTL:PT1H
BEGIN:VTIMEZONE
TZID:America/New_York
BEGIN:DAYLIGHT
TZOFFSETFROM:-0500
TZOFFSETTO:-0400
TZNAME:EDT
DTSTART:20250309T070000
END:DAYLIGHT
BEGIN:STANDARD
TZOFFSETFROM:-0400
TZOFFSETTO:-0500
TZNAME:EST
DTSTART:20251102T060000
END:STANDARD
BEGIN:DAYLIGHT
TZOFFSETFROM:-0500
TZOFFSETTO:-0400
TZNAME:EDT
DTSTART:20260308T070000
END:DAYLIGHT
BEGIN:STANDARD
TZOFFSETFROM:-0400
TZOFFSETTO:-0500
TZNAME:EST
DTSTART:20261101T060000
END:STANDARD
BEGIN:DAYLIGHT
TZOFFSETFROM:-0500
TZOFFSETTO:-0400
TZNAME:EDT
DTSTART:20270314T070000
END:DAYLIGHT
BEGIN:STANDARD
TZOFFSETFROM:-0400
TZOFFSETTO:-0500
TZNAME:EST
DTSTART:20271107T060000
END:STANDARD
END:VTIMEZONE
BEGIN:VEVENT
DTSTART;TZID=America/New_York:20260420T090000
DTEND;TZID=America/New_York:20260420T090000
DTSTAMP:20260421T022914
CREATED:20260325T145802Z
LAST-MODIFIED:20260325T145802Z
UID:10002881-1776675600-1776675600@www.uqac.ca
SUMMARY:Soutenance de thèse de Mohammadhossein Dabaghi\, étudiant au doctorat en ingénierie
DESCRIPTION:CANDIDAT\nMohammadhossein Dabaghi \nPROGRAMME\nDoctorat en ingénierie \nTITRE DE LA THÈSE\nEffect of green anode cooling on carbon anode quality \nDIRECTION DE RECHERCHE\nDuygu Kocaefe\, UQAC \nCODIRECTION DE RECHERCHE\nYasar Kocaefe\, UQAC \nJURY D’ÉVALUATION\nFatma Rebaine\, UQAC\nMounir Baiteche\, Pyrotek \nPRÉSIDENCE DU JURY\nJean Perron\, UQAC \nDIRECTION DE PROGRAMME\nIssouf Fofana\, UQAC \nPour y assister à distance (connexion requise 30 minutes avant le début de la soutenance) :  https://uqac.zoom.us/my/soutenancedethese/.
URL:https://www.uqac.ca/calendrier/evenement/soutenance-de-these-de-mohammadhossein-dabaghi-etudiant-au-doctorat-en-ingenierie/
LOCATION:Local P2-4140 ou en ligne
CATEGORIES:Enseignement, recherche et formation
END:VEVENT
BEGIN:VEVENT
DTSTART;TZID=America/New_York:20260416T133000
DTEND;TZID=America/New_York:20260416T133000
DTSTAMP:20260421T022914
CREATED:20260413T131935Z
LAST-MODIFIED:20260413T154548Z
UID:10002903-1776346200-1776346200@www.uqac.ca
SUMMARY:Soutenance de thèse de Mohammad Khoshghadam Pireyousefan\, étudiant au doctorat en ingénierie
DESCRIPTION:CANDIDAT\nMohammad Khoshghadam Pireyousefan \nPROGRAMME\nDoctorat en ingénierie \nTITRE DE LA THÈSE\nStrength-Conductivity Synergy in Hypoeutectif Al-Si Alloys via Advanced Thermomechanical Processing for Conductor Cable Applications \nDIRECTION DE RECHERCHE\nMousa Javidani\, UQAC \nCODIRECTION DE RECHERCHE\nX. Grant Chen\, UQAC \nJURY D’ÉVALUATION\nAbdallah Elsayed\, University of Guelph\nSiamak Nikzad Khangholi\, Umicore \nPRÉSIDENCE DU JURY\nYasar Kocaefe\, UQAC \nDIRECTION DE PROGRAMME\nDuygu Kocaefe\, UQAC \nPour y assister à distance (connexion requise 30 minutes avant le début de la soutenance) :  https://uqac.zoom.us/my/soutenancedethese/.
URL:https://www.uqac.ca/calendrier/evenement/soutenance-de-these-de-mohammad-khoshghadam-pireyousefan-etudiant-au-doctorat-en-ingenierie/
LOCATION:Local P2-4140 ou en ligne
CATEGORIES:Enseignement, recherche et formation
END:VEVENT
BEGIN:VEVENT
DTSTART;TZID=America/New_York:20260330T083000
DTEND;TZID=America/New_York:20260330T083000
DTSTAMP:20260421T022914
CREATED:20260325T144947Z
LAST-MODIFIED:20260325T145249Z
UID:10002880-1774859400-1774859400@www.uqac.ca
SUMMARY:Soutenance de thèse d'Arnaud Back\, étudiant au doctorat en sciences de la Terre et de l'atmosphère
DESCRIPTION:CANDIDAT\nArnaud Back \nPROGRAMME\nDoctorat en sciences de la Terre et de l’atmosphère \nTITRE DE LA THÈSE\nAdvancing Quantitative Petrography Through an Automated Grain Shape Quantification Framework \nDIRECTION DE RECHERCHE\nPaul Bédard\, UQAC \nCODIRECTION DE RECHERCHE\nAmadou Barry\, INRS\nJulien Maître\, UQAC \nJURY D’ÉVALUATION\nKim H. Esbensen\, KHE Consult\nJulien Walter\, UQAC \nPRÉSIDENCE DU JURY\nAdoubi Vincent De Paul Adombi\, UQAC \nDIRECTION DE PROGRAMME\nRenée-Luce Simard\, UQAC \nPour y assister à distance (connexion requise 30 minutes avant le début de la soutenance) :  https://uqac.zoom.us/my/soutenancedethese/.
URL:https://www.uqac.ca/calendrier/evenement/soutenance-de-these-darnaud-back-etudiant-au-doctorat-en-sciences-de-la-terre-et-de-latmosphere/
LOCATION:Local P2-4140 ou en ligne
CATEGORIES:Enseignement, recherche et formation
END:VEVENT
BEGIN:VEVENT
DTSTART;TZID=America/New_York:20260309T133000
DTEND;TZID=America/New_York:20260309T133000
DTSTAMP:20260421T022914
CREATED:20260226T184520Z
LAST-MODIFIED:20260226T184554Z
UID:10002852-1773063000-1773063000@www.uqac.ca
SUMMARY:Soutenance de thèse de Mahsa Mahdavirad\, étudiante au doctorat en ingénierie
DESCRIPTION:CANDIDATE\nMahsa Mahdavirad \nPROGRAMME\nDoctorat en ingénierie \nTITRE DE LA THÈSE\nÉtude des critères de résistance au cisaillement des discontinuités rocheuses et développement de méthodes d’estimation de la taille des blocs rocheux fondées sur la persistance des discontinuités \nDIRECTION DE RECHERCHE\nAli Saeidi\, UQAC \nCODIRECTION DE RECHERCHE\nJean-François Noël\, Hydro-Québec \nJURY D’ÉVALUATION\nPatrice Rivard\, Université de Sherbrooke\nAbbas Kamali B.\, ArcelorMittal Mines et Infrastructure Canada \nPRÉSIDENCE DU JURY\nAhmed Rahem\, UQAC \nDIRECTION DE PROGRAMME\nDuygu Kocaefe\, UQAC \nPour y assister à distance (connexion requise 30 minutes avant le début de la soutenance) :  https://uqac.zoom.us/my/soutenancedethese/.
URL:https://www.uqac.ca/calendrier/evenement/soutenance-de-these-de-mahsa-mahdavirad-etudiante-au-doctorat-en-ingenierie/
LOCATION:Local P2-4140 ou en ligne
CATEGORIES:Enseignement, recherche et formation
END:VEVENT
BEGIN:VEVENT
DTSTART;TZID=America/New_York:20260223T133000
DTEND;TZID=America/New_York:20260223T133000
DTSTAMP:20260421T022914
CREATED:20260127T145103Z
LAST-MODIFIED:20260127T145103Z
UID:10002827-1771853400-1771853400@www.uqac.ca
SUMMARY:Soutenance de thèse de Mahassen Ardhaoui\, étudiante au doctorat en ingénierie
DESCRIPTION:CANDIDATE\nMahassen Ardhaoui \nPROGRAMME\nDoctorat en ingénierie \nTITRE DE LA THÈSE\nAutonomisation et optimisation du transport maritime pour réduire l’impact sonore sur les cétacés \nDIRECTION DE RECHERCHE\nMartin Otis\, UQAC \nJURY D’ÉVALUATION\nMohamad Saad\, UQAT\nAnthony Deschênes\, Université Laval \nPRÉSIDENCE DU JURY\nIssouf Fofana\, UQAC \nDIRECTION DE PROGRAMME\nDuygu Kocaefe\, UQAC \nPour y assister à distance (connexion requise 30 minutes avant le début de la soutenance) :  https://uqac.zoom.us/my/soutenancedethese/.
URL:https://www.uqac.ca/calendrier/evenement/soutenance-de-these-de-mahassen-ardhaoui-etudiante-au-doctorat-en-ingenierie/
LOCATION:Local P2-4140 ou en ligne
CATEGORIES:Enseignement, recherche et formation
END:VEVENT
BEGIN:VEVENT
DTSTART;TZID=America/New_York:20260223T083000
DTEND;TZID=America/New_York:20260223T083000
DTSTAMP:20260421T022914
CREATED:20260217T212241Z
LAST-MODIFIED:20260219T205352Z
UID:10002845-1771835400-1771835400@www.uqac.ca
SUMMARY:Soutenance de thèse de Othniel Glodie Dominique Ngombe\, étudiant au doctorat en sciences de la Terre et de l'atmosphère
DESCRIPTION:CANDIDAT\nOthniel Glodie Dominique Ngombe \nPROGRAMME\nDoctorat en sciences de la Terre et de l’atmosphère \nTITRE DE LA THÈSE\nOrigine\, migration et connectivité des eaux souterraines du Bouclier Canadien révélées à partir de la modélisation des écoulements profonds en contexte de graben et de l’analyse des traceurs géochimiques \nDIRECTION DE RECHERCHE\nJulien Walter\, UQAC \nJURY D’ÉVALUATION\nNicolas Benoît\, Commission géologique du Canada\nFlorent Barbecot\, UQAM \nPRÉSIDENCE DU JURY\nDominique Genna\, UQAC \nDIRECTION DE PROGRAMME\nRénée-Luce Simard\, UQAC \nPour y assister à distance (connexion requise 30 minutes avant le début de la soutenance) :  https://uqac.zoom.us/my/soutenancedethese/.
URL:https://www.uqac.ca/calendrier/evenement/soutenance-de-these-de-othniel-glodie-dominique-ngombe-etudiant-au-doctorat-en-sciences-de-la-terre-et-de-latmosphere/
LOCATION:Local P2-4140 ou en ligne
CATEGORIES:Enseignement, recherche et formation
END:VEVENT
END:VCALENDAR