BEGIN:VCALENDAR
VERSION:2.0
PRODID:-//Calendrier des événements - ECPv6.15.17//NONSGML v1.0//EN
CALSCALE:GREGORIAN
METHOD:PUBLISH
X-WR-CALNAME:Calendrier des événements
X-ORIGINAL-URL:https://www.uqac.ca/calendrier
X-WR-CALDESC:Évènements pour Calendrier des événements
REFRESH-INTERVAL;VALUE=DURATION:PT1H
X-Robots-Tag:noindex
X-PUBLISHED-TTL:PT1H
BEGIN:VTIMEZONE
TZID:America/New_York
BEGIN:DAYLIGHT
TZOFFSETFROM:-0500
TZOFFSETTO:-0400
TZNAME:EDT
DTSTART:20170312T070000
END:DAYLIGHT
BEGIN:STANDARD
TZOFFSETFROM:-0400
TZOFFSETTO:-0500
TZNAME:EST
DTSTART:20171105T060000
END:STANDARD
BEGIN:DAYLIGHT
TZOFFSETFROM:-0500
TZOFFSETTO:-0400
TZNAME:EDT
DTSTART:20180311T070000
END:DAYLIGHT
BEGIN:STANDARD
TZOFFSETFROM:-0400
TZOFFSETTO:-0500
TZNAME:EST
DTSTART:20181104T060000
END:STANDARD
BEGIN:DAYLIGHT
TZOFFSETFROM:-0500
TZOFFSETTO:-0400
TZNAME:EDT
DTSTART:20190310T070000
END:DAYLIGHT
BEGIN:STANDARD
TZOFFSETFROM:-0400
TZOFFSETTO:-0500
TZNAME:EST
DTSTART:20191103T060000
END:STANDARD
BEGIN:DAYLIGHT
TZOFFSETFROM:-0500
TZOFFSETTO:-0400
TZNAME:EDT
DTSTART:20200308T070000
END:DAYLIGHT
BEGIN:STANDARD
TZOFFSETFROM:-0400
TZOFFSETTO:-0500
TZNAME:EST
DTSTART:20201101T060000
END:STANDARD
BEGIN:DAYLIGHT
TZOFFSETFROM:-0500
TZOFFSETTO:-0400
TZNAME:EDT
DTSTART:20210314T070000
END:DAYLIGHT
BEGIN:STANDARD
TZOFFSETFROM:-0400
TZOFFSETTO:-0500
TZNAME:EST
DTSTART:20211107T060000
END:STANDARD
BEGIN:DAYLIGHT
TZOFFSETFROM:-0500
TZOFFSETTO:-0400
TZNAME:EDT
DTSTART:20220313T070000
END:DAYLIGHT
BEGIN:STANDARD
TZOFFSETFROM:-0400
TZOFFSETTO:-0500
TZNAME:EST
DTSTART:20221106T060000
END:STANDARD
BEGIN:DAYLIGHT
TZOFFSETFROM:-0500
TZOFFSETTO:-0400
TZNAME:EDT
DTSTART:20230312T070000
END:DAYLIGHT
BEGIN:STANDARD
TZOFFSETFROM:-0400
TZOFFSETTO:-0500
TZNAME:EST
DTSTART:20231105T060000
END:STANDARD
BEGIN:DAYLIGHT
TZOFFSETFROM:-0500
TZOFFSETTO:-0400
TZNAME:EDT
DTSTART:20240310T070000
END:DAYLIGHT
BEGIN:STANDARD
TZOFFSETFROM:-0400
TZOFFSETTO:-0500
TZNAME:EST
DTSTART:20241103T060000
END:STANDARD
BEGIN:DAYLIGHT
TZOFFSETFROM:-0500
TZOFFSETTO:-0400
TZNAME:EDT
DTSTART:20250309T070000
END:DAYLIGHT
BEGIN:STANDARD
TZOFFSETFROM:-0400
TZOFFSETTO:-0500
TZNAME:EST
DTSTART:20251102T060000
END:STANDARD
END:VTIMEZONE
BEGIN:VEVENT
DTSTART;TZID=America/New_York:20241212T140000
DTEND;TZID=America/New_York:20241212T140000
DTSTAMP:20260422T013516
CREATED:20241203T162418Z
LAST-MODIFIED:20241203T162418Z
UID:10002523-1734012000-1734012000@www.uqac.ca
SUMMARY:Soutenance de thèse de Levika Hervé Nankap\, étudiant au doctorat en sciences et technologies de l'information
DESCRIPTION:CANDIDAT\nLevika Hervé Nankap \nPROGRAMME\nDoctorat en sciences et technologies de l’information \nTITRE DE LA THÈSE\nUn nouveau cadre scrum adapté aux équipes virtuelles fragmentées sur plusieurs sites \nDIRECTION DE RECHERCHE\nBruno Bouchard\, UQAC \nCODIRECTION DE RECHERCHE\nYannick Francillette\, UQAC\nGilles Imbeau\, UQAC \nJURY D’ÉVALUATION\nHamid Mcheick\, UQAC\nEmmanuel Druon\, Université Centralle Lille (école d’ingénieurs) \nPRÉSIDENCE DU JURY\nBob-Antoine Jerry Ménélas\, UQAC \nDIRECTION DE PROGRAMME (OU SON REPRÉSENTANT)\nSylvain Hallé\, UQAC
URL:https://www.uqac.ca/calendrier/evenement/soutenance-de-these-de-levika-herve-nankap-etudiant-au-doctorat-en-sciences-et-technologies-de-linformation/
LOCATION:Local P2-4140
END:VEVENT
BEGIN:VEVENT
DTSTART;TZID=America/New_York:20241212T090000
DTEND;TZID=America/New_York:20241212T090000
DTSTAMP:20260422T013516
CREATED:20241203T161905Z
LAST-MODIFIED:20241203T161905Z
UID:10002522-1733994000-1733994000@www.uqac.ca
SUMMARY:Soutenance de thèse de Jalves Mendonca Nicacio\, étudiant au doctorat en sciences et technologies de l'information
DESCRIPTION:CANDIDAT\nJalves Mendonca Nicacio \nPROGRAMME\nDoctorat en sciences et technologies de l’information \nTITRE DE LA THÈSE\nAmélioration de la cohérence des diagrammes architecturaux des systèmes distribués à l’aide de descripteurs de systèmes \nDIRECTION DE RECHERCHE\nSylvain Hallé\, UQAC \nCODIRECTION DE RECHERCHE\nFàbio Petrillo\, ÉTS \nJURY D’ÉVALUATION\nAbdelwahab Hamou-Lhadj\, Université de Concordia\nFrançis Bordeleau\, ÉTS \nPRÉSIDENCE DU JURY\nHamid Mcheick\, UQAC \nDIRECTION DE PROGRAMME (OU SON REPRÉSENTANT)\nBruno Bouchard\, UQAC
URL:https://www.uqac.ca/calendrier/evenement/soutenance-de-these-de-jalves-mendonca-nicacio-etudiant-au-doctorat-en-sciences-et-technologies-de-linformation/
LOCATION:Local P2-4140
END:VEVENT
BEGIN:VEVENT
DTSTART;TZID=America/New_York:20241211T133000
DTEND;TZID=America/New_York:20241211T133000
DTSTAMP:20260422T013516
CREATED:20241203T160521Z
LAST-MODIFIED:20241203T160548Z
UID:10002519-1733923800-1733923800@www.uqac.ca
SUMMARY:Soutenance de thèse de Saba Goharshenasmoghadam\, étudiante au doctorat en ingénierie
DESCRIPTION:CANDIDATE\nSaba Goharshenasmoghadam \nPROGRAMME\nDoctorat en ingénierie \nTITRE DE LA THÈSE\nInvestigation and Optimization of Effective Parameters in Fabrication of Novel Icephobic Coatings Containing Ionic Liquids \nDIRECTION DE RECHERCHE\nGelareh Momen\, UQAC \nCODIRECTION DE RECHERCHE\nReza Jafari\, UQAC \nJURY D’ÉVALUATION\nYasar Kocaefe\, UQAC\nVéronic Landry\, Université Laval \nPRÉSIDENCE DU JURY\nIssouf Fofana\, UQAC \nDIRECTION DE PROGRAMME (OU SON REPRÉSENTANT)\nDuygu Kocaefe\, UQAC
URL:https://www.uqac.ca/calendrier/evenement/soutenance-de-these-de-saba-goharshenasmoghadam-etudiante-au-doctorat-en-ingenierie/
LOCATION:Local P2-4140
END:VEVENT
BEGIN:VEVENT
DTSTART;TZID=America/New_York:20241004T090000
DTEND;TZID=America/New_York:20241004T090000
DTSTAMP:20260422T013516
CREATED:20240920T135716Z
LAST-MODIFIED:20240920T135716Z
UID:10002468-1728032400-1728032400@www.uqac.ca
SUMMARY:Soutenance de thèse de Teena Sharma\, étudiante au doctorat en ingénierie
DESCRIPTION:CANDIDATE\nTeena Sharma \nPROGRAMME\nDoctorat en ingénierie \nTITRE DE LA THÈSE\nObject detection for autonomous vehicules operating under varying weather conditions \nDIRECTION DE RECHERCHE\nIssouf Fofana\, UQAC \nCODIRECTION DE RECHERCHE\nAbdellah Chehri\, Royal Military College of Canada \nJURY D’ÉVALUATION\nYacine Yaddaden\, UQTR\nImran Ahmed\, Anglia Ruskin University \nPRÉSIDENCE DU JURY\nAlexandre Robichaud\, UQAC \nDIRECTION DE PROGRAMME (OU SON REPRÉSENTANT)\nDuygu Kocaefe\, UQAC
URL:https://www.uqac.ca/calendrier/evenement/soutenance-de-these-de-teena-sharma-etudiante-au-doctorat-en-ingenierie/
LOCATION:Local P2-4140
END:VEVENT
BEGIN:VEVENT
DTSTART;TZID=America/New_York:20240904T090000
DTEND;TZID=America/New_York:20240904T090000
DTSTAMP:20260422T013516
CREATED:20240827T180843Z
LAST-MODIFIED:20240829T195120Z
UID:10002381-1725440400-1725440400@www.uqac.ca
SUMMARY:Soutenance de thèse de Karine Langlais\, étudiante au doctorat en sciences de l'environnement
DESCRIPTION:CANDIDATE\nKarine Langlais \nPROGRAMME\nDoctorat en sciences de l’environnement \nTITRE DE LA THÈSE\nEn route vers la carboneutralité de la MRC de Maskinongé : La mobilisation et l’engagement des acteurs municipaux dans l’action climatique \nDIRECTION DE RECHERCHE\nOlivier Riffon\, UQAC \nJURY D’ÉVALUATION\nAnne-Sophie Gousse-Lessard\, UQAM\nGuy Chiasson\, UQO \nPRÉSIDENCE DU JURY\nJean-François Boucher\, UQAC \nDIRECTION DE PROGRAMME (OU SON REPRÉSENTANT)\nAnnie Deslauriers\, UQAC
URL:https://www.uqac.ca/calendrier/evenement/soutenance-de-these-de-karine-langlais-etudiante-au-doctorat-en-sciences-de-lenvironnement/
LOCATION:Local P2-4140
END:VEVENT
BEGIN:VEVENT
DTSTART;TZID=America/New_York:20240821T090000
DTEND;TZID=America/New_York:20240821T090000
DTSTAMP:20260422T013516
CREATED:20240820T192553Z
LAST-MODIFIED:20240820T192802Z
UID:10002374-1724230800-1724230800@www.uqac.ca
SUMMARY:Soutenance de thèse d'Alexandra Rivard\, étudiante au doctorat en lettres
DESCRIPTION:CANDIDATE\nAlexandra Rivard \nPROGRAMME\nDoctorat en lettres \nTITRE DE LA THÈSE\nSous l’angle féministe : le combat des romancières françaises entre 1900-1940 \nDIRECTION DE RECHERCHE\nFrançois Ouellet\, UQAC \nJURY D’ÉVALUATION\nPatrick Bergeron\, University of New Brunswick\nMartine Reid\, Université de Lille \nPRÉSIDENCE DU JURY\nCynthia Harvey\, UQAC \nDIRECTION DE PROGRAMME (OU SON REPRÉSENTANT)\nAnne Martine Parent\, UQAC
URL:https://www.uqac.ca/calendrier/evenement/soutenance-de-these-dalexandra-rivard-etudiante-au-doctorat-en-lettres/
LOCATION:Local P2-4140
END:VEVENT
BEGIN:VEVENT
DTSTART;TZID=America/New_York:20240605T090000
DTEND;TZID=America/New_York:20240605T090000
DTSTAMP:20260422T013516
CREATED:20240529T181405Z
LAST-MODIFIED:20240529T181405Z
UID:10001767-1717578000-1717578000@www.uqac.ca
SUMMARY:Soutenance de thèse de Jonathan Alarie\, étudiant au doctorat en ingénierie
DESCRIPTION:CANDIDAT\nJonathan Alarie \nPROGRAMME\nDoctorat en ingénierie \nTITRE DE LA THÈSE\nDissolution kinetics of alumina injected in cryolitic melt : Thermal and chemical influences on the Sherwood number \nDIRECTION DE RECHERCHE\nLaszlo Kiss\, UQAC \nCODIRECTION DE RECHERCHE\nLukas Dion\, UQAC\n \nJURY D’ÉVALUATION\nMartin Désilet\, Université de Sherbrooke\nKristian Einarsrud\, Norwegian\nUniversity of Science and Technology \nPRÉSIDENCE DU JURY\nYasar Kocaefe\, UQAC \nDIRECTION DE PROGRAMME (OU SON REPRÉSENTANT)\nDuygu Kocaefe\, UQAC
URL:https://www.uqac.ca/calendrier/evenement/soutenance-de-these-de-jonathan-alarie-etudiant-au-doctorat-en-ingenierie/
LOCATION:Local P2-4140
END:VEVENT
BEGIN:VEVENT
DTSTART;TZID=America/New_York:20240528T133000
DTEND;TZID=America/New_York:20240528T133000
DTSTAMP:20260422T013516
CREATED:20240515T195250Z
LAST-MODIFIED:20240515T195700Z
UID:10001758-1716903000-1716903000@www.uqac.ca
SUMMARY:Soutenance de thèse de Jonathan Gagné\, étudiant au doctorat en lettres
DESCRIPTION:CANDIDAT\nJonathan Gagné \nPROGRAMME\nDoctorat en lettres \nTITRE DE LA THÈSE\nProcessus de création scénaristique inspiré de l’insolite et de l’incompréhensible chez le cinéaste-écrivain Jean Rollin \nDIRECTION DE RECHERCHE\nJean-Paul Quéinnec\, UQAC \nJURY D’ÉVALUATION\nSophie Beauparlant\, UQAC\nJeremy Peter Allen\, Université Laval \nPRÉSIDENCE DU JURY\nCynthia Harvey\, UQAC \nDIRECTION DE PROGRAMME (OU SON REPRÉSENTANT)\nNicolas Xanthos\, UQAC
URL:https://www.uqac.ca/calendrier/evenement/soutenance-de-these-de-gilde-vanel-tchane-djogdom-etudiant-au-doctorat-en-ingenierie-2/
LOCATION:Local P2-4140
END:VEVENT
BEGIN:VEVENT
DTSTART;TZID=America/New_York:20240527T090000
DTEND;TZID=America/New_York:20240527T090000
DTSTAMP:20260422T013516
CREATED:20240522T135737Z
LAST-MODIFIED:20240522T135737Z
UID:10001763-1716800400-1716800400@www.uqac.ca
SUMMARY:Soutenance de thèse de Yan Lévesque\, étudiant au doctorat en sciences de la Terre et de l'atmosphère
DESCRIPTION:CANDIDAT\nYan Lévesque \nPROGRAMME\nDoctorat en sciences de la Terre et de l’atmosphère \nTITRE DE LA THÈSE\nDéveloppement d’une approche méthodologique afin d’évaluer le potentiel aquifère d’un milieu de dépôt glaciaire hétérogène et anisotrope \nDIRECTION DE RECHERCHE\nJulien Walter\, UQAC \nCODIRECTION DE RECHERCHE\nRomain Chesnaux\, UQAC \nJURY D’ÉVALUATION\nMarie Larocque\, UQAM\nÉric Rosa\, UQAT \nPRÉSIDENCE DU JURY\nMaxime Claprood\, UQAC \nDIRECTION DE PROGRAMME (OU SON REPRÉSENTANT)\nRenée-Luce Simard\, UQAC
URL:https://www.uqac.ca/calendrier/evenement/soutenance-de-these-de-yan-levesque-etudiant-au-doctorat-en-sciences-de-la-terre-et-de-latmosphere/
LOCATION:Local P2-4140
END:VEVENT
BEGIN:VEVENT
DTSTART;TZID=America/New_York:20240507T090000
DTEND;TZID=America/New_York:20240507T090000
DTSTAMP:20260422T013516
CREATED:20240423T150743Z
LAST-MODIFIED:20240503T175733Z
UID:10001754-1715072400-1715072400@www.uqac.ca
SUMMARY:Soutenance de thèse de Gilde Vanel Tchane Djogdom\, étudiant au doctorat en ingénierie
DESCRIPTION:CANDIDAT\nGilde Vanel Tchane Djogdom \nPROGRAMME\nDoctorat en ingénierie \nTITRE DE LA THÈSE\nInteraction humain-robot : proposition d’une approche de gestion des comportements humain-robot en contexte industriel \nDIRECTION DE RECHERCHE\nMartin Otis\, UQAC \nCODIRECTION DE RECHERCHE\nRamy Meziane\, UQAC\n \nJURY D’ÉVALUATION\nPascal Fortin\, UQAC\nSasan Sattarpanah Karganroudi\, UQTR \nPRÉSIDENCE DU JURY\nDaniel Audet\, UQAC \nDIRECTION DE PROGRAMME (OU SON REPRÉSENTANT)\nDuygu Kocaefe\, UQAC
URL:https://www.uqac.ca/calendrier/evenement/soutenance-de-these-de-gilde-vanel-tchane-djogdom-etudiant-au-doctorat-en-ingenierie/
LOCATION:Local P2-4140
END:VEVENT
BEGIN:VEVENT
DTSTART;TZID=America/New_York:20240419T133000
DTEND;TZID=America/New_York:20240419T133000
DTSTAMP:20260422T013516
CREATED:20240403T145359Z
LAST-MODIFIED:20240403T145359Z
UID:10001745-1713533400-1713533400@www.uqac.ca
SUMMARY:Soutenance de thèse de Samuel Sabor étudiant au doctorat en lettres
DESCRIPTION:CANDIDAT\nSamuel Sabor \nPROGRAMME\nDoctorat en lettres \nTITRE DE LA THÈSE\nDu néoterroir au noir rural. Étude comparée en littératures québécoise et étatsunienne suivi du roman Jamais sans Ariane \nDIRECTION DE RECHERCHE\nFrançois Ouellet\, UQAC \nJURY D’ÉVALUATION\nJean Morency\, Université de Moncton\nMartin Robitaille\, UQAR \nPRÉSIDENCE DU JURY\nAnne Martine Parent\, UQAC \nDIRECTION DE PROGRAMME (OU SON REPRÉSENTANT)\nCynthia Harvey\, UQAC
URL:https://www.uqac.ca/calendrier/evenement/soutenance-de-these-de-samuel-sabor-etudiant-au-doctorat-en-lettres/
LOCATION:Local P2-4140
END:VEVENT
BEGIN:VEVENT
DTSTART;TZID=America/New_York:20240416T090000
DTEND;TZID=America/New_York:20240416T090000
DTSTAMP:20260422T013516
CREATED:20240415T130625Z
LAST-MODIFIED:20240415T150705Z
UID:10001748-1713258000-1713258000@www.uqac.ca
SUMMARY:Soutenance de thèse de Laurie Simard étudiante au doctorat en biologie
DESCRIPTION:CANDIDATE\nLaurie Simard \nPROGRAMME\nDoctorat en biologie \nTITRE DE LA THÈSE\nL’apprentissage physiquement actif : un outil en soutien au développement global des enfants ayant ou non un diagnostic du trouble de déficit de l’attention avec ou sans hyperactivité \nDIRECTION DE RECHERCHE\nTommy Chevrette\, UQAC \nCODIRECTION DE RECHERCHE\nMartin Lavallière\, UQAC\n \nJURY D’ÉVALUATION\nMartin Caouette\, UQTR\nLoïc Pulido\, UQAC \nPRÉSIDENCE DU JURY\nClaudia Verret\, UQAM \nDIRECTION DE PROGRAMME (OU SON REPRÉSENTANT)\nAnnie Deslauriers\, UQAC
URL:https://www.uqac.ca/calendrier/evenement/soutenance-de-these-de-laurie-simard-etudiante-au-doctorat-en-biologie/
LOCATION:Local P2-4140
END:VEVENT
BEGIN:VEVENT
DTSTART;TZID=America/New_York:20240403T090000
DTEND;TZID=America/New_York:20240403T090000
DTSTAMP:20260422T013517
CREATED:20240327T131631Z
LAST-MODIFIED:20240327T131631Z
UID:10001739-1712134800-1712134800@www.uqac.ca
SUMMARY:Soutenance de thèse de Milad Delavaryforoutaghe étudiant au doctorat en biologie
DESCRIPTION:CANDIDAT\nMilad Delavaryforoutaghe \nPROGRAMME\nDoctorat en biologie \nTITRE DE LA THÈSE\nParamedics’ motor vehicle collisions in a metropolitan area of Québec : statistical analysis \nDIRECTION DE RECHERCHE\nMartin Lavallière\, UQAC \nCODIRECTION DE RECHERCHE\nMousa Javidani\, UQAC\n \nJURY D’ÉVALUATION\nHector Ignacio Castellucci\, Université de Valparaiso \nJérôme Prairie\, Université Laval \nPRÉSIDENCE DU JURY\nHélène Sultan-Taïeb\, UQAM \nDIRECTION DE PROGRAMME (OU SON REPRÉSENTANT)\nAnnie Deslauriers\, UQAC
URL:https://www.uqac.ca/calendrier/evenement/soutenance-de-these-de-milad-delavaryforoutaghe-etudiant-au-doctorat-en-biologie/
LOCATION:Local P2-4140
END:VEVENT
BEGIN:VEVENT
DTSTART;TZID=America/New_York:20200327T110000
DTEND;TZID=America/New_York:20200327T120000
DTSTAMP:20260422T013517
CREATED:20200310T122552Z
LAST-MODIFIED:20200310T122552Z
UID:10001193-1585306800-1585310400@www.uqac.ca
SUMMARY:Conférence du CISD : « Les soins de santé dans le Grand Nord : pratique et poéticité »
DESCRIPTION:
URL:https://www.uqac.ca/calendrier/evenement/conference-du-cisd-les-soins-de-sante-dans-le-grand-nord-pratique-et-poeticite/
LOCATION:Local P2-4140
CATEGORIES:Conférences et présentations
END:VEVENT
BEGIN:VEVENT
DTSTART;TZID=America/New_York:20200310T140000
DTEND;TZID=America/New_York:20200310T150000
DTSTAMP:20260422T013517
CREATED:20200302T155751Z
LAST-MODIFIED:20200302T155751Z
UID:10001185-1583848800-1583852400@www.uqac.ca
SUMMARY:Conférence du CISD : « Intelligence artificielle et aide à la décision en santé respiratoire de l’enfant »\, avec Pierre Jouvet
DESCRIPTION:
URL:https://www.uqac.ca/calendrier/evenement/conference-du-cisd-intelligence-artificielle-et-aide-a-la-decision-en-sante-respiratoire-de-lenfant-avec-pierre-jouvet/
LOCATION:Local P2-4140
CATEGORIES:Conférences et présentations
END:VEVENT
BEGIN:VEVENT
DTSTART;TZID=America/New_York:20200310T110000
DTEND;TZID=America/New_York:20200310T123000
DTSTAMP:20260422T013517
CREATED:20200123T133404Z
LAST-MODIFIED:20200123T133404Z
UID:10001169-1583838000-1583843400@www.uqac.ca
SUMMARY:Pierre Lavoie présente le Lab-École
DESCRIPTION:Pierre Lavoie\, cofondateur du Grand défi Pierre Lavoie\, conférencier et athlète présentera l’organisme Lab-École dont il est membre fondateur et vice-président du conseil d’administration.
URL:https://www.uqac.ca/calendrier/evenement/pierre-lavoie-presente-le-lab-ecole/
LOCATION:Local P2-4140
CATEGORIES:Conférences et présentations
END:VEVENT
BEGIN:VEVENT
DTSTART;TZID=America/New_York:20200228T120000
DTEND;TZID=America/New_York:20200228T130000
DTSTAMP:20260422T013517
CREATED:20200226T132819Z
LAST-MODIFIED:20200226T132819Z
UID:10001183-1582891200-1582894800@www.uqac.ca
SUMMARY:Midi-conférence du CISD dans le cadre de la Journée Internationale des maladies rares : « Rare\, mais pas banal! »
DESCRIPTION:Entrée libre. Bienvenue à tous.\nVisio-conférence (ZOOM) disponible avec le lien suivant: https://uqac.zoom.us/j/4140123456
URL:https://www.uqac.ca/calendrier/evenement/midi-conference-du-cisd-dans-le-cadre-de-la-journee-internationale-des-maladies-rares-rare-mais-pas-banal/
LOCATION:Local P2-4140
CATEGORIES:Conférences et présentations
END:VEVENT
BEGIN:VEVENT
DTSTART;TZID=America/New_York:20200214T110000
DTEND;TZID=America/New_York:20200214T120000
DTSTAMP:20260422T013517
CREATED:20200123T204931Z
LAST-MODIFIED:20200123T204931Z
UID:10001171-1581678000-1581681600@www.uqac.ca
SUMMARY:Conférence du CISD : « Les gènes du bonheur »
DESCRIPTION:Simon Girard\, professeur en génétique humaine au département des sciences fondamentales à l’UQAC présente une conférence hors des sentiers battus qui allie la biologie humaine et le bonheur.
URL:https://www.uqac.ca/calendrier/evenement/conference-du-cisd-les-genes-du-bonheur/
LOCATION:Local P2-4140
CATEGORIES:Conférences et présentations
END:VEVENT
BEGIN:VEVENT
DTSTART;TZID=America/New_York:20191009T090000
DTEND;TZID=America/New_York:20191009T090000
DTSTAMP:20260422T013517
CREATED:20191004T144125Z
LAST-MODIFIED:20191004T144125Z
UID:10001126-1570611600-1570611600@www.uqac.ca
SUMMARY:Soutenance de thèse d'Ismail Albaidhani\, étudiant au doctorat en management de projets
DESCRIPTION:« Project Relationship to Innovation and its Impact when Project Meets Innovation: Creating New Value while Delivering Sustainable Results »
URL:https://www.uqac.ca/calendrier/evenement/soutenance-de-these-dismail-albaidhani-etudiant-au-doctorat-en-management-de-projets/
LOCATION:Local P2-4140
CATEGORIES:Enseignement, recherche et formation
END:VEVENT
BEGIN:VEVENT
DTSTART;TZID=America/New_York:20191002T090000
DTEND;TZID=America/New_York:20191002T090000
DTSTAMP:20260422T013517
CREATED:20190919T125618Z
LAST-MODIFIED:20190919T125618Z
UID:10001114-1570006800-1570006800@www.uqac.ca
SUMMARY:Soutenance de thèse • Maxence Martin\, étudiant au doctorat en biologie
DESCRIPTION:« Typologie\, dynamique et valeur de conservation des vieilles forêts boréales en territoire aménagé »
URL:https://www.uqac.ca/calendrier/evenement/soutenance-de-these-maxence-martin-etudiant-au-doctorat-en-biologie/
LOCATION:Local P2-4140
CATEGORIES:Enseignement, recherche et formation
END:VEVENT
BEGIN:VEVENT
DTSTART;TZID=America/New_York:20190925T100000
DTEND;TZID=America/New_York:20190925T100000
DTSTAMP:20260422T013517
CREATED:20190918T135230Z
LAST-MODIFIED:20190918T135241Z
UID:10001113-1569405600-1569405600@www.uqac.ca
SUMMARY:Soutenance de thèse  •  Redouane Farid\, étudiant au doctorat en ingénierie
DESCRIPTION:Development of Mechanically Durable Ecologic and Corrosion Resistance Non-Chromate Coatings for Aluminum
URL:https://www.uqac.ca/calendrier/evenement/soutenance-de-these-redouane-farid-etudiant-au-doctorat-en-ingenierie/
LOCATION:Local P2-4140
CATEGORIES:Enseignement, recherche et formation
END:VEVENT
BEGIN:VEVENT
DTSTART;TZID=America/New_York:20190326T090000
DTEND;TZID=America/New_York:20190326T120000
DTSTAMP:20260422T013517
CREATED:20190315T155649Z
LAST-MODIFIED:20190315T155656Z
UID:10001024-1553590800-1553601600@www.uqac.ca
SUMMARY:Soutenance de thèse de Lionel Navarro\, étudiant au doctorat en biologie
DESCRIPTION:Dynamique récente et holocène des épidémies de la tordeuse des bourgeons de l’épinette en forêt boréale
URL:https://www.uqac.ca/calendrier/evenement/soutenance-de-these-de-lionel-navarro-etudiant-au-doctorat-en-biologie/
LOCATION:Local P2-4140
CATEGORIES:Enseignement, recherche et formation
END:VEVENT
BEGIN:VEVENT
DTSTART;TZID=America/New_York:20181217T090000
DTEND;TZID=America/New_York:20181217T120000
DTSTAMP:20260422T013517
CREATED:20181207T153518Z
LAST-MODIFIED:20181207T154103Z
UID:10000983-1545037200-1545048000@www.uqac.ca
SUMMARY:Soutenance de thèse de Jianguo Hao\, étudiant au doctorat en sciences et technologies de l'information
DESCRIPTION:Soutenance de thèse de Jianguo Hao\, étudiant au doctorat en sciences et technologies de l’information : \n« Activity Recognition by Graphical Models Based on Formal Concept Analysis in Sensor-Based Smart Environments » \n 
URL:https://www.uqac.ca/calendrier/evenement/soutenance-de-these-de-jianguo-hao-etudiant-au-doctorat-en-sciences-et-technologies-de-linformation/
LOCATION:Local P2-4140
CATEGORIES:Enseignement, recherche et formation
END:VEVENT
BEGIN:VEVENT
DTSTART;TZID=America/New_York:20181210T090000
DTEND;TZID=America/New_York:20181210T120000
DTSTAMP:20260422T013517
CREATED:20181206T144959Z
LAST-MODIFIED:20181206T145058Z
UID:10000981-1544432400-1544443200@www.uqac.ca
SUMMARY:Soutenance de thèse | Lucie Vanalderweireldt
DESCRIPTION:« Le retour du bar rayé dans l’estuaire du Saint-Laurent : caractérisation des habitats essentiels des larves et des juvéniles »
URL:https://www.uqac.ca/calendrier/evenement/soutenance-de-these-lucie-vanalderweireldt/
LOCATION:Local P2-4140
CATEGORIES:Enseignement, recherche et formation
END:VEVENT
BEGIN:VEVENT
DTSTART;TZID=America/New_York:20181205T090000
DTEND;TZID=America/New_York:20181205T120000
DTSTAMP:20260422T013517
CREATED:20181126T145129Z
LAST-MODIFIED:20181126T145129Z
UID:10000977-1544000400-1544011200@www.uqac.ca
SUMMARY:Soutenance de thèse  |  Shahriyar Heidarzadeh
DESCRIPTION:
URL:https://www.uqac.ca/calendrier/evenement/soutenance-de-these-shahriyar-heidarzadeh/
LOCATION:Local P2-4140
CATEGORIES:Enseignement, recherche et formation
END:VEVENT
BEGIN:VEVENT
DTSTART;TZID=America/New_York:20181130T083000
DTEND;TZID=America/New_York:20181130T133000
DTSTAMP:20260422T013517
CREATED:20181126T151709Z
LAST-MODIFIED:20181126T151709Z
UID:10000980-1543566600-1543584600@www.uqac.ca
SUMMARY:Atelier de rédaction et de présentation de communication scientifique
DESCRIPTION:Renseignements : \nimen_latrous@uqac.ca \n418 545-5011\, poste 4451 \nBureau H6-1200
URL:https://www.uqac.ca/calendrier/evenement/atelier-de-redaction-et-de-presentation-de-communication-scientifique/
LOCATION:Local P2-4140
CATEGORIES:Enseignement, recherche et formation
END:VEVENT
END:VCALENDAR