BEGIN:VCALENDAR
VERSION:2.0
PRODID:-//Calendrier des événements - ECPv6.15.17//NONSGML v1.0//EN
CALSCALE:GREGORIAN
METHOD:PUBLISH
X-ORIGINAL-URL:https://www.uqac.ca/calendrier
X-WR-CALDESC:Évènements pour Calendrier des événements
REFRESH-INTERVAL;VALUE=DURATION:PT1H
X-Robots-Tag:noindex
X-PUBLISHED-TTL:PT1H
BEGIN:VTIMEZONE
TZID:America/New_York
BEGIN:DAYLIGHT
TZOFFSETFROM:-0500
TZOFFSETTO:-0400
TZNAME:EDT
DTSTART:20170312T070000
END:DAYLIGHT
BEGIN:STANDARD
TZOFFSETFROM:-0400
TZOFFSETTO:-0500
TZNAME:EST
DTSTART:20171105T060000
END:STANDARD
BEGIN:DAYLIGHT
TZOFFSETFROM:-0500
TZOFFSETTO:-0400
TZNAME:EDT
DTSTART:20180311T070000
END:DAYLIGHT
BEGIN:STANDARD
TZOFFSETFROM:-0400
TZOFFSETTO:-0500
TZNAME:EST
DTSTART:20181104T060000
END:STANDARD
BEGIN:DAYLIGHT
TZOFFSETFROM:-0500
TZOFFSETTO:-0400
TZNAME:EDT
DTSTART:20190310T070000
END:DAYLIGHT
BEGIN:STANDARD
TZOFFSETFROM:-0400
TZOFFSETTO:-0500
TZNAME:EST
DTSTART:20191103T060000
END:STANDARD
BEGIN:DAYLIGHT
TZOFFSETFROM:-0500
TZOFFSETTO:-0400
TZNAME:EDT
DTSTART:20200308T070000
END:DAYLIGHT
BEGIN:STANDARD
TZOFFSETFROM:-0400
TZOFFSETTO:-0500
TZNAME:EST
DTSTART:20201101T060000
END:STANDARD
BEGIN:DAYLIGHT
TZOFFSETFROM:-0500
TZOFFSETTO:-0400
TZNAME:EDT
DTSTART:20210314T070000
END:DAYLIGHT
BEGIN:STANDARD
TZOFFSETFROM:-0400
TZOFFSETTO:-0500
TZNAME:EST
DTSTART:20211107T060000
END:STANDARD
BEGIN:DAYLIGHT
TZOFFSETFROM:-0500
TZOFFSETTO:-0400
TZNAME:EDT
DTSTART:20220313T070000
END:DAYLIGHT
BEGIN:STANDARD
TZOFFSETFROM:-0400
TZOFFSETTO:-0500
TZNAME:EST
DTSTART:20221106T060000
END:STANDARD
BEGIN:DAYLIGHT
TZOFFSETFROM:-0500
TZOFFSETTO:-0400
TZNAME:EDT
DTSTART:20230312T070000
END:DAYLIGHT
BEGIN:STANDARD
TZOFFSETFROM:-0400
TZOFFSETTO:-0500
TZNAME:EST
DTSTART:20231105T060000
END:STANDARD
END:VTIMEZONE
BEGIN:VEVENT
DTSTART;TZID=America/New_York:20220923T070000
DTEND;TZID=America/New_York:20220923T080000
DTSTAMP:20260421T072206
CREATED:20220914T153511Z
LAST-MODIFIED:20220919T124610Z
UID:10001437-1663916400-1663920000@www.uqac.ca
SUMMARY:Camp de sélection des Inuk · Athlétisme (lancer du poids)
DESCRIPTION:
URL:https://www.uqac.ca/calendrier/evenement/camp-de-selection-des-inuk-athletisme-lancer-du-poids-2022-09-23/
LOCATION:Pavillon sportif
CATEGORIES:Sports
END:VEVENT
BEGIN:VEVENT
DTSTART;TZID=America/New_York:20220921T070000
DTEND;TZID=America/New_York:20220921T080000
DTSTAMP:20260421T072206
CREATED:20220914T153511Z
LAST-MODIFIED:20220919T124608Z
UID:10001436-1663743600-1663747200@www.uqac.ca
SUMMARY:Camp de sélection des Inuk · Athlétisme (lancer du poids)
DESCRIPTION:
URL:https://www.uqac.ca/calendrier/evenement/camp-de-selection-des-inuk-athletisme-lancer-du-poids-2022-09-21/
LOCATION:Pavillon sportif
CATEGORIES:Sports
END:VEVENT
BEGIN:VEVENT
DTSTART;TZID=America/New_York:20220919T070000
DTEND;TZID=America/New_York:20220919T080000
DTSTAMP:20260421T072206
CREATED:20220914T153511Z
LAST-MODIFIED:20220919T124607Z
UID:10001435-1663570800-1663574400@www.uqac.ca
SUMMARY:Camp de sélection des Inuk · Athlétisme (lancer du poids)
DESCRIPTION:
URL:https://www.uqac.ca/calendrier/evenement/camp-de-selection-des-inuk-athletisme-lancer-du-poids/
LOCATION:Pavillon sportif
CATEGORIES:Sports
END:VEVENT
BEGIN:VEVENT
DTSTART;TZID=America/New_York:20200221T190000
DTEND;TZID=America/New_York:20200222T190000
DTSTAMP:20260421T072206
CREATED:20200214T142723Z
LAST-MODIFIED:20200214T142723Z
UID:10001178-1582311600-1582398000@www.uqac.ca
SUMMARY:Tournoi de volleyball universitaire féminin (2e division)
DESCRIPTION:21 et 22 février 2020  |  Pavillon sportif de l’UQAC \nAssistez au dernier tournoi de la saison avant le championnat provincial ! \n21 FÉV @19:00  |  UQAC VS ETS \n21 FÉV @21:00  |  UQTR VS UQO \n22 FÉV @10:30  |  ETS VS UQO \n22 FÉV @12:30  |  UQTR VS UQAC \n22 FÉV @14:30  |  ETS VS UQTR \n22 FÉV @16:30  |  UQAC VS UQO
URL:https://www.uqac.ca/calendrier/evenement/tournoi-de-volleyball-universitaire-feminin-2e-division-2/
LOCATION:Pavillon sportif
CATEGORIES:Sports
ATTACH;FMTTYPE=image/jpeg:https://www.uqac.ca/calendrier/wp-content/uploads/2020/02/GRAF_FB1200X630VolleyballINUKH20.jpg
ORGANIZER;CN="Sport universitaire - Inuk":MAILTO:inuk@uqac.ca
END:VEVENT
BEGIN:VEVENT
DTSTART;VALUE=DATE:20200220
DTEND;VALUE=DATE:20200221
DTSTAMP:20260421T072206
CREATED:20200121T204249Z
LAST-MODIFIED:20200121T204249Z
UID:10001154-1582156800-1582243199@www.uqac.ca
SUMMARY:Maradon des INUK - 8e édition  |  « Avec les Saguenéens »
DESCRIPTION:
URL:https://www.uqac.ca/calendrier/evenement/maradon-des-inuk-8e-edition-avec-les-sagueneens/
LOCATION:Pavillon sportif
CATEGORIES:Sports
ATTACH;FMTTYPE=image/jpeg:https://www.uqac.ca/calendrier/wp-content/uploads/2020/01/PUBtv_Maradon2020-01.jpg
ORGANIZER;CN="Sport universitaire - Inuk":MAILTO:inuk@uqac.ca
END:VEVENT
BEGIN:VEVENT
DTSTART;TZID=America/New_York:20191031T100000
DTEND;TZID=America/New_York:20191031T120000
DTSTAMP:20260421T072206
CREATED:20191022T134938Z
LAST-MODIFIED:20191022T134948Z
UID:10000998-1572516000-1572523200@www.uqac.ca
SUMMARY:Camps de sélection des Inuk 2019-2020 • Athlétisme (lancer)
DESCRIPTION:
URL:https://www.uqac.ca/calendrier/evenement/camps-de-selection-des-inuk-2019-2020-athletisme-lancer/
LOCATION:Pavillon sportif
CATEGORIES:Sports
END:VEVENT
BEGIN:VEVENT
DTSTART;TZID=America/New_York:20191024T060000
DTEND;TZID=America/New_York:20191024T120000
DTSTAMP:20260421T072206
CREATED:20191022T134830Z
LAST-MODIFIED:20191022T134849Z
UID:10001143-1571896800-1571918400@www.uqac.ca
SUMMARY:Camps de sélection des Inuk 2019-2020  •  Athlétisme (sprint et saut)
DESCRIPTION:
URL:https://www.uqac.ca/calendrier/evenement/camps-de-selection-des-inuk-2019-2020-athletisme-sprint-et-saut/
LOCATION:Pavillon sportif
CATEGORIES:Sports
END:VEVENT
BEGIN:VEVENT
DTSTART;TZID=America/New_York:20191017T083000
DTEND;TZID=America/New_York:20191017T153000
DTSTAMP:20260421T072206
CREATED:20191015T122444Z
LAST-MODIFIED:20191015T122557Z
UID:10001128-1571301000-1571326200@www.uqac.ca
SUMMARY:Événement Éducation Formation du Saguenay Zig Zag
DESCRIPTION:
URL:https://www.uqac.ca/calendrier/evenement/evenement-education-formation-du-saguenay-zig-zag/2019-10-17/
LOCATION:Pavillon sportif
CATEGORIES:Colloques et congrès,Enseignement, recherche et formation
END:VEVENT
BEGIN:VEVENT
DTSTART;VALUE=DATE:20190928
DTEND;VALUE=DATE:20190930
DTSTAMP:20260421T072206
CREATED:20190927T150109Z
LAST-MODIFIED:20190927T150242Z
UID:10001124-1569628800-1569801599@www.uqac.ca
SUMMARY:Tournoi de volleyball Inuk 2019-2020
DESCRIPTION:Au profit du sport universitaire de l’UQAC \nRenseignements : luc_gaudreault_martel@hotmail.com
URL:https://www.uqac.ca/calendrier/evenement/tournoi-de-volleyball-inuk-2019-2020/
LOCATION:Pavillon sportif
CATEGORIES:Rencontres et événements festifs,Sports
END:VEVENT
BEGIN:VEVENT
DTSTART;TZID=America/New_York:20190830T060000
DTEND;TZID=America/New_York:20190830T060000
DTSTAMP:20260421T072206
CREATED:20190820T155432Z
LAST-MODIFIED:20190820T155535Z
UID:10001084-1567144800-1567144800@www.uqac.ca
SUMMARY:Camp de sélection des Inuk  •  Saison 2019-2020  |  Cross-country
DESCRIPTION:
URL:https://www.uqac.ca/calendrier/evenement/camp-de-selection-des-inuk-%e2%80%a2-saison-2019-2020-cross-country/2019-08-30/
LOCATION:Pavillon sportif
CATEGORIES:Sports
ORGANIZER;CN="Sport universitaire - Inuk":MAILTO:inuk@uqac.ca
END:VEVENT
BEGIN:VEVENT
DTSTART;TZID=America/New_York:20190829T160000
DTEND;TZID=America/New_York:20190829T160000
DTSTAMP:20260421T072206
CREATED:20190820T155701Z
LAST-MODIFIED:20190820T155701Z
UID:10001087-1567094400-1567094400@www.uqac.ca
SUMMARY:Camp de sélection des Inuk  •  Saison 2019-2020  |  Volleyball féminin
DESCRIPTION:
URL:https://www.uqac.ca/calendrier/evenement/camp-de-selection-des-inuk-%e2%80%a2-saison-2019-2020-volleyball-feminin/2019-08-29/
LOCATION:Pavillon sportif
CATEGORIES:Sports
ORGANIZER;CN="Sport universitaire - Inuk":MAILTO:inuk@uqac.ca
END:VEVENT
BEGIN:VEVENT
DTSTART;VALUE=DATE:20190221
DTEND;VALUE=DATE:20190222
DTSTAMP:20260421T072206
CREATED:20190115T145742Z
LAST-MODIFIED:20190115T145742Z
UID:10000902-1550707200-1550793599@www.uqac.ca
SUMMARY:Maradon des INUK - 7e édition  |  « La course en blanc »
DESCRIPTION:
URL:https://www.uqac.ca/calendrier/evenement/maradon-des-inuk-7e-edition-la-course-en-blanc/
LOCATION:Pavillon sportif
CATEGORIES:Rencontres et événements festifs,Sports
END:VEVENT
BEGIN:VEVENT
DTSTART;VALUE=DATE:20181019
DTEND;VALUE=DATE:20181021
DTSTAMP:20260421T072206
CREATED:20181011T181604Z
LAST-MODIFIED:20181011T181657Z
UID:10000951-1539907200-1540079999@www.uqac.ca
SUMMARY:Tournoi de volleyball universitaire féminin (2e division)
DESCRIPTION:Encouragez vos Inuk en assistant au premier tournoi de la saison! \n19 OCT @19:00  |  UQAC VS UQTR\n19 OCT @21:00  |  UQAR VS UQO\n20 OCT @10:30  |  UQAC VS UQO\n20 OCT @12:30  |  UQTR VS UQAR\n20 OCT @14:30  |  UQO VS UQTR\n20 OCT @16:30  |  UQAC VS UQAR
URL:https://www.uqac.ca/calendrier/evenement/tournoi-de-volleyball-universitaire-feminin-2e-division/
LOCATION:Pavillon sportif
CATEGORIES:Sports
END:VEVENT
END:VCALENDAR