BEGIN:VCALENDAR
VERSION:2.0
PRODID:-//Calendrier des événements - ECPv6.15.17//NONSGML v1.0//EN
CALSCALE:GREGORIAN
METHOD:PUBLISH
X-ORIGINAL-URL:https://www.uqac.ca/calendrier
X-WR-CALDESC:Évènements pour Calendrier des événements
REFRESH-INTERVAL;VALUE=DURATION:PT1H
X-Robots-Tag:noindex
X-PUBLISHED-TTL:PT1H
BEGIN:VTIMEZONE
TZID:America/New_York
BEGIN:DAYLIGHT
TZOFFSETFROM:-0500
TZOFFSETTO:-0400
TZNAME:EDT
DTSTART:20240310T070000
END:DAYLIGHT
BEGIN:STANDARD
TZOFFSETFROM:-0400
TZOFFSETTO:-0500
TZNAME:EST
DTSTART:20241103T060000
END:STANDARD
BEGIN:DAYLIGHT
TZOFFSETFROM:-0500
TZOFFSETTO:-0400
TZNAME:EDT
DTSTART:20250309T070000
END:DAYLIGHT
BEGIN:STANDARD
TZOFFSETFROM:-0400
TZOFFSETTO:-0500
TZNAME:EST
DTSTART:20251102T060000
END:STANDARD
BEGIN:DAYLIGHT
TZOFFSETFROM:-0500
TZOFFSETTO:-0400
TZNAME:EDT
DTSTART:20260308T070000
END:DAYLIGHT
BEGIN:STANDARD
TZOFFSETFROM:-0400
TZOFFSETTO:-0500
TZNAME:EST
DTSTART:20261101T060000
END:STANDARD
BEGIN:DAYLIGHT
TZOFFSETFROM:-0500
TZOFFSETTO:-0400
TZNAME:EDT
DTSTART:20270314T070000
END:DAYLIGHT
BEGIN:STANDARD
TZOFFSETFROM:-0400
TZOFFSETTO:-0500
TZNAME:EST
DTSTART:20271107T060000
END:STANDARD
END:VTIMEZONE
BEGIN:VEVENT
DTSTART;TZID=America/New_York:20260312T160000
DTEND;TZID=America/New_York:20260312T160000
DTSTAMP:20260425T090300
CREATED:20260302T132122Z
LAST-MODIFIED:20260302T132122Z
UID:10002853-1773331200-1773331200@www.uqac.ca
SUMMARY:Rencontre ouverte du Comité vert
DESCRIPTION:Le Comité vert de l’UQAC a le plaisir de vous inviter à une rencontre ouverte qui aura lieu le jeudi 12 mars à 16 h\, au local P0-7000\, tout près des bureaux du MAGE au centre social.\nQue vous soyez simplement curieux ou curieuses\, que vous souhaitiez en apprendre davantage ou que vous ayez envie de vous impliquer dans des projets en développement durable\, cette rencontre est pour vous ! Ce sera un beau moment pour échanger des idées et faire connaissance. \nAu programme : \n\nL’optimisation de la forêt nourricière de l’UQAC;\n Une activité de plantation de semis;\nDéveloppement de nouveaux projets selon vos intérêts et vos idées.\n\nNous espérons vous voir en grand nombre et avons très hâte de vous rencontrer ! \nÀ bientôt\,\nComité vert UQAC
URL:https://www.uqac.ca/calendrier/evenement/rencontre-ouverte-du-comite-vert/
LOCATION:Salle P0-7000
CATEGORIES:Vie étudiante
END:VEVENT
BEGIN:VEVENT
DTSTART;TZID=America/New_York:20260218T111500
DTEND;TZID=America/New_York:20260218T121500
DTSTAMP:20260425T090300
CREATED:20260119T192119Z
LAST-MODIFIED:20260213T190417Z
UID:10002820-1771413300-1771416900@www.uqac.ca
SUMMARY:Panel du Carrefour : Entre exigences académiques et réalités étudiantes (regards croisés sur les défis contemporains)
DESCRIPTION:Le Carrefour de l’enseignement et de l’apprentissage vous invite à assister à ce panel : une opportunité idéale pour échanger avec des collègues\, découvrir des approches inspirantes et réfléchir à des moyens d’adapter ces pratiques à l’enseignement \n  Avec : \n· Sindy Duval\, chargée de cours (DSEA) \n· Kevin Bouchard\, professeur (DIM) \n· Vicky Gauthier\, chargée de cours (DALL) \n· Ève Simard\, conseillère (SAE)
URL:https://www.uqac.ca/calendrier/evenement/entre-exigences-academiques-et-realites-etudiantes-regards-croises-sur-les-defis-contemporains/
LOCATION:Salle P0-7000
CATEGORIES:Conférences et présentations
END:VEVENT
BEGIN:VEVENT
DTSTART;TZID=America/New_York:20251127T111500
DTEND;TZID=America/New_York:20251127T121500
DTSTAMP:20260425T090300
CREATED:20251114T165921Z
LAST-MODIFIED:20251114T165921Z
UID:10002751-1764242100-1764245700@www.uqac.ca
SUMMARY:Panel de discussion: L'examen oral en contexte universitaire
DESCRIPTION:Le Comité d’animation pédagogique du Carrefour de l’enseignement et de l’apprentissage de l’UQAC organise un panel de discussion sur l’évaluation orale en contexte universitaire. Animé par Éric Noël\, ce rendez-vous réunira trois personnes enseignantes : Paul Bédard (sciences appliquées)\, Kim Godcher (sciences de l’éducation) et Jessica Bérubé (informatique et mathématique). L’objectif est d’explorer les enjeux\, les méthodes et les défis liés à cette forme d’évaluation\, tout en partageant des retours d’expérience concrets et des pistes d’innovation.
URL:https://www.uqac.ca/calendrier/evenement/panel-de-discussion-lexamen-oral-en-contexte-universitaire/
LOCATION:Salle P0-7000
CATEGORIES:Conférences et présentations
END:VEVENT
END:VCALENDAR