BEGIN:VCALENDAR
VERSION:2.0
PRODID:-//Calendrier des événements - ECPv6.15.17//NONSGML v1.0//EN
CALSCALE:GREGORIAN
METHOD:PUBLISH
X-ORIGINAL-URL:https://www.uqac.ca/calendrier
X-WR-CALDESC:Évènements pour Calendrier des événements
REFRESH-INTERVAL;VALUE=DURATION:PT1H
X-Robots-Tag:noindex
X-PUBLISHED-TTL:PT1H
BEGIN:VTIMEZONE
TZID:America/New_York
BEGIN:DAYLIGHT
TZOFFSETFROM:-0500
TZOFFSETTO:-0400
TZNAME:EDT
DTSTART:20240310T070000
END:DAYLIGHT
BEGIN:STANDARD
TZOFFSETFROM:-0400
TZOFFSETTO:-0500
TZNAME:EST
DTSTART:20241103T060000
END:STANDARD
BEGIN:DAYLIGHT
TZOFFSETFROM:-0500
TZOFFSETTO:-0400
TZNAME:EDT
DTSTART:20250309T070000
END:DAYLIGHT
BEGIN:STANDARD
TZOFFSETFROM:-0400
TZOFFSETTO:-0500
TZNAME:EST
DTSTART:20251102T060000
END:STANDARD
BEGIN:DAYLIGHT
TZOFFSETFROM:-0500
TZOFFSETTO:-0400
TZNAME:EDT
DTSTART:20260308T070000
END:DAYLIGHT
BEGIN:STANDARD
TZOFFSETFROM:-0400
TZOFFSETTO:-0500
TZNAME:EST
DTSTART:20261101T060000
END:STANDARD
END:VTIMEZONE
BEGIN:VEVENT
DTSTART;TZID=America/New_York:20251218T100000
DTEND;TZID=America/New_York:20251218T110000
DTSTAMP:20260420T034859
CREATED:20251210T184609Z
LAST-MODIFIED:20251210T184648Z
UID:10002770-1766052000-1766055600@www.uqac.ca
SUMMARY:Pause de Noël du personnel · Campus de Saguenay
DESCRIPTION:Avant de quitter pour les vacances des Fêtes\, le recteur\, Ghislain Samson\, invite les membres du personnel à la traditionnelle pause de Noël.\nPORTEZ VOTRE « GILAID » DE NOËL et courez la chance de gagner un cadeau de la Chocolaterie Samson à déguster en famille! Un jury attribuera le cadeau de la Chocolaterie Samson au détenteur ou à la détentrice du « gilaid » le plus affreusement festif! \nBouchées sucrées\, café et prix de présence seront offerts  \nApportez votre tasse réutilisable
URL:https://www.uqac.ca/calendrier/evenement/pause-de-noel-du-personnel-saguenay/
LOCATION:Salle P0-7500 du Pavillon principal de l’UQAC
CATEGORIES:Rencontres et événements festifs
END:VEVENT
BEGIN:VEVENT
DTSTART;TZID=America/New_York:20251124T150000
DTEND;TZID=America/New_York:20251124T150000
DTSTAMP:20260420T034859
CREATED:20251110T154651Z
LAST-MODIFIED:20251110T154651Z
UID:10002748-1763996400-1763996400@www.uqac.ca
SUMMARY:Rencontre-discussion avec le très honorable Richard Wagner\, C.P.\, Juge en chef du Canada
DESCRIPTION:
URL:https://www.uqac.ca/calendrier/evenement/rencontre-discussion-avec-le-tres-honorable-richard-wagner-c-p-juge-en-chef-du-canada/
LOCATION:Salle P0-7500 du Pavillon principal de l’UQAC
CATEGORIES:Conférences et présentations
END:VEVENT
END:VCALENDAR