BEGIN:VCALENDAR
VERSION:2.0
PRODID:-//Calendrier des événements - ECPv6.15.17//NONSGML v1.0//EN
CALSCALE:GREGORIAN
METHOD:PUBLISH
X-ORIGINAL-URL:https://www.uqac.ca/calendrier
X-WR-CALDESC:Évènements pour Calendrier des événements
REFRESH-INTERVAL;VALUE=DURATION:PT1H
X-Robots-Tag:noindex
X-PUBLISHED-TTL:PT1H
BEGIN:VTIMEZONE
TZID:America/New_York
BEGIN:DAYLIGHT
TZOFFSETFROM:-0500
TZOFFSETTO:-0400
TZNAME:EDT
DTSTART:20240310T070000
END:DAYLIGHT
BEGIN:STANDARD
TZOFFSETFROM:-0400
TZOFFSETTO:-0500
TZNAME:EST
DTSTART:20241103T060000
END:STANDARD
BEGIN:DAYLIGHT
TZOFFSETFROM:-0500
TZOFFSETTO:-0400
TZNAME:EDT
DTSTART:20250309T070000
END:DAYLIGHT
BEGIN:STANDARD
TZOFFSETFROM:-0400
TZOFFSETTO:-0500
TZNAME:EST
DTSTART:20251102T060000
END:STANDARD
BEGIN:DAYLIGHT
TZOFFSETFROM:-0500
TZOFFSETTO:-0400
TZNAME:EDT
DTSTART:20260308T070000
END:DAYLIGHT
BEGIN:STANDARD
TZOFFSETFROM:-0400
TZOFFSETTO:-0500
TZNAME:EST
DTSTART:20261101T060000
END:STANDARD
END:VTIMEZONE
BEGIN:VEVENT
DTSTART;TZID=America/New_York:20251030T110000
DTEND;TZID=America/New_York:20251030T130000
DTSTAMP:20260419T180929
CREATED:20251017T182511Z
LAST-MODIFIED:20251024T155431Z
UID:10002727-1761822000-1761829200@www.uqac.ca
SUMMARY:Activité d'Halloween
DESCRIPTION:Le comité étudiant Halloween UQAC invite la communauté à venir partager un moment festif et amusant. \n📅 Le jeudi 30 octobre 2025 de 11h à 13h\n📍 Centre social du Pavillon principal de l’UQAC \nAu programme :\n🍬 Des jeux et des bonbons à volonté\n🕺 Un grand défilé costumé\n🍽️ Un dîner thématique\n🏆 De nombreux prix à gagner\n🎭 Venez déguisés pour profiter pleinement de la fête ! \nUn concours de décoration de citrouilles avec des prix est aussi en vigueur ! Nous vous demandons de former des équipes d’au moins 2 personnes et d’envoyer vos noms (un courriel par équipe) à Yan Bélanger : ybelanger@etu.uqac.ca. \nLes déguisements qui incluent des armes (couteaux\, fusils\, etc.)\, sous toutes leurs formes\, sont proscrites. La nudité est également strictement interdite.
URL:https://www.uqac.ca/calendrier/evenement/activite-dhalloween/
LOCATION:Centre social du Pavillon principal de l’UQAC\, 555 boul. de l'Université\, Chicoutimi\, Canada
CATEGORIES:Vie étudiante
END:VEVENT
END:VCALENDAR