{"text_format":"1","workbook":"xlsx","n_sheets":8,"sheets":["Instructions","Config","BDC","Form","BD","Tarifs","Listes","IndemnMax"],"not_rendered":{"charts":0,"images":12,"macros":1,"external_links":1,"defined_names":13,"comments":0,"pivot_tables":0},"unopened":[],"bounds":{"document_bytes":16777216,"sheet_cells":100000,"rows_first":2000,"rows_last":500,"rows_between":2000,"halvings":0,"cell_chars":16384,"cell_head_chars":4096},"cells_cut":0,"cells_raw":0,"read":"whole","date_system":"1900"}

{"sheet":"Instructions","index":0,"n_rows":134,"n_cols":7,"rows_kept":134,"cut":false,"hidden":false,"merged":[[3,2,3,3],[123,2,128,6]]}
[]
[]
[null,null,"Instructions - Configurateur -  2023-8154-50-01 : REPERTOIRE TARIFS PREFERENTIELS HOTELIERS"]
[null,null,"MAJ : 2026-01-23"]
[null,null,"Activer le contenu des macros dès l'apparition du message à l'ouverture"]
[]
[]
[]
[]
[]
[]
[]
[null,null,"Si l'onglet « config » ne fonctionne pas, valider que les macros sont activés dans votre fichier Excel. Pour se faire, aller dans « Fichier », « Options », « Centre de gestion de la confidentialité » cliquer sur « Paramêtre du cente de confidentialité »"]
[null,null,"Ensuite, aller dans « Paramètres des macros » et activer le 4e bouton « activer les macros VBA »"]
[null,null,"Ensuite, aller dans « Paramètres ActiveX » et activer le 4e bouton « Activer tous les contrôles sans restriction et sans m'avertir »"]
[]
[]
[]
[]
[]
[]
[]
[]
[]
[]
[]
[]
[]
[]
[]
[]
[]
[]
[]
[]
[]
[]
[]
[]
[null,null,"1 -  Choisir La région, ville et date"]
[]
[]
[]
[]
[]
[]
[]
[]
[]
[]
[]
[]
[null,null,"Après l'affichage de la liste selon votre selection ci-dessus:"]
[]
[null,null,"2 - selectionner votre choix d'hôtel"]
[]
[]
[]
[]
[]
[]
[]
[]
[]
[]
[]
[]
[null,null,"3 - Cliquer sur la période choisie pour la réservation"]
[]
[]
[]
[]
[]
[]
[]
[]
[]
[]
[]
[]
[]
[]
[]
[]
[]
[]
[]
[]
[]
[]
[]
[]
[]
[null,null,"4 - Compléter les zones grisées du bon de commande"]
[null,null," - Générer le PDF"]
[null,null," - Envoi par courriel"]
[]
[]
[]
[]
[]
[]
[]
[]
[]
[]
[]
[]
[]
[]
[]
[]
[]
[]
[]
[]
[]
[]
[]
[]
[]
[null,null,"5 - Formulaire de réservation d'hébergement (Facultatif)"]
[]
[null,null,"L’équipe du répertoire hôtelier CAG vous recommande de compléter le formulaire de réservation d’hébergement gouvernemental afin de confirmer à l’écrit que votre direction autorise le déplacement, confirmer les conditions applicables à votre réservation et fournir tous les détails pertinents à l’hôtelier."]
[]
[]
[]
[]
[]
[null,null,null,null,null,null,"Voir guide PDF au LAC : Guide_de_l'utilisateur_Répertoire hôtelier.pdf"]
[]
[null,null,"Compléter les zones grisées du formulaire de réservation"]
[null,null," - Générer le PDF"]
[null,null," - Envoi par courriel"]

{"sheet":"Config","index":1,"n_rows":73,"n_cols":17,"rows_kept":73,"cut":false,"hidden":false,"merged":[[58,13,59,13],[58,14,59,14],[6,3,6,4],[21,13,23,16],[30,13,31,16],[7,6,7,8],[25,13,26,16]]}
[]
[null,null,"Configurateur",null,null,null,null,null,null,null,null,null,null,null,null,"Indemnité Max autorisée",{"$f":"IFERROR(VLOOKUP(B10&\"_1\",IndemnMax!C:F,4,0),VLOOKUP(\"Autre_1\",IndemnMax!C:F,4,0))","v":106}]
[null,null,"2023-8154-50-01 : REPERTOIRE TARIFS PREFERENTIELS HOTELIERS (Prix année 2026)"]
[]
[null,null,null,null,null,null,null,null,null,null,null,null,null,"Cliquer pour réserver   ==>>","Jour","Semaine","Mois"]
[null,"Région:",null,null,null,null,null,null,null,null,null,null,null,null,{"$f":"VLOOKUP($K$7,$E:$I,3,0)","v":{"$error":"#N/A"}},{"$f":"VLOOKUP($K$7,$E:$I,4,0)","v":{"$error":"#N/A"}},{"$f":"VLOOKUP($K$7,$E:$I,5,0)","v":{"$error":"#N/A"}}]
[null,"Laurentides",null,"Selectionner un hôtel dans la liste",null,null,null,null,null,null,null,6,"Nom de l'établissement",{"$f":"IFERROR(VLOOKUP($K$7,BD!A:BM,Config!L7,0),\"\")","v":""}]
[null,null,null,null,null,null,"Tarifs préférentiels",null,null,null,null,7,"Adresse",{"$f":"IFERROR(VLOOKUP($K$7,BD!A:BM,Config!L8,0),\"\")","v":""}]
[null,"Ville:",null,"Établissement","NoSéq",null,"Jour","Semaine","Mois",null,null,8,"Ville",{"$f":"IFERROR(VLOOKUP($K$7,BD!A:BM,Config!L9,0),\"\")","v":""}]
[null,"MONT-LAURIER",null,{"$f":"_xlfn._xlws.FILTER(_xlfn.CHOOSECOLS(Tableau5[[Numero_Seq]:[NomEtabPortail]],6,1),Tableau5[Ville]=B10,\"\")","v":"HÔTEL SUPER 8 MONT-LAURIER"},"17-0001",null,{"$f":"IFERROR(VLOOKUP((E10&\"-\"&\"101\"),Tarifs!C:G,5,0),\"\")","v":152},{"$f":"IFERROR(VLOOKUP((E10&\"-\"&\"201\"),Tarifs!C:G,5,0),\"\")","v":1064},{"$f":"IFERROR(VLOOKUP((E10&\"-\"&\"301\"),Tarifs!C:G,5,0),\"\")","v":4560},null,null,9,"Code postal",{"$f":"IFERROR(VLOOKUP($K$7,BD!A:BM,Config!L10,0),\"\")","v":""}]
[null,null,null,"HÔTEL QUALITY INN MONT-LAURIER","97-0431",null,{"$f":"IFERROR(VLOOKUP((E11&\"-\"&\"101\"),Tarifs!C:G,5,0),\"\")","v":140},{"$f":"IFERROR(VLOOKUP((E11&\"-\"&\"201\"),Tarifs!C:G,5,0),\"\")","v":980},{"$f":"IFERROR(VLOOKUP((E11&\"-\"&\"301\"),Tarifs!C:G,5,0),\"\")","v":4200},null,null,10,"Téléphone",{"$f":"IFERROR(VLOOKUP($K$7,BD!A:BM,Config!L11,0),\"\")","v":""}]
[null,"Date: (aaaa-mm-jj)",null,null,null,null,{"$f":"IFERROR(VLOOKUP((E12&\"-\"&\"101\"),Tarifs!C:G,5,0),\"\")","v":""},{"$f":"IFERROR(VLOOKUP((E12&\"-\"&\"201\"),Tarifs!C:G,5,0),\"\")","v":""},{"$f":"IFERROR(VLOOKUP((E12&\"-\"&\"301\"),Tarifs!C:G,5,0),\"\")","v":""},null,null,23,"Téléphone sans frais",{"$f":"IFERROR(VLOOKUP($K$7,BD!A:BM,Config!L12,0),\"\")","v":""}]
[null,"2026-01-15",null,null,null,null,{"$f":"IFERROR(VLOOKUP((E13&\"-\"&\"101\"),Tarifs!C:G,5,0),\"\")","v":""},{"$f":"IFERROR(VLOOKUP((E13&\"-\"&\"201\"),Tarifs!C:G,5,0),\"\")","v":""},{"$f":"IFERROR(VLOOKUP((E13&\"-\"&\"301\"),Tarifs!C:G,5,0),\"\")","v":""},null,null,31,"Site web",{"$f":"IFERROR(VLOOKUP($K$7,BD!A:BM,Config!L13,0),\"\")","v":""}]
[null,null,null,null,null,null,{"$f":"IFERROR(VLOOKUP((E14&\"-\"&\"101\"),Tarifs!C:G,5,0),\"\")","v":""},{"$f":"IFERROR(VLOOKUP((E14&\"-\"&\"201\"),Tarifs!C:G,5,0),\"\")","v":""},{"$f":"IFERROR(VLOOKUP((E14&\"-\"&\"301\"),Tarifs!C:G,5,0),\"\")","v":""},null,null,59,"Courriel de réservation",{"$f":"IFERROR(VLOOKUP($K$7,BD!A:BM,Config!L14,0),\"\")","v":""}]
[null,null,null,null,null,null,{"$f":"IFERROR(VLOOKUP((E15&\"-\"&\"101\"),Tarifs!C:G,5,0),\"\")","v":""},{"$f":"IFERROR(VLOOKUP((E15&\"-\"&\"201\"),Tarifs!C:G,5,0),\"\")","v":""},{"$f":"IFERROR(VLOOKUP((E15&\"-\"&\"301\"),Tarifs!C:G,5,0),\"\")","v":""},null,null,60,"NoCITQ",{"$f":"IFERROR(VLOOKUP($K$7,BD!A:BM,Config!L15,0),\"\")","v":""}]
[null,null,null,null,null,null,{"$f":"IFERROR(VLOOKUP((E16&\"-\"&\"101\"),Tarifs!C:G,5,0),\"\")","v":""},{"$f":"IFERROR(VLOOKUP((E16&\"-\"&\"201\"),Tarifs!C:G,5,0),\"\")","v":""},{"$f":"IFERROR(VLOOKUP((E16&\"-\"&\"301\"),Tarifs!C:G,5,0),\"\")","v":""},null,null,3,"NoSAGIR",{"$f":"IFERROR(VLOOKUP($K$7,BD!A:BM,Config!L16,0),\"\")","v":""}]
[null,null,null,null,null,null,{"$f":"IFERROR(VLOOKUP((E17&\"-\"&\"101\"),Tarifs!C:G,5,0),\"\")","v":""},{"$f":"IFERROR(VLOOKUP((E17&\"-\"&\"201\"),Tarifs!C:G,5,0),\"\")","v":""},{"$f":"IFERROR(VLOOKUP((E17&\"-\"&\"301\"),Tarifs!C:G,5,0),\"\")","v":""},null,null,12,"Personne ressource:",{"$f":"IFERROR(VLOOKUP($K$7,BD!A:BM,Config!L17,0),\"\")","v":""}]
[null,null,null,null,null,null,{"$f":"IFERROR(VLOOKUP((E18&\"-\"&\"101\"),Tarifs!C:G,5,0),\"\")","v":""},{"$f":"IFERROR(VLOOKUP((E18&\"-\"&\"201\"),Tarifs!C:G,5,0),\"\")","v":""},{"$f":"IFERROR(VLOOKUP((E18&\"-\"&\"301\"),Tarifs!C:G,5,0),\"\")","v":""},null,null,24,"Courriel contact:",{"$f":"IFERROR(VLOOKUP($K$7,BD!A:BM,Config!L18,0),\"\")","v":""}]
[null,null,null,null,null,null,{"$f":"IFERROR(VLOOKUP((E19&\"-\"&\"101\"),Tarifs!C:G,5,0),\"\")","v":""},{"$f":"IFERROR(VLOOKUP((E19&\"-\"&\"201\"),Tarifs!C:G,5,0),\"\")","v":""},{"$f":"IFERROR(VLOOKUP((E19&\"-\"&\"301\"),Tarifs!C:G,5,0),\"\")","v":""},null,null,21,"Téléphone:",{"$f":"IFERROR(VLOOKUP($K$7,BD!A:BM,Config!L19,0),\"\")","v":""}]
[null,null,null,null,null,null,{"$f":"IFERROR(VLOOKUP((E20&\"-\"&\"101\"),Tarifs!C:G,5,0),\"\")","v":""},{"$f":"IFERROR(VLOOKUP((E20&\"-\"&\"201\"),Tarifs!C:G,5,0),\"\")","v":""},{"$f":"IFERROR(VLOOKUP((E20&\"-\"&\"301\"),Tarifs!C:G,5,0),\"\")","v":""},null,null,57,"Poste:",{"$f":"IFERROR(VLOOKUP($K$7,BD!A:BM,Config!L20,0),\"\")","v":""}]
[null,null,null,null,null,null,{"$f":"IFERROR(VLOOKUP((E21&\"-\"&\"101\"),Tarifs!C:G,5,0),\"\")","v":""},{"$f":"IFERROR(VLOOKUP((E21&\"-\"&\"201\"),Tarifs!C:G,5,0),\"\")","v":""},{"$f":"IFERROR(VLOOKUP((E21&\"-\"&\"301\"),Tarifs!C:G,5,0),\"\")","v":""}]
[null,null,null,null,null,null,{"$f":"IFERROR(VLOOKUP((E22&\"-\"&\"101\"),Tarifs!C:G,5,0),\"\")","v":""},{"$f":"IFERROR(VLOOKUP((E22&\"-\"&\"201\"),Tarifs!C:G,5,0),\"\")","v":""},{"$f":"IFERROR(VLOOKUP((E22&\"-\"&\"301\"),Tarifs!C:G,5,0),\"\")","v":""},null,null,13,"Conditions de réservation*:",{"$f":"IFERROR(VLOOKUP($K$7,BD!A:BM,Config!L22,0),\"\")","v":""}]
[null,null,null,null,null,null,{"$f":"IFERROR(VLOOKUP((E23&\"-\"&\"101\"),Tarifs!C:G,5,0),\"\")","v":""},{"$f":"IFERROR(VLOOKUP((E23&\"-\"&\"201\"),Tarifs!C:G,5,0),\"\")","v":""},{"$f":"IFERROR(VLOOKUP((E23&\"-\"&\"301\"),Tarifs!C:G,5,0),\"\")","v":""}]
[null,null,null,null,null,null,{"$f":"IFERROR(VLOOKUP((E24&\"-\"&\"101\"),Tarifs!C:G,5,0),\"\")","v":""},{"$f":"IFERROR(VLOOKUP((E24&\"-\"&\"201\"),Tarifs!C:G,5,0),\"\")","v":""},{"$f":"IFERROR(VLOOKUP((E24&\"-\"&\"301\"),Tarifs!C:G,5,0),\"\")","v":""}]
[null,null,null,null,null,null,{"$f":"IFERROR(VLOOKUP((E25&\"-\"&\"101\"),Tarifs!C:G,5,0),\"\")","v":""},{"$f":"IFERROR(VLOOKUP((E25&\"-\"&\"201\"),Tarifs!C:G,5,0),\"\")","v":""},{"$f":"IFERROR(VLOOKUP((E25&\"-\"&\"301\"),Tarifs!C:G,5,0),\"\")","v":""}]
[null,null,null,null,null,null,{"$f":"IFERROR(VLOOKUP((E26&\"-\"&\"101\"),Tarifs!C:G,5,0),\"\")","v":""},{"$f":"IFERROR(VLOOKUP((E26&\"-\"&\"201\"),Tarifs!C:G,5,0),\"\")","v":""},{"$f":"IFERROR(VLOOKUP((E26&\"-\"&\"301\"),Tarifs!C:G,5,0),\"\")","v":""},null,null,14,"Politique d'annulation*:",{"$f":"IFERROR(VLOOKUP($K$7,BD!A:BM,Config!L26,0),\"\")","v":""}]
[null,null,null,null,null,null,{"$f":"IFERROR(VLOOKUP((E27&\"-\"&\"101\"),Tarifs!C:G,5,0),\"\")","v":""},{"$f":"IFERROR(VLOOKUP((E27&\"-\"&\"201\"),Tarifs!C:G,5,0),\"\")","v":""},{"$f":"IFERROR(VLOOKUP((E27&\"-\"&\"301\"),Tarifs!C:G,5,0),\"\")","v":""}]
[null,null,null,null,null,null,{"$f":"IFERROR(VLOOKUP((E28&\"-\"&\"101\"),Tarifs!C:G,5,0),\"\")","v":""},{"$f":"IFERROR(VLOOKUP((E28&\"-\"&\"201\"),Tarifs!C:G,5,0),\"\")","v":""},{"$f":"IFERROR(VLOOKUP((E28&\"-\"&\"301\"),Tarifs!C:G,5,0),\"\")","v":""}]
[null,null,null,null,null,null,{"$f":"IFERROR(VLOOKUP((E29&\"-\"&\"101\"),Tarifs!C:G,5,0),\"\")","v":""},{"$f":"IFERROR(VLOOKUP((E29&\"-\"&\"201\"),Tarifs!C:G,5,0),\"\")","v":""},{"$f":"IFERROR(VLOOKUP((E29&\"-\"&\"301\"),Tarifs!C:G,5,0),\"\")","v":""},null,null,18,"Nombre de salles:",{"$f":"IFERROR(VLOOKUP($K$7,BD!A:BM,Config!L29,0),\"\")","v":""}]
[null,null,null,null,null,null,{"$f":"IFERROR(VLOOKUP((E30&\"-\"&\"101\"),Tarifs!C:G,5,0),\"\")","v":""},{"$f":"IFERROR(VLOOKUP((E30&\"-\"&\"201\"),Tarifs!C:G,5,0),\"\")","v":""},{"$f":"IFERROR(VLOOKUP((E30&\"-\"&\"301\"),Tarifs!C:G,5,0),\"\")","v":""}]
[null,null,null,null,null,null,{"$f":"IFERROR(VLOOKUP((E31&\"-\"&\"101\"),Tarifs!C:G,5,0),\"\")","v":""},{"$f":"IFERROR(VLOOKUP((E31&\"-\"&\"201\"),Tarifs!C:G,5,0),\"\")","v":""},{"$f":"IFERROR(VLOOKUP((E31&\"-\"&\"301\"),Tarifs!C:G,5,0),\"\")","v":""},null,null,63,"Dates exclues 2026:",{"$f":"IFERROR(VLOOKUP($K$7,BD!A:BM,Config!L31,0),\"\")","v":""}]
[null,null,null,null,null,null,{"$f":"IFERROR(VLOOKUP((E32&\"-\"&\"101\"),Tarifs!C:G,5,0),\"\")","v":""},{"$f":"IFERROR(VLOOKUP((E32&\"-\"&\"201\"),Tarifs!C:G,5,0),\"\")","v":""},{"$f":"IFERROR(VLOOKUP((E32&\"-\"&\"301\"),Tarifs!C:G,5,0),\"\")","v":""}]
[null,null,null,null,null,null,{"$f":"IFERROR(VLOOKUP((E33&\"-\"&\"101\"),Tarifs!C:G,5,0),\"\")","v":""},{"$f":"IFERROR(VLOOKUP((E33&\"-\"&\"201\"),Tarifs!C:G,5,0),\"\")","v":""},{"$f":"IFERROR(VLOOKUP((E33&\"-\"&\"301\"),Tarifs!C:G,5,0),\"\")","v":""}]
[null,null,null,null,null,null,{"$f":"IFERROR(VLOOKUP((E34&\"-\"&\"101\"),Tarifs!C:G,5,0),\"\")","v":""},{"$f":"IFERROR(VLOOKUP((E34&\"-\"&\"201\"),Tarifs!C:G,5,0),\"\")","v":""},{"$f":"IFERROR(VLOOKUP((E34&\"-\"&\"301\"),Tarifs!C:G,5,0),\"\")","v":""},null,null,15,"Nombre de chambres:",{"$f":"IFERROR(VLOOKUP($K$7,BD!A:BM,Config!L34,0),\"\")","v":""}]
[null,null,null,null,null,null,{"$f":"IFERROR(VLOOKUP((E35&\"-\"&\"101\"),Tarifs!C:G,5,0),\"\")","v":""},{"$f":"IFERROR(VLOOKUP((E35&\"-\"&\"201\"),Tarifs!C:G,5,0),\"\")","v":""},{"$f":"IFERROR(VLOOKUP((E35&\"-\"&\"301\"),Tarifs!C:G,5,0),\"\")","v":""},null,null,30,"Nombre de studios:",{"$f":"IFERROR(VLOOKUP($K$7,BD!A:BM,Config!L35,0),\"\")","v":""}]
[null,null,null,null,null,null,{"$f":"IFERROR(VLOOKUP((E36&\"-\"&\"101\"),Tarifs!C:G,5,0),\"\")","v":""},{"$f":"IFERROR(VLOOKUP((E36&\"-\"&\"201\"),Tarifs!C:G,5,0),\"\")","v":""},{"$f":"IFERROR(VLOOKUP((E36&\"-\"&\"301\"),Tarifs!C:G,5,0),\"\")","v":""}]
[null,null,null,null,null,null,{"$f":"IFERROR(VLOOKUP((E37&\"-\"&\"101\"),Tarifs!C:G,5,0),\"\")","v":""},{"$f":"IFERROR(VLOOKUP((E37&\"-\"&\"201\"),Tarifs!C:G,5,0),\"\")","v":""},{"$f":"IFERROR(VLOOKUP((E37&\"-\"&\"301\"),Tarifs!C:G,5,0),\"\")","v":""},null,null,null,"Stationnement:"]
[null,null,null,null,null,null,{"$f":"IFERROR(VLOOKUP((E38&\"-\"&\"101\"),Tarifs!C:G,5,0),\"\")","v":""},{"$f":"IFERROR(VLOOKUP((E38&\"-\"&\"201\"),Tarifs!C:G,5,0),\"\")","v":""},{"$f":"IFERROR(VLOOKUP((E38&\"-\"&\"301\"),Tarifs!C:G,5,0),\"\")","v":""},null,null,40,null,"Intérieur",{"$f":"IFERROR(VLOOKUP($K$7,BD!$A:$BM,L38,0),\"\")","v":""}]
[null,null,null,null,null,null,{"$f":"IFERROR(VLOOKUP((E39&\"-\"&\"101\"),Tarifs!C:G,5,0),\"\")","v":""},{"$f":"IFERROR(VLOOKUP((E39&\"-\"&\"201\"),Tarifs!C:G,5,0),\"\")","v":""},{"$f":"IFERROR(VLOOKUP((E39&\"-\"&\"301\"),Tarifs!C:G,5,0),\"\")","v":""},null,null,42,null,"Gratuit",{"$f":"IFERROR(VLOOKUP($K$7,BD!$A:$BM,L39,0),\"\")","v":""}]
[null,null,null,null,null,null,{"$f":"IFERROR(VLOOKUP((E40&\"-\"&\"101\"),Tarifs!C:G,5,0),\"\")","v":""},{"$f":"IFERROR(VLOOKUP((E40&\"-\"&\"201\"),Tarifs!C:G,5,0),\"\")","v":""},{"$f":"IFERROR(VLOOKUP((E40&\"-\"&\"301\"),Tarifs!C:G,5,0),\"\")","v":""},null,null,64,null,"Prix stationnement à partir de",{"$f":"IFERROR(VLOOKUP($K$7,BD!$A:$BM,L40,0),\"\")","v":""}]
[null,null,null,null,null,null,{"$f":"IFERROR(VLOOKUP((E41&\"-\"&\"101\"),Tarifs!C:G,5,0),\"\")","v":""},{"$f":"IFERROR(VLOOKUP((E41&\"-\"&\"201\"),Tarifs!C:G,5,0),\"\")","v":""},{"$f":"IFERROR(VLOOKUP((E41&\"-\"&\"301\"),Tarifs!C:G,5,0),\"\")","v":""}]
[null,null,null,null,null,null,{"$f":"IFERROR(VLOOKUP((E42&\"-\"&\"101\"),Tarifs!C:G,5,0),\"\")","v":""},{"$f":"IFERROR(VLOOKUP((E42&\"-\"&\"201\"),Tarifs!C:G,5,0),\"\")","v":""},{"$f":"IFERROR(VLOOKUP((E42&\"-\"&\"301\"),Tarifs!C:G,5,0),\"\")","v":""}]
[null,null,null,null,null,null,{"$f":"IFERROR(VLOOKUP((E43&\"-\"&\"101\"),Tarifs!C:G,5,0),\"\")","v":""},{"$f":"IFERROR(VLOOKUP((E43&\"-\"&\"201\"),Tarifs!C:G,5,0),\"\")","v":""},{"$f":"IFERROR(VLOOKUP((E43&\"-\"&\"301\"),Tarifs!C:G,5,0),\"\")","v":""},null,null,41,null,"Extérieur",{"$f":"IFERROR(VLOOKUP($K$7,BD!$A:$BM,L43,0),\"\")","v":""}]
[null,null,null,null,null,null,{"$f":"IFERROR(VLOOKUP((E44&\"-\"&\"101\"),Tarifs!C:G,5,0),\"\")","v":""},{"$f":"IFERROR(VLOOKUP((E44&\"-\"&\"201\"),Tarifs!C:G,5,0),\"\")","v":""},{"$f":"IFERROR(VLOOKUP((E44&\"-\"&\"301\"),Tarifs!C:G,5,0),\"\")","v":""},null,null,50,null,"Gratuit",{"$f":"IFERROR(VLOOKUP($K$7,BD!$A:$BM,L44,0),\"\")","v":""}]
[null,null,null,null,null,null,{"$f":"IFERROR(VLOOKUP((E45&\"-\"&\"101\"),Tarifs!C:G,5,0),\"\")","v":""},{"$f":"IFERROR(VLOOKUP((E45&\"-\"&\"201\"),Tarifs!C:G,5,0),\"\")","v":""},{"$f":"IFERROR(VLOOKUP((E45&\"-\"&\"301\"),Tarifs!C:G,5,0),\"\")","v":""},null,null,65,null,"Prix stationnement à partir de",{"$f":"IFERROR(VLOOKUP($K$7,BD!$A:$BM,L45,0),\"\")","v":""}]
[null,null,null,null,null,null,{"$f":"IFERROR(VLOOKUP((E46&\"-\"&\"101\"),Tarifs!C:G,5,0),\"\")","v":""},{"$f":"IFERROR(VLOOKUP((E46&\"-\"&\"201\"),Tarifs!C:G,5,0),\"\")","v":""},{"$f":"IFERROR(VLOOKUP((E46&\"-\"&\"301\"),Tarifs!C:G,5,0),\"\")","v":""}]
[null,null,null,null,null,null,{"$f":"IFERROR(VLOOKUP((E47&\"-\"&\"101\"),Tarifs!C:G,5,0),\"\")","v":""},{"$f":"IFERROR(VLOOKUP((E47&\"-\"&\"201\"),Tarifs!C:G,5,0),\"\")","v":""},{"$f":"IFERROR(VLOOKUP((E47&\"-\"&\"301\"),Tarifs!C:G,5,0),\"\")","v":""}]
[null,null,null,null,null,null,{"$f":"IFERROR(VLOOKUP((E48&\"-\"&\"101\"),Tarifs!C:G,5,0),\"\")","v":""},{"$f":"IFERROR(VLOOKUP((E48&\"-\"&\"201\"),Tarifs!C:G,5,0),\"\")","v":""},{"$f":"IFERROR(VLOOKUP((E48&\"-\"&\"301\"),Tarifs!C:G,5,0),\"\")","v":""},null,null,61,null,"Bornes de recharge",{"$f":"IFERROR(VLOOKUP($K$7,BD!$A:$BM,L48,0),\"\")","v":""}]
[null,null,null,null,null,null,{"$f":"IFERROR(VLOOKUP((E49&\"-\"&\"101\"),Tarifs!C:G,5,0),\"\")","v":""},{"$f":"IFERROR(VLOOKUP((E49&\"-\"&\"201\"),Tarifs!C:G,5,0),\"\")","v":""},{"$f":"IFERROR(VLOOKUP((E49&\"-\"&\"301\"),Tarifs!C:G,5,0),\"\")","v":""}]
[null,null,null,null,null,null,{"$f":"IFERROR(VLOOKUP((E50&\"-\"&\"101\"),Tarifs!C:G,5,0),\"\")","v":""},{"$f":"IFERROR(VLOOKUP((E50&\"-\"&\"201\"),Tarifs!C:G,5,0),\"\")","v":""},{"$f":"IFERROR(VLOOKUP((E50&\"-\"&\"301\"),Tarifs!C:G,5,0),\"\")","v":""},null,null,25,"Accès Internet",{"$f":"IFERROR(VLOOKUP($K$7,BD!$A:$BM,L50,0),\"\")","v":""}]
[null,null,null,null,null,null,{"$f":"IFERROR(VLOOKUP((E51&\"-\"&\"101\"),Tarifs!C:G,5,0),\"\")","v":""},{"$f":"IFERROR(VLOOKUP((E51&\"-\"&\"201\"),Tarifs!C:G,5,0),\"\")","v":""},{"$f":"IFERROR(VLOOKUP((E51&\"-\"&\"301\"),Tarifs!C:G,5,0),\"\")","v":""},null,null,26,"WiFi",{"$f":"IFERROR(VLOOKUP($K$7,BD!$A:$BM,L51,0),\"\")","v":""}]
[null,null,null,null,null,null,{"$f":"IFERROR(VLOOKUP((E52&\"-\"&\"101\"),Tarifs!C:G,5,0),\"\")","v":""},{"$f":"IFERROR(VLOOKUP((E52&\"-\"&\"201\"),Tarifs!C:G,5,0),\"\")","v":""},{"$f":"IFERROR(VLOOKUP((E52&\"-\"&\"301\"),Tarifs!C:G,5,0),\"\")","v":""},null,null,27,"Haute vitesse",{"$f":"IFERROR(VLOOKUP($K$7,BD!$A:$BM,L52,0),\"\")","v":""}]
[null,null,null,null,null,null,{"$f":"IFERROR(VLOOKUP((E53&\"-\"&\"101\"),Tarifs!C:G,5,0),\"\")","v":""},{"$f":"IFERROR(VLOOKUP((E53&\"-\"&\"201\"),Tarifs!C:G,5,0),\"\")","v":""},{"$f":"IFERROR(VLOOKUP((E53&\"-\"&\"301\"),Tarifs!C:G,5,0),\"\")","v":""},null,null,28,"Payant",{"$f":"IFERROR(VLOOKUP($K$7,BD!$A:$BM,L53,0),\"\")","v":""}]
[null,null,null,null,null,null,{"$f":"IFERROR(VLOOKUP((E54&\"-\"&\"101\"),Tarifs!C:G,5,0),\"\")","v":""},{"$f":"IFERROR(VLOOKUP((E54&\"-\"&\"201\"),Tarifs!C:G,5,0),\"\")","v":""},{"$f":"IFERROR(VLOOKUP((E54&\"-\"&\"301\"),Tarifs!C:G,5,0),\"\")","v":""},null,null,29,"Tarif:",{"$f":"IFERROR(VLOOKUP($K$7,BD!$A:$BM,L54,0),\"\")","v":""}]
[null,null,null,null,null,null,{"$f":"IFERROR(VLOOKUP((E55&\"-\"&\"101\"),Tarifs!C:G,5,0),\"\")","v":""},{"$f":"IFERROR(VLOOKUP((E55&\"-\"&\"201\"),Tarifs!C:G,5,0),\"\")","v":""},{"$f":"IFERROR(VLOOKUP((E55&\"-\"&\"301\"),Tarifs!C:G,5,0),\"\")","v":""}]
[null,null,null,null,null,null,{"$f":"IFERROR(VLOOKUP((E56&\"-\"&\"101\"),Tarifs!C:G,5,0),\"\")","v":""},{"$f":"IFERROR(VLOOKUP((E56&\"-\"&\"201\"),Tarifs!C:G,5,0),\"\")","v":""},{"$f":"IFERROR(VLOOKUP((E56&\"-\"&\"301\"),Tarifs!C:G,5,0),\"\")","v":""},null,null,null,"Entrées, chambres et salles de bain accessibles aux personnes handicapées"]
[null,null,null,null,null,null,{"$f":"IFERROR(VLOOKUP((E57&\"-\"&\"101\"),Tarifs!C:G,5,0),\"\")","v":""},{"$f":"IFERROR(VLOOKUP((E57&\"-\"&\"201\"),Tarifs!C:G,5,0),\"\")","v":""},{"$f":"IFERROR(VLOOKUP((E57&\"-\"&\"301\"),Tarifs!C:G,5,0),\"\")","v":""},null,null,53,null,"Adapté",{"$f":"IFERROR(VLOOKUP($K$7,BD!$A:$BM,L57,0),\"\")","v":""}]
[null,null,null,null,null,null,{"$f":"IFERROR(VLOOKUP((E58&\"-\"&\"101\"),Tarifs!C:G,5,0),\"\")","v":""},{"$f":"IFERROR(VLOOKUP((E58&\"-\"&\"201\"),Tarifs!C:G,5,0),\"\")","v":""},{"$f":"IFERROR(VLOOKUP((E58&\"-\"&\"301\"),Tarifs!C:G,5,0),\"\")","v":""},null,null,54,null,"Partiellement accessible",{"$f":"IFERROR(VLOOKUP($K$7,BD!$A:$BM,L58,0),\"\")","v":""}]
[null,null,null,null,null,null,{"$f":"IFERROR(VLOOKUP((E59&\"-\"&\"101\"),Tarifs!C:G,5,0),\"\")","v":""},{"$f":"IFERROR(VLOOKUP((E59&\"-\"&\"201\"),Tarifs!C:G,5,0),\"\")","v":""},{"$f":"IFERROR(VLOOKUP((E59&\"-\"&\"301\"),Tarifs!C:G,5,0),\"\")","v":""},null,null,55,null,"Services aux personnes ayant des déficiences auditives",{"$f":"IFERROR(VLOOKUP($K$7,BD!$A:$BM,L59,0),\"\")","v":""}]
[null,null,null,null,null,null,{"$f":"IFERROR(VLOOKUP((E60&\"-\"&\"101\"),Tarifs!C:G,5,0),\"\")","v":""},{"$f":"IFERROR(VLOOKUP((E60&\"-\"&\"201\"),Tarifs!C:G,5,0),\"\")","v":""},{"$f":"IFERROR(VLOOKUP((E60&\"-\"&\"301\"),Tarifs!C:G,5,0),\"\")","v":""}]
[null,null,null,null,null,null,{"$f":"IFERROR(VLOOKUP((E61&\"-\"&\"101\"),Tarifs!C:G,5,0),\"\")","v":""},{"$f":"IFERROR(VLOOKUP((E61&\"-\"&\"201\"),Tarifs!C:G,5,0),\"\")","v":""},{"$f":"IFERROR(VLOOKUP((E61&\"-\"&\"301\"),Tarifs!C:G,5,0),\"\")","v":""}]
[null,null,null,null,null,null,{"$f":"IFERROR(VLOOKUP((E62&\"-\"&\"101\"),Tarifs!C:G,5,0),\"\")","v":""},{"$f":"IFERROR(VLOOKUP((E62&\"-\"&\"201\"),Tarifs!C:G,5,0),\"\")","v":""},{"$f":"IFERROR(VLOOKUP((E62&\"-\"&\"301\"),Tarifs!C:G,5,0),\"\")","v":""},null,null,null,"Tarif occupation double:"]
[null,null,null,null,null,null,{"$f":"IFERROR(VLOOKUP((E63&\"-\"&\"101\"),Tarifs!C:G,5,0),\"\")","v":""},{"$f":"IFERROR(VLOOKUP((E63&\"-\"&\"201\"),Tarifs!C:G,5,0),\"\")","v":""},{"$f":"IFERROR(VLOOKUP((E63&\"-\"&\"301\"),Tarifs!C:G,5,0),\"\")","v":""},null,null,34,null,"Petit déjeuner inclus",{"$f":"IFERROR(VLOOKUP($K$7,BD!$A:$BM,L63,0),\"\")","v":""}]
[null,null,null,null,null,null,{"$f":"IFERROR(VLOOKUP((E64&\"-\"&\"101\"),Tarifs!C:G,5,0),\"\")","v":""},{"$f":"IFERROR(VLOOKUP((E64&\"-\"&\"201\"),Tarifs!C:G,5,0),\"\")","v":""},{"$f":"IFERROR(VLOOKUP((E64&\"-\"&\"301\"),Tarifs!C:G,5,0),\"\")","v":""},null,null,46,null,"Carte Affaires - MasterCard Banque Nationale (carte de crédit gouvernementale)",{"$f":"IFERROR(VLOOKUP($K$7,BD!$A:$BM,L64,0),\"\")","v":""}]
[null,null,null,null,null,null,{"$f":"IFERROR(VLOOKUP((E65&\"-\"&\"101\"),Tarifs!C:G,5,0),\"\")","v":""},{"$f":"IFERROR(VLOOKUP((E65&\"-\"&\"201\"),Tarifs!C:G,5,0),\"\")","v":""},{"$f":"IFERROR(VLOOKUP((E65&\"-\"&\"301\"),Tarifs!C:G,5,0),\"\")","v":""},null,null,48,null,"Développement durable",{"$f":"IFERROR(VLOOKUP($K$7,BD!$A:$BM,L65,0),\"\")","v":""}]
[null,null,null,null,null,null,{"$f":"IFERROR(VLOOKUP((E66&\"-\"&\"101\"),Tarifs!C:G,5,0),\"\")","v":""},{"$f":"IFERROR(VLOOKUP((E66&\"-\"&\"201\"),Tarifs!C:G,5,0),\"\")","v":""},{"$f":"IFERROR(VLOOKUP((E66&\"-\"&\"301\"),Tarifs!C:G,5,0),\"\")","v":""},null,null,22,null,"Facturation directe",{"$f":"IFERROR(VLOOKUP($K$7,BD!$A:$BM,L66,0),\"\")","v":""}]
[null,null,null,null,null,null,{"$f":"IFERROR(VLOOKUP((E67&\"-\"&\"101\"),Tarifs!C:G,5,0),\"\")","v":""},{"$f":"IFERROR(VLOOKUP((E67&\"-\"&\"201\"),Tarifs!C:G,5,0),\"\")","v":""},{"$f":"IFERROR(VLOOKUP((E67&\"-\"&\"301\"),Tarifs!C:G,5,0),\"\")","v":""}]
[null,null,null,null,null,null,{"$f":"IFERROR(VLOOKUP((E68&\"-\"&\"101\"),Tarifs!C:G,5,0),\"\")","v":""},{"$f":"IFERROR(VLOOKUP((E68&\"-\"&\"201\"),Tarifs!C:G,5,0),\"\")","v":""},{"$f":"IFERROR(VLOOKUP((E68&\"-\"&\"301\"),Tarifs!C:G,5,0),\"\")","v":""}]
[null,null,null,null,null,null,{"$f":"IFERROR(VLOOKUP((E69&\"-\"&\"101\"),Tarifs!C:G,5,0),\"\")","v":""},{"$f":"IFERROR(VLOOKUP((E69&\"-\"&\"201\"),Tarifs!C:G,5,0),\"\")","v":""},{"$f":"IFERROR(VLOOKUP((E69&\"-\"&\"301\"),Tarifs!C:G,5,0),\"\")","v":""}]
[null,null,null,null,null,null,{"$f":"IFERROR(VLOOKUP((E70&\"-\"&\"101\"),Tarifs!C:G,5,0),\"\")","v":""},{"$f":"IFERROR(VLOOKUP((E70&\"-\"&\"201\"),Tarifs!C:G,5,0),\"\")","v":""},{"$f":"IFERROR(VLOOKUP((E70&\"-\"&\"301\"),Tarifs!C:G,5,0),\"\")","v":""}]
[null,null,null,null,null,null,{"$f":"IFERROR(VLOOKUP((E71&\"-\"&\"101\"),Tarifs!C:G,5,0),\"\")","v":""},{"$f":"IFERROR(VLOOKUP((E71&\"-\"&\"201\"),Tarifs!C:G,5,0),\"\")","v":""},{"$f":"IFERROR(VLOOKUP((E71&\"-\"&\"301\"),Tarifs!C:G,5,0),\"\")","v":""}]
[null,null,null,null,null,null,{"$f":"IFERROR(VLOOKUP((E72&\"-\"&\"101\"),Tarifs!C:G,5,0),\"\")","v":""},{"$f":"IFERROR(VLOOKUP((E72&\"-\"&\"201\"),Tarifs!C:G,5,0),\"\")","v":""},{"$f":"IFERROR(VLOOKUP((E72&\"-\"&\"301\"),Tarifs!C:G,5,0),\"\")","v":""}]
[null,null,null,null,null,null,{"$f":"IFERROR(VLOOKUP((E73&\"-\"&\"101\"),Tarifs!C:G,5,0),\"\")","v":""},{"$f":"IFERROR(VLOOKUP((E73&\"-\"&\"201\"),Tarifs!C:G,5,0),\"\")","v":""},{"$f":"IFERROR(VLOOKUP((E73&\"-\"&\"301\"),Tarifs!C:G,5,0),\"\")","v":""}]

{"sheet":"BDC","index":2,"n_rows":65,"n_cols":15,"rows_kept":65,"cut":false,"hidden":false,"merged":[[22,7,22,10],[23,7,23,10],[5,1,5,10],[6,1,6,10],[14,7,14,10],[20,7,20,10],[21,7,21,10],[20,2,20,4],[21,2,21,4],[9,7,9,10],[10,7,10,10],[11,7,11,10],[12,7,12,10],[13,7,13,10],[26,2,26,3],[26,5,26,6],[27,5,27,6],[26,7,26,8],[27,7,27,8],[60,1,63,2],[49,3,49,6],[50,3,50,6],[60,3,63,4],[60,8,63,10],[2,14,2,18],[4,14,4,18],[6,14,18,18],[64,8,64,10],[60,6,63,7],[64,6,64,7],[45,3,45,6],[46,3,46,6],[47,3,47,6],[48,3,48,6],[22,2,22,4],[23,2,23,4],[44,3,44,6],[34,3,34,10],[33,3,33,10],[27,2,27,3]]}
[]
[null,null,null,null,null,null,null,null,null,null,"Commande #"]
[null,null,null,null,null,null,null,null,null,null,99999999,null,null,"Destinataire",{"$f":"C11","v":""}]
[null,null,null,null,null,null,null,null,null,null,"Date"]
[null,null,null,null,null,null,null,null,null,null,{"$f":"TODAY()","v":"2026-03-12"},null,null,"Objet","Contrat 2023-8154-50-01 - Bon de commande"]
[null,"Bon de commande réservation d'hébergement"]
[null,"2023-8154-50-01",null,null,null,null,null,null,null,null,null,null,null,"Message","Bonjour, \n\nVeuillez trouver ci-joint un bon de commande en lien avec le contrat 2023-8154-50-01 : REPERTOIRE TARIFS PREFERENTIELS HOTELIERS\n\nCordialement, "]
[]
[null,"FOURNISSEUR",null,null,null,null,null,"ADRESSE DE LIVRAISON"]
[null,{"$f":"Config!N7","v":""}]
[null,"Contact:",{"$f":"Config!N14","v":""}]
[null,{"$f":"Config!N8","v":""}]
[null,{"$f":"Config!N9","v":""}]
[null,{"$f":"Config!N10","v":""}]
[null,"Téléphone:",{"$f":"Config!N11","v":""}]
[null,"Télécopieur:",{"$f":"Config!N12","v":""}]
[null,"Région:",{"$f":"Config!B7","v":"Laurentides"}]
[]
[]
[null,"POUR RENSEIGNEMENTS S'ADRESSER À",null,null,null,null,null,"ADRESSE DE FACTURATION"]
[null,"Nom:",null,null,null,null,null,"Compte visiteur pour fins de consultation"]
[null,"Téléphone:"]
[null,"Télécopieur:"]
[null,"Numéro de client:"]
[]
[]
[null,null,null,null,"Quantité","Unité de mesure",null,"Date de livraison",null,"Prix unitaire net","Prix total"]
[null,null,null,null,1,null,null,{"$f":"Config!B13","v":"2026-01-15"},null,null,{"$f":"J28*E28","v":0}]
[]
[null,"Description"]
[null,{"$f":"B10","v":""}]
[]
[]
[null,"Garantie de réservation",null,{"$f":"Config!N22","v":""}]
[null,"Politique d'annulation",null,{"$f":"Config!N26","v":""}]
[null,"Petit déjeuner inclus",null,{"$f":"Config!O63","v":""}]
[null,"stationnement inclus",null,{"$f":"Config!O39","v":""}]
[null,"Prix stationnement intérieur à partir de",null,{"$f":"IF(Config!O40=0,\"N/D\",Config!O40)","v":""}]
[null,"Prix stationnement extérieur à partir de",null,{"$f":"IF(Config!O45=0,\"N/D\",Config!O45)","v":""}]
[null,"Tarif Internet",null,{"$f":"IF(Config!O54=0,\"N/D\",Config!O54)","v":"N/D"}]
[null,"Bornes de recharge",null,{"$f":"Config!O48","v":""}]
[null,"Numéro CITQ",null,{"$f":"Config!N15","v":""}]
[]
[null,"Réservation d'hébergement -B"]
[null,"Réservation pour"]
[null,"Confirmation demandée "]
[null,"Téléphone"]
[null,"Facturation du stationnement (O ou N)"]
[null,"Télécopieur"]
[null,"Courriel"]
[null,"À facturer"]
[]
[]
[null,"AVIS DE CONFIDENTIALITÉ:"]
[null,"Les renseignements contenus dans ce document sont confidentiels. Il est strictement interdit de divulguer, de distribuer ou de copier ce document. Une utilisation"]
[null,"non autorisée ou frauduleuse de ces renseignements est passible de sanctions administratives ou judiciaires, le cas échéant. Si vous avez reçu ce document par"]
[null,"erreur, veuillez le détruire et nous en aviser immédiatement par téléphone."]
[]
[null,null,null,null,null,null,null,null,null,"Total avant taxes:",{"$f":"K28","v":0}]
[]
[null,null,null,null,null,null,"Signature "]
[]
[]
[]
[null,null,null,null,null,null,"Date",null,{"$f":"TODAY()","v":"2026-03-12"}]

{"sheet":"Form","index":3,"n_rows":60,"n_cols":15,"rows_kept":60,"cut":false,"hidden":false,"merged":[[56,2,56,5],[56,7,56,10],[59,9,59,10],[27,7,30,11],[25,7,26,11],[27,4,27,5],[45,1,51,11],[58,9,58,10],[54,2,55,5],[54,7,55,10],[20,8,20,9],[19,8,19,9],[22,2,22,5],[13,2,13,3],[14,2,14,5],[13,8,14,11],[18,2,18,5],[18,8,18,11],[19,2,20,5],[21,2,21,3],[2,14,2,18],[4,14,4,18],[6,14,18,18],[0,1,3,12],[11,2,12,5],[10,2,10,5],[10,8,10,11],[11,8,11,11],[12,9,12,11]]}
[null,"FORMULAIRE GOUVERNEMENTAL DE \nRÉSERVATION D'HÉBERGEMENT"]
[]
[null,null,null,null,null,null,null,null,null,null,null,null,null,"Destinataire",{"$f":"C15","v":""}]
[]
[null,"Date de la réservation :",null,null,null,null,null,null,null,null,null,null,null,"Objet","RÉSERVATION D'HÉBERGEMENT"]
[]
[null,false,"Confirmation d’une réservation",null,null,null,null,"N° de réservation de l’établissement hôtelier : ",null,null,null,null,null,"Message","Bonjour, \n\nVeuillez trouver une réservation en lien avec le contrat 2023-8154-50-01 : REPERTOIRE TARIFS PREFERENTIELS HOTELIERS\n\nCordialement, "]
[null,null,null,null,null,null,null,"N° d’annulation de l’établissement hôtelier :"]
[]
[null,"ÉTABLISSEMENT D'HÉBERGEMENT",null,null,null,null,null,"MINISTÈRE ORGANISME OU RÉSEAU REQUÉRANT"]
[null,"Nom :",{"$f":"BDC!B10","v":""},null,null,null,null,"Nom :"]
[null,"Adresse :",{"$f":"BDC!B12&\", \"&BDC!B13&\", \"&BDC!B14","v":", , "},null,null,null,null,"Direction :"]
[null,null,null,null,null,null,null,"M/O OU RÉSEAU :"]
[null,"Téléphone :",{"$f":"BDC!C15","v":""},null,null,null,null,"Adresse :"]
[null,"Courriel :",{"$f":"BDC!C11","v":""}]
[]
[]
[null,"RÉSERVATION(S) REQUISE(S) POUR :",null,null,null,null,null,"POUR RENSEIGNEMENTS S'ADRESSER À :"]
[null,"Nom :",null,null,null,null,null,"Nom :",{"$f":"BDC!C21","v":0}]
[null,"Téléphone :",null,null,null,null,null,"Téléphone :",{"$f":"BDC!C22","v":0}]
[null,null,null,null,null,null,null,"Télécopieur :",{"$f":"BDC!C23","v":0}]
[null,"Télécopieur :",5142552365,null,null,null,null,"Courriel :"]
[null,"Courriel :"]
[]
[]
[null,"MODE DE PAIEMENT",null,null,null,null,null,"RESPECT DE LA GARANTIE DE RÉSERVATION ET DE LA POLITIQUE D’ANNULATION"]
[null,false,"Facturation directe"]
[null,false,"No de carte de crédit :",null,null,null,null,"Les garanties de réservation et d’annulation décrites dans le Répertoire des tarifs préférentiels hôteliers sont applicables et doivent être respectées."]
[null,"exp. :",null,null,"(facultatif)"]
[null,null,"(facultatif)"]
[]
[]
[]
[null,"Description"]
[]
[null,null,"Séjour du",null,"au",null,null,"Dépôt de garantie :"]
[null,null,"Heure d’arrivée prévue :"]
[null,null,"Nombre de nuit(s) :"]
[null,null,"Tarif au répertoire :",null,null,null,null,"sous-total :"]
[null,null,"Stationnement inclus :",null,null,null,null,"sous-total :"]
[null,null,"Déjeuner inclus :"]
[null,null,"Total :",null,"+",null,"taxe spécifique sur l’hébergement*"]
[null,null,null,null,null,null,null,null,null,null,"GRAND TOTAL :"]
[null,null,null,null,null,null,null,null,null,null,"(Avant TPS/TVQ)"]
[]
[null,"DÉCLARATION CONCERNANT LA TAXE DE VENTE DU QUÉBEC ET LA TAXE SUR LES PRODUITS ET SERVICES \nCeci certifie que les biens ou les services commandés ou achetés avec les deniers publics pour être utilisés par l’acquéreur sont assujettis à la taxe de vente du Québec (TVQ) et à la taxe sur les produits et services (TPS/TVH) lorsque celles-ci sont applicables. * TAXE SPÉCIFIQUE SUR L'HÉBERGEMENT \nPour l'ensemble des régions du Québec la taxe spécifique sur l’hébergement devra s’ajouter au prix déjà convenu et publié dans le Répertoire des tarifs préférentiels hôteliers. (La seule région où la taxe sur l'hébergement ne s'applique pas est la région touristique du Nunavik.)"]
[]
[]
[]
[]
[]
[]
[]
[]
[]
[]
[null,null,"Signature de la personne responsable",null,null,null,null,"En caractères d’imprimerie"]
[]
[]
[null,null,null,null,null,null,null,null,null,"Date"]

{"sheet":"BD","index":4,"n_rows":253,"n_cols":65,"rows_kept":253,"cut":false,"hidden":true,"merged":[]}
["Numero_Seq","sagir_nom_fourn","sagir_numero","sagir_lieu_fourn","NbrHotels","NomEtabPortail","Adr","Ville","Copo","Tel_Etab","Telec","Pers_ress","Cond","Poli","Chambres","Remarque_1","Publi","Salle","Quant_Comm","Date_Liv","Tel_Pers_Ress","fact_dir","Sans_Frais","Email","Internet","SansFil","HauteVitesse","InternetPayant","TarifInternet","Studio","Site_inter","trajet_url","inform_url","Dejeuner","Occu_double","Region","Handicape","NEQ","no_permis_heberg","Stat_int","Stat_ext","Stat_gratuit","Prix_stat_min","Prix_stat_max","Nb_soleil","Carte_affaire","sagir_catgr_unspsc","DevDurable","Promotion","Stat_ext_gratuit","Prix_stat_ext_min","Prix_stat_ext_max","adapt","access_partiel","access_def_audit","access_def_visuel","poste","commentaires","courriel_reserv","NoCITQ","BorneRecharge","DatesExclues2024","DatesExclues2025","PrixStatBase","PrixStatBaseExt"]
["19-0017","Oasis Lac St-Louis inc.","923815454-0001","*SALABERRYDEVAL",null,"OASIS LAC-ST-LOUIS","7175, boulevard Hébert","SALABERRY-DE-VALLEYFIELD","J6S6G2","4503737458",null,"Kim Cun","Garantie en tout temps avec c. d. c. et réservation par télécopieur avec le formulaire d'hébergement du gouvernement. Une preuve d'identité à l'emploi du gouvernement est obligatoire","Sans frais 7 jours avant l'arrivée",5,"Certaines dates peuvent être sujettes à des restrictions ou tarif non applicable",2026,"",null,null,"4503737458","Oui","","admin@oasislacstlouis.ca","Oui","Oui","Oui","Non",null,null,"",null,null,"Non",25,16,"Non","1179886057",null,"Non","Oui","Non",null,null,null,"Oui","90110000","Non","","Oui",null,null,"Non","Non","Non","Non","","","admin@oasislacstlouis.ca","538856","Non","","10, 11, 12 juillet"]
["01-0017","Travelodge Alma MC","923815454-0002","*ALMA",null,"TRAVELODGE ALMA MC","450, rue Sacré-Coeur Ouest","ALMA","G8B1L9","4186683222",null,"Carolyne Deschênes","Formulaire de réservation gouvernemental obligatoire","Sans frais jusqu'à 16 h avant  le jour de l'arrivée, sinon des frais d'une nuitée seront facturés",30,"Indiquer les détails de votre emploi.",2026,"",0,null,"4186685912","Oui","8779173222","carolyne@hoteluniversel.com","Oui","Oui","Oui","Non",null,null,"http://travelodgealma.com/",null,null,"Oui",null,2,"Oui","1144686038",null,"Non","Oui","Non",null,null,null,"Non","90110000","Non","","Oui",null,null,"Oui","Oui","Non","Non","3393","418-482-1600 Cell Carolyne Deschênes","reception@travelodgealma.com","174053","Oui","",""]
["24-0021","Hôtel Sépia inc.","923815454-0003","*QUÉBEC",null,"HÔTEL SÉPIA","3135 Chemin St-Louis","QUÉBEC","G1W1R9","4186534941",null,"Joanie Beaulieu","Aucune condition applicable","24 heures avant l'arrivée (16h la veille de la réservation)",80,"",2026,"",null,null,"4186534941","Oui","8004636603","j.beaulieu@hotelsepia.ca","Oui","Oui","Non","Non",null,1,"www.hotelsepia.ca/fr",null,null,"Non",null,3,"Oui","1174697475",null,"Non","Oui","Non",null,null,null,"Oui","90110000","Oui","","Oui",0,0,"Non","Oui","Non","Non","7","4188022385","info@hotelsepia.ca","006042","Oui","","5-12-19-26 juillet, 2-9-16-23 et 30 août, 31décembre"]
["97-0318","Quality Inn & Suites Matane","923815454-0004","*MATANE",null,"HOTEL QUALITY INN & SUITES MATANE","1550, avenue du Phare Ouest","MATANE","G4W3M6","4185626433",null,"Amanda Fournier","Garantie jusqu'à 16 h en tout temps avec c.d.c. ou avec le formulaire d'hébergement du gouvernement.   Mentionner de procéder à la facturation directe Une preuve d'identité à l'emploi du gouvernement est requise","Sans frais jusqu'à 16 h le jour de l'arrivée, sinon des frais d'une nuitée seront facturés",67,"Accès à Internet gratuitement dans tout l'établissement. Déjeuner buffet chaud gratuit.Stationnement avec bornes électriques disponibles (1 Tesla et 2 véhicules réguliers)",2026,"1 salle pour une capacité de 16 personnes / prix à déterminer",0,null,"4185626432","Oui","8004632466","afournier@qualityinnmatane.com","Oui","Oui","Oui","Non",null,null,"www.qualityinnmatane.com",null,null,"Oui",null,1,"Oui","1179739769",null,"Non","Oui","Non",null,null,null,"Oui","90110000","Oui","","Oui",null,null,"Oui","Non","Non","Non","1","","reception@qualityinnmatane.com","005460","Oui","",""]
["01-0015","Hôtel Place d'Armes","923815454-0005","*MONTREAL",null,"HOTEL PLACE D'ARMES MONTREAL","55, rue Saint-Jacques Ouest","MONTRÉAL","H2Y3X2","5148421887",null,"Marie Josée Fortier","Garantie en tout temps avec c.d.c","Sans frais jusqu'à 24 h avant l'arrivée",169,"Dates excluses : 15-16-17-18 juin,  4-5-6 août et  31 décembre. Tarif non applicable sur réservation de groupe (10 chambres et plus).",2026,"1à 10 salles / de 200 personnes / prix à déterminer",0,null,"4383725735","Oui","8884501887","mariejosee.fortier@cornercollection.com","Oui","Oui","Oui","Non",null,null,"www.hotelplacedarmes.com",null,null,"Non",null,6,"Oui","1177141398",null,"Oui","Non","Non",38,38,null,"Oui","90110000","Oui","","Non",null,null,"Non","Oui","Non","Non","","","reservation@hotelplacedarmes.com","159751","Oui","","",42]
["97-0345","Hôtel Nouvelle Frontière","923815454-0006","*AMOS",null,"HÔTEL NOUVELLE FRONTIÈRE","2900, Route 111 Est","AMOS","J9T3A1","8197328307",null,"Marianne Dénommée","Garantie en tout temps avec c.d.c  ou réservation avec le formulaire gouvernemental","Sans frais jusqu'à 24 h avant l'arrivée",28,"",2026,"",0,null,"8197328307","Oui","8887321666","direction@nouvellefrontiere.ca","Oui","Oui","Oui","Non",null,0,"https://nouvellefrontiere.ca",null,null,"Oui",0,8,"Oui","1142726380",null,"Non","Oui","Non",null,null,0,"Oui","90110000","Non","","Oui",null,null,"Non","Oui","Non","Non","","","reception@nouvellefrontiere.ca","544235","Non","",""]
["01-0004","Hôtel des Coutellier inc.","923815454-0007","*QUÉBEC",null,"HÔTEL DES COUTELLIER","253, rue Saint-Paul","QUÉBEC","G1K8C1","4186929696",null,"Jean-Sébastien Pagé","Garantie en tout temps avec c.d.c  ou réservation avec le formulaire gouvernemental. Le prix du stationnement varie entre 15$ et 20$.","Sans frais jusqu’à 24 h avant l'arrivée",24,"",2026,"1 salle de 1 à 10 personnes / prix déterminer",0,null,"4186929696","Oui","8885239696","jspage@hoteldescoutellier.com","Oui","Oui","Oui","Non",null,null,"www.hoteldescoutellier.com",null,null,"Oui",20,3,"Non","1149219496",null,"Non","Oui","Non",null,null,null,"Oui","90110000","Oui","","Non",12,16,"Non","Non","Non","Non","","Stationnement entre 15$ et 20$ (inscrit au Form.d'inscription 2024-2025)","info@hoteldescoutellier.com","174123","Non","","",null,15]
["02-0005","Hampton Inn & Suites by Hilton TM","923815454-0008","*DORVAL",null,"HAMPTON INN & SUITES PAR HILTON TM","1900, route Transcanadienne","DORVAL","H9P2N4","5146338243",null,"Sharon Lim","Garantie en tout temps avec c.d.c. ou rréservation par télécopieur avec le formulaire d'hébergement du gouvernement. Preuve d'identité à l'emploi du gouvernement exigée si aucune facturation directe.","Sans frais jusqu'à 48 h avant le jour de l'arrivée, sinon de frais d'une nuitée seront facturés",142,"Chambres munies d'un réfrigérateur et micro-ondes. Dates excluses : 16 au 18 juin, du 28 au 30 juillet. 4, 5 et 6 août 2023",2026,"",0,null,"5146338243","Oui","8666338243","sharon.lim@hilton.com","Oui","Oui","Oui","Non",null,38,"www.hamptoninnmontrealdorval.com",null,null,"Oui",169,6,"Oui","1172097272",null,"Non","Oui","Non",null,null,null,"Oui","90110000","Non","","Oui",null,null,"Non","Oui","Oui","Oui","506","","reception@hamptoninnmontreal.com","180434","Non","",""]
["00-0027","Château Madelinot","923815454-0009","*CAP-AUX-MEULES",null,"CHÂTEAU MADELINOT","323, route 199","FATIMA, ILES DE LA MADELEINE","G4T2H6","4189863695",null,"Ariane Bérubé","Aucune condition applicable","Aucune condition applicable",120,"",2026,"",0,null,"4189863695","Oui","8559862211","ventes@hotelsaccents.com","Oui","Oui","Oui","Non",null,null,"www.hotelsaccents.com",null,null,"Non",null,11,"Oui","1178869534",null,"Non","Oui","Non",null,null,null,"Oui","90110000","Non","","Oui",null,null,"Non","Oui","Non","Non","","","chateau@hotelsaccents.com","055952","Oui","","15 juillet au 31 août"]
["00-0107","Auberge des battures enr.","923815454-0010","*SAGUENAY",null,"BATTURES HÔTEL FJORD","6295, boulevard de la Grande-Baie Sud","LA BAIE-SAGUENAY","G7B3P6","4185448234",null,"Stéphanie Fortin","Aucune condition applicable","Aucune condition applicable",32,"",2026,"",0,null,"5813062924","Oui","8006688234","admin@battures.ca","Oui","Oui","Oui","Non",null,null,"www.hotel-saguenay.com",null,null,"Non",15,2,"Oui","1177786069",null,"Non","Oui","Non",null,null,null,"Oui","90110000","Oui","","Oui",null,null,"Non","Oui","Non","Non","","","info@battures.ca","073146","Non","",""]
["00-0117","Fairmont le Château Frontenac (Frontenac Hotel GP inc.)","923815454-0011","*QUÉBEC",null,"FAIRMONT LE CHÂTEAU FRONTENAC","1, rue des Carrières","QUÉBEC","G1R4P5","4186923861",null,"Charlotte Bassut","Garantie en tout temps avec c.d.c ou réservation avec le formulaire d'hébergement du gouvernement, preuve d'identité à l'emploi exigée si aucune facturation directe.","Sans frais jusqu'à 72 heures avant l'arrivée",610,"Dates excluses : 1er Janvier, 7-8-14-15 Juillet et du 23 au 31 Décembre 2023",2026,"",0,null,"5149542285","Oui","8665404460","charlotte.bassut@fairmont.com","Oui","Oui","Oui","Oui",15,null,"https://www.fairmont.fr/frontenac-quebec/",null,null,"Non",null,3,"Oui","1164902430",null,"Oui","Non","Non",45,45,null,"Oui","90110000","Oui","","Non",null,null,"Oui","Oui","Oui","Oui","","Charlotte Bassut: cell 514-216-1696","lcf.reservations@fairmont.com","040703","Oui","","1-3 janvier, 10-11-17-18 juillet, 10,11 octobre, 19-31 décembre",45]
["00-0126","Gestion Hôtel Lévis inc.","923815454-0012","*LEVIS",null,"GRAND HÔTEL TIMES LÉVIS","129, route du Président-Kennedy","LÉVIS","G6V6C8","4188333333",null,"Marc-André Mouton","Garantie en tout temps avec c.d.c ou réservation avec le formulaire gouvernemental, preuve d'identité à l'emploi exigée si aucune facturation directe","Sans frais jusqu'à 8 am la journée de l'arrivée, sinon des frais d'une nuitée seront facturés.",152,"",2026,"",0,null,"4188770009","Oui","8883880233","directeurlevis@timeshotel.ca","Oui","Oui","Non","Non",null,null,"https://www.timeshotel.ca",null,null,"Non",25,12,"Oui","1174935651",null,"Oui","Non","Non",null,null,0,"Oui","90110000","Non","","Non",null,null,"Non","Oui","Non","Non","","5819973440","info@hotelkennedy.ca","043223","Oui","","",14.79]
["01-0005","Hôtel Le Saint-Paul","923815454-0013","*QUÉBEC",null,"HÔTEL LE SAINT-PAUL","229, rue Saint-Paul","QUÉBEC","G1K3W3","4186944414",null,"Martina Waschkau","Garantie en tout temps avec c.d.c ou réservation avec le formulaire gouvernemental, preuve d'identité à l'emploi exigée si aucune facturation directe","Sans frais jusqu'à 48 heures avant le jour de l'arrivée, sinon des frais d'une nuitée pourraient facturés",26,"",2026,"",0,null,"4186923992","Oui","8887944414","martina.waschkau@hotellepriori.com","Oui","Oui","Oui","Non",0,null,"http://www.lesaintpaul.qc.ca/",null,null,"Non",null,3,"Non","1140628695",null,"Non","Oui","Non",15,24,null,"Oui","90110000","Non","","Non",null,null,"Non","Non","Non","Non","702","5819970420","info@lesaintpaul.qc.ca","130303","Non","","",null,17]
["01-0014","Hôtel Dauphin Longueuil","923815454-0014","*LONGUEUIL",null,"HÔTEL DAUPHIN MONTRÉAL-LONGUEUIL","1055, rue Saint-Laurent Ouest","LONGUEUIL","J4K1E1","4506460110",null,"Jean-Benjamin Milot","Garantie en tout temps avec c.d.c. ou réservation par télécopieur avec formulaire gouvernemental.","Sans frais jusqu'à 24 heures avant l'arrivée",80,"Internet sans-fil gratuit. Réfrigérateur et ordinateur dans chaque chambre. Borne de recharge disponible.",2026,"",0,null,"4506460110","Oui","8666460110","jb@hoteldauphin.ca","Oui","Oui","Oui","Non",null,null,"www.hoteldauphin.ca",null,null,"Oui",10,16,"Oui","1149213333",null,"Non","Oui","Non",null,null,null,"Oui","90110000","Oui","","Oui",null,null,"Oui","Oui","Oui","Oui","","","long@hoteldauphin.ca","175405","Oui","","21-22-23-24 mai"]
["03-0064","Motel Shao S.E.N.C.","923815454-0015","*MONTEBELLO",null,"MOTEL BEL-EAU - MOTEL SHAO S.E.N.C.","600, rue Notre-Dame","MONTEBELLO","J0V1L0","8194236504",null,"Haiyan Zhu","Garanti en tout temps avec c.d.c  ou réservation par télécopieur avec le formulaire d'hébergement du gouvernement.","Sans frais jusqu'à 72 heures avant le jour de l'arrivée.",16,"Toutes les chambres munies d'un frigo, un micro-ondes,une télévision par câble et  une salle de bain privée, etc..  Aviser l'établissement lorsque le client prévoit une arrivée tardive, soit après 21 heures.",2026,"",0,null,"8194236504","Oui","8886660586","motelbeleau@yahoo.ca","Oui","Oui","Oui","Non",null,null,"www.motelbeleau.com",null,null,"Non",30,7,"Non","3368719202",null,"Non","Oui","Non",null,null,null,"Oui","90110000","Non","","Oui",null,null,"Non","Non","Non","Non","","","motelbeleau@yahoo.ca","138880","Non","",""]
["06-0004","Hôtel Château Fraser inc.","923815454-0016","*TÉMISCOUATA",null,"HÔTEL CHÂTEAU FRASER","1, rue du Quai","TÉMISCOUATA-SUR-LE-LAC","G0L1E0","4188543015",null,"Brigite Dufour","Confirmation de réservation par télécopieur avec le formulaire d'hébergement du gouvernement. Tarifs applicables pour bloc de chambre suivant: #2, #3, #5, #15, #16.","Aucune",4,"",2026,"",0,null,"4188543015","Oui","","info@chateaufraser.com","Oui","Oui","Oui","Non",null,2,"www.chateaufraser.com",null,null,"Non",null,1,"Non","1142560243",null,"Non","Oui","Non",null,null,0,"Oui","90110000","Non","","Oui",null,null,"Non","Non","Non","Non","","","info@chateaufraser.com","212601","Oui","",""]
["06-0027","Hôtel le Dauphin Montréal centre-ville","923815454-0017","*MONTRÉAL",null,"HÔTEL DAUPHIN MONTRÉAL CENTRE-VILLE (PALAIS DES CONGRÈS)","1025, rue De Bleury","MONTRÉAL","H2Z1M7","5147883888",null,"Jean-Benjamin Milot","Garantie en tout temps avec c.d.c ou réservation avec le formulaire gouvernemental","Sans frais jusqu’à 24 h avant l'arrivée",114,"Borne pour voitures électriques, charge gratuite avec le séjour.",2026,"",0,null,"5147883888","Oui","8887843888","jb@hoteldauphin.ca","Oui","Oui","Oui","Non",null,null,"www.hotelsdauphin.ca/montreal",null,null,"Oui",10,6,"Oui","1161248357",null,"Oui","Oui","Non",25,35,null,"Oui","90110000","Oui","","Non",null,null,"Oui","Oui","Oui","Oui","","","mtl@hoteldauphin.ca","217033","Oui","","21-22-23-24 mai",29]
["06-0040","Hôtel 71","923815454-0018","*QUÉBEC",null,"HÔTEL 71","71, rue Saint-Pierre","QUÉBEC","G1K4A4","4186921171",null,"Pascale Blanco","Garantie en tout temps avec c.d.c. ou réservation avec le formulaire d'hébergement du gouvernement","Sans frais jusqu'à 16 h le jour de l'arrivée",60,"Chambres munies d'un réfrigérateur, coffret de sécurité, cafétière, bureau de travail.",2026,"4 salles de 2 à 100 personnes",0,null,"4186942747","Oui","8886921171","pblanco@hotel71.ca","Oui","Oui","Oui","Non",null,null,"www.hotel71.ca",null,null,"Non",20,3,"Non","1172395536",null,"Oui","Non","Non",30,30,null,"Oui","90110000","Non","","Non",null,null,"Non","Non","Non","Non","","Susan Wilkinson 694-2475","reservation@hotel71.ca","212682","Oui","","",30]
["08-0015","Grand Hôtel Times inc., Le","923815454-0019","*QUÉBEC",null,"LE GRAND HÔTEL TIMES","5100, boulevard des Galeries","QUÉBEC","G2K2M1","4183533333",null,"Stéphanie Beaudoin","Garantie en tout temps avec c.d.c ou réservation avec le formulaire d'hébergement du gouvernement. Preuve d'identité à l'emploi du gouvernement exigée si aucune facturation directe","Sans frais jusqu'à 8h AM le jour de l'arrivée, sinon des frais d'une nuitée seront facturés",122,"Tarif applicable seulement pour les déplacements d'affaires. Tarif non applicable pour les réservations de groupe. Colloques, congrès et autres. Tarif non applicable aux dates suivantes: 24 juin, 1-15-22-29 juillet, 5-12-19-26 août et 2 septembre",2026,"1 à 3 salles / de 2 à 65personnes / prix à déterminer",0,null,"4183533333","Oui","","directeurquebec@timeshotel.ca","Oui","Oui","Non","Non",null,null,"www.timeshotel.ca",null,null,"Oui",20,3,"Oui","1164587942",null,"Non","Oui","Non",null,null,null,"Oui","90110000","Non","","Oui",null,null,"Non","Oui","Non","Non","","Cell: 418-934-6543","reservationquebec@timeshotel.ca","222017","Oui","",""]
["08-0020","Motel interprovincial","923815454-0020","*PNTE-A-CROIX",null,"HÔTEL INTERPROVINCIAL","4, boulevard Perron Ouest","POINTE-À-LA-CROIX","G0C1L0","4187882070",null,"Émilie Pitre","Formulaire de réservation gouvernemental obligatoire","Sans frais jusqu'à 16 h le jour de l'arrivée, sinon des frais d'une nuitée pourraient s’appliquer",58,"",2026,"",0,null,"4186292241","Oui","8667882070","administration@hotelinterprovincial.com","Oui","Oui","Oui","Non",null,1,"www.hotelinterprovincial.com",null,null,"Non",10,11,"Oui","1143135011",null,"Non","Oui","Non",null,null,null,"Oui","90110000","Non","","Oui",null,null,"Non","Oui","Non","Non","","","info@hotelinterprovincial.com","018443","Oui","",""]
["09-0024","Hôtel Comfort Inn & Suites [TM] St-Nicolas","923815454-0021","*LEVIS",null,"HÔTEL COMFORT INN & SUITES RIVE-SUD QUÉBEC","1394, route des Rivières","LÉVIS","G7A2N9","4188363336",null,"Cédrick Dupéré","Formulaire réservation gouvernemantal obligatoire","Sans frais jusqu'à midi le jour de l'arrivée",103,"",2026,"1 salle pour 10 personnes / prix à déterminer",0,null,"4188363336","Oui","8776863336","reception@comfortinnrivesudquebec.com","Oui","Oui","Oui","Non",null,null,"www.choicehotels.com/cn849",null,null,"Oui",null,12,"Oui","1174563644",null,"Non","Oui","Non",null,null,null,"Non","90110000","Non","","Oui",null,null,"Oui","Non","Non","Non","","","reception@comfortinnrivesudquebec.com","222344","Oui","","24-25-31 décembre"]
["09-0026","Hôtel Quartiers Dix 30 s.e.c.","923815454-0022","*BROSSARD",null,"HÔTEL ALT QUARTIER DIX 30","6500, boulevard de Rome","BROSSARD","J4Y0B6","4504431030",null,"Tiffany Pereira","Preuve d'emploi au gouvernement ou formulaire d'hébergement du gouvernement","Sans frais jusqu'à 16 h le jour de l'arrivée, sinon des frais d'une nuitée seront facturés",158,"Accès à Internet gratuitement dans tout l'établissement.  Stationnement avec borne électrique disponible.",2026,"",0,null,"5146183675","Oui","8773431030","tpereira@germainhotels.com","Oui","Oui","Oui","Non",null,0,"www.germainhotels.com/fr/hotel-alt/quartier-dix30",null,null,"Non",null,16,"Oui","3363854491",null,"Oui","Oui","Oui",null,null,null,"Oui","90110000","Oui","","Oui",null,null,"Oui","Non","Non","Non","213","Les tarifs sont pour une chambre standard avec un grand lit ou un très grand lit. Les groupes sont définis comme étant 10 chambres ou plus par nuit ou 25 nuitées cumulatives.veuillez communiquer avec l’hôtel pour plus de détails.","reservations.altdix30@germainhotels.com","221933","Oui","","21-22-23-24 mai; 31 juillet; 1-2 août; 24-25-26 septembre"]
["11-0009","St-Germain, Le","923815454-0023","*RIMOUSKI",null,"HÔTEL LE SAINT-GERMAIN","126, rue de Vimy","RIMOUSKI","G5L3J6","4187249000",null,"Adam Dumais","Garantie en tout temps avec c.d.c  ou réservation avec le formulaire d'hébergement du gouvernement.","Sans frais jusqu’à 24 h avant l'arrivée",25,"accès à Internet gratuitement dans tout l'établissementLes tarifs indiqués sont pour les chambres standards.",2026,"1 salle pour une capacité de 12 personnes / prix à déterminer 200$",0,null,"4187403854","Oui","8557243090","adumais@hotellestgermain.com","Oui","Oui","Oui","Non",null,null,"www.hotellestgermain.com",null,null,"Non",null,1,"Oui","1161843850",null,"Non","Oui","Non",null,null,null,"Oui","90110000","Non","","Oui",null,null,"Non","Oui","Non","Non","","","info@hotellestgermain.com","229143","Non","",""]
["16-0001","Petit Manoir du Casino inc., Le","923815454-0024","*LA MALBAIE",null,"HÔTEL ET PAVILLONS LE PETIT MANOIR DU CASINO","525, chemin des Falaises","LA MALBAIE","G5A2V5","4186650000",null,"Laurie Breton","Preuve d'identité à l'emploi du gouvernement est obligatoire. Confirmation de réservation par formulaire d'hébergement du gouvernement","Sans frais 48 h avant le jour de l'arrivée",190,"Accés Internet gratuitement dans tout l'établissement.  Stationnement avec borne électrique disponible.Tarifs non disponible :22 mai, 24 juin, 1er juillet, 2 septembre,  3-4 septembre, 9 octobre , 11 novembre, 25-26 décembre",2026,"",null,null,"4186650000","Non","8006182112","ventes@petitmanoirducasino.ca","Oui","Oui","Oui","Non",null,null,"https://petitmanoirducasino.ca/",null,null,"Non",null,3,"Oui","1140297764",null,"Non","Oui","Non",null,null,null,"Non","90110000","Oui","","Oui",null,null,"Oui","Non","Non","Non","8059","","info@petitmanoirducasino.ca","221364","Oui","",""]
["01-0022","Hôtel Palace Royal inc.","923815454-0025","*QUÉBEC",null,"HÔTEL PALACE ROYAL","775, avenue Honoré-Mercier","QUÉBEC","G1R6A5","4186942000",null,"Stéphane Marcoux  /  Marylène Labrie","Garantie en tout temps avec c.d.c. ou réservation par télécopieur avec le formulaire d'hébergement du gouvernement.  Preuve d'identité à l'emploi du gouvernement exigée si aucune facturation directe","Avant 16:00 la veille de l'arrivée.",234,"Chambres munies d'un réfrigérateur et micro-ondes.  Supplément applicable pour les chambres de catégorie supérieure et pour les personnes additionnelles.  Tarif non applicable lors de certaines dates ou d'événements spéciaux.",2026,"9 salles de réunion/réception pouvant accueillir de 5 à 350 personnes.",0,null,"4186585665","Oui","8005675276","smarcoux@hotelsjaro.com  /  mlabrie@hotelsjaro.com","Oui","Oui","Oui","Oui",4.95,0,"www.hotelsjaro.com/palace-royal",null,null,"Non",25,3,"Oui","1148383277",null,"Oui","Non","Non",21,28,0,"Oui","90110000","Oui","","Non",21,28,"Oui","Non","Non","Non","2552","Marylène Labrie (418) 380-2580 P.2556","reservation@hotelsjaro.com","160705","Non","","10-11 octobre , 24-25-26-27-28-29-30-31 décembre 2025",26]
["02-0011","Hilton Lac Leamy","923815454-0026","*GATINEAU",null,"HILTON LAC-LEAMY","3, boulevard du Casino","GATINEAU","J8Y6X4","8197906444",null,"Francois Cormier","Garantie en tout temps avec c.d.c ou réservation avec le formulaire gouvernemental, preuve d'identité à l'emploi exigée si aucune facturation directe","Sans frais 24 heures avant le jour de l'arrivée",349,"Stationnement extérieur et Wi-Fi sans frais,Tarif applicable pour déplacements d'affaires, non applicable les vendredis, samedis, 1 juillet et 31 décembre.  Supplément pour chambres de catégorie supérieure et pour les personnes additionnelles",2026,"",0,null,"8197724048","Oui","8664887888","francois.cormier@casino.qc.ca","Oui","Oui","Non","Non",null,0,"https://www.hilton.com/fr/hotels/yowovhf-hilton-lac-leamy",null,null,"Non",null,7,"Oui","1144329985",null,"Non","Oui","Non",20,20,0,"Oui","90110000","Oui","","Oui",null,null,"Oui","Non","Oui","Oui","","Francois Cormier cell. (819)213-1190","reservations@hiltonlacleamy.com","176702","Oui","",""]
["97-0259","Hôtel Le Président","923815454-0027","*SHERBROOKE",null,"HÔTEL LE PRÉSIDENT","3535, rue King Ouest","SHERBROOKE","J1L1P8","8195632941",null,"Eric Faust","Formulaire de réservation gouvernemental obligatoire","Sans frais jusqu'à 16 h le jour de l'arrivée, sinon des frais d'une nuitée pourraient s’appliquer",117,"Tarif de groupes (8 chambres ou plus) et Colloque, congrès ou autres tarif non applicables.Samedis de juillet et août et le premier samedi de septembre non admissible.",2026,"",0,null,"8195632941","Oui","8003632941","dg@hotel-le-president.com","Oui","Oui","Oui","Non",null,null,"www.hotel-le-president.com",null,null,"Non",15,5,"Oui","1166243452",null,"Non","Oui","Non",null,null,null,"Oui","90110000","Oui","","Oui",null,null,"Non","Oui","Non","Non","801","819-342-0197 cell Eric Faust","reservations@hotel-le-president.com","058100","Non","",""]
["04-0002","Hôtel Motel La Différence","923815454-0028","*SAINTE-MARIE",null,"HÔTEL-MOTEL LA DIFFÉRENCE","425, route Cameron","SAINTE-MARIE","G6E1B1","4183877835",null,"Jimmy Roy","Une carte de crédit est exigée pour réserver une chambre. Une pièce d'identité avec photo ainsi qu'une carte de crédit valide sera requis au moment de l'arrivée.","Annulation à moins de 24 heures de l'arrivée sans frais",52," ",2026,"",0,null,"4182098230","Non","8008384061","jroy@chotel.ca","Oui","Oui","Oui","Non",0,0,"hotelladifference.com",null,null,"Non",null,12,"Non","1172714538",null,"Non","Oui","Non",0,0,null,"Non","90110000","Non","","Oui",null,null,"Non","Non","Non","Non","","","info@mhotelladifference.com","006414","Non","",""]
["07-0006","Super 8 Hôtel Trois-Rivières TM","923815454-0029","*TROIS-RIVIÈRES",null,"HÔTEL SUPER 8 TROIS-RIVIÈRES","3185, boulevard Saint-Jean","TROIS-RIVIÈRES","G9B2M4","8193775881",null,"Anthony Beauregard/ Pamela Kazmierczak","Garantie en tout temps avec c.d.c. réservation par courriel avec le formulaire d'hébergement du gouvernement, preuve d'identité à l'emploi si aucune facturation directe","Sans frais jusqu’à 24 h avant l'arrivée",77,"Déjeuner continental inclus",2026,"1 salle capacité 30 personnes",0,null,"8193775881","Oui","8889985881","gm@super8troisrivieres.com","Oui","Oui","Oui","Non",null,null,"www.super8troisrivieres.com",null,null,"Oui",15,4,"Oui","1166534694",null,"Non","Oui","Non",null,null,null,"Oui","90110000","Oui","","Oui",null,null,"Non","Oui","Non","Non","","","gm@super8troisrivieres.com","220334","Non","",""]
["07-0005","Super 8 Hôtel Ste-Agathe-des-Monts TM","923815454-0030","*STE-AGATHE-MON",null,"SUPER 8 SAINTE-AGATHE","500, rue Léonard","SAINTE-AGATHE-DES-MONTS","J8C0A3","8193248880",null,"Kim Buffit / Pamela Kazmierczak","Garantie en tout temps avec c.d.c.ou réservation par télécopieur avec formulaire d'hébergement du gouvernement. Une preuve d'identité à l'emploi du gouvernement est obligatoire","Sans frais jusqu’à 24 h avant l'arrivée",73,"Déjeuner continental inclus",2026,"1 salle capacité de 30 personnes",0,null,"8193248880","Oui","8665279206","gm@super8steagathe.com","Oui","Oui","Oui","Non",null,null,"www.super8steagathe.com",null,null,"Oui",15,15,"Oui","1166534983",null,"Non","Oui","Non",null,null,null,"Oui","90110000","Oui","","Oui",null,null,"Non","Oui","Non","Non","","","gm@super8steagathe.com","219321","Non","",""]
["17-0001","Hotel Super 8 Mont-Laurier","923815454-0031","*MONT-LAURIER",null,"HÔTEL SUPER 8 MONT-LAURIER","110, boulevard Albiny-Paquette","MONT-LAURIER","J9L1J1","8194993888",null,"Jonathan Sabourin","Aucune condition applicable","Sans frais jusqu' à 12 h le jour de l'arrivée",56,"",2026,"1 salle pour une capacité de 40 personnes / prix à déterminer",null,null,"8194993888","Non","","dg@super8mont-laurier.com","Oui","Oui","Non","Non",null,2,"www.super8mont-laurier.com",null,null,"Oui",null,15,"Oui","1164095169",null,"Non","Oui","Non",null,null,null,"Non","90110000","Non","","Oui",0,0,"Oui","Oui","Oui","Non","","819 440-9440 cell Jonathan Sabourin","dg@super8mont-laurier.com","523213","Oui","",""]
["10-0004","Hôtel Must","923815454-0032","*ANCIENNE-LORET",null,"HÔTEL MUST","1345, route de l'Aéroport","L'ANCIENNE-LORETTE","G2G1G5","4183806875",null,"Isabelle Pelletier","Garantie en tout temps avec c.d.c. ou le formulaire d'hébergement du gouvernement, (facturation directe)","Avant 16:00 la veille de l'arrivée.",179,"Tarif non applicable pour les groupes de 8 chambres.  Tarif non applicable sur les chambres de type loft et les suites",2026,"2 salles de réunion pouvant accueillir de 10 à 100 personnes",0,null,"4183806875","Oui","8005675276","ipelletier@hotelsjaro.com","Oui","Oui","Oui","Oui",4.95,null,"https://www.hotelsjaro.com/must",null,null,"Oui",null,3,"Oui","1143920560",null,"Oui","Oui","Oui",null,null,null,"Oui","90110000","Oui","","Oui",null,null,"Non","Oui","Non","Non","4554","","reservation@hotelsjaro.com","222760","Non","","1 janvier, 7-28 février, 7 mars, 16 mai, 5-6 septembre, 10 octobre, 31 décembre"]
["02-0013","Best Western [MC] Laval-Montréal","923815454-0033","*LAVAL",null,"BEST WESTERN (MC) LAVAL-MONTRÉAL","3655, autoroute des Laurentides","LAVAL","H7L3H7","4506819000",null,"Veshna Nellaya","Garantie en tout temps avec c.d.c ou réservation avec le formulaire gouvernemental","24 hrs avant l'arrivée",80,"",2026,"3 salles",0,null,"4506819000","Oui","8007807234","veshna@bwlaval.com","Oui","Oui","Oui","Non",null,null,"www.bestwesternlavalhotel.com",null,null,"Oui",null,13,"Oui","1174836040",null,"Non","Oui","Non",null,null,null,"Oui","90110000","Oui","","Oui",null,null,"Non","Oui","Non","Oui","408","","direction@bwlaval.com","510845","Non","",""]
["08-0019","Super 8 Hôtel St-Jérôme TM","923815454-0034","*ST-JÉRÔME",null,"HÔTEL SUPER 8 ST-JÉRÔME","3, rue Jonh-F.- Kennedy","SAINT-JÉRÔME","J7Y4B4","4504384388",null,"Judyann L. Chaussé / Pamela Kazmierczak","Garantie en tout temps avec c.d.c ou réservation avec le formulaire gouvernemental, preuve d'identité à l'emploi exigée si aucune facturation directe","Sans frais jusqu'à 24h avant l'arrivée",80,"Déjeuner continental inclus",2026,"1 à  2 salles jusqu'à  40 personnes / prix à déterminer",0,null,"4504384388","Oui","8888688604","gm@super8stjerome.com","Oui","Oui","Oui","Non",null,null,"www.super8stjerome.com",null,null,"Oui",15,15,"Oui","1166534777",null,"Non","Oui","Non",null,null,null,"Oui","90110000","Oui","","Oui",null,null,"Non","Oui","Non","Non","","","gm@super8stjerome.com","221485","Non","",""]
["17-0003","Marriott Courtyard Québec MC (7922981 Canada inc.)","923815454-0035","*QUÉBEC",null,"MARRIOTT COURTYARD QUÉBEC","900, rue des Rocailles","QUÉBEC","G2J1A5","4183802700",null,"Marilène Moffet","Garantie en tout temps avec c.d.c. ou réservation avec le formulaire d'hébergement du gouvernement","Sans frais jusqu'à 24 h avant le jour de l'arrivée",160,"Tarifs non applicable pour réservations de groupe (8 chambres ou plus). Tarifs non applicable lors d'événement colloque, congrès ou autres. Dates (10) tarifs non offerts : 1, 8, 15, 22, 29 juillet 2023, 5, 12, 19 août 2023 et 2 septembre 2023",2026,"5 salle(s) avec fenêtres et sans colonnes pour une capacité de 150 personnes / prix variables",null,null,"4183802700","Oui","","marilene.moffet@marriott.com","Oui","Oui","Oui","Non",null,null,"www.marriott.com/yqbcq",null,null,"Non",null,3,"Oui","1167537803",null,"Non","Oui","Non",null,null,null,"Oui","90110000","Oui","","Oui",0,0,"Oui","Non","Non","Oui","5203","","courtyard.reception@outlook.com","294299","Non","",""]
["09-0035","Super 8 hôtel Lachenaie Terrebonne TM","923815454-0036","*TERREBONNE",null,"SUPER 8 LACHENAIE","1155, rue  Yves-Blais","TERREBONNE","J6V0A9","4505828288",null,"Martine Desjardins/ Pamela Kazmierczak","Garantie en tout temps avec c.d.c ou réservation avec le formulaire gouvernemental, preuve d'identité à l'emploi exigée si aucune facturation directe","Sans frais jusqu'à 24h avant l'arrivée",81,"Déjeuner continental inclus",2026,"2 salles capacité de 30 personnes / prix à déterminer",0,null,"4505828288","Oui","8008008000","gm@super8lachenaie.com","Oui","Oui","Oui","Non",null,null,"www.super8lachenaie.com",null,null,"Oui",15,14,"Oui","1166534850",null,"Non","Oui","Non",null,null,null,"Oui","90110000","Oui","","Oui",null,null,"Non","Oui","Non","Non","","","gm@super8lachenaie.com","221486","Non","","21-22-23-24 mai, 31 juillet, 1-2-8-9 août"]
["17-0012","Fairmont Le Reine Elizabeth (002)","923815454-0037","*MONTRÉAL",null,"FAIRMONT LE REINE ÉLIZABETH","900,  boulevard René-Lévesque Ouest","MONTRÉAL","H3B4A5","5148613511",null,"Charlotte Bassut","Garantie avec c.d.c. jusqu'à 24 heures le jour avant l'arrivée.  Une preuve d'identité à l'emploi du gouvernement est obligatoire exigée si aucune facturation directe.","Sans frais jusqu'à 24 heures avant l'arrivée.",950,"Dates excluses : 19 et 20 mai, 15 au 18 juin, 28 et 30 juillet et 1 et 2 septembre.",2026,"",null,null,"5149542285","Oui","8665404483","charlotte.bassut@fairmont.com","Oui","Oui","Oui","Oui",15,null,"www.fairmont.com/queenelizabeth",null,null,"Non",null,6,"Oui","3364819774",null,"Oui","Non","Non",35,39,null,"Oui","90110000","Oui","","Non",null,null,"Oui","Oui","Oui","Oui","","","qeh.reservations@fairmont.com","519816","Oui","","15-17-21-22-23-24 mai, 31 juillet, 1er août, 5-6 septembre",37]
["19-0009","Hôtel Terrasse Royale","923815454-0038","*MONTRÉAL",null,"HÔTEL TERRASSE ROYALE","5225, chemin de la Côte-des-Neiges","MONTRÉAL","H3T1Y1","5147396391",null,"Jennifer Ezril","Aucune condition","Aucune condition applicable",44,"",2026,"",null,null,"5147396391","Oui","8005670804","info@terrasse-royale.com","Oui","Oui","Oui","Non",null,12,"https://terrasse-royale.com",null,null,"Non",null,6,"Non","1172381239",null,"Oui","Non","Oui",20,null,null,"Non","90110000","Non","","Non",null,null,"Non","Non","Non","Non","","","info@terrasse-royale.com","526470","Non","","Osheaga & Grand Prix de Montréal."]
["19-0012","Courtyard Marriott Hotel Montréal West Island/Baie D'Urfé","923815454-0039","*BAIE URFÉ",null,"HÔTEL COURTYARD MONTRÉAL MARRIOTT BAIE D'URFÉ","20000, autoroute Transcanadienne","BAIE D'URFÉ","H9X0B3","5146748000",null,"Stacey Liberopoulos","Garantie en tout temps avec c.d.c  ou réservation avec le formulaire gouvernemental","Sans frais jusqu’à 48 h avant l'arrivée",140,"Dates excluses :14 au 19 juin, 4 et 5 août 2023",2026,"",null,null,"5146748017","Oui","","sliberopoulos@rosdevhotels.com","Oui","Oui","Non","Non",null,null,"www.marriott.com/YULBD",null,null,"Non",null,6,"Oui","1149167562",null,"Non","Oui","Non",null,null,null,"Oui","90110000","Non","","Oui",null,null,"Oui","Oui","Oui","Oui","5002","","info@marriottyul.com","291616","Non","","21-22-23-24 Mai, 31 juilet, 1 aout, 25-26-27 septembre"]
["19-0018","Motel Adam (8752362 Canada Inc.)","923815454-0040","*GATINEAU",null,"MOTEL ADAM","100, boulevard Gréber","GATINEAU","J8T3P8","8195613600",null,"Daniel Boudjok","Formulaire de réservation gouvernemental obligatoire","Sans frais jusqu'à 24 heures avant le jour de l'arrivée, sinon des frais d'une nuitée pourraient s’appliquer",104,"Dates excluses :",2026,"",null,null,"8195613600","Oui","8007572326","daniel@moteladam.com","Oui","Oui","Oui","Non",null,1,"www.moteladam.com",null,null,"Oui",10,7,"Oui","1169760239",null,"Non","Oui","Non",null,null,null,"Non","90110000","Non","","Oui",null,null,"Non","Oui","Non","Non","","","info@moteladam.com","576730","Non","","15-16-17-22-23 mai, 23-30 juin, 4-5-6 septembre"]
["19-0023","Auberge du Port","923815454-0041","*CAP-AUX-MEULES",null,"AUBERGE DU PORT","40, chemin Principal","CAP-AUX-MEULES","G4T1B9","4189864477",null,"Claude Thériault","Réservation par courrier électronique ou par téléphone","Sans frais jusqu’à 48 h avant l'arrivée",27,"",2026,"",null,null,"5813088687","Oui","","info@aubergeduport.ca","Oui","Non","Oui","Non",null,null,"www.aubergeduport.ca",null,null,"Non",null,11,"Oui","1168078617",null,"Non","Oui","Non",null,null,null,"Oui","90110000","Non","","Oui",null,null,"Non","Oui","Non","Non","","Claude Thériault Cell. (581)308/8687","info@aubergeduport.ca","055882","Oui","",""]
["21-0008","Hotel Escad Quartier DIX30 (Hac Square s.e.c.)","923815454-0042","*BROSSARDJ4Y0L2",null,"HOTEL ESCAD QUARTIER DIX30","1020 rue du Lux","BROSSARD","J4Y0L2","4505009156",null,"Tiffany Pereira","Preuve d'identité à l'emploi du gouvernement ou formulaire de réservation gouvernemental","Sans frais jusqu' à 16 h le jour de l'arrivée, sinon des frais d'une nuitée seront facturés",168,"Dates excluses : 15-16-17-18 juin, 28-29 juillet 4-5-6 août. Stationnement avec borne électrique disponible. Enregistrement à compter de 15h.",2026,"",null,null,"5146183675","Oui","8337439156","tpereira@germainhotels.com","Oui","Oui","Oui","Non",null,null,"https://www.germainhotels.com/en/escad-hotel/quartier-dix30",null,null,"Non",null,16,"Oui","3371750475",null,"Oui","Oui","Oui",null,null,null,"Oui","90110000","Oui","","Oui",null,null,"Oui","Non","Non","Non","","Les tarifs sont pour une chambre standard avec un grand lit ou un très grand lit. Les groupes sont définis comme étant 10 chambres ou plus par nuit ou 25 nuitées cumulatives.veuillez communiquer avec l’hôtel pour plus de détails.","reservations.escaddix30@germainhotels.com","297223","Oui","","21-22-23-24 mai, 31 juillet,1-2 août; 24-25-26 septembre"]
["21-0010","Hampton Inn & Suites par Hilton Québec/Beauport MC","923815454-0043","*QUÉBEC",null,"HAMPTON INN & SUITES PAR HILTON QUÉBEC / BEAUPORT","730, rue d'Éverell","QUÉBEC","G1C0N2","4186639555",null,"Kathleen Bélanger","Formulaire de réservation gouvernemental obligatoire","Sans frais jusqu’à 24 h avant l'arrivée",88,"Non applicable aux tarifs de groupes de plus de 8 chambres",2026,"",null,null,"5819095720","Oui","8336639555","kathleen.belanger@hilton.com","Oui","Oui","Non","Non",null,null,"www.beauportquebec.hamptonbyhilton.com",null,null,"Oui",null,3,"Oui","3371829774",null,"Non","Oui","Non",null,null,null,"Oui","90110000","Non","","Oui",null,null,"Non","Oui","Non","Non","","","hamptoninnbeauport@logisco.com","298793","Oui","",""]
["21-0012","Hôtel la Saguenéenne","923815454-0044","*CHICOUTIMI",null,"HÔTEL LA SAGUENÉENNE","250, rue des Saguenéens","CHICOUTIMI-SAGUENAY","G7H3A4","4185458326",null,"Isabel Deshaies","Formulaire de réservation gouvernemental obligatoire","Sans frais jusqu’à 24 h avant l'arrivée",118,"Chambre(s) munies d'un réfrigérateur et micro-ondes",2026,"",null,null,"4185438326","Oui","8004618390","isabel.deshaies@lasagueneenne.com","Oui","Oui","Oui","Non",null,null,"www.lasagueneenne.com",null,null,"Non",null,2,"Oui","1148313217",null,"Non","Oui","Non",null,null,null,"Oui","90110000","Non","","Oui",null,null,"Oui","Oui","Oui","Oui","2803","(418) 545-9663 Poste 2803 / 2821","info@lasagueneenne.com","008750","Oui","",""]
["21-0014","Hôtel Monville","923815454-0045","*MONTRÉAL",null,"HÔTEL MONVILLE","1041, rue de Bleury","MONTRÉAL","H2Z1M7","5143792000",null,"Samanta Cecchini","Au-delà de 9 chambres par soir, des tarifs groupe sont appliqués","Sans frais avant 15 h, la veille de l’arrivée.",269,"Tarif non-disponible lors du Grand Prix et lors du festival Osheaga.",2026,"",null,null,"5143792006","Oui","8445452001","scecchini@hotelmonville.com","Oui","Oui","Oui","Non",null,null,"https://www.hotelmonville.com/",null,null,"Non",null,6,"Oui","3371863344",null,"Oui","Non","Non",13,17,null,"Non","90110000","Oui","","Non",null,null,"Oui","Oui","Non","Non","5544","","reservations@hotelmonville.com","295871","Oui","","",35]
["21-0015","Quality Inn & Suites Mont-Joli","923815454-0046","*MONT-JOLI",null,"QUALITY INN & SUITES MONT-JOLI","1015 boulevard Jacques-Cartier","MONT-JOLI","G5H2S5","4184768402",null,"Marie-Christine Nadeau","Garantie en tout temps avec c.d.c ou réservation avec le formulaire gouvernemental, preuve d'identité à l'emploi exigée si aucune facturation directe","Sans frais jusqu'à midi le jour de l'arrivée",58,"",2026,"4 salle(s) pour une capacité de 80 personnes maximum  / prix à déterminer",null,null,"4184768402","Oui","8336666669","dg@qualityinnmont-joli.com","Oui","Oui","Oui","Non",null,12,"qualityinnmont-joli.com",null,null,"Oui",null,11,"Oui","1173628521",null,"Non","Oui","Non",null,null,null,"Oui","90110000","Non","","Oui",null,null,"Oui","Non","Oui","Oui","4000","Marie-Christine Nadeau Cell, (418)509-8843","info@qualityinnmont-joli.com","299477","Oui","","25-26-27-28-29-30-31 juillet et 1-2-3 août"]
["21-0018","Rodeway Inn Pikogan","923815454-0047","*AMOS",null,"RODEWAY INN","2311, Route 109 Nord","Amos","J9T3A3","8197303939",null,"Megan Mcdougall","Formulaire de réservation gouvernemental obligatoire","Sans frais jusqu'à 16h le jour de l'arrivée, sinon des frais d'une nuitée pourraient s'appliquer",36,"",2026,"",null,null,"8737303939","Oui","8737303939","Megan.mcdougall@rodewayinnamos-pikogan.com","Oui","Oui","Oui","Non",null,null,"http://rodewayinnamos-pikogan.com/",null,null,"Oui",null,8,"Oui","1173672248",null,"Non","Oui","Non",null,null,null,"Oui","90110000","Non","","Oui",null,null,"Non","Oui","Oui","Oui","","Déjeuner complet chaud inclus dans le prix avec un espace piscine, buanderie et gym.","Info@rodewayinnamos-pikogan.com","300313","Non","",""]
["22-0001","Hôtel HHW Centre-Ville Montréal inc.","923815454-0048","*MONTRÉALH2Z1J4",null,"HAMPTON PAR HILTON MONTRÉAL CENTRE-VILLE","985, Boulevard St-Laurent","MONTRÉAL","H2Z1J4","5143707777",null,"Karine Huard","Garantie en tout temps avec c.d.c  ou réservation avec le formulaire d'hébergement du gouvernement.","Sans frais jusqu' à 48 h avant l'arrivée",176,"",2026,"",null,null,"5143707777","Oui","","karine.huard@hilton.com","Oui","Oui","Oui","Non",null,null,"https://www.hiltonhotels.com/fr_FR/canada/hampton-montreal-downtown/",null,null,"Oui",null,6,"Oui","1173251688",null,"Oui","Non","Non",33,33,null,"Oui","90110000","Non","","Non",null,null,"Oui","Non","Oui","Oui","","Catherine Germain cell. (514)618-2110","yulmoreception@hilton.com","307224","Oui","","21-22-23-24 mai, 3-4-5 juillet 11-18-25 juillet, 1-8-15-22-29 août, 5 septembre 2026",28]
["23-0016","Plumard couette et café, Le","923815454-0049","*LÉVIS",null,"LE PLUMARD COUETTE ET CAFÉ","5865, rue Saint-Georges","LÉVIS","G6V4K9","4188354574",null,"Tony Lavoie","Garantie en tout temps avec c.d.c  ou réservation avec le formulaire gouvernemental","Sans frais 48h avant l'arrivée. Annulation la veille: 50% d'une nuit. Annulation le jour même: 100% d'une nuit.",4,"",2026,"",null,null,"4188354574","Oui","8778356351","leplumard@hotmail.com","Oui","Oui","Oui","Non",null,2,"www.leplumard.ca",null,null,"Oui",null,12,"Non","3376824614",null,"Non","Oui","Non",null,null,null,"Oui","90110000","Non","","Oui",null,null,"Non","Non","Non","Non","","","leplumard@hotmail.com","191881","Non","",""]
["23-0023","Lofts hôtel Gaspésie","923815454-0050","*GASPÉSIE",null,"LOFTS HÔTEL GASPÉSIE","190, rue des Chevaliers","SAINTE-ANNE-DES-MONTS","G4V3J2","4187631308",null,"Mario Bellemare","Garantie en tout temps avec c.d.c ou réservation avec le formulaire gouvernemental","Sans frais : 24 hrs avant l’arrivée",null,"",2026,"",null,null,"4187631308","Non","","mario@loftshotelgaspesie.com","Oui","Oui","Oui","Non",null,15,"www.loftshotelgaspesie.com",null,null,"Non",null,11,"Oui","1174473422",null,"Non","Oui","Non",null,null,null,"Oui","90110000","Oui","","Oui",null,null,"Non","Oui","Non","Non","","","info@loftshotelgaspesie.com","300287","Oui","",""]
["24-0023","Hôtel Logisco S.E.C.","923815454-0051","*Lévis",null,"HAMPTON INN & SUITES PAR HILTON QUÉBEC / LÉVIS","950 rue de la Concorde, route 302","LÉVIS","G6W8A8","4188394888",null,"Kathleen Belanger","Garantie en tout temps avec c.d.c  ou réservation avec le formulaire gouvernemental","Sans frais jusqu’à 24 h avant l'arrivée",99,"",2026,"",null,null,"4188394888","Oui","","kathleen.belanger@hilton.com","Oui","Oui","Oui","Non",null,null,"https://www.hilton.com/fr/book/reservation/rooms/?ctyhocn=YQBSR",null,null,"Oui",null,12,"Oui","3371829774",null,"Oui","Oui","Non",null,null,null,"Oui","90110000","Non","","Oui",0,0,"Oui","Non","Oui","Oui","","581 849-7447 cell","hamptoninnlevis@logisco.com","293985","Oui","","",12]
["23-0030","Fortier, Nathalie (hôtels et auberges routières)","923815454-0052","*CAPLANG0C",null,"AUBERGE CAP CHALEURS","253 Boul Perron Ouest","CAPLAN","G0C1H0","4183881199",null,"Nathalie Fortier","Réservation par courrier électronique ou par téléphone.","sans frais jusqu'à 60 jours avant l'arrivée",4,"",2026,"",null,null,"4183881199","Non","","nfortier@aubergecapchaleurs.com","Oui","Oui","Non","Non",null,null,"aubergecapchaleurs.com",null,null,"Oui",150,11,"Non","2277127272",null,"Non","Oui","Non",null,null,null,"Non","90110000","Non","","Oui",null,null,"Non","Non","Non","Non","","Cellulaire 514-264-7895","reserve@aubergecapchaleurs.com","197481","Non","",""]
["24-0011","Auberge l'Amarré inc.","923815454-0053","*MONT-LOUIS",null,"AUBERGE L'AMARRÉ","30 1re Avenue E","SAINT-MAXIME-DU-MONT-LOUIS","G0E1T0","4187972323",null,"Julie Asselin","Réservation par courrier électronique ou par téléphone","Sans frais jusqu'à 48 h avant l'arrivée.",10,"",2026,"",null,null,"4187972323","Oui","8448674319","cafelamarre@gmail.com","Oui","Oui","Oui","Non",null,null,"www.aubergelamarre.com",null,null,"Non",null,11,"Non","1171798870",null,"Non","Oui","Non",null,null,null,"Oui","90110000","Oui","","Oui",0,0,"Non","Non","Non","Non","","","cafelamarre@gmail.com","221611","Oui","",""]
["24-0019","Travelodge Rigaud","923815454-0054","*RIGAUD",null,"TRAVELODGE RIGAUD","50 Rue Saint-Jean-Baptiste Ouest","RIGAUD","J0P1P0","4504514726",null,"Ryan Dou","Garantie en tout temps avec c.d.c (carte de crédit)","Sans frais jusqu’à 48 h avant l'arrivée",38,"",2026,"",null,null,"4504514726","Oui","","travelodgerigaud@gmail.com","Oui","Oui","Oui","Non",null,2,"",null,null,"Oui",20,16,"Oui","1173517872",null,"Non","Oui","Non",null,null,null,"Oui","90110000","Oui","","Oui",0,0,"Non","Oui","Non","Non","","","travelodgerigaud@gmail.com","623604","Non","",""]
["23-0029","Sens Hôtel","923815454-0055","*MONTRÉAL",null,"SENS HÔTEL","1808, rue Sherbrooke Ouest","MONTRÉAL","H3H1E5","5149336880",null,"Lisa Mercuri","Garantie en tout temps avec c.d.c. ou réservation par télécopieur avec le formulaire d'hébergement du gouvernement","Sans frais jusqu'à 16h00 le jour précédent l’arrivée, sinon des frais d'une nuitée seront facturés",108,"Dates excluses : 27 Mai, 15-16-17-18-30 & 1er Juillet, 5-6 Août 2 septembre 2023",2026,"4 salles / de 1 à 70 personnes",null,null,"5149338111","Oui","8889338111","imercuri@sensmtlversailles.com","Oui","Oui","Oui","Non",null,null,"https://www.senshotel.com/",null,null,"Non",20,6,"Oui","1148313217",null,"Oui","Oui","Non",38,45,null,"Oui","90110000","Non","","Non",24,38,"Non","Oui","Non","Oui","2609","Lisa Mercure","reservations@sensmtlversailles.com","506715","Non","","",38,38]
["97-0038","9451-7935 Québec inc.(Auberge Godefroy)","923815454-0056","*BECANCOUR",null,"AUBERGE GODEFROY","17575, boulevard Bécancour","BÉCANCOUR","G9H1A5","8192332200",null,"Katy Ruel","Aucune condition applicable","Sans frais jusqu'à 24 heures avant l'arrivée.",71,"",2026,"1 à 10 salle(s) pour une capacité de 250 personnes / prix à déterminer",0,null,"8192333516","Oui","8003611620","katy_ruel@aubergegodefroy.com","Oui","Oui","Non","Non",null,null,"www.aubergegodefroy.com",null,null,"Non",null,17,"Oui","1176999267",null,"Non","Oui","Non",null,null,null,"Oui","90110000","Oui","","Oui",null,null,"Oui","Non","Non","Non","106","","info@aubergegodefroy.com","039616","Oui","","1er janvier, 24-25-31 décembre"]
["23-0052","Home2 MC Suites par Hilton Québec","923815454-0057","*QUÉBEC",null,"HOME2 SUITES PAR HILTON QUÉBEC","7088, boulevard Wilfrid-Hamel","QUÉBEC","G2G1B5","4184781262",null,"Kathleen Belanger","Réservation avec le formulaire d'hébergement du gouvernement","24 h avant l'arrivée",107,"Pour les groupes de 8 et plus, le tarif devra être conclu avec le/la délégué(e) commercial",2026,"La première classe (A), La traversée (B), Le Terminal (A+B), l'Envol  $$$",null,null,"5819095720","Oui","8884781262","kathleen.belanger@hilton.com","Oui","Oui","Oui","Non",null,null,"https://www.hilton.com/en/hotels/yqbwhht-home2-suites-quebec-city/?cid=&WT.mc_id=&dclid=&gclid=&AWC=",null,null,"Oui",null,3,"Oui","3371829774",null,"Non","Oui","Non",null,null,null,"Non","90110000","Oui","","Oui",null,null,"Oui","Oui","Oui","Oui","","Cellulaire 418-456-2803","home2quebec@logisco.com","313352","Oui","",""]
["97-0004","DoubleTree par Hilton Pointe-Claire Montréal Aéroport Ouest","923815454-0058","*MONTRÉAL",null,"DOUBLE TREE PAR HILTON POINTE-CLAIRE MONTRÉAL AÉROPORT","6700, autoroute Transcanadienne","POINTE-CLAIRE","H9R1C2","5146977110",null,"Pamela Lawton","Garantie en tout temps avec c.d.c ou réservation avec le formulaire gouvernemental, preuve d'identité à l'emploi exigée si aucune facturation directe","Annulation 24h à l'avance",311,"Dates excluses de l'entente : GRAND PRIX 2023 , FESTIVAL DE MUSIQUE OSHEAGA 2023",2026,"",0,null,"5146977110","Oui","8003752680","pamela.lawton@eastonsgroup.com","Oui","Oui","Oui","Non",null,26,"www.hiltonhotels.com",null,null,"Non",null,6,"Oui","1167161190",null,"Non","Oui","Non",null,null,null,"Oui","90110000","Oui","","Oui",null,null,"Oui","Oui","Oui","Oui","6126","","reservations@doubletreepc.com","576531","Non","","Mai 21-22-23-24, 2026 / Juillet 31 et 1 et 2 Août, 2026 / Juin 16-17-18-19-20, 2026"]
["97-0095","9097-0377 Québec inc.","923815454-0059","*QUÉBECG1V1S5",null,"HÔTEL UNIVERSEL","2300, chemin Sainte-Foy","QUÉBEC","G1V1S5","8004634495",null,"Pascal Pineault","Aucune condition","Sans frais 24 heures avant l'arrivée",183,"Dates excluses : 10 fév, 20 mai, 1er juil, 2 et 3 sept, 6 et 7 sept, 29 au 31 déc.",2026,"",0,null,"4186535288","Non","8004634495","ppineault@hoteluniversel.qc.ca","Oui","Oui","Non","Non",null,12,"www.hoteluniversel.qc.ca",null,null,"Non",20,3,"Non","1149669682",null,"Non","Oui","Non",null,null,null,"Non","90110000","Non","","Oui",null,null,"Non","Non","Non","Non","1018","","info@hoteluniversel.qc.ca","006160","Non","","1, 8 février, 17 mai, 4-5, 11-12 juillet, 2, 30 août, 11 octobre"]
["97-0068","Hôtel Castel & Spa Confort","923815454-0060","*GRANBY",null,"HÔTEL CASTEL","901, rue Principale","GRANBY","J2G2Z5","4503789071",null,"Dominique Corbin","Garantie en tout temps avec c.d.c. ou réservation par télécopieur avec formulaire gouvernemental.","Sans frais jusqu'à midi avant le jour de l'arrivée, sinon des frais d'une nuitée pourraient s’appliquer",136,"Supplément pour les chambres côté jardin et pour les personnes additionnelles.  Tarif applicable seulement pour les déplacements d'affaires.  Tarif non applicable pour les chambres côté jardin et les suites.",2026,"",0,null,"4503789072","Oui","8003638953","D.corbin@hotelcastel.ca","Oui","Oui","Oui","Non",null,null,"www.hotelcastel.ca",null,null,"Non",50,5,"Oui","1142835405",null,"Non","Oui","Non",null,null,null,"Oui","90110000","Non","","Oui",null,null,"Oui","Oui","Oui","Oui","622","","D.corbin@hotelcastel.ca","046465","Non","",""]
["24-0036","Lofts Vieux-Québec, Les","923815454-0061","*QUEBECG1J4A1",null,"LES LOFTS DE VITRE - PAR LOFTS VIEUX-QUEBEC","1800, Avenue de Vitré","QUÉBEC","G1J4A1","4184319905",null,"Julie Jobin","Par courriel au corpo@loftsvieuxquebec.com. Bon de commande exigé. Paiement par facturation directe (virement bancaire) exigé.","Annulation sans frais 7 jours ou plus avant l’arrivée. Non remboursable par la suite si annulé ou modifié",null,"",2026,"",null,null,"4184319905","Oui","4184319905","corpo@loftsvieuxquebec.com","Oui","Oui","Non","Non",null,28,"https://loftsvieuxquebec.com/",null,null,"Non",null,3,"Oui","1169424141",null,"Non","Oui","Non",null,null,null,"Non","90110000","Non","","Non",0,0,"Non","Oui","Non","Non","","","corpo@loftsvieuxquebec.com","317449","Non","","1 janvier, 13-14 février, 26 au 31 décembre"]
["97-0045","Groupe hôtelier Grand Château inc. (Sheraton Laval)","923815454-0062","*LAVAL",null,"SHERATON LAVAL","2440, autoroute des Laurentides","LAVAL","H7T1X5","4506872440",null,"Stéphanie Lefebvre","Preuve d'emploi au gouvernement ou formulaire d'hébergement du gouvernement.","Sans frais jusqu’à 48 h avant l'arrivée",252,"tarif non applicable lors du Grand Prix et Osheaga",2026,"",0,null,"4382233856","Non","8006672440","slefebvre@sheraton-laval.com","Oui","Oui","Non","Non",null,null,"https://www.marriott.fr/hotels/travel/yulls-sheraton-laval-hotel/",null,null,"Non",null,13,"Oui","1146567954",null,"Non","Oui","Non",null,null,null,"Non","90110000","Non","","Oui",null,null,"Oui","Oui","Non","Non","","","sac@sheraton-laval.com","538322","Oui","","21-22-23-24 mai, 31 juillet, 1-2 août"]
["97-0085","Motel Royal [2016] inc.","923815454-0063","*TÉMISCOUTA-LAC",null,"MOTEL ROYAL","19, rue Saint-Louis","TÉMISCOUATA-SUR-LE-LAC","G0L1E0","4188542307",null,"Julie Fortin","Formulaire de réservation obligatoire","Sans frais 48 heures avant le jour de l'arrivée.",28,"",2026,"",0,null,"5813373334","Oui","8888542307","info@motelroyal.net","Oui","Oui","Oui","Non",null,null,"www.motelroyal.net",null,null,"Non",10,1,"Oui","1172154511",null,"Non","Oui","Non",null,null,null,"Non","90110000","Non","","Oui",null,null,"Oui","Non","Non","Non","","581-337-3334 cell","info@motelroyal.net","066544","Non","",""]
["97-0052","Hôtel Rimouski - Centre de congrès","923815454-0064","*RIMOUSKI",null,"HÔTEL RIMOUSKI ET CENTRE DES CONGRÈS","225, boulevard René-Lepage Est","RIMOUSKI","G5L1P2","4187255000",null,"Annick Deschamps","Garantie en tout temps avec carte de crédit ou formulaire officiel du gouvernement","Sans frais jusqu'à 11h le jour de l'arrivée, si non les frais de la première nuit seront facturés.",185,"",2026,"11 à 20 salles / de 5 à 1200 personnes",0,null,"4187255000","Oui","8004630755","annick.deschamps@hotelrimouski.com","Oui","Oui","Oui","Non",null,0,"www.hotelrimouski.com",null,null,"Non",null,1,"Oui","1149957103",null,"Non","Oui","Non",null,null,0,"Oui","90110000","Oui","","Oui",null,null,"Oui","Oui","Non","Non","","","hotelrim@hotelrimouski.com","027451","Oui","",""]
["97-0186","Noranda, Hôtel & Spa, Le","923815454-0065","*ROUYN-NORANDA",null,"LE NORANDA HÔTEL&SPA","41, 6e Rue","ROUYN-NORANDA","J9X1Y8","8197622341",null,"Dominic Brûlé","Aucune condition applicable","Aucune condition applicable",71,"",2026,"12 salles de réunion pour une capacité de 500 personnes / prix à déterminer",0,null,"8197622341","Oui","8665622341","dbrule@lenoranda.com","Oui","Oui","Oui","Non",null,1,"www.lenoranda.com",null,null,"Non",null,8,"Oui","1173560948",null,"Non","Oui","Non",null,null,null,"Oui","90110000","Oui","","Oui",null,null,"Non","Oui","Oui","Oui","7705","Cell:819-760-3355","reception@lenoranda.com","526816","Oui","",""]
["97-0253","Hôtel Plante","923815454-0066","*GASPÉ",null,"HÔTEL PLANTE","137, rue Jacques-Cartier","GASPÉ","G4X1M8","4183682254",null,"Marie-Claude Giasson","Formulaire de réservation gouvernemental obligatoire","Sans frais 24 heures avant l'arrivée",63,"Dates excluses : du 23-07-2023 au 05-08-2023",2026,"",0,null,"4183682254","Oui","8883682254","mcg@hotelplante.com","Non","Non","Non","Non",null,null,"www.hotelplante.com",null,null,"Non",null,11,"Oui","1170602446",null,"Non","Oui","Non",null,null,null,"Non","90110000","Non","","Oui",null,null,"Oui","Non","Non","Non","173","","info@hotelplante.com","000265","Oui","",""]
["97-0159","Auberge Royal Versailles","923815454-0067","*MONTRÉAL",null,"AUBERGE ROYAL VERSAILLES","7200, rue Sherbrooke Est","MONTRÉAL","H1N1E7","5142561613",null,"Tony Santaniello","Preuve d'identité à l'emploi du gouvernement est obligatoire.","Sans frais jusqu'à 16 h le jour de l'arrivée",132,"Dates excluses : 15-16-17-18 juin et 1er au 5 juillet et 4 au 6 août",2026,"4 salles / 20 a 200 pers",0,null,"5142561613","Oui","8888321416","info@royalversailles.com","Oui","Oui","Oui","Non",null,null,"www.royalversailles.com",null,null,"Oui",null,6,"Non","1146357497",null,"Non","Oui","Non",null,null,null,"Oui","90110000","Non","","Oui",null,null,"Non","Non","Non","Non","279","","info@royalversailles.com","576984","Non","",""]
["97-0313","Hôtel MOCO","923815454-0068","*VALLEYFIELD",null,"HÔTEL MOCO","40, avenue du Centenaire","SALABERRY-DE-VALLEYFIELD","J6S3L6","4503731990",null,"Émilie Raby","Garanti en tout temps avec c.d.c  ou réservation par télécopieur avec le formulaire d'hébergement du gouvernement. Preuve d'identité à l'emploi du gouvernement exigée si aucune facturation directe","Sans frais 48 h avant le jour de l'arrivée",124,"Dates excluses : 13-14-15 juil., 18-19 août, 1-4 sept., 24-25-31 déc.",2026,"",0,null,"4503731990","Oui","","ventes@hotelmoco.ca  /  emilie.raby@hotelmoco.ca","Oui","Oui","Oui","Non",null,3,"www.hotelmoco.ca",null,null,"Non",null,16,"Oui","1174473315",null,"Non","Oui","Non",null,null,null,"Non","90110000","Non","","Oui",null,null,"Oui","Non","Oui","Non","7272","emilie.raby@hotelmoco.ca  frederick.meilleur@hotelmoco.ca","reception@hotelmoco.ca","514021","Non","","10-11-12-13 juillet"]
["97-0281","Hôtel Château Laurier Québec","923815454-0069","*QUÉBEC",null,"HÔTEL CHÂTEAU LAURIER QUÉBEC","1220, Place George-V Ouest","QUÉBEC","G1R5B8","4185223848",null,"Ayad Ayoub  /  Catherine Chéruet","Garantie en tout temps avec c. d. c. ou réservation par télécopieur avec le formulaire d'hébergement du gouvernement. Une preuve d'identité à l'emploi du gouvernement est obligatoire","Sans frais jusqu'à 24 h avant l'arrivée",271,"",2026,"1 à 10 salle(s) pour une capacité de 300max personnes / prix à déterminer",0,null,"4185223848","Oui","8668229222","ayadayoub@vieuxquebec.com  /  catherinecheruet@vieuxquebec.com","Oui","Oui","Oui","Non",null,null,"www.hotelchateaulaurier.com",null,null,"Non",25,3,"Oui","1140195075",null,"Oui","Non","Non",25,29,null,"Oui","90110000","Oui","","Non",null,null,"Oui","Oui","Non","Non","1684","","reservation@vieuxquebec.com","067734","Oui","","8-15 février,3-13 juillet,1-29 août, 11-12 septembre, 30-31 décembre",25]
["97-0058","Motel Grand-Pré inc.","923815454-0070","*BONAVENTURE",null,"MOTEL GRAND-PRÉ","118, avenue Grand-Pré","BONAVENTURE","G0C1E0","4185342053",null,"Murong Li/Changqing Liu","Garantie en tout temps avec le formulaire d'hébergement du gouvernement.","Sans frais 24h avant l'arrivée",38,"",2026,"1 salle de 25 personnes / prix à discuter",0,null,"4185342053","Oui","8004632053","info@motelgrandpre.com","Oui","Oui","Oui","Non",null,null,"www.motelgrandpre.com",null,null,"Non",null,11,"Oui","1143229194",null,"Non","Oui","Non",null,null,null,"Oui","90110000","Non","","Oui",null,null,"Oui","Oui","Non","Non","","Cellulaire 418-391-2080","info@motelgrandpre.com","058262","Non","",""]
["03-0035","Square Phillips, Hôtel & Suites, Le","923815454-0071","*MONTRÉAL",null,"LE SQUARE PHILLIPS HÔTEL & SUITES","1193, place Phillips","MONTRÉAL","H3B3C9","5143931193",null,"Geneviève Beaumier","Garantie en tout temps avec c.d.c ou réservation avec le formulaire gouvernemental, preuve d'identité à l'emploi exigée si aucune facturation directe","Sans frais jusqu'à 24 h avant le jour de l'arrivée, sinon des frais d'une nuitée seront facturés",164,"Ces tarifs ne sont pas valide durant les dates suivantes: Grand Prix de Montréal : 15 au 18 juin, 2023, Festival d'Oshéaga: 3 au 6 août, 2023",2026,"1 à  2 salle(s) pour une capacité de 15 personnes / prix à déterminer",0,null,"5149043134","Oui","8663931193","gbeaumier@squarephillips.com","Oui","Oui","Oui","Non",null,80,"www.squarephillips.com",null,null,"Non",null,6,"Oui","1171272223",null,"Oui","Non","Non",35,35,null,"Oui","90110000","Oui","","Non",null,null,"Non","Oui","Non","Non","","","info@squarephillips.com","185135","Non","","",35]
["97-0158","Riôtel Matane (134736 Canada inc.)","923815454-0072","*MATANE",null,"RIÔTEL MATANE","250, avenue du Phare Est","MATANE","G4W3N4","4185662651",null,"Lucie Dumas","Formulaire de réservation gouvernemental obligatoire","Sans frais jusqu'à midi le jour de l'arrivée",120,"",2026,"",0,null,"4185664344","Non","8004637468","ldumas@rioux.ca","Oui","Oui","Oui","Non",null,null,"www.riotel.com",null,null,"Non",null,1,"Oui","1164625510",null,"Non","Oui","Non",null,null,null,"Non","90110000","Non","","Oui",null,null,"Non","Oui","Non","Non","527","Lucie Dumas cell: 514-295-4253","riotel@riotel.com","058914","Oui","",""]
["11-0005","Hôtel Rive Gauche","923815454-0073","*BELOEIL",null,"HÔTEL RIVE GAUCHE","1810, boulevard Richelieu","BELOEIL","J3G4S4","4504674477",null,"Silvia Rodriguez","Preuve d'identité à l'emploi du gouvernement ou formulaire de réservation gouvernemental","Sans frais jusqu'à 24h avant l'arrivée",54,"",2026,"1 à 7salle(s) pour une capacité de 250 personnes / prix à déterminer",0,null,"4504674477","Oui","8886086565","srodriguez@hotelrivegauche.ca","Oui","Oui","Non","Non",null,null,"www.hotelrivegauche.ca",null,null,"Non",20,16,"Oui","1164893431",null,"Non","Oui","Non",null,null,null,"Oui","90110000","Non","","Oui",null,null,"Oui","Non","Non","Non","125","","INFO@HOTELRIVEGAUCHE.CA","545145","Oui","",""]
["97-0227","Hôtel Québec, L' (Les immeubles Jacques Robitaille inc.)","923815454-0074","*QUÉBEC",null,"L'HÔTEL QUÉBEC","3115, avenue des Hôtels","QUÉBEC","G1W3Z6","4186585120",null,"Mireille Bouchard","Garantie en tout temps Garantie en tout temps avec c.d.c. ou le formulaire d'hébergement du gouvernement (Facturation directe).","Avant 16:00 la veille de l'arrivée.",204,"Supplément applicable pour les chambres de catégorie supérieure et pour les personnes additionnelles.  Tarif non applicable lors de certaines dates ou d'évènements spéciaux.",2026,"10 salles de réunion disponible pouvant accueillir de 10 à 300 personnes.  Informez-vous au 418-658-5624 poste 6125",0,null,"4186585624","Oui","8005675276","mbouchard@hotelsjaro.com","Oui","Oui","Oui","Oui",4.95,null,"www.hotelsjaro.com/hotel-quebec",null,null,"Non",null,3,"Oui","1143920560",null,"Oui","Oui","Oui",null,null,null,"Oui","90110000","Oui","","Oui",null,null,"Non","Oui","Non","Non","6136","","reservation@hotelsjaro.com","074152","Non","","1 janvier, 7-14-28 février, 7 mars, 4 avril, 16 mai, 5 septembre, 10 octobre et 25 décembre"]
["21-0016","Hôtel Bonaparte (9320-5839 Québec inc.)","923815454-0075","*MONTRÉAL",null,"HOTEL BONAPARTE","447, rue Saint-François-Xavier","MONTRÉAL","H2Y2T1","5148441448",null,"Anne-Marie Massicotte","Une carte de crédit valide est demandé à l'arrivée à chaque client même si la chambre est une facturation direct sinon pas de chambre.","Sans frais jusqu'à 48 heures avant le jour de l'arrivée, sinon des frais d'une nuitée pourraient s’appliquer",37," (15$ par personne additionnelle par nuit), sous réserve de disponibilité",2026,"1 salle pour une capacité de15 personnes / prix à déterminer",null,null,"5148443510","Non","","amassicotte@epikcollection.com","Oui","Oui","Oui","Non",null,null,"www.bonaparte.com",null,null,"Oui",15,6,"Non","1170858279",null,"Non","Oui","Non",null,null,null,"Oui","90110000","Non","","Non",15,18,"Non","Non","Non","Non","130","","info@bonaparte.com","154571","Non","","21-22-23-24-25 mai",null,32]
["14-0015","Concorde, Le (8815003 Canada inc.)","923815454-0076","*QUÉBEC",null,"HÔTEL LE CONCORDE QUÉBEC","1225, Place Montcalm","QUÉBEC","G1R4W6","4186472222",null,"Noé Dumont-Fournier","Formulaire de réservation gouvernemental obligatoire","Sans frais jusqu'à 48 h avant l'arrivée",388,"Pour tarifs de groupe contacter l,hôtel.",2026,"12",null,null,"4186405816","Oui","8004635256","ndfournier@hotelleconcorde.com","Oui","Oui","Oui","Non",null,24,"www.hotelleconcorde.com",null,null,"Non",null,3,"Oui","1169904670",null,"Oui","Non","Non",25,28,null,"Oui","90110000","Non","","Non",null,null,"Oui","Non","Oui","Oui","","Clélia DESPLAT comptabilite@hotelleconcorde.com","ndfournier@hotelleconcorde.com","054865","Oui","","",25]
["06-0069","Hôtel Marineau Centre","923815454-0077","*LA TUQUE",null,"HÔTEL MARINEAU CENTRE","1100, boulevard Ducharme","LA TUQUE","G9X3C4","8195239501",null,"Chantale Boulianne","Aucune condition","Avant midi la journée de l'arrivée",49,"",2026,"",0,null,"8195234551","Oui","8883239501","c.boulianne@hotelsmarineau.com","Oui","Oui","Non","Non",null,null,"www.hotelsmarineau.com",null,null,"Non",null,4,"Non","1173168379",null,"Non","Oui","Non",null,null,null,"Oui","90110000","Non","","Oui",null,null,"Non","Non","Non","Non","","Chantale Boulianne cell 819-676-7346","latuquecentre@hotelsmarineau.com","041403","Non","",""]
["06-0100","Hôtel Manoir Roberval inc.","923815454-0078","*ROBERVAL",null,"HÔTEL-MANOIR ROBERVAL (TRAVELODGE ROBERVAL)","19, boulevard de l'Anse","ROBERVAL","G8H1Z1","4182757422",null,"Ann-Sophie Leroux","garantie en tout temps avec c. d. c. ou réservation avec le formulaire gouvernemental","Sans frais jusqu'à midi le jour de l'arrivée",67," ",2026,"",0,null,"4182757422","Oui","8005670777","ann-sophie@travelodgeroberval.com","Oui","Oui","Oui","Non",0,0,"www.manoirroberval.com",null,null,"Oui",0,2,"Oui","1177820926",null,"Non","Oui","Non",0,0,null,"Oui","90110000","Oui","","Oui",null,null,"Oui","Non","Non","Non","","","reception@travelodgeroberval.com","059824","Oui","",""]
["09-0008","Hôtel & Suites Normandin Lévis (Groupe Normandin inc.)","923815454-0079","*LÉVIS",null,"HÔTEL & SUITES NORMANDIN LÉVIS","535, rue de Bernières","LÉVIS","G7A1C9","4188313119",null,"Valérie Guillemette","Formulaire de réservation gouvernemental obligatoire","Sans frais jusqu'à 16 h le  jour de l'arrivée, sinon des frais d'une nuitée seront facturés",134,"",2026,"",0,null,"4186221611","Oui","8007493119","valerie.guillemette@hotelnormandin.com","Oui","Oui","Oui","Non",null,null,"http://hotelnormandin.com/hotel-suites-normandin-levis/",null,null,"Oui",20,12,"Oui","1142330548",null,"Non","Oui","Non",null,null,null,"Non","90110000","Non","","Oui",null,null,"Non","Oui","Non","Non","","","reservation.levis@hotelnormandin.com","041591","Oui","",""]
["09-0005","Journel inc., Le","923815454-0080","*ST-JSPH-BEAUCE",null,"HÔTEL RESTO-BAR LE JOURNEL","269, Route 276","SAINT-JOSEPH-DE-BEAUCE","G0S2V0","4183974052",null,"Julie Carrier","Réservation par courrier électronique ou par téléphone","Sans frais 48 h avant le jour de l'arrivée",20,"",2026,"",0,null,"4183974052","Oui","8663974052","info@lejournel.com","Oui","Oui","Oui","Non",null,null,"www.lejournel.com",null,null,"Non",null,12,"Oui","1163855415",null,"Non","Oui","Non",null,null,null,"Non","90110000","Non","","Oui",null,null,"Non","Oui","Non","Non","222","Julie Carrier cell. (418)209/4052","info@lejournel.com","088325","Non","",""]
["21-0019","Hôtel Uville Montréal","923815454-0081","*MONTRÉAL",null,"HOTEL UVILLE","204, Place d'Youville","MONTRÉAL","H2Y2B4","5142894044",null,"Anne-Marie Massicotte","Une carte de crédit valide est demandé à l'arrivée à chaque client même si la chambre est une facturation direct sinon pas de chambre.","Sans frais jusqu'à 48 heures avant le jour de l'arrivée, sinon des frais d'une nuitée pourraient s’appliquer",33,"La chambre peut-être refusé si carte de crédit non valide.",2026,"",null,null,"5148443510","Non","","amassicotte@epikcollection.com","Oui","Oui","Oui","Non",null,null,"www.uvillehotelmontreal.com",null,null,"Oui",15,6,"Non","1173498271",null,"Non","Oui","Non",null,null,null,"Oui","90110000","Non","","Non",15,18,"Non","Non","Non","Non","130","","info@uvillemontreal.com","299981","Non","","21-22-23-24-25 mai",null,32]
["14-0016","Hôtel Épik Montréal","923815454-0082","*MONTRÉAL",null,"HÔTEL ÉPIK MONTRÉAL","171, rue Saint-Paul Ouest","MONTRÉAL","H2Y1Z5","5148422634",null,"Anne-Marie Massicotte","Une carte de crédit valide est demandé à l'arrivée à chaque client même si la chambre est une facturation direct sinon pas de chambre.","Sans frais jusqu'à 48 heures avant le jour de l'arrivée, sinon des frais d'une nuitée pourraient s’appliquer",10,"",2026,"",null,null,"5148443510","Non","","amassicotte@epikcollection.com  /  amassicotte@collection.com","Oui","Oui","Oui","Non",null,null,"www.epikmontreal.com",null,null,"Oui",15,6,"Non","1169649598",null,"Non","Oui","Non",null,null,null,"Oui","90110000","Non","","Non",25,25,"Non","Non","Non","Non","130","","info@epikmontreal.com","603094","Non","","",null,32]
["13-0003","Hôtel Montfort inc.","923815454-0083","*Nicolet",null,"HÔTEL MONTFORT","1141, rue Saint-Jean-Baptiste","NICOLET","J3T1W4","8192936262",null,"Francine Bouffard","Aucune condition","24 h avant l'arrivée",83,"",2026,"",null,null,"8192936262","Oui","8552936262","fbouffard@hotelmontfort.ca","Oui","Oui","Oui","Non",null,null,"www.hotelmontfort.ca",null,null,"Non",20,17,"Oui","1178891876",null,"Non","Oui","Non",null,null,null,"Oui","90110000","Oui","","Oui",null,null,"Oui","Oui","Non","Non","7703","","info@hotelmontfort.ca","243180","Oui","",""]
["05-0001","Hôtel Quality Suites (Drummondville)","923815454-0084","*DRUMMONDVILLE",null,"HÔTEL QUALITY SUITES DRUMMONDVILLE","2125, rue Canadien","DRUMMONDVILLE","J2C7V8","8194722700",null,"Susanne Steiner","Aucune condition","Jusqu'à 16h le jour de l'arrivée",71,"Déjeuner buffet chaud et froid à volonté. Internet haute vitesse sans fil gratuit",2026,"7salles de 2 à 80 personnes tarif à partir de 175$",0,null,"8194722700","Oui","8665722700","info@les-suites.ca","Oui","Oui","Oui","Non",null,null,"https://les-suites.ca",null,null,"Oui",20,17,"Oui","1161807897",null,"Non","Oui","Non",null,null,null,"Oui","90110000","Oui","","Oui",null,null,"Non","Oui","Non","Non","","","info@les-suites.ca","195160","Oui","",""]
["04-0015","Domaine des Dunes inc., Le","923815454-0085","*TADOUSSAC",null,"DOMAINE DES DUNES","585, chemin du Moulin-à-Baude","TADOUSSAC","G0T2A0","4182354843",null,"Nadia Bender","Formulaire de réservation gouvernemental obligatoire","Sans frais jusqu'à 48 h avant l'arrivée",0,"",2026,"",0,null,"4182354843","Non","","admin@domainedesdunes.com","Oui","Oui","Oui","Non",null,10,"www.domainedesdunes.com",null,null,"Non",null,9,"Non","1160710530",null,"Non","Oui","Non",null,null,null,"Non","90110000","Non","","Oui",null,null,"Non","Non","Non","Non","","Cell: 418 617-9857","info@domainedesdunes.com","100693","Non","",""]
["24-0038","Triantopoulos, Paul (Des-Lits Centre-ville)","923815454-0086","*LATUQUE",null,"AUBERGE DES LITS CENTRE-VILLE","525, rue Commerciale","LA TUQUE","G9X3A7","8195230000",null,"Paul Triantopoulos","Aucune condition","Sans frais jusqu’à 24 heures avant le jour de l'arrivée.",null,"",2026,"",null,null,"8195310269","Non","","latuquedeli@live.ca","Oui","Oui","Oui","Non",null,null,"n/a",null,null,"Non",85,4,"Non","2268012012",null,"Non","Oui","Non",null,null,null,"Non","90110000","Non","","Oui",0,0,"Non","Non","Non","Non","","","n/a","270045","Non","",""]
["97-0054","Hilton Montréal / Laval (Groupe Hôtelier Grand Château inc.)","923815454-0087","*LAVAL",null,"HILTON MONTRÉAL/LAVAL","2225, autoroute des Laurentides","LAVAL","H7S1Z6","4506822225",null,"Stéphanie Lefebvre","Preuve d'emploi au gouvernement ou formulaire d'hébergement du gouvernement.","Sans frais jusqu’à 48 h avant l'arrivée",190,"Tarif non applicable lors du Grand Prix de Formule 1 et lors du festival de musique Osheaga. Supplément applicable pour les chambres de catégorie supérieure et pour les personnes additionnelles.",2026,"",0,null,"4382233856","Non","8003637948","slefebvre@ghgc.ca","Oui","Oui","Non","Non",null,null,"https://www.hiltonhotels.com/fr_FR/canada/hilton-montreal-laval/",null,null,"Non",null,13,"Oui","1146567954",null,"Non","Oui","Non",null,null,null,"Non","90110000","Non","","Oui",null,null,"Oui","Oui","Non","Non","","","reservation@hilton-laval.com","570662","Oui","","21-22-23-24 mai, 31 juillet, 1-2 août"]
["00-0039","Château Versailles","923815454-0088","*MONTRÉAL",null,"CHÂTEAU VERSAILLES","1659, rue Sherbrooke Ouest","MONTRÉAL","H3H1E3","5149336880",null,"Lisa Mercuri","Garantie en tout temps avec c.d.c. ou réservation par télécopieur avec le formulaire d'hébergement du gouvernement","Sans frais jusqu'à 16 h; après 16 h la première nuit facturée",66,"Dates excluses: Mai 27, 2023, Juin 15, 16, 17 & 18, 2023, Juin  30 & juillet 1er, 2023, août 5 & 6, 2023 et Septembre 2, 2023",2026,"Aucune",0,null,"5149336880","Oui","8889338111","lmercuri@sensmtlversailles.com","Oui","Oui","Oui","Non",null,null,"www.chateauversaillesmontreal.com",null,null,"Oui",20,6,"Non","1148313217",null,"Oui","Oui","Non",38,45,null,"Oui","90110000","Non","","Non",24,38,"Non","Non","Non","Non","2650","Alexander Chehrazi celll: 514 295-2890","reservations@sensmtlversailles.com","533330","Non","","21-22-23-24 mai, 31 juillet, 1-2 août 2026",38,38]
["97-0390","Hôtel Forestel Centre des Congrès","923815454-0089","*VAL-DOR",null,"HÔTEL FORESTEL","1001, 3e Avenue Est","VAL-D'OR","J9P0J7","8198255660",null,"Ayyoub El Harchi","Garanti en tout temps avec c.d.c ou réservation avec le formulaire gouvernemental","Sans frais jusqu' à 24 h avant l'arrivée",90,"Heure d'arrivée:  15h,  heure de départ:  midi. 10$ pour suite junior loft.",2026,"",0,null,"5148782332","Non","8005676599","aelharchi@kejja.com","Oui","Oui","Oui","Non",null,0,"www.forestel.ca",null,null,"Non",0,8,"Non","1179795928",null,"Non","Oui","Non",null,null,0,"Non","90110000","Non","","Oui",null,null,"Non","Non","Non","Non","4051","","reservation@forestel.ca","575363","Oui","",""]
["97-0308","Baie-Comeau Comfort Inn","923815454-0090","*BAIE-COMEAU",null,"BAIE-COMEAU COMFORT INN","745, boulevard Laflèche","BAIE-COMEAU","G5C1C7","4185898252",null,"Dany Durand","Garantie en tout temps avec c.d.c. ou réservation avec formulaire d'hébergement du  gouvernement","Sans frais jusqu'à 24 heures avant l'arrivée",60,"",2026,"",0,null,"4185898252","Oui","8004656116","dany.durand@innvesthotels.com","Oui","Oui","Non","Non",null,null,"https://baiecomeaucomfortinn.com/",null,null,"Oui",10,9,"Oui","3360912086",null,"Non","Oui","Non",null,null,null,"Oui","90110000","Oui","","Oui",null,null,"Non","Oui","Non","Non","","","cn322.reception@innvesthotels.com","026331","Non","",""]
["97-0448","Laval Comfort Inn","923815454-0091","*LAVAL",null,"HÔTEL COMFORT INN LAVAL","2055, autoroute des Laurentides","LAVAL","H7S1Z6","4506860600",null,"Lidia Gonzalez  /  Fatima Mouktani","Réservation avec le formulaire d'hébergement du gouvernement. Preuve d'emploi requise","24h, pour 5 chambres ou plus, politique d'annulation de 7 jours avant",119,"Tarif non applicable lors du Grand Prix de Montréal et Osheaga",2026,"1 à 3 salles / max 80 personnes",0,null,"4506860600","Oui","","cn331@innvesthotels.com  /  comfortlaval@innvesthotels.com","Oui","Oui","Oui","Non",null,null,"www.lavalcomfortinn.com/fr-fr/",null,null,"Oui",10,13,"Oui","3370444260",null,"Non","Oui","Non",null,null,null,"Oui","90110000","Oui","","Oui",null,null,"Non","Oui","Non","Non","","514-224-8923 Fatima Mouktani (450) 686-0600 P.616","cn331.fo1@innvesthotels.com","569774","Oui","",""]
["97-0509","Hôtel Comfort Inn Lévis, L'","923815454-0092","*LÉVISG6V9J3",null,"HÔTEL COMFORT INN LÉVIS","10, rue du Terroir","LÉVIS","G6V9J3","4188355605",null,"Tomalie Dussault","Garantie en tout temps avec c.d.c. ou avec le formulaire d'hébergement du gouvernement.  Preuve d'identité à l'emploi du gouvernement exigée si aucune facturation directe","Sans frais jusqu'à 16 h le jour de l'arrivée. Sinon des frais d'une nuitée seront facturés.",96,"",2026,"",0,null,"4188355605","Oui","8446653847","info@comfortinnlevis.ca","Oui","Oui","Oui","Non",null,null,"https://www.choicehotels.com/CN338",null,null,"Oui",10,12,"Oui","1180574585",null,"Non","Oui","Non",null,null,null,"Oui","90110000","Non","","Oui",null,null,"Oui","Non","Oui","Non","","","info@comfortinnlevis.ca","025152","Non","","31 juillet / 1-7-8-14-15-21-22-28-29 août 2026"]
["97-0483","Comfort Inn [CN342] (Rouyn-Noranda)","923815454-0093","*ROUYN-NORANDA",null,"HÔTEL COMFORT INN ROUYN-NORANDA","1295, avenue Larivière","ROUYN-NORANDA","J9X6M6","8197971313",null,"Billy Plante","Le formulaire d'hébergement du gouvernement est obligatoire.","Jusqu'à 16 h le jour de l'arrivée",78,"",2026,"",0,null,"8197971313","Oui","","info@comfortinnrouyn-noranda.com","Oui","Oui","Oui","Non",null,null,"http://comfortinn-rouyn-noranda",null,null,"Oui",20,8,"Oui","1173347429",null,"Non","Oui","Non",null,null,null,"Oui","90110000","Oui","","Oui",null,null,"Non","Oui","Non","Non","","","info@comfortinnrouyn-noranda.com","569623","Oui","","27-28-29 août"]
["97-0222","Chicoutimi Comfort Inn","923815454-0094","*CHICOUTIMI",null,"HÔTEL COMFORT INN CHICOUTIMI","1595, boulevard Talbot","CHICOUTIMI-SAGUENAY","G7H4C3","4186938686",null,"lotfi Kaddouri","Garantie en tout temps avec c.d.c. ou réservation avec formulaire d'hébergement du  gouvernement","Sans frais jusqu'à 16 h le jour de l'arrivée, sinon des frais d'une nuitée pourraient s’appliquer",78,"",2026,"",0,null,"4186938686","Oui","8002673837","cn323@innvesthotels.com","Oui","Oui","Oui","Non",null,null," https://www.choicehotels.com/fr-ca/quebec/chicoutimi",null,null,"Oui",10,2,"Oui","3370444260",null,"Non","Oui","Non",null,null,null,"Oui","90110000","Oui","","Oui",null,null,"Non","Oui","Non","Non","","","cn323.fo1@innvesthotels.com","024640","Non","",""]
["23-0045","Courtyard par Marriott Montréal Midtown","923815454-0095","*MONTRÉAL",null,"LE COURTYARD MONTRÉAL MIDTOWN","6785, boul. Décarie","MONTRÉAL","H3W3E3","5145447777",null,"France Bordeleau / Marieta pour suivi","Garantie en tout temps avec c.d.c ou réservation par télécopieur avec le formulaire d'hébergement du gouvernement. Preuve d'identité à l'emploi du gouvernement exigée si aucune facturation directe","Sans frais jusqu'à 24 h avant le jour de l'arrivée, sinon des frais d'une nuité seront facturés.",84,"Tarif pour chambres standard. Tarif non disponible lors d'évènements spéciaux. GPF1 et Osheaga",2026,"3 à 4 salles / de 10 à 100 personnes",null,null,"5143005555","Oui","8883038881","France.bordeleau@courtyardmidtown.com","Oui","Oui","Oui","Non",null,83,"www.marriott.fr/yulnd",null,null,"Non",null,6,"Oui","1160947231",null,"Oui","Non","Non",15,20,null,"Oui","90110000","Oui","","Non",null,null,"Oui","Non","Oui","Oui","2688","","reservations@courtyardmidtown.com","309875","Oui","","21-22-23 mai, 3-4-31 juillet, 22-28-29 août, 4-5 septembre",15]
["97-0239","Days Inn Rivière-du-Loup [Marque de Commerce]","923815454-0096","*RIV-DU-LOUP",null,"DAYS INN BY WYNDHAM RIVIERE-DU-LOUP","182, rue Fraser","RIVIÈRE-DU-LOUP","G5R1C8","4188626354",null,"Laura Nicolay","Garantie en tout temps avec c.d.c. ou réservation par courriel avec le formulaire d'hébergement du gouvernement, preuve d'identité à l'emploi du gouvernement exigée si aucune facturation directe","Sans frais jusqu'à 16 h le jour de l'arrivée, sinon des frais d'une nuitée seront facturés",41,"",2026,"",0,null,"4188626354","Oui","8666660665","reception@hotellevesque.com","Oui","Oui","Oui","Non",null,9,"www.daysinnrdl.com",null,null,"Oui",null,1,"Oui","1166799081",null,"Non","Oui","Non",null,null,null,"Oui","90110000","Non","","Oui",null,null,"Non","Oui","Non","Non","","","info@daysinnriviereduloup.com","003010","Oui","",""]
["97-0073","Delta Saguenay","923815454-0097","*JONQUIERE",null,"DELTA SAGUENAY PAR MARRIOTT","2675, boulevard du Royaume","JONQUIÈRE-SAGUENAY","G7S5B8","4185483124",null,"Amélie Gauthier","Aucune condition applicable","Sans frais 48 heures avant le jour de l'arrivée",153,"",2026,"",0,null,"4185483124","Oui","8003633124","amelie.gauthier@deltahotels.com","Oui","Oui","Non","Non",null,4,"www.MARRIOTT.COM/YBGJS",null,null,"Non",null,2,"Oui","1171858989",null,"Non","Oui","Non",null,null,null,"Non","90110000","Non","","Oui",null,null,"Oui","Oui","Oui","Oui","","","sag.reservations@deltahotels.com","002892","Oui","",""]
["24-0024","DoubleTree by Hilton MC [Marque de commerce] Québec Resort","923815454-0098","*QUEBEC",null,"DOUBLETREE BY HILTON","7900 rue du Marigot","QUÉBEC","G1G6T8","4186278008",null,"Margo Duveillié","Preuve d'identité à l'emploi du gouvernement ou formulaire de réservation gouvernemental","Sans frais jusqu' à 16 h le jour de l'arrivée, sinon des frais d'une nuitée pourraient s'appliquer",null,"",2026,"",null,null,"4188945590","Oui","","ventes@doubletreequebec.com","Oui","Oui","Non","Non",null,null,"https://www.hilton.com/fr/hotels/yqbqcdt-doubletree-quebec-resort/",null,null,"Non",null,3,"Oui","1177659167",null,"Non","Oui","Non",null,null,null,"Oui","90110000","Oui","","Oui",0,0,"Oui","Non","Oui","Oui","","","reservation@doubletreequebec.com","213345","Non","",""]
["21-0002","Gestion hôtel Blainville inc.","923815454-0099","*BLAINVILLE",null,"GRAND HÔTEL TIMES BLAINVILLE","88 rue Jean-Guyon","Blainville","J7C3W1","4503010155",null,"Sophie Ponte","Garantie en tout temps avec c.d.c ou réservation avec le formulaire gouvernemental, preuve d'identité à l'emploi exigée si aucune facturation directe","Sans frais jusqu’à 24 h avant l'arrivée",125,"Le tarif n’est pas disponible pour les groupes et les colloques, congrès ou autres événements. LE TARIF N'EST PAS DISPONIBLE POUR LES 6-7-11-12 FÉVRIER, 12 MARS, 9-10-11 JUIN 2023",2026,"5 SALLES, JUSQU'A 100 PERS",null,null,"4506395000","Oui","","operationlaval@timeshotel.ca","Oui","Oui","Oui","Non",null,null,"www.timeshotel.ca",null,null,"Non",20,15,"Oui","1174501404",null,"Oui","Oui","Non",17,17,null,"Oui","90110000","Non","","Oui",null,null,"Non","Oui","Non","Non","","Sophie Ponte cell: 514 578 3909","reservationblainville@timeshotel.ca","303737","Oui","","",17]
["10-0025","Grand hôtel Baie-Comeau, Le","923815454-0100","*BAIE-COMEAU",null,"LE GRAND HÔTEL BAIE-COMEAU","48, place La Salle","BAIE-COMEAU","G4Z1K3","4182976994",null,"Marc-André Gagnon","Formulaire de réservation gouvernemental obligatoire","Sans frais jusqu’à 48 h avant l'arrivée",48,"Accès à Internet gratuitement dans tout l'établissement  Chambres munies d'un réfrigérateur et micro-ondes  Tarif applicable seulement pour les déplacements d'affaires",2026,"",0,null,"4182968880","Non","","reception@grandhotelbaiecomeau.com","Oui","Oui","Oui","Non",null,0,"www.legrandhotel.ca",null,null,"Non",null,9,"Non","1149618929",null,"Non","Oui","Non",null,null,0,"Non","90110000","Non","","Oui",null,null,"Non","Non","Non","Non","","","legrandhotel@globetrotter.net","045791","Non","",""]
["25-0002","Holiday Inn Express Aéroport Montréal - St-Laurent","923815454-0101","*MONTREAL",null,"HOLIDAY INN EXPRESS AÉROPORT MONTRÉAL - ST-LAURENT","4555 Boulevard Cote Vertu Ouest","MONTRÉAL","H4S1C8","4383987888",null,"Mariana Sanchez","Garantie en tout temps avec c.d.c  ou réservation par télécopieur avec le formulaire d'hébergement du gouvernement, preuve d'identité à l'emploi exigée si aucune facturation directe.","48 h avant la date de réservation",191,"",2026,"1 salle pour une capacité de 100 personnes / 1000$/jour",null,null,"4383987888","Oui","8776608550","mariana.sanchez@lixigroup.ca","Oui","Oui","Oui","Non",null,0,"https://www.ihg.com/holidayinnexpress/hotels/us/en/st-laurent/ymqsl/hoteldetail",null,null,"Oui",null,6,"Oui","1175205385",null,"Oui","Oui","Non",null,null,null,"Oui","90110000","Oui","","Non",0,0,"Oui","Non","Oui","Oui","7005","Cellulaire: 438-494-5155","infoholidayinnexpress@lixigroup.com","320541","Oui","","21-22-23-24 mai, 31 juillet, 1-2 août",20]
["23-0010","Hôtel Saint-Laurent Montréal","923815454-0102","*MONTRÉALH2X3Z9",null,"HÔTEL SAINT-LAURENT","191, Boul. Rene Levesque Est","MONTRÉAL","H2X3Z9","5146675002",null,"Ludmilla Teillet","Garantie en tout temps avec c.d.c ou réservation par courriel avec formulaire d'hébergement du gouvernement.","Sans frais 24 heures avant l'arrivée",146,"",2026,"",null,null,"5144487110","Oui","8668357707","ludmilla.teillet@hotelstlaurent.com","Oui","Oui","Oui","Non",null,null,"www.hotelstlaurent.com",null,null,"Non",10,6,"Oui","3361738753",null,"Oui","Non","Non",27,27,null,"Oui","90110000","Non","","Non",null,null,"Non","Oui","Oui","Oui","","","info@hotelstlaurent.com","221272","Non","","21-22-23-24 mai, 31 juillet, 1-7-8-14-15 août",30]
["97-0406","C Hôtels Le Navigateur inc.","923815454-0103","*RIMOUSKI",null,"HÔTEL LE NAVIGATEUR","130, avenue Belzile","RIMOUSKI","G5L3E4","4187246944",null,"Mélanie Parent","Aucune condition applicable","Sans frais jusqu'à 24 h avant l'arrivée",109,"",2026,"",0,null,"4187246944","Oui","8887246944","mparent@chotels.ca","Oui","Oui","Oui","Non",null,3,"https://hotelnavigateur.com/",null,null,"Non",null,1,"Oui","1172817604",null,"Non","Oui","Non",null,null,null,"Non","90110000","Oui","","Oui",null,null,"Oui","Oui","Oui","Oui","669","","info.chn@chotels.ca","146893","Oui","",""]
["08-0018","Super 8 Hôtel Ste-Foy Québec TM","923815454-0104","*QUÉBEC",null,"HÔTEL SUPER 8 QUÉBEC","7286, boulevard  Wilfrid-Hamel","QUÉBEC","G2G1C1","4188776888",null,"Suzanne Berthiaume / Pamela Kazmierczak","Garantie en tout temps avec c.d.c. ou réservation avec le formulaire d'hébergement du gouvernement. Preuve d'identité à l'emploi du gouvernement exigée si aucune facturation directe","Sans frais jusqu'à 24h avant l'arrivée",78,"Déjeuner continental inclus",2026,"1 salle jusqu'à 40 personnes / prix à déterminer",0,null,"4188776888","Oui","8778241703","gm@super8quebecstefoy.com","Oui","Oui","Oui","Non",null,null,"www.super8quebecstefoy.com",null,null,"Oui",15,3,"Oui","1166535063",null,"Non","Oui","Non",null,null,null,"Oui","90110000","Oui","","Oui",null,null,"Non","Oui","Non","Non","","Pamela Kazmierczak 438-524-6345","gm@super8quebecstefoy.com","221336","Non","","24-25-31 juillet, 1-7-9-14-15-21 août"]
["16-0004","Hôtel Quality Inn & Suite Victoriaville (9393-4784 Québec inc.)","923815454-0105","*VICTORIAVILLE",null,"HÔTEL QUALITY INN & SUITES VICTORIAVILLE","1, boulevard Arthabaska Est","VICTORIAVILLE","G6T0S4","8193308888",null,"Christine Beauchesne","Aucune condition","Jusqu'à 16h le jour de l'arrivée",86,"",2026,"3 salles de réunion + 1 salon-conférence + 1 lounge (salon)",null,null,"8193308888","Oui","8553307825","reservations@qualityinnvictoriaville.com","Oui","Oui","Oui","Non",null,null,"https://qualityinnvictoriaville.com/",null,null,"Oui",20,17,"Oui","1174349564",null,"Oui","Oui","Non",25,25,null,"Oui","90110000","Oui","","Oui",null,null,"Oui","Oui","Non","Non","","","reservations@qualityinnvictoriaville.com","240564","Oui","","",25]
["23-0012","Hôtel le Voyageur","923815454-0106","*SEPT-ILES",null,"HOTEL LE VOYAGEUR","1415, boulevard Laure","SEPT-ÎLES","G4R4K1","4189622228",null,"Cindy Geronazzo Chassé","Aucune condition","Aucune",22,"",2026,"",null,null,"4189683343","Oui","8889622228","direction@multi-logis.com","Oui","Oui","Oui","Non",null,null,"www.hotellevoyageur.com",null,null,"Non",null,9,"Non","1142302976",null,"Non","Oui","Non",null,null,null,"Non","90110000","Non","","Oui",null,null,"Non","Non","Non","Non","806","","info@hotellevoyageur.com","004476","Non","",""]
["00-0019","Hôtel L'Empress","923815454-0107","*RIMOUSKI",null,"HÔTEL L'EMPRESS","360, montée Industrielle-et-Commerciale","RIMOUSKI","G5M1X1","4187236944",null,"Mélanie Parent","Garantie en tout temps avec c.d.c. ou réservation avec le formulaire d'hébergement du gouvernement.","Sans frais jusqu’à 24 h avant l'arrivée",61,"",2026,"",0,null,"4187246944","Oui","8663056944","mparent@chotels.ca","Oui","Oui","Oui","Non",null,null,"www.hotellempress.com",null,null,"Non",null,1,"Oui","1173574378",null,"Non","Oui","Non",null,null,null,"Oui","90110000","Oui","","Oui",null,null,"Oui","Oui","Oui","Oui","669","","info.hotelempress@chotels.ca","151303","Oui","",""]
["97-0155","Hôtel des Eskers inc.","923815454-0108","*AMOS",null,"HÔTEL DES ESKERS","201, avenue Authier","AMOS","J9T1W1","8197325386",null,"Rosie Ouellet","Garantie en tout temps avec c.d.c  ou réservation avec le formulaire gouvernemental, facturation directe seulement","Sans frais jusqu'à 24 heures avant le jour de l'arrivée, sinon des frais d'une nuitée pourraient s’appliquer",45,"Chambres garanties pour 16h le jour de la réservation.",2026,"5 salles / de 2 à 300 personnes / prix variant 150$ à 500$",0,null,"8197325386","Oui","8886665386","info@hoteleskers.com","Oui","Oui","Oui","Non",null,0,"www.hoteleskers.com",null,null,"Non",139.94999999999999,8,"Non","1180153364",null,"Non","Oui","Non",null,null,0,"Oui","90110000","Oui","","Oui",null,null,"Non","Non","Non","Non","752","cellulaire 819-734-7544","info@hoteleskers.com","551213","Non","",""]
["24-0008","Hôtel Val-des-Sources","923815454-0109","*VALDESSOURCES",null,"HÔTEL VAL-DES-SOURCES","615 1re Avenue","VAL-DES-SOURCES","J1T4V3","8198796400",null,"Erick Dupuis","Garantie en tout temps avec c.d.c (carte de crédit)","Sans frais jusqu'à 48 h avant l'arrivée",null,"",2026,"",null,null,"8195780673","Non","8668795923","erickdupuis22@gmail.com","Oui","Oui","Oui","Non",null,null,"www.facebook.com/HotelValDesSources",null,null,"Oui",null,5,"Oui","1178284148",null,"Non","Oui","Non",null,null,null,"Oui","90110000","Non","","Oui",0,0,"Oui","Non","Non","Non","","","info@hotelvds.com","145154","Oui","",""]
["24-0017","Motel Bal Moral","923815454-0110","*NORMANDIN",null,"HÔTEL MOTEL BAL MORAL","888 rue St-Cyrille","NORMANDIN","G8M4H5","4182742297",null,"Serge Gilbert","Aucune condition applicable","Aucune condition applicable",11,"",2026,"",null,null,"4186710401","Non","","","Oui","Oui","Non","Non",null,null,"",null,null,"Non",null,2,"Oui","1160226230",null,"Non","Oui","Non",null,null,null,"Oui","90110000","Non","","Oui",0,0,"Non","Oui","Non","Non","","","hotelmotelbalmoral@outlook.com","043094","Non","",""]
["12-0013","Quality Inn & Suites Val-d'Or","923815454-0111","*VAL-D'OR",null,"HÔTEL QUALITY INN & SUITES VAL-D'OR","1111, rue de l'Escale","VAL-D'OR","J9P4G7","8198748888",null,"Alexandre Audet","Formulaire de réservation gouvernemental obligatoire","Annulation avant 16h00 le jour de l'arrivée pour annulation sans frais, sinon des frais d'une nuité pourraient s'appliquer",82,"Le tarif gouvernemental n’est pas applicable aux réservations de groupe de 8 chambres et plus.",2026,"2 salles pouvant accueillir jusqu'à 30 personnes chacunes / prix à déterminer",0,null,"8198748888","Oui","8774748884","info@qualityinnvaldor.com","Oui","Oui","Oui","Non",null,null,"www.qualityinnvaldor.com",null,null,"Oui",null,8,"Oui","1166260316",null,"Non","Oui","Non",null,null,null,"Oui","90110000","Non","","Oui",null,null,"Non","Oui","Non","Non","5500","","reception@qualityinnvaldor.com","232503","Oui","",""]
["97-0030","Repotel Aéroport Québec","923815454-0112","*LANCIENNE-LORE",null,"REPOTEL AÉROPORT QUÉBEC","6555, boulevard Wilfrid-Hamel Ouest","L'ANCIENNE-LORETTE","G2E5W3","4188721111",null,"Véronique Godin","Garantie en tout temps avec c.d.c ou réservation avec le formulaire gouvernemental, preuve d'identité à l'emploi exigée si aucune facturation direct","Sans frais jusqu'à 48 h avant l'arrivée",100,"Dates excluses : 10 Février, 20 Mai, 1 Juillet, 2-3 Septembre, 6-7 Octobre, 29-30-31 décembre",2026,"",0,null,"4188721111","Oui","8004635255","vgodin@hotelclassique.com","Oui","Oui","Oui","Non",null,null,"www.chateaurepotel.com",null,null,"Non",null,3,"Oui","1179839247",null,"Non","Oui","Non",null,null,null,"Oui","90110000","Non","","Oui",null,null,"Non","Oui","Non","Non","","","info@chateaurepotel.com","025384","Non","",""]
["97-0020","Hotel Plaza Québec","923815454-0113","*QUEBEC",null,"HÔTEL PLAZA QUÉBEC","3031, boulevard Laurier","QUÉBEC","G1V2M2","4186582727",null,"Stéphane Marcoux","Garantie en tout temps avec c.d.c. ou réservation par télécopieur avec le formulaire d'hébergement du gouvernement. Preuve d'identité à l'emploi du gouvernement exigée si aucune facturation directe","sans frais jusqu'à 16 h le jour de l'arrivée",233,"Tarifs non valides pour les groupes de 8 chambres et +",2026,"21 salles de réunion/banquet, de 5 à 700 personnes, contacter le département des ventes au 418-658-5665 poste 4284.",0,null,"4186585665","Oui","8005675276","smarcoux@hotelsjaro.com","Oui","Oui","Oui","Oui",4.95,null,"www.hotelsjaro.com/plazaquebec",null,null,"Non",null,3,"Oui","1143319474",null,"Oui","Oui","Oui",null,null,null,"Oui","90110000","Oui","","Oui",null,null,"Non","Oui","Non","Non","4230","(418) 658-5665 P.4241","reservation@hotelsjaro.com","027462","Non","",""]
["05-0008","Hôtel Sainte-Anne","923815454-0114","*QUÉBEC",null,"HÔTEL STE-ANNE","32, rue Sainte-Anne","QUÉBEC","G1R3X3","4186941455",null,"Martina Waschkau","Garantie en tout temps avec c. d. c. et réservation par télécopieur avec le formulaire d'hébergement du gouvernement. Une preuve d'identité à l'emploi du gouvernement est obligatoire","sans frais jusqu'à 48h avant l'arrivée",28,"",2026,"",0,null,"4186944414","Oui","8772229422","martina.waschkau@hotellepriori.com","Oui","Oui","Oui","Non",0,0,"www.hotelste-anne.com",null,null,"Non",20,3,"Non","1140628695",null,"Non","Non","Non",17,24,null,"Oui","90110000","Non","","Non",null,null,"Non","Non","Non","Non","","Kimberly Nichols Cell. 581-997-0420","info@hotelste-anne.com","197621","Non","",""]
["12-0050","Hôtel Pur","923815454-0115","*QUEBEC",null,"HÔTEL PUR QUÉBEC","395, rue de la Couronne","QUÉBEC","G1K7X4","4186472611",null,"Évelyne Auger  /  Véronique Delisle","Preuve d'identité à l'emploi du gouvernement ou formulaire de réservation gouvernemental","sans frais jusqu’à 72 h avant l'arrivée",242,"",2026,"",0,null,"4186472611","Oui","","e.auger@hotelpur.com  /  vdelisle@hotelpur.com","Oui","Oui","Non","Non",null,0,"www.hotelpur.com",null,null,"Non",20,3,"Oui","1174432857",null,"Oui","Non","Non",24,29,0,"Oui","90110000","Oui","","Non",null,null,"Non","Oui","Non","Oui","6165 /6191","Cell: 418-647-2611","reservations@hotelpur.com","058343","Oui","","13-14-20-21 février, 9-10-11-17-18 juillet, 31 décembre",24]
["97-0241","Hôtel Universel Alma","923815454-0116","*ALMA",null,"HÔTEL UNIVERSEL - ALMA","1000, boulevard des Cascades","ALMA","G8B3G4","4186685261",null,"Carolyne Deschênes","Formulaire de réservation gouvernemental obligatoire","Sans frais jusqu`à 16 h le jour de l`arrivée, sinon des frais d'une nuitée seront facturés.",73,"",2026,"",0,null,"4186685912","Oui","8002635261","carolyne@hoteluniversel.com","Oui","Oui","Oui","Non",null,null,"www.hoteluniversel.com",null,null,"Non",null,2,"Oui","1142626598",null,"Oui","Oui","Oui",null,null,null,"Non","90110000","Non","","Oui",null,null,"Oui","Oui","Non","Non","3393","418-482-1600 Cell Carolyne Deschênes","hotel@hoteluniversel.com","008072","Oui","",""]
["26-0002","Staybridge Suites Aéroport Montréal-St-Laurent","923815454-0117","\t*Saint-Laurent",null,"HÔTEL STAYBRIDGE ET SUITES MONTREAL AIRPORT-ST-LAURENT","4535 Boulevard Cote Vertu Ouest","SAINT-LAURENT","H4S1C8","5148190010",null,"Wassim Aissani","Garantie en tout temps avec c.d.c  ou réservation avec le formulaire gouvernemental","Sans frais jusqu’à 48 h avant l'arrivée",183,"",2026,"",null,null,"5148190010","Oui","1877660855","wassim.aissani@lixigroup.ca","Oui","Oui","Oui","Non",null,null,"https://www.ihg.com/staybridge/hotels/us/en/st-laurent/ymqst/hoteldetail",null,null,"Oui",null,6,"Oui","1178505716",null,"Oui","Oui","Non",null,null,null,"Oui","90110000","Non","","Non",0,0,"Oui","Non","Oui","Oui","7005","Cell: 438-494-8555","staybridgemontreal@gmail.com","321408","Oui","","21-22-23-24-30-31 mai, 31 juillet, 1-2 août",20]
["24-0005","Groupe Normandin inc.","923815454-0118","*ALMA",null,"HÔTEL-MOTEL NORMANDIN ALMA","820, avenue du Pont Sud","Alma","G8B2V8","4186682354",null,"Valeérie Guillemette","Garantie en tout temps avec c.d.c. ou réservation par télécopieur avec formulaire gouvernemental.","Sans frais jusqu'à 16 h le jour de l'arrivée, sinon des frais d'une nuitée pourraient s’appliquer",30,"",2026,"",null,null,"4186221611","Non","","valerie.guillemettee@hotelnormandin.com","Oui","Non","Non","Non",null,null,"www.hotelnormandin.com",null,null,"Non",20,2,"Oui","1147370465",null,"Non","Oui","Non",null,null,null,"Non","90110000","Non","","Oui",0,0,"Non","Oui","Non","Non","","","info.alma@hotelnormandin.com","005832","Non","",""]
["97-0207","Hôtel Classique (9102-8001 Québec inc.)","923815454-0119","*QUÉBEC",null,"HÔTEL CLASSIQUE","2815, boulevard Laurier","QUÉBEC","G1V4H3","4186582793",null,"Laurie Neveu","Formulaire de réservation gouvernemental obligatoire. Occupation simple","Aucune condition",272,"Accès à Internet gratuitement dans tout l'établissement.  Chambres munies d'un réfrigérateur et un four micro-ondes.",2026,"10 salles de réunion de 2 à 300 personnes",0,null,"4186582793","Oui","8004631885","lneveu@hotelclassique.com","Oui","Oui","Oui","Non",null,null,"www.hotelclassique.com",null,null,"Non",20,3,"Oui","1160022415",null,"Oui","Oui","Oui",null,null,null,"Oui","90110000","Non","","Oui",null,null,"Non","Oui","Non","Non","367","","reservation@hotelclassique.com","010850","Non","","4-11-18-25 juillet, 1-8-15-22-29 août, 31 décembre"]
["97-0204","Auberge du Parc Lafontaine inc.","923815454-0120","*MONTRÉAL",null,"AUBERGE DU PARC DE LA FONTAINE INC.","1301, rue Rachel Est","MONTRÉAL","H2J2K1","5145970166",null,"Daniel Graton","Aucune condition","Aucune",21,"",2026,"",0,null,"5145970166","Oui","8005970597","info@aubergedelafontaine.com","Oui","Oui","Non","Non",null,0,"www.aubergedelafontaine.com",null,null,"Oui",20,6,"Oui","1168168624",null,"Non","Oui","Non",null,null,0,"Oui","90110000","Oui","","Non",0,8,"Oui","Oui","Non","Non","","Cell: 514 520-8371","info@aubergedelafontaine.com","507931","Oui","","6-7-8-13-14 juin",null,8]
["97-0251","Alma Comfort Inn","923815454-0121","*ALMA",null,"ALMA COMFORT INN","870, avenue du Pont Sud","ALMA","G8C2V8","4186689221",null,"Justine Caron-Ouellet","Preuve d'emploi au gouvernement ou bon de commande transmise par le gouvernement","Sans frais jusqu’à 24 h avant l'arrivée. Un avis minimum de 7 jours pour 5 chambres et plus.",59,"",2026,"",0,null,"4186689221","Oui","8775746835","justine.caronouellet@innvesthotels.com","Oui","Oui","Oui","Non",null,null,"www.almacmfortinn.com",null,null,"Oui",10,2,"Oui","3360912086",null,"Non","Oui","Non",null,null,null,"Oui","90110000","Oui","","Oui",null,null,"Non","Oui","Non","Non","360","","cn321.reception@innvesthotels.com","26320","Non","",""]
["97-0243","Embassy Suites par Hilton Aéroport de Montréal","923815454-0122","*POINTE-CLAIRE",null,"EMBASSY SUITES PAR HILTON MONTRÉAL AÉROPORT","6300, autoroute Transcanadienne","POINTE-CLAIRE","H9R1B9","5144265060",null,"Jacklyn Leonard Bourdages","Garantie en tout temps avec c.d.c. ou réservation par télécopieur avec formulaire gouvernemental.","Sans frais jusqu'à 48 h le jour avant l'arrivée.",162,"Propriétés de style suites, chaque suite comprise d'un mico-ondes, petit réfrigérateur, bureau de travail.  Accés WIFI dans tout l'établissement. Stationnement et navette aéroportuaire gratuit (5H30 au 22H30). Petit -Déjeuner et Réception 17H30-19H inclus",2026,"1 à 12 Salles de réunion capacité de 100 personnes / prix à déterminer",0,null,"5144268253","Oui","","jacklyn.leonard-Bourdages@hilton.com","Oui","Oui","Non","Oui",8.9499999999999993,null,"https://www.hiltonhotels.com/fr_FR/canada/embassy-suites-by-hilton-montreal-airport/",null,null,"Oui",30,6,"Oui","1172012636",null,"Non","Oui","Non",null,null,null,"Oui","90110000","Oui","","Oui",null,null,"Oui","Oui","Oui","Oui","","Cell: 438-923-2833 Carol Richards","reservations@embassysuitesairportmontreal.com","514780","Non","",""]
["97-0237","Hôtel Ruby Foo's inc.","923815454-0123","*MONTRÉAL",null,"HÔTEL RUBY FOO'S","7655, boulevard Décarie","MONTRÉAL","H4P2H2","5147317701",null,"Jessica Geddes","Garantie en tout temps avec c.d.c  ou réservation avec le formulaire gouvernemental","Sans frais jusqu’à 24 h avant l'arrivée",198,"Tarif non applicable aux dates suivantes: 15-16-17-18 juin 2023. 4-5-6 août 2023. 11-12-13 août 2023.",2026,"",0,null,"5147317707","Oui","8003615419","jessica@hotelrubyfoos.com","Oui","Oui","Oui","Non",null,null,"www.hotelrubyfoos.com",null,null,"Non",null,6,"Oui","1143784826",null,"Non","Oui","Non",null,null,null,"Oui","90110000","Non","","Oui",null,null,"Non","Oui","Non","Non","627","","info@hotelrubyfoos.com","572865","Oui","","5-6-7-8-12-13-14-15 juin, 1-2-3 août"]
["97-0286","Quality Suites Ville de Québec (QQC inc.)","923815454-0124","*QUÉBECG2K1N8",null,"QUALITY SUITES VILLE DE QUÉBEC","1600, rue Bouvier","QUÉBEC","G2K1N8","4186224244",null,"Nancy Morin","Garantie en tout temps avec c.d.c ou avec le formulaire du gouvernement preuve d`identité exigée si aucune facturation directe","Sans frais jusqu`à 16 h le jour de l`arrivée, sinon des frais d'une nuitée seront facturés.",118,"",2026,"",0,null,"4186224244","Oui","","directeur@qualityquebec.com","Oui","Oui","Oui","Non",null,null,"choicehotels.com/cn335",null,null,"Oui",10,3,"Oui","1181153447",null,"Non","Oui","Non",null,null,null,"Oui","90110000","Oui","","Oui",null,null,"Oui","Non","Non","Non","","","ventes@qualityquebec.com","026353","Non","",""]
["97-0377","Hôtel Holiday Inn express Québec","923815454-0125","*QUÉBEC",null,"HÔTEL HOLIDAY INN EXPRESS QUÉBEC","3145, avenue des Hôtels","QUÉBEC","G1W3Z7","4186539321",null,"Jane Ann Luckerhoff","Aucune condition applicable","Aucune condition applicable",106,"Dates excluses :1-8-15-22-29 juillet , 5-12-19-26 août  et 2 septembre",2026,"",0,null,"4186539321","Non","8004631867","jluckerhoff@hiexquebec.com","Oui","Oui","Oui","Non",null,null,"www.hiexquebec.com",null,null,"Oui",null,3,"Oui","1164406481",null,"Oui","Oui","Non",12,12,null,"Non","90110000","Oui","","Oui",null,null,"Oui","Non","Non","Non","3","","info@hiexquebec.com","025572","Oui","","",12]
["97-0304","Hôtel Levesque","923815454-0126","*RIV-DU-LOUP",null,"HÔTEL LÉVESQUE","171, rue Fraser","RIVIÈRE-DU-LOUP","G5R1E2","4188626927",null,"Laura Nicolay  /  Stéphanie Lévesque","Garantie en tout temps avec c.d.c ou réservation par courriel avec le formulaire d'hébergement du gouvernement. Preuve d'identité à l'emploi du gouvernement exigée si aucune facturation directe","Sans frais jusqu'à 16 h le jour de l'arrivée, sinon des frais d'une nuitée pourraient s'appliquer.",110,"",2026,"17 salles/2 à 500 personnes",0,null,"4188626927","Oui","8004631236","reception@hotellevesque.com  /  adm@hotellevesque.com","Oui","Oui","Oui","Non",null,null,"www.hotellevesque.com",null,null,"Non",null,1,"Oui","1166798950",null,"Non","Oui","Non",null,null,null,"Oui","90110000","Oui","","Oui",null,null,"Oui","Non","Non","Non","","","hotel@hotellevesque.com","003135","Oui","",""]
["97-0236","Best Western Hôtel l'Aristocrate","923815454-0127","*QUÉBEC",null,"BEST WESTERN PREMIER HÔTEL ARISTOCRATE","3100, chemin Saint-Louis","QUÉBEC","G1W1R8","4186532841",null,"Caroline Viens","Garantie en tout temps avec c.d.c ou réservation avec le formulaire gouvernemental, preuve d'identité à l'emploi exigée si aucune facturation directe","Sans frais jusqu'à 16 h le jour de l'arrivée, sinon des frais d'une nuitée pourraient s’appliquer",100,"Dates excluses : 1-8-15-22-29 juillet , 5-12-19-26 août  et 2 septembre",2026,"3 salles de 8 à 64 personnes",0,null,"4186532841","Oui","8004634752","c.viens@hotelaristocrate.com","Oui","Oui","Oui","Non",null,0,"www.hotelaristocrate.com",null,null,"Non",null,3,"Oui","1176210897",null,"Non","Oui","Non",null,null,null,"Oui","90110000","Oui","","Oui",null,null,"Non","Oui","Non","Non","358","Cell Nadeau 418-933-9310","hotel@hotelaristocrate.com","006101","Oui","",""]
["97-0411","Quality Hôtel Montréal-Est","923815454-0128","*MONTREAL",null,"QUALITY HÔTEL MONTRÉAL-EST","8100, avenue De Neuville","MONTRÉAL","H1J2T2","5144936363",null,"Joanna Roupas","Réservation par courrier électronique ou par téléphone","Sans frais jusqu'à 16 h le jour de l'arrivée, sinon des frais d'une nuitée pourraient s’appliquer",159,"",2026,"1 à 2 salles / de 1 à 15 personnes",0,null,"5144936363","Oui","8002673837","jroupas@qualitymontrealeast.com","Oui","Oui","Oui","Non",null,null,"www.qualitymontrealeast.com",null,null,"Non",null,6,"Oui","1173487670",null,"Non","Oui","Non",null,null,null,"Oui","90110000","Oui","","Oui",null,null,"Non","Oui","Non","Non","206","","reception@qualitymontrealeast.com","512282","Non","","21-22-23-24 mai"]
["97-0067","Best Western Ville-Marie Hôtel & Suites (3056309 Canada inc.)","923815454-0129","*MONTRÉAL",null,"BEST WESTERN VILLE-MARIE HÔTEL ET SUITES","3407, rue Peel","MONTRÉAL","H3A1W7","5142884141",null,"Rania Thome","Garantie en tout temps avec c.d.c obligatoire. Le formulaire d'hébergement du gouvernement et preuve d'identité à l'emploi du gouvernement exigés.","Sans frais jusqu’à 24 h avant l'arrivée",168,"Dates excluses : 15-16-17-18 juin, le 4-5-6 août, 30 et 31 décembre",2026,"",0,null,"5142884141","Oui","8003617791","rania@hotelvillemarie.com","Oui","Oui","Oui","Non",null,null,"www.hotelvillemarie.com",null,null,"Non",null,6,"Non","1141419649",null,"Oui","Non","Non",25,50,null,"Oui","90110000","Oui","","Non",null,null,"Non","Non","Non","Non","207","","reservation@hotelvillemarie.com","624971","Non","","",37]
["97-0166","Holiday Inn [Mc] Montréal Centre-Ville","923815454-0130","*MONTRÉAL",null,"HOLIDAY INN MONTRÉAL CENTRE-VILLE","999, rue Saint-Urbain","MONTRÉAL","H2Z0B4","5148789888",null,"Simon Pak","Garantie en tout temps avec c.d.c ou réservation avec le formulaire gouvernemental, preuve d'identité à l'emploi exigée si aucune facturation directe","Sans frais jusqu’à 48 h avant l'arrivée",235,"Dates exclues 15-16-17-18 juin, 3-4-5-10-11-12 août et 30-31 décembre",2026,"",0,null,"5148789888","Oui","8888789888","ventes@hicvmtl.com","Oui","Oui","Oui","Non",null,null,"https://www.ihg.com/holidayinn/hotels/fr/fr/montreal/yulca/hoteldetail",null,null,"Non",null,6,"Oui","1142483032",null,"Oui","Non","Non",30,30,null,"Oui","90110000","Oui","","Non",null,null,"Non","Oui","Non","Non","4026","Simon Pak (514) 878-4026","reservations@hicvmtl.com","603536","Non","","21-22-23-24 mai, 31 juillet, 1-7-8-14-15 août",30]
["97-0210","DoubleTree by Hilton Montréal","923815454-0131","*MONTRÉAL",null,"DOUBLETREE PAR HILTON MONTRÉAL","1255, rue Jeanne-Mance","MONTRÉAL","H5B1E5","5142851450",null,"Marie-Sophie Pons  /  Marc Larochelle","Carte de crédit requise pour les réservations, dépôt de sécurité de 100$ par nuit, pièce d'identité peut être demandé à l'enregistrement","24 heures à l'avance, garantie par carte de crédit",595,"Dates fermées: Grand Prix F1 16 au 17 juin; Fête du Canada 30 juin au 1er juillet; Osheaga 4 au 5 août 2023 Tarifs valides pour un maximum de 9 chambres et moins par soir et non disponible pour les groupes de 10 chambres et plus",2026,"25 salles de réunions et 5 terrasses",0,null,"5148412054","Oui","8003618234","marie-sophie.pons@hilton.com  /  marc.laroche@hilton.com","Oui","Oui","Oui","Non",null,null,"www.doubletreemontreal.com/fr",null,null,"Non",null,6,"Oui","1179630158",null,"Oui","Non","Non",32,32,null,"Oui","90110000","Oui","","Non",4,24,"Oui","Oui","Non","Non","","Marc Laroche cell: 514-922-3191","reservationsmontreal@hilton.com","583940","Oui","","21-22-23-24 mai, 27 juin, 4-31 juillet, 1-2 août",34]
["97-0249","Hilton Québec","923815454-0132","*QUÉBEC",null,"HILTON QUÉBEC","1100, boulevard René-Lévesque Est","QUÉBEC","G1R5V2","4186472411",null,"Julie Dussault.","Garantie en tout temps avec c.d.c. ou réservations par télécopieur avec le formulaire d'hébergement du gouvernement. Preuve d'identité à l'emploi du gouvernement exigée si aucune facturation directe.","Sans frais jusqu'à 48 heures avant le jour de l'arrivée, sinon des frais d'une nuitée pourraient être facturés",569,"Non valide pour les groupes de 8 chambres et plus. Dates excluses : 11 février, 20 mai, 7-8-14 et 15 juillet, 2 septembre, 29-30-31 décembre 2023.",2026,"22 salles/10 à 1200 personnes",0,null,"4186476495","Oui","8004472411","julie.dussault@hilton.com","Oui","Oui","Oui","Oui",11.95,null,"www.hiltonquebec.com",null,null,"Non",null,3,"Oui","3370444260",null,"Oui","Non","Non",22,32,null,"Oui","90110000","Oui","","Non",null,null,"Oui","Non","Oui","Oui","","","reservations.quebec@hilton.com","054806","Oui","","13 février, 10-11 juillet, 17-18 juillet, 31 décembre",35]
["97-0250","Thetford Mines Comfort Inn (Innvest Hotels LP)","923815454-0133","*THETFORD MINES",null,"THETFORD MINES COMFORT INN","123, boulevard Frontenac Ouest","THETFORD MINES","G6G7S7","4183380171",null,"Marilou Paré","Preuve d'identité à l'emploi du gouvernement ou formulaire de réservation gouvernemental","Sans frais jusqu’à 24 h avant l'arrivée",62,"",2026,"",0,null,"4183380171","Oui","","cn347.fo3@innvesthotels.com","Oui","Oui","Oui","Non",null,null,"choicehotels.com/cn347",null,null,"Oui",10,12,"Oui","3360912086",null,"Non","Oui","Non",null,null,null,"Oui","90110000","Oui","","Oui",null,null,"Oui","Non","Non","Non","","","cn347@innvesthotels.com","026342","Non","",""]
["97-0290","Ancienne Lorette Comfort Inn®","923815454-0134","*ANC-LORETTE",null,"HÔTEL COMFORT INN ANCIENNE-LORETTE","1255, boulevard Duplessis","L'ANCIENNE-LORETTE","G2G2B4","4188725900",null,"Marie-Claude Lalande","Garantie en tout temps avec c.d.c. ou réservation avec le formulaire d'hébergement du gouvernement. Preuve d'emploi requise si aucune facturation directe","Sans frais jusqu’à 24 h avant l'arrivée",58,"",2026,"",0,null,"4188725900","Oui","","cn337@innvesthotels.com","Oui","Oui","Oui","Non",null,null,"https://www.choicehotels.com/cn337",null,null,"Oui",10,3,"Oui","3360912086",null,"Non","Oui","Non",null,null,null,"Oui","90110000","Oui","","Oui",null,null,"Non","Oui","Non","Non","","","cn337@innvesthotels.com","018314","Non","",""]
["97-0296","Best Western Brossard","923815454-0135","*BROSSARD",null,"HOTEL BEST WESTERN BROSSARD","7746, boulevard Taschereau","BROSSARD","J4X1C2","4504666756",null,"Erica Suarez","Formulaire de réservation gouvernemental obligatoire","Sans frais jusqu’à 24 h avant l'arrivée",112,"Dates excluses : 16-17 et 18 Juin (Grand Prix F1) et le  3-4-5-6 Août (Challenge Brossard).",2026,"Aucune",0,null,"4504666756","Oui","8004650041","ventesetmarketings@bwbrossard.ca","Oui","Oui","Non","Non",null,8,"bestwestern.com",null,null,"Oui",20,16,"Oui","1146606398",null,"Non","Oui","Non",null,null,null,"Oui","90110000","Oui","","Oui",null,null,"Oui","Non","Non","Non","307","","confirmation@bwbrossard.ca","506096","Non","","21-22-23-24 mai, 26-27-28-29-30 juin, 30 juillet au 2 août"]
["97-0325","Hôtel Universel (2958-3465 Québec inc.)","923815454-0136","*RIV-DU-LOUP",null,"HÔTEL UNIVERSEL","311, boulevard de l'Hôtel-de-Ville","RIVIÈRE-DU-LOUP","G5R5S4","4188629520",null,"Martin Lévesque","Garantie en tout temps avec c.d.c  ou réservation avec le formulaire gouvernemental","Sans frais jusqu’à 24 h avant l'arrivée",299,"Exclusions: 15-22-29 juillet, 4-5-11-12-19-19 août et 2 septembre 2023",2026,"idem pour  2026",0,null,"4188675212","Oui","8002650072","martin.levesque@hoteluniverselrdl.com","Oui","Oui","Oui","Non",null,5,"www.hoteluniverselrdl.com",null,null,"Non",10,1,"Oui","1142136366",null,"Non","Oui","Non",null,null,null,"Non","90110000","Non","","Oui",null,null,"Oui","Non","Non","Non","6638","Martin Lévesque Cell: 418-868-4529","info@hoteluniverselrdl.com","054854","Non","",""]
["97-0337","Hôtel Clarion Pointe La Malbaie","923815454-0138","*LAMALBAIE",null,"CLARION POINTE LA MALBAIE","185, boulevard de Comporté","LA MALBAIE","G5A2Y3","4186656421",null,"M. Yassin Ouenniche","Garantie  en tout temps avec c.d.c.","Sans frais jusqu’à 48 h avant l'arrivée",39,"Stationnement pour semi remorque et camion. Restaurant ouvert dès 6 h",2026,"",0,null,"4186656421","Non","8002636421","direction@clarionpointelamalbaie.com","Oui","Oui","Oui","Non",null,0,"https://www.choicehotels.com/fr-ca/quebec/la-malbaie/clarion-hotels/cnc10",null,null,"Oui",0,3,"Oui","1177040426",null,"Non","Oui","Non",null,null,0,"Non","90110000","Non","","Oui",null,null,"Non","Oui","Non","Non","","","direction@motellemirage.com","018885","Oui","",""]
["97-0341","Clarion Pointe Québec","923815454-0139","*QUÉBEC",null,"CLARION POINTE QUÉBEC","7300, boulevard Wilfrid-Hamel Ouest","QUÉBEC","G2G1C1","4188772226",null,"Michael Gagnon","Aucune condition","Jusqu'à 16h le jour de l'arrivée",76,"",2026,"",0,null,"4188772226","Oui","8003635260","mgagnon@clarionpointequebec.com","Oui","Oui","Oui","Non",null,null,"https://clarionpointequebec.com",null,null,"Oui",20,3,"Oui","1163451561",null,"Non","Oui","Non",null,null,null,"Oui","90110000","Oui","","Oui",null,null,"Non","Oui","Non","Non","","","info@clarionpointequebec.com","029234","Oui","",""]
["97-0348","Hôtel Motel Danube Bleu inc.","923815454-0140","*FORESTVILLE",null,"HOTEL MOTEL DANUBE BLEU INC.","5, Route 138 Est","FORESTVILLE","G0T1E0","4185872278",null,"Cathy Desrosiers  /  Jessy Quin","Garantie en tout temps avec c.d.c ou bon de réservation","Sans frais 24 heures a l'avance",55,"",2026,"1 à 3 salles / de 5 à 200 personnes",0,null,"4185872278","Oui","8776772278","info@hoteldanubebleu.ca  /  jquinn@hoteldanubebleu.ca","Oui","Oui","Oui","Non",null,null,"www.hoteldanubebleu.ca",null,null,"Non",null,9,"Oui","1143463520",null,"Non","Oui","Non",null,null,null,"Non","90110000","Non","","Oui",null,null,"Non","Oui","Non","Non","2074/ 2075","","info@hoteldanubebleu.ca","041543","Non","","28 août"]
["97-0385","Best Western plus Gatineau-Ottawa","923815454-0141","*GATINEAU",null,"BEST WESTERN PLUS GATINEAU-OTTAWA","131, rue Laurier","GATINEAU","J8X3W3","8197708550",null,"Lina Sadaoui","Garantie en tout temps avec c.d.c. ou réservation avec le formulaire d'hébergement du gouvernement","Sans frais jusqu’à 24 h avant l'arrivée",133,"Tarif non applicable lors de certaines dates ou d'événements spéciaux; accès à internet gratuit dans tout l'établissement; supplément applicable pour les chambres de catégorie supérieure et 15$ par nuitée par personne pour les 3e et 4e personne.",2026,"",0,null,"8197708550","Oui","8002658550","ventes@bwgatineau.ca","Oui","Oui","Oui","Non",null,null,"www.bestwesterngatineau.ca",null,null,"Non",null,7,"Oui","3347902101",null,"Oui","Oui","Non",null,null,null,"Oui","90110000","Non","","Non",15,15,"Oui","Non","Non","Non","4462","Ilias Hadmi cellulaire (343) 262-2603","reception@bwgatineau.ca","575492","Oui","","",18,15]
["97-0387","Best Western (Hôtel universel)","923815454-0142","*DRUMMONDVILLE",null,"BEST WESTERN HÔTEL UNIVERSEL DRUMMONDVILLE","915, rue Hains","DRUMMONDVILLE","J2C3A1","8194784971",null,"Melizande Baillargeon","Garantie en tout temps avec c.d.c. ou réservation avec le formulaire d'hébergement du gouvernement. Preuve d’identité à l’emploi du gouvernement exigée si aucune facturation directe","Sans frais jusqu’à 24 h avant l'arrivée",118,"Tarifs préférentiels non applicables pour réservations de groupe (8 chambres et plus).",2026,"21 salles réunions / (de 4 à 1000 personnes)",0,null,"8194784971","Oui","8007116047","dir.hebergement@universel.com","Oui","Oui","Oui","Non",null,null,"www.universel.com",null,null,"Oui",16,17,"Oui","1173096588",null,"Non","Oui","Non",null,null,null,"Oui","90110000","Oui","","Oui",null,null,"Oui","Oui","Non","Non","","","info@universel.com","057735","Oui","",""]
["97-0388","Hôtel Sélectôtel","923815454-0143","*AMQUI",null,"SÉLECTÔTEL","340, boulevard Saint-Benoît Ouest","AMQUI","G5J2G2","4186292241",null,"Émilie Pitre","Formulaire de réservation gouvernemental obligatoire","Sans frais jusqu'à 16 h le jour de l'arrivée, sinon des frais d'une nuitée pourraient s’appliquer",73,"",2026,"",0,null,"4186292241","Oui","8004630831","administration@selectotelamqui.com","Oui","Oui","Oui","Non",null,3,"www.selectotelamqui.com",null,null,"Non",10,1,"Oui","1161954210",null,"Non","Oui","Non",null,null,null,"Oui","90110000","Non","","Oui",null,null,"Non","Oui","Non","Non","","","info@selectotelamqui.com","041075","Oui","",""]
["97-0391","Hôtel Québec Inn (Les immeubles Jacques Robitaille inc.)","923815454-0144","*QUÉBEC",null,"HÔTEL QUÉBEC INN","7175, Boulevard Wilfrid-Hamel Ouest","QUÉBEC","G2G1B6","4188729831",null,"Tara King","Garantie en tout temps avec c.d.c.ou formulaire de facturation au gouvernement.","Sans frais jusqu'à 16 h la veille",135,"certaines conditions de réservation diffèrent pour les groupes. Les chambres modernes sont à partir de 110 $.  Les cinq suites sont à partir de 310 $",2026,"14 salles de réunion pouvant accueillir de 10 à 400 personnes. Pour informations contacter le 418-872-9991 poste 4423.",0,null,"4188729991","Oui","8005675276","tking@hotelsjaro.com","Oui","Oui","Oui","Oui",4.95,null,"https://www.hotelsjaro.com/quebec-inn",null,null,"Non",null,3,"Non","1143920560",null,"Non","Oui","Non",null,null,null,"Oui","90110000","Oui","","Oui",null,null,"Non","Non","Non","Non","4303","","quebecinnheb@hotelsjaro.com","068445","Non","",""]
["97-0396","Hôtel Le Dauphin Québec","923815454-0145","*QUÉBEC",null,"HÔTEL ET SUITES LE DAUPHIN QUÉBEC","400, rue Marais","QUÉBEC","G1M3R1","4186883888",null,"Etienne Aubin","Garantie en tout temps avec c.d.c ou avec le formulaire du gouvernement preuve d`identité exigée.","Sans frais jusqu' à 16 h le jour de l'arrivée. Sinon des frais d'une nuitée seront facturés.",99,"Accès à Internet haute vitesse sans fil gratuit. Piscine intérieure,stationnement gratuit, déjeuner inclus et salle d'exercice.",2026,"",0,null,"8198172299","Non","8006685911","eaubin@gestioncm.ca","Oui","Oui","Oui","Non",null,null,"www.dauphinquebec.com",null,null,"Oui",null,3,"Oui","1166265414",null,"Non","Oui","Non",null,null,null,"Oui","90110000","Oui","","Oui",null,null,"Non","Oui","Non","Non","","Cell 819-817-2299","info@dauphinquebec.com","075062","Oui","","4-11-18-25 juillet, 1-8-15-22-29 août"]
["97-0407","Hôtel Marineau Shawinigan","923815454-0146","*SHAWINIGAN",null,"HÔTEL MARINEAU SHAWINIGAN","2223, rue Hanna","SHAWINIGAN","G9T6S5","8195335766",null,"Claudie Boivin","Garantie en tout temps avec c. d. c. et réservation par télécopieur avec le formulaire d'hébergement du gouvernement. Une preuve d'identité à l'emploi du gouvernement est obligatoire","Sans frais jusqu'à 16 h le jour de l'arrivée, sinon des frais d'une nuitée pourraient s’appliquer",42,"",2026,"1 salle pour une capacité de XX personnes / prix à déterminer",0,null,"8195335766","Oui","8005655766","c.boivin@hotelsmarineau.com","Oui","Oui","Oui","Non",null,null,"www.hotelsmarineau.com",null,null,"Oui",null,4,"Non","1173168379",null,"Non","Oui","Non",null,null,null,"Non","90110000","Non","","Oui",null,null,"Non","Non","Non","Non","","","c.boivin@hotelsmarineau.com","015960","Non","",""]
["97-0408","Hôtel Marineau La Tuque","923815454-0147","*LA TUQUE",null,"HÔTEL MARINEAU LA TUQUE","3250, boulevard Ducharme","LA TUQUE","G9X4T3","8195234551",null,"Chantale Boulianne","Aucune condition","Sans frais jusqu'à 12h le jour de l'arrivée",71,"",2026,"",0,null,"8195234551","Oui","8005674551","c.boulianne@hotelsmarineau.com","Oui","Oui","Oui","Non",null,null,"www.hotelsmarineau.com",null,null,"Non",null,4,"Non","1173168379",null,"Non","Oui","Non",null,null,null,"Oui","90110000","Non","","Oui",null,null,"Non","Non","Non","Non","","Chantale Boulianne cell 819-676-7346","latuque@hotelsmarineau.com","043293","Non","",""]
["97-0419","Sandman Hôtel Montréal Longueuil","923815454-0148","*LONGUEUIL",null,"HÔTEL SANDMAN","999, rue de Sérigny","LONGUEUIL","J4K2T1","4506703030",null,"Yazid Lallami","Garantie en tout temps avec c.d.c. ou avec formulaire du Gouvernement.","Sans frais jusqu’à 24 h avant l'arrivée",214,"Tarif non applicable pour les dates suivantes: 15 au 19 juin, 4 afu 6 août et 11 au 13 août",2026,"",0,null,"4506703030","Oui","8004937303","GM_montreal@sandman.ca","Oui","Oui","Oui","Non",null,null,"https://www.sandmanhotels.com/fr/locations/quebec/montreal-longueuil/hotels/montreal-longueuil-mol/hot-deals/",null,null,"Non",null,16,"Oui","1161453304",null,"Non","Oui","Non",null,null,null,"Oui","90110000","Oui","","Oui",null,null,"Oui","Non","Non","Non","2000","Yazid Lallami - cellulaire: 514-743-1196","reception_montreal@sandman.ca"," 557174","Non","",""]
["97-0420","N Hôtel Québec","923815454-0149","*QUÉBEC",null,"N HÔTEL QUÉBEC","3390, boulevard Sainte-Anne","QUÉBEC","G1E3L7","4186661226",null,"Valérie Guillemette","Garantie en tout temps avec c.d.c. ou réservation par télécopieur avec le formulaire d'hébergement du gouvernement. Preuve d'identité à l'emploi du gouvernement exigée si aucune facturation directe","Sans frais jusqu'à 16 h le jour de l'arrivée, sinon des frais d'une nuitée seront facturés.",74,"",2026,"",0,null,"4186221611","Oui","8556661226","valerie.guillemette@hotelnormandin.com","Oui","Oui","Oui","Non",null,null,"www.nhotelnormandin.ca",null,null,"Non",null,3,"Oui","1147370465",null,"Non","Oui","Non",null,null,null,"Non","90110000","Non","","Oui",null,null,"Non","Oui","Non","Non","","","info.nhotel@nhotel.ca","031430","Non","",""]
["97-0431","Quality Inn Mont-Laurier","923815454-0150","*MONT-LAURIER",null,"HÔTEL QUALITY INN MONT-LAURIER","111, boulevard Albiny-Paquette","MONT-LAURIER","J9L1J2","8196233555",null,"Mélanie Marsolais","Formulaire de réservation gouvernemental obligatoire","Sans frais jusqu’à 24 h avant l'arrivée",50,"",2026,"2 salle pour une capacité de 20-50 personnes / prix à déterminer",0,null,"8196233555","Oui","8333336669","info@qualityinn-ml.ca","Oui","Oui","Oui","Non",null,null,"www.qualityinn-ml.ca",null,null,"Non",10,15,"Oui","1143763804",null,"Non","Oui","Non",null,null,null,"Oui","90110000","Non","","Oui",null,null,"Oui","Oui","Non","Non","","","info@qualityinn-ml.ca","576575","Non","",""]
["97-0433","L'Appartement Hôtel","923815454-0151","*MONTRÉAL",null,"L'APPARTEMENT HÔTEL","455, rue Sherbrooke Ouest","MONTRÉAL","H3A1B7","5142843634",null,"Philippe Dubé","Garantie en tout temps avec c.d.c ou réservation avec le formulaire d'hébergement du gouvernement. Preuve d'identité à l'emploi du gouvernement exigée si aucune facturation directe","Sans frais 24 h avant le jour de l'arrivée, sinon des frais d'une nuitée seront facturés",126,"Les tarifs ne sont pas valide durant les dates suivantes: Grand Prix de Montréal : 15 au 18 juin, 2023, Festival d'Oshéaga: 3 au 6 août, 2023  Borne pour voiture électrique gratuite avec séjour.",2026,"",0,null,"5147886314","Oui","8003633010","pdube@appartementhotel.com","Oui","Oui","Oui","Non",null,57,"www.appartementhotel.com",null,null,"Oui",null,6,"Non","1171272223",null,"Oui","Oui","Non",25,25,null,"Oui","90110000","Oui","","Non",25,25,"Non","Non","Non","Non","","","info@appartementhotel.com","561820","Non","","",25,25]
["97-0440","Econo Lodge Montréal-Brossard","923815454-0152","*LONGUEUIL",null,"ECONO LODGE MONTRÉAL BROSSARD","8350, boulevard Taschereau","BROSSARD","J4X1C2","4504662186",null,"Pooja Bakorry","Preuve d'emploi au gouvernement ou formulaire d'hébergement du gouvernement","Sans frais jusqu’à 24 h avant l'arrivée, pour 5 chambres ou plus, politique d'annulation de 7 jours avant",51,"Restrictions de date: 15-16-17 juin / 28-29-30-1 juillet / 4-5-6 août",2026,"",0,null,"4382202848","Oui","8005652186","gm@econolodge778.ca","Oui","Oui","Oui","Non",null,0,"www.choicehotels.ca/fr/econo-lodge-brossard-hotel-cn778",null,null,"Oui",0,16,"Non","1143642008",null,"Non","Oui","Non",null,null,0,"Oui","90110000","Non","","Oui",null,null,"Non","Non","Non","Non","",""," info@econolodge778.ca","560910","Non","",""]
["97-0446","Hôtel Ambassadeur","923815454-0153","*QUÉBEC",null,"AMBASSADEUR HÔTEL ET SUITES","3401, boulevard Sainte-Anne","QUÉBEC","G1E3L4","4186662828",null,"Nancy Savard","Aucune condition","Sans frais jusqu’à 24 h avant l'arrivée",145,"Dates excluses : 10 février, 20 mai, 1 juillet, 2-3 septembre, 6-7 oct, 29 au 31 décembre",2026,"",0,null,"4186662828","Oui","8003634619","ppineault@hotelambassadeur.ca","Oui","Oui","Non","Non",null,null,"www.hotelambassadeur.ca",null,null,"Non",20,3,"Non","1149669682",null,"Non","Oui","Non",null,null,null,"Non","90110000","Non","","Oui",null,null,"Non","Non","Non","Non","","","info@hotelambassadeur.ca","029816","Non","","1-8 février, 17 mai, 4-5-11-12 juillet, 2-30 août, 11 octobre"]
["97-0447","Holiday Inn Laval Montréal","923815454-0154","*LAVAL",null,"HOLIDAY INN LAVAL-MONTRÉAL","2900, boulevard Le Carrefour","LAVAL","H7T2K9","4506829000",null,"Franco Pastorino","Garantie en tout temps avec c.d.c  ou réservation avec le formulaire gouvernemental","Sans frais jusqu’à 24 h avant l'arrivée",176,"Bornes pour recharge électrique disponibles.",2026,"7 salles, jusqu'à 200 personnes / prix à déterminer",0,null,"4506829000","Oui","8883333140","franco.pastorinoi@innvesthotels.com","Oui","Oui","Oui","Non",null,null,"www.hilaval.com/fr/",null,null,"Non",15,13,"Oui","3370444260",null,"Non","Oui","Non",null,null,null,"Oui","90110000","Oui","","Oui",null,null,"Oui","Oui","Oui","Non","126","","iv409.info@innvesthotels.com","506973","Oui","","21-22-23-24 mai, 31 juillet, 1-2 août"]
["97-0452","Hôtel Baie-St-Paul inc.","923815454-0155","*BAIE-SAIG3Z1X6",null,"HÔTEL BAIE-SAINT-PAUL","8, chemin du Golf","BAIE-SAINT-PAUL","G3Z1X6","4184353683",null,"Martyne Bouchard","Formulaire de réservation gouvernemental obligatoire","sans frais 48 heures avant le jour de l'arrivée",62,"Formulaire de réservation obligatoire",2026,"",0,null,"4184353683","Oui","8006503683","vente@hotelbaiestpaul.com","Oui","Oui","Oui","Non",null,null,"www.hotelbaiestpaul.com",null,null,"Non",null,3,"Oui","1141988452",null,"Non","Oui","Non",null,null,null,"Non","90110000","Non","","Oui",null,null,"Non","Oui","Non","Non","294","","info@hotelbaiestpaul.com","019666","Oui","",""]
["97-0456","Comfort Inn® Trois-Rivières","923815454-0156","*TROIS-RIVIÈRES",null,"HÔTEL COMFORT INN TROIS-RIVIÈRES","6255,  rue Corbeil","TROIS-RIVIÈRES","G8Z4P9","8193713566",null,"Michael Hartwell","Garantie en tout temps avec c.d.c ou réservation par télécopier avec le formulaire du gouvernement preuve d'identité exigée si aucune facturation directe","Sans frais jusqu'à 16 h le jour de l'arrivée, sinon des frais d'une nuitée seront facturés.",77,"",2026,"",0,null,"8193713566","Oui","","dg@troisrivieres.com","Oui","Oui","Oui","Non",null,null,"choicehotels.com/cn348",null,null,"Oui",10,4,"Oui","1170401013",null,"Non","Oui","Non",null,null,null,"Oui","90110000","Oui","","Oui",null,null,"Oui","Non","Non","Non","","","dg@citroisrivieres.com","054014","Non","",""]
["97-0466","Val d'Or Comfort Inn","923815454-0157","*VAL-DOR",null,"VAL-D'OR COMFORT INN","1665, 3e Avenue","VAL-D'OR","J9P1V9","8198259360",null,"Kim Lantagne","Garantie en tout temps avec c.d.c. ou réservation avec formulaire d'hébergement du  gouvernement","Sans frais jusqu’à 24 h avant l'arrivée",78,"",2026,"",0,null,"8198259360","Oui","","kim.lantagne@innvesthotels.com","Oui","Oui","Oui","Non",null,null,"https://valdorcomfortinn.com/",null,null,"Oui",10,8,"Oui","3370444260",null,"Non","Oui","Non",null,null,null,"Oui","90110000","Oui","","Oui",null,null,"Non","Oui","Non","Non","360","","cn349.fo1@innvesthotels.com","569531","Non","",""]
["97-0473","Hôtel du Jardin de Saint-Félicien inc.","923815454-0158","*SAINT-FÉLICIEN",null,"HÔTEL DU JARDIN","1400, boulevard du Jardin","SAINT-FÉLICIEN","G8K2N8","4186798422",null,"Lili Fournier","Réservation faite par téléphone ou par courriel. Chambre disponible à 16h (check/in et elle doit être libérée à 11h (check/out).","Annulation sans frais 48h avant l'arrivée, si annulation faite moins de 48h avant, la première nuit du séjour sera chargée.",85,"Stationnement gratuit.",2026,"Centre des congrès sur place, 8 salles de 4 à 300 personnes. Pour réservation et information, vous adresser à Lili Fournier à lilifournier@hoteldujardin.com",0,null,"4186798422","Oui","8004634927","lilifournier@hoteldujardin.com","Oui","Oui","Oui","Non",null,null,"www.hoteldujardin.com",null,null,"Non",null,2,"Oui","1162172317",null,"Non","Oui","Non",null,null,null,"Oui","90110000","Non","","Oui",null,null,"Non","Oui","Non","Non","1666","","contact@hoteldujardin.com","026810","Oui","",""]
["97-0480","Holiday inn St-Jean-sur-Richelieu congrès","923815454-0159","*SAINT-JEAN",null,"HOLIDAY INN SAINT-JEAN-SUR-RICHELIEU CONGRÈS","725, boulevard du Séminaire Nord","SAINT-JEAN-SUR-RICHELIEU","J3B8H1","4503487376",null,"Christine Frigon","Garantie en tout temps avec c.d.c ou réservation avec le formulaire gouvernemental, preuve d'identité à l'emploi exigée si aucune facturation directe","Sans frais jusqu’à 24 h avant l'arrivée",120,"Déjeuner inclus. Accès à la piscine, stationnement sans frais, WIFI sans frais. Micro-onde et frigidaire dans chacune des chambres.",2026,"",0,null,"4503487376","Oui","","christine.frigon@qualityhotelstjean.com","Oui","Oui","Oui","Non",null,null,"https://www.ihg.com/spnd/hotels/us/en/st-jean-sur-richelieu/yuljs/hoteldetail?fromRedirect=true&qBrs=6c.hi.ex.sb.ul.ic.cp.cw.in.vn.cv.Christine",null,null,"Non",20,16,"Oui","1174200452",null,"Non","Oui","Non",null,null,null,"Oui","90110000","Non","","Oui",null,null,"Oui","Non","Non","Non","129","","admin@histjean.com  /  info@histjean.com","568606","Oui","","22-23 mai, 31 juillet, 1-7-8-15-16 août, 19-25-26 septembre"]
["97-0481","Auberge de la Pointe inc.","923815454-0160","*RIV.-DU-LOUP",null,"AUBERGE DE LA POINTE","10, boulevard Cartier","RIVIÈRE-DU-LOUP","G5R6A1","4188623514",null,"Jenny Lévesque","Formulaire de réservation gouvernemental obligatoire","Sans frais 24 h avant le jour de l'arrivée",107,"",2026,"",0,null,"4188623514","Oui","8004631222","jenny@aubergedelapointe.com","Oui","Oui","Oui","Non",null,null,"www.aubergedelapointe.com",null,null,"Non",null,1,"Oui","1160160331",null,"Non","Oui","Non",null,null,null,"Non","90110000","Non","","Oui",null,null,"Non","Oui","Non","Non","","","auberge@aubergedelapointe.com","067174","Oui","",""]
["97-0494","Hôtel & centre de congrès Travelodge Québec","923815454-0161","*QUÉBEC",null,"HÔTEL TRAVELODGE QUÉBEC PAR WYNDHAM & CENTRE DES CONGRÈS","3125, boulevard Hochelaga","QUÉBEC","G1W2P9","4186534901",null,"Denise Giguère","Garantie en tout temps avec c.d.c  ou réservation par télécopieur avec le formulaire d'hébergement du gouvernement, preuve d'identité à l'emploi exigée si aucune facturation directe.","Sans frais jusqu’à 24 h avant l'arrivée",230,"Chambre signature pour tous les employés du gouvernement",2026,"1 à 12 sa;;es pour une capacité de 400 personnes / prix à déterminé",0,null,"4186534901","Oui","8004635241","dgiguere@travelodgeqc.com","Oui","Oui","Oui","Non",null,0,"www.travelodgequebec.ca",null,null,"Non",0,3,"Oui","1148313217",null,"Oui","Oui","Oui",null,null,0,"Non","90110000","Non","","Oui",null,null,"Oui","Non","Non","Non","6128","","info@travelodgeqc.com","006064","Oui","",""]
["97-0495","Sheraton Montréal Aéroport Hôtel, Le","923815454-0162","*DORVAL",null,"SHERATON MONTREAL AÉROPORT","555, boulevard McMillan","DORVAL","H9P1B7","5146312411",null,"Andrée Parent","Garantie en tout temps avec c.d.c. ou avec le formulaire d'hébergement du gouvernement.  Preuve d'identité à l'emploi du gouvernement exigée si aucune facturation directe","Sans frais jusqu'à 24h avant le jour de l'arrivée, sinon des frais d'une nuitée pourraient s’appliquer.",465,"accès a Internet gratuitement dans tout l’établissement.  Tarif non applicable le vendredi et le samedi lors du Grand Prix de Formule 1.  Tarif non applicable lors de certaines dates ou d'événements spéciaux",2026,"",0,null,"5148253632","Oui","8003253535","aparent@sheratonmontrealairport.com","Oui","Oui","Oui","Non",null,0,"https://www.marriott.fr/hotels/travel/yulsa-sheraton-montreal-airport-hotel",null,null,"Non",0,6,"Oui","1171825921",null,"Non","Oui","Non",null,null,0,"Oui","90110000","Non","","Non",15,15.5,"Non","Oui","Oui","Non","","","info@sheratonmontrealairport.com","524101","Non","","Grand Prix F1: Jeu au Dim incl. / Osheaga: Ven au Dim incl.",null,25]
["97-0496","Auberge de la Gare (9188-1318 Québec inc.)","923815454-0163","*GATINEAU",null,"AUBERGE DE LA GARE","205, boulevard Saint-Joseph","GATINEAU","J8Y3X3","8197788085",null,"Amily Hu","Réservation par courrier électronique ou par téléphone","Sans frais jusqu’à 24 h avant l'arrivée",42,"Tarifs préféntiels non applicables pour réservation de groupe( 8 chambre et plus)",2026,"",0,null,"8197788085","Oui","8667788085","admin@aubergedelagare.ca","Oui","Oui","Oui","Non",null,null,"www.aubergedelagare.ca",null,null,"Oui",null,7,"Oui","1179290433",null,"Non","Oui","Non",null,null,null,"Oui","90110000","Non","","Oui",null,null,"Oui","Oui","Non","Non","","(613)261-9916 cell: Amily Hu","info@aubergedelagare.ca","510974","Non","",""]
["97-0502","Hôtel Universel Montréal","923815454-0164","*MONTRÉAL",null,"HÔTEL UNIVERSEL MONTRÉAL","5000, rue Sherbrooke Est","MONTRÉAL","H1V1A1","5142533365",null,"Yuening Song","Garanti en tout temps avec c.d.c  ou réservation par télécopieur avec le formulaire d'hébergement du gouvernement.","Sans frais jusqu’à 24 h avant l'arrivée",230,"Dates non disponibles: 15-16-17-18-24-30 juin, 4-5-6 août 2023.",2026,"",0,null,"5143732701","Oui","8005670223","ysong@hoteluniverselmontreal.com","Oui","Oui","Oui","Non",null,null,"https://www.hoteluniverselmontreal.com/",null,null,"Non",null,6,"Oui","1144003283",null,"Non","Oui","Non",null,null,null,"Oui","90110000","Non","","Oui",null,null,"Non","Oui","Non","Non","","","info@hoteluniverserlmontreal.com","554466","Non","",""]
["97-0503","Hôtel Albert par G5","923815454-0165","*ROUYN-NORANDA",null,"HÔTEL ALBERT PAR G5","84, avenue Principale","ROUYN-NORANDA","J9X4P2","8197623545",null,"Pierre-Marc Grégoire","Garantie en tout temps avec c.d.c ou réservation avec le formulaire gouvernemental, preuve d'identité à l'emploi exigée si aucune facturation directe","Sans frais jusqu’à 24 h avant l'arrivée",50,"",2026,"",0,null,"8197623545","Non","8887252378","pierre.marc@g5groupe.ca","Oui","Oui","Oui","Non",null,null,"www.hotelalbert.ca",null,null,"Oui",10,8,"Oui","1181353245",null,"Non","Oui","Non",null,null,null,"Oui","90110000","Oui","","Oui",null,null,"Non","Oui","Non","Non","7738","Pierre-Marc Grégoire CELL: (819) 277/8008","reservation@hotelalbert.ca","523740","Oui","",""]
["97-0504","Castel de la Mer inc.","923815454-0166","*LA MALBAIE",null,"HÔTEL-MOTEL CASTEL DE LA MER","1125, rue Richelieu","LA MALBAIE","G5A2X8","4186657482",null,"Paul-Philippe Nadeau","Formulaire de réservation gouvernemental obligatoire","Sans frais jusqu'à 24 h avant l'arrivée",48,"Tarif applicable seulement pour les déplacements d'affaires.",2026,"",0,null,"4186657482","Oui","8009717482","ppnadeau@casteldelamer.com","Oui","Oui","Oui","Non",null,null,"www.casteldelamer.com",null,null,"Non",null,3,"Oui","1163071849",null,"Non","Oui","Non",null,null,null,"Oui","90110000","Non","","Oui",null,null,"Non","Oui","Non","Non","","","ppnadeau@casteldelamer.com","003883","Oui","",""]
["97-0506","8834555 Canada inc.","923815454-0167","*DORVALH9P1C1",null,"CONFORT INN DORVAL","340, avenue Michel-Jasmin","DORVAL","H9P1C1","5146363391",null,"Changsha Ji / Beatrice Patrichi","Formulaire de réservation gouvernemental obligatoire","Sans frais jusqu’à 24 h avant l'arrivée",94,"accès à Internet gratuitement dans tout l'établissement",2026,"",0,null,"5146363391","Non","","changsha.ji@cidorval.ca/ beatrice.patrichi@cidorval.ca","Oui","Oui","Oui","Non",0,0,"www.choicehotels.com/CN330",null,null,"Oui",null,6,"Non","1169980993",null,"Non","Oui","Non",null,null,null,"Oui","90110000","Non","","Oui",null,null,"Non","Non","Non","Non","","","cn330dorval@hotmail.comcn330reception@sunraygroup.ca / cn330dorval@hotmail.com","566366","Non","","13-14-15 juin"]
["97-0510","8834563 Canada inc.","923815454-0168","*POINTE-CLAIRE",null,"HÔTEL COMFORT INN MONTRÉAL AÉROPORT POINTE-CLAIRE","700, boulevard Saint-Jean","POINTE-CLAIRE","H9R3K2","5146976210",null,"Lyndsay Browley","Formulaire de réservation gouvernemental obligatoire","Sans frais jusqu’à 24 h avant l'arrivée",97,"Accès a Internet sans fil dans toutes les chambres. Occupation double de mai à septembre 10 $ additionnel",2026,"",0,null,"5146976210","Non","","lyndsay@sunraygroup.ca","Oui","Oui","Oui","Non",null,0,"https://www.choicehotels.com/cn334",null,null,"Oui",0,6,"Oui","1169981058",null,"Non","Oui","Non",null,null,0,"Oui","90110000","Non","","Oui",null,null,"Non","Oui","Non","Non","","","cn334reception@sunraygroup.ca","556220","Non","","13-14-15 juin"]
["98-0010","Hôtel Énergie Shawinigan","923815454-0169","*SHAWINIGAN",null,"HÔTEL ÉNERGIE SHAWINIGAN","1100, promenade du Saint-Maurice","SHAWINIGAN","G9N1L8","8195376000",null,"Chantal Pronovost","Aucune condition applicable","Sans frais jusqu’à 48 h avant l'arrivée",105,"Chambre non-fumeur, animaux acceptés,",2026,"",0,null,"8195376000","Oui","8889221100","dirreception@hotelenergie.com","Oui","Oui","Non","Non",null,null,"www.hotelenergie.com",null,null,"Non",null,4,"Oui","1175507954",null,"Non","Oui","Non",null,null,null,"Oui","90110000","Non","","Oui",null,null,"Oui","Non","Non","Non","","","reception@hotelenergie.com","139753","Non","",""]
["98-0020","Hôtel et suites Le Dauphin Drummondville","923815454-0170","*DRUMMONDVILLE",null,"HÔTEL & SUITES LE DAUPHIN DRUMMONDVILLE","600, boulevard Saint-Joseph","DRUMMONDVILLE","J2C2C1","8194784141",null,"Etienne Aubin","Garantie en tout temps avec c.d.c. ou réservation avec le formulaire d'hébergement du gouvernement.","sans frais jusqu'à 16 h le jour de l'arrivée, sinon des frais d'une nuitée pourraient s’appliquer",105,"Piscine intérieure, salle de réunion, espace café, salle d'exercice,  et restaurant sur place.",2026,"27 salles de réunion",0,null,"8198172299","Non","8005670995","eaubin@gestioncm.ca","Oui","Oui","Oui","Non",null,16,"www.le-dauphin.com",null,null,"Non",null,17,"Oui","1149681539",null,"Non","Oui","Non",null,null,null,"Oui","90110000","Oui","","Oui",null,null,"Non","Oui","Non","Non","","Cell: 819-817-2299","info@le-dauphin.com","021442","Oui","",""]
["99-0009","Hôtel Royal William (9372-3468 Québec inc.)","923815454-0171","*QUÉBEC",null,"HÔTEL ROYAL WILLIAM","360, boulevard Charest Est","QUÉBEC","G1K3H4","4185214488",null,"France Lamontagne","Confirmation de réservation par courriel avec le formulaire de réservation d'hébergement du gouvernement.  Garantie en tout temps avec c.d.c. ou dépôt d'une nuitée.","Sans frais jusqu'à 48 h avant le jour de l'arrivée, sinon des frais d'une nuitée seront facturés",34,"Non applicable aux tarifs de groupe de plus de 8 chambres.",2026,"4 salles / de 6 à 80 personnes",0,null,"4185214488","Oui","8885410405","info@royalwilliam.com","Oui","Oui","Oui","Non",null,10,"www.royalwilliam.com",null,null,"Non",null,3,"Non","1173377111",null,"Oui","Non","Non",19,22,null,"Oui","90110000","Non","","Non",null,null,"Non","Non","Non","Non","503","","info@royalwilliam.com","137340","Non","","",22]
["97-0187","Hotel Place Dupuis Corp.","923815454-0172","*MONTRÉAL",null,"HYATT PLACE MONTRÉAL CENTRE-VILLE","1415, rue Saint Hubert","MONTRÉAL","H2L3Y9","5148424881",null,"Danny Tan","Réservation par courrier électronique ou par téléphone.","Sans frais jusqu'à 24 h avant le jour de l'arrivée, sinon des frais d'une nuité seront facturés.",351,"",2026,"",0,null,"5148424881","Oui","8884928847","danny.tan@hyatt.com","Oui","Oui","Oui","Non",null,null,"https://www.hyatt.com/fr-FR/hotel/canada/hyatt-place-montreal-downtown/yulzm",null,null,"Oui",189,6,"Oui","3374693185",null,"Oui","Non","Non",23,23,null,"Non","90110000","Non","","Non",null,null,"Non","Oui","Non","Non","6109","Cell: 438-951-6888","YULZM-reservations@hyatt.com","574000","Non","","21-24 mai, 31 juillet,1-2 août, 31 décembre",30]
["97-0231","Nouvel Hotel, Le","923815454-0173","*MONTRÉAL",null,"LE NOUVEL HÔTEL","1740, boulevard René-Lévesque Ouest","MONTRÉAL","H3H1R3","5149318841",null,"Mourad Othman   /   Wissam Ibrahim","Formulaire de réservation gouvernemental obligatoire","Sans frais : 24 hrs avant la date d’arrivée",127,"",2026,"1 à  6 salle(s) pour une capacité de 600 personnes / prix à déterminer",0,null,"5149318841","Oui","8003636063","mothman@lenouvelhotel.com   /   wibrahim@lenouvelhotel.com","Oui","Oui","Oui","Non",null,45,"www.lenouvelhotel.com",null,null,"Non",null,6,"Oui","1148313217",null,"Oui","Oui","Non",28,35,null,"Oui","90110000","Oui","","Non",null,null,"Oui","Non","Non","Non","2605","Wissam Ibrahim cell 438-233-1392","reservations@lenouvelhotel.com","555461","Non","","Mai: 6 -21 - 22 -23 - 24  /  Juillet: 31 - 01 - 02  /  Septembre: 05  /  Octobre: 10",28,28]
["97-0123","Victorin inc., Le","923815454-0174","*VICTORIAVILLE",null,"LE VICTORIN, HOTEL ET CONGRÈS","19, boulevard  Arthabaska Est","VICTORIAVILLE","G6T0S4","8197580533",null,"Marie Knenge","Garantie en tout temps avec c.d.c ou réservation avec le formulaire gouvernemental, preuve d'identité à l'emploi exigée si aucune facturation directe","Sans frais jusqu'à 12h le jour de l'arrivée",152,"Lorsque les clients viennent pour un colloque ou congrès, le tarif du congrès prévaut sur le tarif gouvernemental. Le tarif est donc inacessible pour les participants des colloques, mais accessible pour les clients réguliers hors congrès.",2026,"",0,null,"8197580533","Oui","8005630533","reception@levictorin.com","Oui","Oui","Oui","Non",null,null,"https://hotellevictorin.com/",null,null,"Oui",null,17,"Oui","1175057257",null,"Non","Oui","Non",null,null,null,"Oui","90110000","Non","","Oui",null,null,"Oui","Oui","Non","Non","","Kathy Pomerleau cell: 418-281-0333","info@levictorin.com","044951","Oui","","10-11-17-18 janvier, 21-22-28-29 novembre, 5-6 décembre"]
["97-0301","Sherbrooke Comfort Inn","923815454-0175","*SHERBROOKE",null,"HÔTEL COMFORT INN SHERBROOKE","4295, boulevard Bourque","SHERBROOKE","J1N1S4","8195644400",null,"Nathan Trudel","Preuve d'identité à l'emploi du gouvernement ou formulaire de réservation gouvernemental sera demandé","Sans frais jusqu’à 24 h avant l'arrivée",58,"",2026,"",0,null,"8195644400","Oui","","cn345@innvesthotels.com","Oui","Oui","Oui","Non",null,null,"https://sherbrookecomfortinn.com/",null,null,"Oui",10,5,"Oui","3360912086",null,"Non","Oui","Non",null,null,null,"Oui","90110000","Oui","","Oui",null,null,"Non","Oui","Non","Non","","Cell: 819-342-7976","cn345.fo2@innvesthotels.com","050256","Non","",""]
["03-0001","Motel Roberval","923815454-0176","*ROBERVAL",null,"MOTEL ROBERVAL","256, boulevard Marcotte","ROBERVAL","G8H1Z2","4182753957",null,"Claude Pilote","Aucune condition applicable","Sans frais jusqu’à 24 h avant l'arrivée",60,"",2026,"",0,null,"4182753957","Oui","8779909903","motel.roberval@cgocable.ca","Oui","Oui","Oui","Non",null,null,"www.motel-roberval.com",null,null,"Oui",null,2,"Oui","1143156728",null,"Non","Oui","Non",null,null,null,"Oui","90110000","Non","","Oui",null,null,"Oui","Non","Non","Non","","Claude Pilote cell: 418-618-3583","motel.roberval@cgocable.ca","074616","Non","",""]
["97-0309","Brossard Comfort Inn®","923815454-0177","*BROSSARD",null,"COMFORT INN SOUTH BROSSARD","7863, boulevard Taschereau","BROSSARD","J4Y1A4","4506789350",null,"Seemanth Anangarath","Preuve d'emploi au gouvernement ou formulaire d'hébergement du gouvernement","Sans frais jusqu’à 24 h avant l'arrivée, pour 5 chambres ou plus, politique d'annulation de 7 jours avant",98,"Dates excluses : Grand prix et Osheaga.",2026,"",0,null,"4506789350","Oui","","cn328@innvesthotels.com","Oui","Oui","Oui","Non",null,null,"www.brossardcomfortinn.com",null,null,"Oui",10,16,"Oui","3370444260",null,"Non","Oui","Non",null,null,null,"Oui","90110000","Oui","","Oui",null,null,"Non","Oui","Non","Non","","","cn328.fo1@innvesthotels.com","569785","Non","",""]
["97-0329","Hôtel Bonaventure","923815454-0178","*MONTRÉAL",null,"HÔTEL BONAVENTURE MONTRÉAL","900, rue de la Gauchetière Ouest","MONTRÉAL","H5A1E4","5148782332",null,"William Ambeault","Preuve d'identité à l'emploi du gouvernement ou formulaire de réservation gouvernemental","Sans frais jusqu'à 24 h avant l'arrivée",397,"",2026,"",0,null,"5148782901","Oui","8002672575","wambeault@hotelbonaventure.com","Oui","Oui","Oui","Non",null,null,"http://hotelbonaventure.com/fr/",null,null,"Non",0,6,"Oui","1170486295",null,"Oui","Non","Non",25,49,null,"Oui","90110000","Oui","","Non",null,null,"Oui","Non","Oui","Oui","4591","Cell: 438-888-6790","reservations@hotelbonaventure.com","545366","Non","","21-22-23-24 mai et 31 juillet",28]
["97-0422","Drummondville Comfort Inn®","923815454-0179","*DRUMMONDVILLE",null,"DRUMMONDVILLE  COMFORT INN","1055, rue Hains","DRUMMONDVILLE","J2C6G6","8194774000",null,"Julie Blanchette","Garantie en tout temps avec c.d.c. ou réservation avec le formulaire d'hébergement du gouvernement.","sans frais jusqu'à 24h avant l'arrivée",58,"",2026,"",0,null,"8194774000","Oui","","cn324@innvesthotels.com","Oui","Oui","Oui","Non",null,null,"https://drummondvillecomfortinn.com/",null,null,"Oui",10,17,"Oui","3370444260",null,"Non","Oui","Non",null,null,null,"Oui","90110000","Oui","","Oui",null,null,"Non","Oui","Non","Non","","","cn324.fo3@innvesthotels.com","050260","Non","",""]
["97-0462","Hôtel Crowne Plaza Aéroport Montréal","923815454-0180","*ST-LAURENT",null,"HÔTEL ARMON PLAZA MONTRÉAL AÉROPORT","6600, chemin de la Côte-de-Liesse","MONTRÉAL","H4T1E3","5143441999",null,"Stacey Liberopoulos","Garantie en tout temps avec c.d.c. ou réservation avec formulaire d'hébergement du  gouvernement","Sans frais jusqu’à 48 h avant l'arrivée",null,"Tarif non applicable lors du Grand Prix de Formule 1 14 au 19 juin , du festival Osheaga 4-5 août .",2026,"",0,null,"5143441999","Oui","8773441999","sliberopoulos@rosdevhotels.com","Oui","Oui","Non","Non",null,null,"https://wyndhamhotels.com/hotels/57902",null,null,"Non",null,6,"Oui","1181129546",null,"Non","Oui","Non",null,null,null,"Oui","90110000","Non","","Oui",null,null,"Oui","Oui","Oui","Oui","2246","Stacey Liberopoulos Cell: 514 318-5067","reservations@rosdevhotels.com","507776","Non","","21-22-23-24 mai, 31 juillet- 1er août, 25-26-27 septembre"]
["97-0463","Gatineau Comfort Inn (Fonds de placement immobilier Innvest)","923815454-0181","*GATINEAU",null,"GATINEAU COMFORT INN","630, boulevard La Gappe","GATINEAU","J8T7S8","8192436010",null,"Vanessa Baggio","Garantie en tout temps avec c.d.c. ou réservation par télécopieur avec formulaire du Gouvernement. Preuve d'identité à l'emploi du Gouvernement exigée si aucune facturation directe","Sans frais jusqu'à 16 h le jour de l'arrivée, sinon des frais d'une nuitée pourraient s’appliquer",77,"Dates excluses : 20 mai, 24 juin, 1-15-22-29 juillet, 5-12-26 août et 2 septembre",2026,"",0,null,"8192436010","Oui","8775746835","cn325.fo1@innvesthotels.com  /  cn325@innvesthotels.com","Oui","Oui","Oui","Non",null,null,"https://www.choicehotels.com/fr-us/quebec/gatineau/comfort-inn-hotels/cn325",null,null,"Oui",null,7,"Oui","3370444260",null,"Non","Oui","Non",null,null,null,"Oui","90110000","Oui","","Oui",null,null,"Non","Oui","Non","Non","","cn325@innvesthotels.com et cn325.agm@innvesthotels.com","cn325.fo1@innvesthotels.com","568890","Non","",""]
["97-0501","Hôtel Omni Mont-Royal","923815454-0182","*MONTRÉAL",null,"HÔTEL OMNI MONT-ROYAL","1050, rue Sherbrooke Ouest","MONTRÉAL","H3A2R6","5142841110",null,"Donna Moffat","Garantie en tout temps avec c.d.c (carte de crédit)","Sans frais 48 heures avant le jour de l'arrivée, sinon des frais d'une nuitée seront facturés",299,"tarif non applicable lors du Grand Prix et du festival d'Osheaga, le tarif dépend de la disponibilité des chambres",2026,"",0,null,"5149856220","Oui","8008096664","donna.moffat@omnihtoels.com","Oui","Oui","Oui","Oui",10,null,"https://www.omnihotels.com/fr-ca/hotels/montreal-mont-royal",null,null,"Non",null,6,"Oui","1148213359",null,"Oui","Non","Non",27,32,null,"Oui","90110000","Non","","Non",null,null,"Oui","Oui","Oui","Oui","","","mrreservations@omnihotels.com","584850","Non","","22-23-24 mai, 31 juillet, 1-4-5-7-8 août, 24-25-26-27 septembre",26]
["97-0508","Boucherville comfort Inn","923815454-0183","*BOUCHERVILLE",null,"COMFORT INN SOUTH SHORE BOUCHERVILLE","96, boulevard de Mortagne","BOUCHERVILLE","J4B5M7","4506412880",null,"SEEMANTH ANANGARATH","Preuve d'emploi au gouvernement ou bon de commande transmise par le gouvernement","Sans frais jusqu’à 24 h avant l'arrivée, pour 5 chambres ou plus, politique d'annulation de 7 jours avant",98,"Dates excluses de l'entente : GRAND PRIX 2023 , FESTIVAL DE MUSIQUE OSHEAGA 2023",2026,"",0,null,"4506412880","Oui","","cn327@innvesthotels.com","Oui","Oui","Oui","Non",null,null,"www.bouchervillecomfortinn.com/fr-fr/",null,null,"Oui",10,16,"Oui","3370444260",null,"Non","Oui","Non",null,null,null,"Oui","90110000","Oui","","Oui",null,null,"Non","Oui","Non","Non","360","514 224- 8923 cell","cn327.fo2@innvesthotels.com","556216","Non","",""]
["03-0107","9495-0367 Québec inc.","923815454-0184","*LAVAL",null,"LE SAINT-MARTIN HÔTEL & SUITES, LAVAL","1400, rue Maurice Gauvin","LAVAL","H7S2P1","4509023000",null,"Cosimo Dibitetto","Formulaire de réservation gouvernemental obligatoire","Sans frais jusqu'à 16 h le jour de l'arrivée, sinon des frais d'une nuitée seront facturés",116,"Tarif non applicable lors de certaines dates ou d'événements spéciaux",2026,"",0,null,"4509023005","Oui","8669046835","cosimo@lestmartin.com","Oui","Oui","Oui","Non",null,null,"WWW.LESTMARTIN.COM",null,null,"Oui",null,13,"Oui","1178909124",null,"Non","Oui","Non",null,null,null,"Oui","90110000","Oui","","Oui",null,null,"Oui","Non","Non","Non",""," Cosmo Dibitetto cellulaire: (450) 902/3000","cosimo@lestmartin.com","185032","Non","","21-22-23-24-25 mai"]
["26-0003","Hôtel Tru par Hilton","923815454-0185","*MONTRÉALH2L1Y7",null,"HÔTEL TRU BY HILTON MONTRÉAL CENTRE-VILLE","815, Boulevard de Maisonneuve","MONTRÉAL","H2L1Y7","5146578484",null,"Yves Delgove","Garrantie en tout temps avec c.d.c ou réservation avec le formulaire gouvernemental","Sans frais jusqu'à 48 h avant l'arrivée",86,"",2026,"",null,null,"5146578484","Oui","8884466677","yves.delgove@hilton.com","Oui","Oui","Oui","Non",null,null,"https://www.hilton.com/en/hotels/yullaru-tru-montreal-centre-ville",null,null,"Oui",null,6,"Oui","1143732957",null,"Non","Oui","Non",null,null,null,"Oui","90110000","Non","","Non",0,0,"Non","Oui","Oui","Oui","","Cell: 514-726-2941","YULLA_TRU@hilton.com","320995","Non","","21-22-23 mai, 30-31 juillet, 1-8 août",null,18]
["26-0004","Espace Bibi inc.","923815454-0186","*TÉMISCOUATA",null,"MAISON DU PARC (ESPACE BIBI INC.)","25, rue du Parc","TÉMISCOUATA-SUR-LE-LAC","G0L1E0","4188608163",null,"Brigite Dufour","Spécifié par téléphone lors de la réservation","Aucune",null,"",2026,"",null,null,"4188608163","Non","","brigiteduf@gmail.com","Oui","Oui","Oui","Non",null,2,"",null,null,"Non",null,1,"Non","1175225607",null,"Non","Oui","Non",null,null,null,"Oui","90110000","Non","","Oui",0,0,"Non","Non","Non","Non","","","brigiteduf@gmail.com","320078","Non","",""]
["26-0005","Espace Bibi inc.","923815454-0187","*TÉMISCOUATA",null,"CHALET CHAPERON ROUGE (ESPACE BIBI INC.)","3, rue du Quai","TÉMISCOUATA-SUR-LE-LAC","G0L1E0","4188608163",null,"Brigite Dufour","Spécifié par téléphone lors de la réservation","Aucune",null,"",2026,"",null,null,"4188608163","Non","","brigiteduf@gmail.com","Oui","Oui","Oui","Non",null,2,"",null,null,"Non",null,1,"Non","1175225607",null,"Non","Oui","Non",null,null,null,"Oui","90110000","Non","","Oui",0,0,"Non","Non","Non","Non","","","brigiteduf@gmail.com","299272","Non","",""]
["21-0006","Hôtel ALT Montréal","923815454-0188","*MONTRÉAL",null,"HÔTEL ALT MONTRÉAL","120 rue Peel","MONTRÉAL","H3C0L8","5143750220",null,"Nicolas Laflamme","Preuve d'emploi au gouvernement ou formulaire d'hébergement du gouvernement","sans frais jusqu'à 16 h avant  le jour de l'arrivée, sinon des frais d'une nuitée seront facturés",154,"Accès internet, accès gym, chromecast dans les chambres",2026,"7 salles disponibilité et capacité variables.",null,null,"4388271251","Oui","8558238120","nlaflamme@germainhotels.com","Oui","Oui","Oui","Non",null,null,"https://www.germainhotels.com/fr/hotel-alt/montreal",null,null,"Non",null,6,"Oui","3366953415",null,"Oui","Non","Non",26.5,28.5,null,"Oui","90110000","Oui","","Non",null,null,"Oui","Non","Oui","Oui","","Les tarifs sont pour une chambre standard avec un grand lit ou un très grand lit. Les groupes sont définis comme étant 10 chambres ou plus par nuit ou 25 nuitées cumulatives.veuillez communiquer avec l’hôtel pour plus de détails.","reservations.altmontreal@germainhotels.com","273151","Oui","","21-22-23-24 mai; 31 juillet; 1-2 août; 24-25-26 septembre",16]
["08-0021","Groupe immobilier Aquilini, société en commandite, Le","923815454-0189","*MONTRÉAL",null,"EMBASSY SUITES PAR HILTON MONTRÉAL- LE GROUPE IMMOBILIER AQUILINI SOC.COMMANDITE","208, rue Saint-Antoine Ouest","MONTRÉAL","H2Y0A6","5142888886",null,"Sally Chun","Garantie en tout temps avec c.d.c. ou réservation avec formulaire d'hébergement du  gouvernement","Sans frais jusqu'à 16 h le jour de l'arrivée, sinon des frais d'une nuitée seront facturés",210,"Chambre(s) munie(s) d'un réfrigérateur et micro-ondes.  Déjeuner buffet chaud inclus.  Tarif non applicable lors de la  fin de semaine du  Grand Prix",2026,"1 salle / 30 personnes",0,null,"5142888886","Oui","8662889060","Sally.Chun@hilton.com","Oui","Oui","Oui","Non",null,null,"embassysuites.com  /  www.montreal.embassysuites.com",null,null,"Oui",null,6,"Oui","3361738753",null,"Oui","Non","Non",35,35,null,"Oui","90110000","Oui","","Non",null,null,"Oui","Non","Oui","Oui","2156 /2155","Mélanie Hanna 514-670-2155 / 514-862-8322 melanie.hanna@hilton.com","\tinfo@embassysuitesmontreal.com","221684","Non","","GRAND PRIX 2026 ; OSHEAGA 2026",39.14]
["25-0004","Groupe Germain inc.","923815454-0190","*MONTRÉALH3A1Y9",null,"HÔTEL LE GERMAIN MONTRÉAL - GROUPE GERMAIN INC.","2050 rue Mansfield","MONTRÉAL","H3A1Y9","5148492050",null,"Nicolas Laflamme","Preuve d'emploi au gouvernement ou formulaire d'hébergement du gouvernement","sans frais jusqu'à 16 h avant  le jour de l'arrivée, sinon des frais d'une nuitée seront facturés",136,"",2026,"3 salles au dimensions, capacités et disponibilités différentes",null,null,"4388271251","Oui","8773332050","nlaflamme@germainhotels.com","Oui","Oui","Oui","Non",null,null,"https://www.germainhotels.com/fr/hotel-le-germain/montreal",null,null,"Non",null,6,"Oui","1179010500",null,"Oui","Non","Non",null,null,null,"Oui","90110000","Oui","","Non",0,0,"Oui","Oui","Oui","Oui","","Les tarifs sont pour une chambre standard avec un grand lit ou un très grand lit. Les groupes sont définis comme étant 10 chambres ou plus par nuit ou 25 nuitées cumulatives.veuillez communiquer avec l’hôtel pour plus de détails.","reservations.legermainmontreal@germainhotels.com","150975","Oui","","21-22-23-24 mai; 31 juillet; 1-2 août; 24-25-26 septembre",40]
["97-0331","Hôtel Champlain","923815454-0191","*QUEBECG1R3X6",null,"HÔTEL CHAMPLAIN","115, rue Sainte-Anne","QUÉBEC","G1R3X6","4186940106",null,"Alexandre Gagné","Formulaire de réservation gouvernemental obligatoire","sans frais 48 heures avant l'arrivée",53,"accès gratuit wifi  dans tout l'établissement.  Déjeuner buffet chaud inclus.  Tarif non applicable les vendredis et samedis ainsi que du 1 juin au 30 septembre",2026,"",0,null,"4186940106","Oui","8005672106","comptabilite@leclerccommunication.ca","Oui","Oui","Oui","Non",null,2,"https://hotelchamplain.hotelsduvieuxquebec.com/fr",null,null,"Oui",null,3,"Oui","1178390341",null,"Non","Oui","Non",null,null,0,"Oui","90110000","Non","","Non",24,26,"Oui","Non","Non","Non","","","operations@hotelsduvieuxquebec.com","056700","Oui","","",null,24]
["03-0081","Hôtel St-Paul de Montréal inc.","923815454-0192","*MONTRÉAL",null,"HÔTEL ST-PAUL","355, rue McGill","MONTRÉAL","H2Y2E8","5143802222",null,"Omar Ahmed","garantie en tout temps avec carte de crédit","sans frais 24 heures avant le jour de l'arrivée",119,"Tarifs non valides les: 15 au 19 Juin 2023 , 04 au 07 Aout 2023, 31décembre 2023",2026,"",0,null,"5143802206","Oui","8663802202","oahmed@hotelstpaul.com","Oui","Oui","Oui","Non",null,null,"https://hotelstpaul.com/fr/",null,null,"Non",null,6,"Non","1146091096",null,"Non","Oui","Non",null,null,null,"Oui","90110000","Oui","","Non",null,null,"Non","Non","Non","Non","","","reserve@hotelstpaul.com","160311","Non","21 au 24 mai, 2026 (Grand Prix); 31 juillet au 2 août 2026 (Osheaga); 24 au 26 septembre 2026 (Championnat du monde UCI)","21 au 24 mai, 2026 (Grand Prix); 31 juillet au 2 août 2026 (Osheaga); 24 au 26 septembre 2026 (Championnat du monde UCI)",null,25]
["17-0009","Hôtel Écono-One","923815454-0193","*AMOS",null,"HÔTEL ÉCONO-ONE","652, 1ère Avenue Ouest","AMOS","J9T1V6","8197323228",null,"Mélissa Sabourin","Formulaire de réservation gouvernemental obligatoire","sans frais jusqu'à 24 heures avant le jour de l'arrivée",22,"Accès Internet gratuitement dans tout l'établissement.  Déjeuner continental inclus, Chambres munies d'un réfrigérateur",2026,"1 à 3 salles / de 31 à 50 personnes",null,null,"8197323228","Oui","","amos@econo-one.ca","Oui","Oui","Non","Non",null,0,"http://amalgama.pub/",null,null,"Oui",0,8,"Non","1170956479",null,"Non","Oui","Non",null,null,0,"Oui","90110000","Non","","Oui",null,null,"Non","Non","Non","Non","","cell: 819 442-2103","reserveconoamos@gmail.com","576634","Non","",""]
["97-0217","Hôtel Chicoutimi [1994] enr.","923815454-0194","*SAGUENAY",null,"HÔTEL CHICOUTIMI","460, rue Racine Est","CHICOUTIMI-SAGUENAY","G7H1T7","4185497111",null,"Sophie Boudreault","Aucune condition","Sans frais :48 hrs avant l’arrivée",88,"Gym, 3 restaurants",2026,"",0,null,"4185497111","Non","","sboudreault@hyvi.com","Oui","Oui","Oui","Non",null,88,"www.hotelchicoutimi.qc.ca",null,null,"Oui",15,2,"Non","1140655086",null,"Non","Oui","Non",null,null,null,"Non","90110000","Oui","","Oui",null,null,"Non","Non","Non","Non","","cdionne@hyvi.com","info@hotelchicoutimi.qc.ca","040095","Oui","",""]
["10-0024","Auberge sous les arbres","923815454-0195","*GASPÉ",null,"AUBERGE SOUS LES ARBRES","146, rue de la Reine","GASPÉ","G4X2R2","4183600060",null,"Diego Valdes","garantie en tout temps avec c.d.c. ou réservation avec le formulaire gouvernemental","Sans frais jusqu' à 48 h avant l'arrivée",12,"tarif non disponible durant les mois de juillet, août et septembre",2026,"1 salle pour une capacité de 8 personnes / prix à déterminer",0,null,"5149453545","Oui","8443600060","info@aubergesouslesarbres.com","Oui","Oui","Oui","Non",null,2,"www.aubergesouslesarbres.com",null,null,"Oui",20,11,"Oui","1178408200",null,"Non","Oui","Non",null,null,0,"Oui","90110000","Non","","Oui",null,null,"Non","Oui","Non","Non","","","info@aubergesouslesarbres.com","222832","Oui","","27,28,29,30 juillet; 03,04,05,06,07,08 août 2026"]
["97-0117","Amosphère Complexe hôtelier","923815454-0196","*AMOS(2)",null,"AMOSPHÈRE COMPLEXE HÔTELIER (MOTEL)","1031, route 111 Est","AMOS","J9T1N2","8197327777",null,"Marie-Josée Labonville","Garantie en tout temps avec c.d.c ou réservation avec le formulaire d'hébergement du gouvernement.","Sans frais jusqu'à 16 h le jour de l'arrivée, sinon des frais d'une nuitée seront facturés",57,"tarif non applicable pour les chambres de grand luxe et les suites. Tarif non applicable lors de centaines dates ou évènements spéciaux.  Accès Internet haute vitesse par FIBRE OPTIQUE gratuitement dans tout l'établissement",2026,"5 salles / de 2 à 225 personnes - de 90$ à 225$",0,null,"8197327777","Oui","8005677777","mariejosee@amosphere.com","Oui","Oui","Oui","Non",null,null,"www.amosphere.com",null,null,"Non",null,8,"Oui","1141997560",null,"Non","Oui","Non",null,null,null,"Oui","90110000","Non","","Oui",null,null,"Non","Oui","Non","Non","","","amosphere@cableamos.com","506796","Non","",""]
["97-0116","Amosphère Complexe hôtelier","923815454-0197","*AMOS",null,"AMOSPHÈRE COMPLEXE HÔTELIER (HÔTEL)","1031, route 111 Est","AMOS","J9T1N2","8197327777",null,"Marie-Josée Labonville","Garantie en tout temps avec c.d.c ou réservation avec le formulaire d'hébergement du gouvernement.","Sans frais jusqu'à 16 h le jour de l'arrivée, sinon des frais d'une nuitée seront facturés",12,"certaines conditions de réservation et d'annulation diffèrent pour les groupes. Tarif non applicable pour les chambres de grand luxe et suites.",2026,"5 salles / de 2 à 225 personnes - de 90$ à 225$",0,null,"8197327777","Oui","8005677777","mariejosee@amosphere.com","Oui","Oui","Oui","Non",null,null,"www.amosphere.com",null,null,"Non",null,8,"Oui","1141997560",null,"Non","Oui","Non",null,null,null,"Oui","90110000","Non","","Oui",null,null,"Non","Oui","Non","Non","","","amosphere@cableamos.com","506796","Non","",""]
["97-0106","Delta Trois-Rivières","923815454-0198","*TROIS-RIVIÈRES",null,"DELTA TROIS-RIVIÈRES HÔTEL ET CENTRE DES CONGRÈS","1620, rue Notre-Dame Centre","TROIS-RIVIÈRES","G9A6E5","8193761991",null,"Tracy Hébert  /  Nancy Munger","Garantie en tout temps avec c.d.c ou réservation avec le formulaire gouvernemental, preuve d'identité à l'emploi exigée si aucune facturation directe","24h avant l'arrivée",225,"",2026,"",0,null,"8193725974","Oui","","tracy.hebert@deltahotels.com  /  Nancy.Munger@deltahotels.com","Oui","Oui","Oui","Non",null,null,"https://www.marriott.fr/hotels/travel/yrqdr",null,null,"Non",10,4,"Oui","1171298277",null,"Oui","Oui","Non",12,12,null,"Non","90110000","Oui","","Non",12,12,"Oui","Non","Oui","Oui","","(819) 372-5993","dhr.yrqdr.reservations@deltahotels.com","034425","Oui","","",15,15]
["12-0052","Hôtel 1212 inc.","923815454-0200","*DEGELISG5T0E2",null,"HÔTEL 1212 INC.","612, ave principale","DÉGELIS","G5T1P8","4188531212",null,"Éliane Deschênes-Plourde","garantie  en tout temps avec c.d.c.","sans frais jusqu'à 24h avant l'arrivée",48,"accès à Internet sans fil au restaurant ",2026,"",0,null,"4188531212","Oui","8002672334","eliane@le1212.com","Oui","Oui","Oui","Non",0,null,"www.le1212.com",null,null,"Non",null,1,"Oui","1143982610",null,"Non","Oui","Non",null,null,null,"Oui","90110000","Non","","Oui",null,null,"Oui","Non","Non","Non","2","","reservation@hotel1212.com","057201","Non","",""]
["97-0223","Château Bromont","923815454-0201","*BROMONT",null,"DOMAINE CHÂTEAU-BROMONT","90, rue Stanstead","BROMONT","J2L1K6","4505344545",null,"Caroline Synnott","garantie avec c.d.c. Carte de crédit obligatoire","Sans frais jusqu' à 16 h le jour de l'arrivée. Sinon des frais d'une nuitée pourraient s'appliquer",166,"Dates excluses : 11 février, 22-29 juillet, 5-12-19 août, 2-16-23 septembre, 31 décembre 2023",2026,"",0,null,"4505344545","Oui","8003043433","csynnott@chateaubromont.com","Oui","Oui","Oui","Non",null,null,"www.chateaubromont.com",null,null,"Non",25,5,"Oui","1140319857",null,"Non","Oui","Non",null,null,null,"Oui","90110000","Oui","","Oui",null,null,"Non","Oui","Non","Non","572","","info@chateaubromont.com","052824","Oui","10 février, 20 et 27 juillet, 3, 10, 17 août, 7-14-21 septembre, 31 décembre",""]
["97-0386","Hôtel Qualité Dorval, L'","923815454-0202","*MONTRÉAL",null,"QUALITY HÔTEL DORVAL AÉROPORT","7700, chemin de la Côte-de-Liesse","MONTRÉAL","H4T1E7","5147317821",null,"El Mostafa Boudraa  /  Nader Abdel Nour","Garantie en tout temps avec c.d.c ou avec le formulaire du gouvernement preuve d'identité exigée si aucune facturation directe","Sans frais jusqu'à 16h le jour de l'arrivée, sinon des frais d'une nuitée seront facturés.",167,"",2026,"",0,null,"5147317821","Non","","info@qualityhoteldorval.com  /  gm@qualityhoteldorval.com","Oui","Oui","Oui","Non",null,null,"choicehotes.com/cn218",null,null,"Oui",10,6,"Oui","1171172159",null,"Non","Oui","Non",null,null,null,"Oui","90110000","Oui","","Oui",null,null,"Oui","Non","Non","Non","","Nader Cell:(514) 448-5277  /  514 792-0493","info@qualityhoteldorval.com","507850","Non","",""]
["23-0011","Home2 TM Suites par Hilton Montréal Dorval","923815454-0203","*DORVAL",null,"HOME2 SUITES PAR HILTON MONTRÉAL DORVAL","1855, route Transcanadienne","DORVAL","H9P1J1","5146768080",null,"Céline Dugas","Garantie ne tout temps avec carte de crédit","Sans frais : 24 hrs avant la date d’arrivée",105,"Préparez vos repas dans votre cuisine complète équipée d'un lave-vaisselle, d'un micro-ondes et d'un réfrigérateur.",2026,"",null,null,"5145421621","Non","8775008080","celine@albahotels.ca","Oui","Oui","Oui","Non",null,95,"www.home2suitesmontreal.com",null,null,"Oui",null,6,"Oui","3373179285",null,"Oui","Oui","Oui",null,null,null,"Oui","90110000","Non","","Oui",null,null,"Oui","Non","Oui","Oui","","Nikola Van Buren 514-542-1621","reception@albahotels.ca","297305","Oui","","21-22-23-24 mai"]
["24-0022","Motel Le Fraser","923815454-0204","*RiviereduLoup",null,"LE FRASER MOTEL","170, rue Fraser","RIVIÈRE-DU-LOUP","G5R1C8","4188626927",null,"Laura Nicolay  /  Laurence L. Soucy","Formulaire de réservation gouvernemental obligatoire","Sans frais jusqu'à 16 h le jour de l'arrivée, sinon des frais d'une nuitée pourraient s’appliquer",38,"",2026,"",null,null,"4188626927","Oui","","reception@hotellevesque.com  /  laurence.soucy@hotellevesque.com","Oui","Oui","Oui","Non",null,null,"lefrasermotel.com",null,null,"Non",null,1,"Non","1142452797",null,"Non","Oui","Non",null,null,null,"Oui","90110000","Non","","Oui",0,0,"Non","Non","Non","Non","","","info@lefrasermotel.com","003091","Non","","Établissement saisonnier - Fermé du 1er novembre au 30 avril"]
["97-0221","Montagnais Saguenay-Lac-Saint-Jean hôtel et centre de congrès, Le","923815454-0205","*SAGUENAY",null,"HOTEL ET CENTRE DE CONGRÈS LE MONTAGNAIS","1080, boulevard Talbot","CHICOUTIMI-SAGUENAY","G7H4B6","4185431521",null,"Jean-benoit Gilbert","Garantie en tout temps avec c.d.c ou réservation avec le formulaire d'hébergement du gouvernement. Preuve d'identité à l'emploi du gouvernement exigée si aucune facturation directe","Sans frais jusqu'à 16 h avant le jour de l'arrivée, sinon des frais d'une nuitée seront facturés",291,"",2026,"11  à 20 salles / de 201 personnes et plus",0,null,"4188126661","Oui","8004639160","jeanbenoit.gilbert@lemontagnais.qc.ca","Oui","Oui","Oui","Non",null,null,"www.lemontagnais.qc.ca",null,null,"Non",null,2,"Oui","1173792756",null,"Non","Oui","Non",null,null,null,"Oui","90110000","Non","","Oui",null,null,"Non","Oui","Non","Non","","","reception@lemontagnais.qc.ca","062145","Oui","",""]
["24-0030","2035 Des Laurentides Laval Hospitality inc.","923815454-0206","*LAVAL",null,"RESIDENCE INN PAR MARRIOTT LAVAL","2035, autoroute des Laurentides","Laval","H7S1Z6","4506866777",null,"Tracy Hardan","Réservation avec une carte de crédit majeure obligatoire","Annulation 48 h à l'avance sans frais",111,"",2026,"",null,null,"4506866777","Non","","tracy@residenceinnlaval.com","Oui","Oui","Non","Non",null,82,"www.marriott.com/yulrl",null,null,"Oui",null,13,"Oui","1173487704",null,"Non","Oui","Non",null,null,null,"Oui","90110000","Oui","","Oui",0,0,"Oui","Non","Oui","Oui","375","","reception@residenceinnlaval.com","505201","Oui","","22-23-24 mai , 31 juillet, 1-2 août, 7-8-9-14-15-16, 4-5-6 septembre, 31 décembre"]
["97-0101","Motel & Hôtel La Paysanne","923815454-0207","*SHERBROOKE",null,"HÔTEL-MOTEL LA PAYSANNE","42, rue Queen","SHERBROOKE","J1M1H9","8195695585",null,"Min Gao","Aucune condition applicable","Sans frais 48 h avant l'arrivée",30,"",2026,"",0,null,"8195695585","Non","8555695585","info@paysanne.com","Oui","Oui","Oui","Non",null,null,"www.paysanne.com",null,null,"Non",null,5,"Non","1167628925",null,"Non","Oui","Non",null,null,null,"Non","90110000","Non","","Oui",null,null,"Non","Non","Non","Non","","Il n'y a plus de télécopieur","info@paysanne.com","044122","Non","",""]
["97-0090","Holiday Inn Longueuil","923815454-0208","*LONGUEUIL",null,"HÔTEL HOLIDAY INN MONTRÉAL-LONGUEUIL","900, rue Saint-Charles Est","LONGUEUIL","J4H3Y2","4506468100",null,"Nicolas Lopez","Garantie en tout temps avec c.d.c (carte de crédit)","Sans frais jusqu'à 24 h avant la date d'arrivée",141,"",2026,"1 à 10 salle(s) pour une capacité de 150 personnes / prix à déterminer",0,null,"4504425164","Non","8776608550","nlopez@hilong.ca","Oui","Oui","Oui","Non",null,0,"https://www.ihg.com/holidayinn/hotels/fr/fr/longueuil/yulln/hoteldetail",null,null,"Non",15,16,"Oui","1172770340",null,"Non","Oui","Non",null,null,0,"Non","90110000","Oui","","Oui",null,null,"Oui","Oui","Oui","Oui","","Il n'y a plus de télécopieur.","reservation@hilong.ca","564104","Non","",""]
["97-0105","Cofortel Hôtel","923815454-0209","*ANC-LORETTE",null,"HÔTEL COFORTEL","6500, boulevard Wilfrid-Hamel","L'ANCIENNE-LORETTE","G2E2J1","4188774777",null,"Jean-Philippe Sénéchal","Garantie en tout temps avec c.d.c  ou réservation avec le formulaire gouvernemental","Sans frais jusqu'à 24 heures avant le jour de l'arrivée, sinon des frais d'une nuitée pourraient s’appliquer",133,"occ. simple, +10$/pers. add. / +30$ pour une chambre Élite",2026,"",0,null,"4188771505","Oui","8003637440","ventes@cofortel.com","Oui","Oui","Non","Non",null,null,"www.cofortel.com",null,null,"Oui",35,3,"Oui","1168156090",null,"Non","Oui","Non",null,null,null,"Oui","90110000","Oui","","Oui",null,null,"Non","Oui","Non","Non","295","","reception@cofortel.com","027355","Oui","","1 janvier; 5 avril, 17 mai, 23 juin, 5 septembre, 10 octobre, 31 décembre"]
["97-0299","Four Points by Sheraton Gatineau-Ottawa","923815454-0210","*GATINEAUJ8X4E9",null,"FOUR POINTS BY SHERATON GATINEAU OTTAWA","35, rue Laurier","GATINEAU","J8X4E9","8197786111",null,"Denise Breau/ Sylvain sabourin français","Garantie en tout temps avec c.d.c (carte de crédit)","Sans frais jusqu’à 48 h avant l'arrivée",201,"",2026,"11 sales de réunions, 8500 pieds carré pour des groupes de 10 à 150 personnes",0,null,"","Oui","8005679607","dbreau@atlificottawa.com/ ssabourin@atlificottawa.com","Oui","Oui","Non","Non",null,3,"www.marriott.fr/yowfp",null,null,"Non",null,7,"Oui","1176368026",null,"Oui","Oui","Non",23,30,null,"Oui","90110000","Oui","","Non",23,30,"Oui","Non","Oui","Oui","","Cell : 613-294-7123                                       Denise Breau tel :613-244-9815                         Sylvain Sabourin : 613 244-9817","reservations@fourpointsgatineau.com","555122","Non","","",17,17]
["06-0131","Saint-Sulpice Hôtel Montréal, Le","923815454-0211","*MONTRÉAL",null,"LE SAINT-SULPICE HÔTEL MONTRÉAL","414, rue Saint-Sulpice","MONTRÉAL","H2Y2V5","5142881000",null,"Magalie Sparsa","Aucune condition","16h le jour de l'arrivée",108,"Les tarifs sont disponible pour un maximum de 10 nuitées par jour. Dle tarif n'est pas disponible pour les dates suivantes : 15 / 16 /17 /18  juin 2023, 4 /5 août 2023, 31 décembre 2023",2026,"",0,null,"5142881000","Oui","8777857423","msparsa@lesaintsulpice.com","Oui","Oui","Oui","Non",null,null,"www.lesaintsulpice.com",null,null,"Non",null,6,"Oui","1160730686",null,"Oui","Non","Non",39,39,null,"Oui","90110000","Oui","","Non",null,null,"Non","Oui","Non","Non","156","Magalie Sparsa cell: 514 350-1156","frontdesk@lesaintsulpice.com","180950","Oui","","21-22-23-24 mai, 31 juillet, 1-2 août, 31 décembre",43]
["97-0262","Hôtel le Dauphin (St-Hyacinthe) (2316-7240 Québec inc.)","923815454-0212","*ST-HYACINTHE",null,"HÔTEL DAUPHIN SAINT-HYACINTHE","1250, rue Daniel-Johnson Ouest","SAINT-HYACINTHE","J2S7K7","4507744418",null,"Jean-Benjamin Milot / Fabrice Plaisance","Garantie en tout temps avec c.d.c.ou réservation par télécopieur avec le formulaire d'hébergement du gouvernement","Sans frais 24 heures avant le jour d'arrivée",98,"Internet sans-fil gratuit. Réfrigérateur et ordinateur dans chacune des chambres. Borne pour voiture électrique (240V), charge gratuite avec le séjour. Salle d'entraînement.",2026,"",0,null,"4507744418","Oui","8004654842","jb@hoteldauphin.ca","Oui","Oui","Oui","Non",null,null,"www.hotelsdauphin.ca/st-hyacinthe",null,null,"Oui",10,16,"Oui","1140786493",null,"Non","Oui","Non",null,null,null,"Oui","90110000","Oui","","Oui",null,null,"Oui","Oui","Oui","Oui","","","hya@hoteldauphin.ca","556231","Oui","",""]
["97-0280","Hôtel Château Bellevue inc.","923815454-0213","*QUÉBEC",null,"HÔTEL CHÂTEAU BELLEVUE","16, rue de la Porte","QUÉBEC","G1R4M6","4186922573",null,"Catherine Chéruet","Garantie en tout temps avec c.d.c. ou réservations par télécopieur avec le formulaire d'hébergement du gouvernement. Preuve d'identité à l'emploi du gouvernement obligatoire","Sans frais jusqu'à 24 h avant l'arrivée",47,"Tarif proposé en occupation simple, plus 25$ à partir de la 2e personne.",2026,"",0,null,"4185223848","Oui","8668229222","catherinecheruet@vieuxquebec.com","Oui","Oui","Oui","Non",null,null,"www.hotelvieux-quebec.com",null,null,"Non",25,3,"Non","1141782368",null,"Non","Oui","Non",null,null,null,"Oui","90110000","Oui","","Non",25,29,"Non","Non","Non","Non","1684","","bellevue@vieuxquebec.com","045404","Oui","","8-15 février, 5-12 juillet, 2-9-16-30 août, 11 octobre et 31 décembre",null,25]
["06-0050","Hôtel Port-Royal","923815454-0214","*QUÉBEC",null,"HÔTEL PORT ROYAL","144, rue Saint-Pierre","QUÉBEC","G1K8N8","4186922777",null,"Agnès Marsoin","Garantie en tout temps avec c.d.c  ou réservation avec le formulaire d'hébergement du gouvernement.","Sans frais jusqu à 24 h avant l'arrivée",72,"",2026,"",0,null,"4185292245","Oui","8664172777","amarsoin@leportroyal.com","Oui","Oui","Oui","Non",null,5,"www.leportroyal.com",null,null,"Non",null,3,"Oui","1163017784",null,"Non","Oui","Non",null,null,null,"Oui","90110000","Oui","","Non",25,25,"Non","Oui","Non","Oui","150","","info@leportroyal.com","211455","Oui","","23-24-25-26-27-28-29-30-31 décembre",null,25]
["00-0182","Bannik, La","923815454-0215","*DUHAMEL",null,"LA BANNIK","862, chemin du Vieux-fort","DUHAMEL OUEST","J9V1N7","8196220922",null,"Claudia Lemire","Confirmation par courriel","16 jours avant son arrivée sinon le prépaiement de 30% est gardé.",14,"aviser l'établissement lorsque le client prévoit une arrivée tardive, soit après 21 heures. Borne de recharge pour voiture électrique au restaurant et gratuit pour nos clients.",2026,"",0,null,"8196220922","Oui","8773220922","dir.generale@bannik.ca","Oui","Oui","Oui","Non",null,4,"www.bannik.ca",null,null,"Non",null,8,"Oui","1144971745",null,"Non","Oui","Non",null,null,null,"Oui","90110000","Non","","Oui",null,null,"Oui","Oui","Non","Non","110","Claudia Lemire cell: 819-629-5219","info@bannik.ca","152843","Oui","",""]
["03-0066","Aquilini Properties Limited Partnership","923815454-0216","*MONTRÉAL",null,"HÔTEL FAUBOURG MONTRÉAL","155, boulevard René-Lévesque Est","MONTRÉAL","H2X3Z8","5144487100",null,"Ludmilla Teillet","Garantie jusqu'à 18 h et en tout temps avec c.d.c ou dépôt d'une nuitée ou réservation par télécopieur avec formulaire d'hébergement du gouvernement.","Sans frais 24 heures avant le jour d'arrivée, sinon des frais d'une nuitée seront facturés.",161,"",2026,"",0,null,"5144487110","Oui","8663987100","ludmilla.teillet@hotelfaubourgmontreal.com","Oui","Oui","Oui","Non",null,null,"www.hotelfaubourgmontreal.com",null,null,"Oui",20,6,"Oui","3361738753",null,"Oui","Non","Non",27,27,null,"Oui","90110000","Non","","Non",null,null,"Non","Oui","Oui","Oui","","","info@hotelfaubourgmontreal.com","183492","Non","","21-22-23-24 mai; 31 juillet; 1-7-8-14-15 août",36.5]
["19-0027","Hôtel de la Boréalie inc.","923815454-0217","*STFÉLICIEN",null,"HÔTEL DE LA BORÉALIE","862, boulevard du Sacré-Coeur","SAINT-FÉLICIEN","G8K1S2","4186133332",null,"Lili Fournier","Réservation faite par téléphone ou par courriel. Chambre disponible à 16h (check/in et elle doit être libérée à 11h (check/out).","Annulation sans frais 48h avant l'arrivée, si annulation faite moins de 48h avant, la première nuit du séjour sera chargée.",55,"",2026,"",null,null,"4186798422","Oui","8556133332","lilifournier@hoteldujardin.com","Oui","Oui","Oui","Non",null,null,"www.hoteldelaborealie.com/",null,null,"Oui",20,2,"Oui","1177744654",null,"Non","Oui","Non",null,null,null,"Oui","90110000","Non","","Oui",null,null,"Non","Oui","Non","Non","1666","","info@hoteldelaborealie.com","053163","Oui","",""]
["10-0016","Hôtel Holiday Inn Express & Suites St-Hyacinthe","923815454-0218","*ST-HYACINTHE",null,"HOLIDAY INN EXPRESS & SUITES SAINT-HYACINTHE","1500, rue Daniel Johnson Est","SAINT-HYACINTHE","J2S8W5","4502511111",null,"Marylou Clermont","Garantie en tout temps avec une c.d.c. ou réservation par télécopieur avec le formulaire d'hébergement du gouvernement, preuve d'identité à l'emploi exigée si aucune facturation directe","Sans frais 24 h avant le jour de l'arrivée",94,"",2026,"",0,null,"4502511111","Oui","4502511111","mclermont@grouperobin.com","Oui","Oui","Oui","Non",null,null,"https://www.ihg.com/holidayinnexpress/hotels/us/en/saint-hyacinthe/yulsh/hoteldetail",null,null,"Oui",20,16,"Oui","1165212680",null,"Non","Oui","Non",null,null,null,"Oui","90110000","Non","","Oui",null,null,"Oui","Oui","Oui","Oui","1","","info@hiexsthyacinthe.ca","223047","Oui","",""]
["21-0011","Cogir Humaniti Montréal Hôtel, société en commandite","923815454-0219","*MONTREAL",null,"COGIR HUMANITI MONTREAL HOTEL, SOCIÉTÉ EN COMMANDITE","340 Rue De La Gauchetière","MONTRÉAL","H2Z0C3","5146572595",null,"Hengameh Montakhab","Preuve d'emploi au gouvernement ou formulaire d'hébergement du gouvernement","Sans frais : 24 hrs avant l’arrivée",193,"Ouverture avril 2021/Les tarifs ne sont pas applicables les 10-11-12 juin 2021, 30-31 décembre 2021, le 1er janvier 2022, 9-10-11 juin 2022, 30-31 décembre 2022.",2026,"",null,null,"5146572595","Oui","","hmontakhab@humanitihotel.com","Oui","Oui","Oui","Non",null,null,"https://www.humanitihotel.com",null,null,"Non",null,6,"Oui","3372832504",null,"Non","Oui","Non",38,38,null,"Non","90110000","Oui","","Non",null,null,"Oui","Oui","Oui","Oui","5202","","hmontakhab@humanitihotel.com","304076","Oui","",""]
["06-0026","Grand hôtel Times-Aéroport de Québec","923815454-0220","*ANCIENNE-LORET",null,"GRAND HÔTEL TIMES - AÉROPORT DE QUÉBEC","6515, boulevard Wilfrid-Hamel","L'ANCIENNE-LORETTE","G2E5W3","4188777788",null,"Jocelyn Paré","Garantie en tout temps avec c.d.c. ou réservation par télécopieur avec le formulaire d'hébergement du gouvernement.   Preuve d'identité à l'emploi du gouvernement exigée si pas de formulaire.","Sans frais jusqu'à 8h AM le jour de l'arrivée, sinon des frais d'une nuitée seront facturés",111,"Tarif applicable seulement pour les déplacements d'affaire. Tarif non applicable pour les réservations de groupe, colloque ou autres. Tarif non applicable aux dates suivantes: 24 juin, 1-15-22-29 juillet, 5-12-19-26 août, 2 septembre",2026,"3 salles / de 2 à 70 personnes / prix à déterminer",0,null,"4188777788","Oui","8889024444","directeuraeroport@timeshotel.ca","Oui","Oui","Non","Non",null,null,"http://www.grandtimeshotel.com/grand-times-aeroport/fr/",null,null,"Oui",25,3,"Oui","1147053434",null,"Non","Oui","Non",null,null,null,"Oui","90110000","Non","","Oui",null,null,"Non","Oui","Non","Non","","","reservationaeroport@timeshotel.ca","212914","Oui","",""]
["10-0008","Hôtel Brossard (7217455 Canada inc.)","923815454-0221","*BROSSARD",null,"HÔTEL BROSSARD","7365, boulevard Marie-Victorin","BROSSARD","J4W1A6","5148901000",null,"Brahim Zidi","Formulaire de réservation gouvernemental obligatoire","Sans frais 24 heures avant l'arrivée.",134,"",2026,"",0,null,"5148901000","Oui","8778901008","operation@hotelbrossard.com  /  administration@hotelbrossard.com","Oui","Oui","Oui","Non",null,5,"www.hotelbrossard.com",null,null,"Oui",null,16,"Oui","1166085558",null,"Non","Oui","Non",null,null,null,"Oui","90110000","Oui","","Oui",null,null,"Non","Oui","Non","Non","3005","Facturation à envoyer aux courriels suivants: administration@hotelbrossard.com ET ddupere@hotelbrossard.com        Tel:450.671.2442 poste 3005","reservation@hotelbrossard.com","222412","Oui","","Grand prix de Montréal, Osheaga"]
["03-0044","9086-8803 Québec inc. (Château Repotel Henri IV)","923815454-0222","*QUÉBEC",null,"CHÂTEAU REPOTEL HENRI IV","2500, avenue Saint-Jean-Baptiste","QUÉBEC","G2E6J5","4188721112",null,"Véronique Godin","Garantie en tout temps avec c.d.c ou réservation avec le formulaire gouvernemental, preuve d'identité à l'emploi exigée si aucune facturation directe","Sans frais jusqu’à 48 h avant l'arrivée",100,"Dates excluses : 10 Février, 20 Mai, 1 Juillet, 2-3 Septembre, 8 Octobre, 24-29-30-31 décembre",2026,"",0,null,"4186582852","Oui","8665202022","vgodin@hotelclassique.com","Oui","Oui","Oui","Non",null,null,"www.chateaurepotel.com",null,null,"Non",null,3,"Non","1179839247",null,"Non","Oui","Non",null,null,null,"Oui","90110000","Non","","Oui",null,null,"Non","Non","Non","Non","369","","infoh4@chateaurepotel.com","178625","Non","","5-12-19-26 juillet, 2-9-16-23-30 août et 14 février"]
["09-0021","Quality Inn & Suites Lévis","923815454-0223","*LÉVIS",null,"QUALITY INN & SUITES LÉVIS","5800, rue des Arpents","LÉVIS","G6V0B5","4188331212",null,"Tomalie Dussault","Prix pour une personne incluant petit déjeuner buffet chaud. 20$ additionel pour la deuxième personne dans la chambre","Sans frais jusqu'à 16 h le jour de l'arrivée",96,"Prix pour une personne incluant petit déjeuner buffet chaud",2026,"7",0,null,"4188336936","Oui","8669557733","tdussault@qualityinnlevis.com","Oui","Oui","Oui","Non",null,null,"https://www.qualityinnlevis.com",null,null,"Oui",20,12,"Oui","1169617215",null,"Non","Oui","Non",null,null,null,"Oui","90110000","Oui","","Oui",null,null,"Oui","Non","Non","Non","","","info@qualityinnlevis.com","222325","Oui","",""]
["97-0311","Hôtel le Priori inc.","923815454-0224","*QUÉBEC",null,"HÔTEL LE PRIORI","15, rue Sault-au-Matelot","QUÉBEC","G1K3Y7","4186923992",null,"Martina Waschkau","Confirmation de réservation par télécopieur avec le formulaire d'hébergement du gouvernement. Une preuve d'identité à l'emploi du gouvernement est obligatoire.","Sans frais jusqu'à 24 heures avant le jour l'arrivée, sinon des frais d'une nuitée seront facturés",28,"",2026,"1  à 3 salles / de 1 à  15 personnes",0,null,"4186914414","Oui","8003513992","martina.waschkau@hotellepriori.com","Oui","Oui","Oui","Non",null,null,"www.hotellepriori.com",null,null,"Oui",20,3,"Oui","1144150282",null,"Non","Oui","Non",null,null,null,"Oui","90110000","Oui","","Non",17,17,"Non","Non","Non","Oui","","Cell : 581-997-0420","info@hotellepriori.com","029713","Non","",""]
["16-0005","Hôtel Holiday Inn Express & Suites Vaudreuil-Dorion","923815454-0225","*VAUDREUIL",null,"HOLIDAY INN EXPRESS & SUITES VAUDREUIL-DORION","33, boulevard de la Cité-des-Jeunes Est","VAUDREUIL-DORION","J7V0N3","4504555522",null,"Marylou Clermont","Garantie en tout temps avec c.d.c. ou réservation avec le formulaire d'hébergement du gouvernement. Preuve d’identité à l’emploi du gouvernement exigée si aucune facturation directe","Sans frais jusqu’à 24 h avant l'arrivée",null,"",2026,"",null,null,"8198414774","Non","4504555522","mclermont@hiextroisrivieres.ca","Oui","Oui","Oui","Non",null,null,"www.hiexvaudreuil.ca",null,null,"Non",20,16,"Oui","1165212680",null,"Non","Oui","Non",null,null,null,"Non","90110000","Non","","Oui",null,null,"Oui","Oui","Oui","Oui","1","","info@hiexvaudreuil.ca","286646","Non","",""]
["26-0001","9527-5020 Québec inc.","923815454-0226","*BAIE-ST-PAUL",null,"HÔTEL MAISON OTIS","23 rue Saint-Jean-Baptiste","BAIE-SAINT-PAUL","G3Z1M2","4184352255",null,"Guylaine Leblond","Garantie en tout temps avec c.d.c. (carte de crédit)","Sans frais jusqu'à 48 h avant l'arrivée",17,"",2026,"1 à 2 salles pour une capacité de 10 à 30 personnes / 125$ par jour",null,null,"4184352255","Oui","1833432255","guylaine@maisonotis.com  /  comptabilite@maisonotis.com","Oui","Oui","Oui","Non",null,null,"www.maisonotis.com",null,null,"Non",null,3,"Oui","1180296866",null,"Non","Oui","Non",null,null,null,"Oui","90110000","Non","","Oui",0,0,"Oui","Non","Non","Non","304","Cell: 418-255-0551                                        FACTURATION: comptabilite@maisonotis.com","info@maisonotis.com","003356","Oui","","23-24-25 juillet, 7-8-14-15 août, 9-10-11 octobre"]
["19-0035","Holiday Inn Express & Suites Trois-Rivières","923815454-0227","*TROIS-RIVIÈRES",null,"HOLIDAY INN EXPRESS & SUITES TROIS-RIVIÈRES","2000, rue des Grands-Marchés","TROIS-RIVIÈRES","G9B0Y9","8198414774",null,"Marylou Clermont","Garantie en tout temps avec c.d.c. ou réservation avec le formulaire d'hébergement du gouvernement. Preuve d’identité à l’emploi du gouvernement exigée si aucune facturation directe","Sans frais jusqu’à 24 h avant l'arrivée",111,"",2026,"",null,null,"8198414774","Oui","8198414774","mclermont@hiextroisrivieres.ca","Oui","Oui","Oui","Non",null,null,"https://www.ihg.com/holidayinnexpress/hotels/us/en/trois-rivieres/yrqrs/hoteldetail",null,null,"Oui",20,4,"Oui","1165212680",null,"Non","Oui","Non",null,null,null,"Oui","90110000","Non","","Oui",null,null,"Oui","Oui","Oui","Oui","1","","info@hiextroisrivieres.ca","297334","Oui","",""]
["21-0003","Gestion Hôtel Laval inc.","923815454-0228","*LAVAL",null,"GRAND HÔTEL TIMES LAVAL","1700 Rue Jeanne-Mance","Laval","H7T0R2","4506395000",null,"Sophie Ponte","Garantie jusqu'à 16h et en tout temps avec c.d.c ou dépôt d'une nuitée ou réservation par télécopieur avec le formulaire d'hébergement du gouvernement.","Sans frais jusqu’à 24 h avant l'arrivée",143,"Le tarif n’est pas disponible pour les groupes et les colloques, congrès ou autres événements.Dates excluses : 6-7-11-12 Février, 12 Mars, 9-10-11 Juin 2023",2026,"7 SALLES, JUSQU'A 250 PERS",null,null,"4506395000","Oui","","operationlaval@timeshotel.cs","Oui","Oui","Oui","Non",null,null,"WWW.TIMESHOTEL.CA",null,null,"Non",20,13,"Oui","1172309321",null,"Oui","Oui","Non",17,17,null,"Oui","90110000","Non","","Oui",null,null,"Non","Oui","Non","Non","2101","Sophie Ponte cell: 514 578 3909","reservationlaval@timeshotel.ca","303730","Oui","","",17]
["21-0020","Hôtel Manoir Vieux-Québec","923815454-0229","*QUÉBEC",null,"HÔTEL MANOIR VIEUX-QUÉBEC","6, rue de la Porte","QUÉBEC","G1R4M9","4189072361",null,"Alan G. Taboada  /  Maxime PALOMBA","Garantie en tout temps avec c.d.c ou réservation avec le formulaire gouvernemental, preuve d'identité à l'emploi exigée si aucune facturation directe","Sans frais jusqu'à 72 heures avant le jour de l'arrivée, sinon des frais d'une nuitée pourraient s’appliquer",46,"",2026,"",null,null,"4189072361","Oui","8333310209","directeur@manoirvieuxquebec.com","Oui","Oui","Non","Non",null,null,"www.manoirvieuxquebec.com",null,null,"Non",null,3,"Oui","1171149926",null,"Oui","Non","Non",35,35,null,"Oui","90110000","Non","","Non",null,null,"Oui","Non","Non","Oui","404","Maxime PALOMBA (581) 849-2288. Tarif gouvernemental applicable en occupation double. Le petit-déjeuner continental peut é être ajouté pour +5$ + taxes, en plus du prix convenu.","info@manoirvieuxquebec.com","044251","Non","","15 au 31 décembre"]
["97-0209","Hôtel Lindbergh","923815454-0230","*QUÉBEC",null,"HÔTEL LINDBERGH","2825, boulevard Laurier","QUÉBEC","G1V2L9","4186536672",null,"Stéphane Marcoux","Garantie en tout temps avec c.d.c. ou bon de commande","Avant 16:00 la veille de l'arrivée.",null,"tarifs non valides pour groupe de 8 chambres et plus.",2026,"",0,null,"4186536672","Oui","8005675276","smarcoux@hotelsjaro.com","Oui","Oui","Oui","Oui",4.95,null,"https://www.hotelsjaro.com/lindbergh",null,null,"Oui",null,3,"Oui","1149920200",null,"Oui","Oui","Oui",null,null,null,"Oui","90110000","Oui","","Oui",null,null,"Oui","Non","Non","Non","4320","","hotel-lindbergh@hotelsjaro.com","005865","Non","",""]
["23-0021","Complexe Hôtelier La Cache du Lac Champlain inc.","923815454-0231","*VENISE-EN-QUÉB",null,"COMPLEXE HÔTELIER LA CACHE DU LAC CHAMPLAIN","325, avenue Venise Ouest","VENISE-EN-QUÉBEC","J0J2K0","4503901538",null,"Stéphanie Mitchell","Formulaire de réservation gouvernemental obligatoire","Sans frais jusqu'à 72 h avant le jour de l'arrivée",56,"",2026,"",null,null,"4503901538","Oui","1844683599","admin@lacachevenise.com","Oui","Oui","Oui","Non",null,null,"https://lacachevenise.com/",null,null,"Non",null,16,"Oui","1180215288",null,"Non","Oui","Non",null,null,null,"Non","90110000","Non","","Oui",null,null,"Oui","Non","Non","Non","2024","Nancy Berteau cell: 514 891-1517 conditions non conformes; en attente du retour du formulaire courriel au directeur 17 janv 2023","info.clc@lacachevenise.com","296943","Oui","",""]
["97-0060","Delta Sherbrooke","923815454-0232","*SHERBROOKE",null,"DELTA SHERBROOKE CENTRE DES CONGRÈS PAR MARRIOTT","2685, rue King Ouest","SHERBROOKE","J1L1C1","8198221989",null,"Émilie Bourbonnais","Garantie en tout temps avec c. d. c. et réservation par télécopieur avec le formulaire d'hébergement du gouvernement. Une preuve d'identité à l'emploi du gouvernement est obligatoire","Sans frais jusqu’à 24 h avant l'arrivée",178,"",2026,"",0,null,"8198229836","Oui","","emilie.bourbonnais@deltahotels.com","Oui","Oui","Oui","Non",null,null,"https://www.marriott.fr/hotels/travel/yscdr",null,null,"Non",10,5,"Oui","1171639553",null,"Non","Oui","Non",null,null,null,"Non","90110000","Oui","","Non",null,null,"Oui","Non","Oui","Oui","","Jennifer Labrosse cell: 438-395-5436","dhr.yscdr.reservations@deltahotels.com","39406","Oui","",""]
["23-0035","Hôtel Nomad","923815454-0233","*QUÉBEC",null,"HÔTEL NOMAD","15, ave. Sainte-Geneviève","QUÉBEC","G1R4A8","4186941884",null,"Romuald GEORGEON","Garantie en tout temps avec c.d.c.ou réservation avec le formulaire d'hébergement du gouvernement","Sans frais jusqu’à 48 h avant l'arrivée",16,"",2026,"",null,null,"4186941184","Oui","8776911884","direction@lhotel.ca","Oui","Oui","Oui","Non",null,null,"www.hotelnomad.ca",null,null,"Oui",30,3,"Non","1169014462",null,"Non","Oui","Non",null,null,null,"Oui","90110000","Oui","","Non",28,28,"Non","Non","Non","Non","","","info@lhotel.ca","062064","Oui","","29-30-31 décembre",null,32]
["97-0196","Hôtel Days Inn Berthierville","923815454-0234","*BERTHIERVILLE",null,"HÔTEL DAYS INN BERTHIERVILLE","760, rue Gadoury","BERTHIERVILLE","J0K1A0","4508361621",null,"Anike Bélanger. Audry Hatin.","Formulaire de réservation gouvernemental obligatoire","Sans frais avant 16 h le jour de l'arrivée",58,"",2026,"1 à 6 salle(s) pour une capacité de 80 personnes / prix à déterminer",0,null,"4508361621","Oui","8883676853","anikebelanger@daysinnberthier.com  /  anikebelanger@hotmail.ca","Oui","Oui","Oui","Non",null,null,"www.daysinnberthier.com",null,null,"Oui",50,14,"Oui","1142869479",null,"Non","Oui","Non",null,null,null,"Oui","90110000","Oui","","Oui",null,null,"Oui","Non","Non","Non","","Anike Bélanger cell 418.564.0755","info@daysinnberthier.com","510576","Oui","",""]
["97-0226","Quality Inn Rouyn-Noranda","923815454-0235","*ROUYN-NORANDA",null,"QUALITY INN ROUYN-NORANDA","260, boulevard Rideau","ROUYN-NORANDA","J9X1P1","8197620991",null,"Isabelle Larochelle","Aucune condition applicable","Sans frais avant 16 h le jour de l'arrivée",76,"Nos chambres sont non-fumeur et des frais de 500$ peuvent être chargés pour non-respect des règlements.",2026,"",0,null,"8197620991","Oui","8005676423","ilarochelle@qualityinnrn.ca  /","Oui","Oui","Non","Non",null,null,"www.qualityinnrn.ca",null,null,"Oui",null,8,"Non","1175996538",null,"Non","Oui","Non",null,null,null,"Oui","90110000","Non","","Oui",null,null,"Non","Non","Non","Non","","","reception@qualityinnrn.ca","578222","Non","",""]
["24-0004","9366-7665 Québec inc.","923815454-0236","*MAGOG",null,"AUBERGE DU GRAND LAC","40 rue Merry sud","MAGOG","J1X3L2","8198474039",null,"Michael Laramee","Aucune condition applicable","Sans frais jusqu'à 48 h avant l'arrivée",28,"",2026,"",null,null,"8198474039","Non","8002674039","admin@grandlac.com","Oui","Oui","Oui","Non",null,null,"www.grandlac.com",null,null,"Non",null,5,"Non","1173110264",null,"Non","Oui","Non",null,null,null,"Non","90110000","Non","","Oui",0,0,"Non","Non","Non","Non","","819-919-0466","aubergedugrandlac@gmail.com","039093","Oui","",""]
["97-0232","Hôtel & Suites Normandin Québec (Groupe Normandin inc.)","923815454-0237","*QUÉBEC",null,"HÔTEL & SUITES NORMANDIN QUÉBEC","4700, boulevard Pierre-Bertrand","QUÉBEC","G2J1A4","4186221611",null,"Valérie Guillemette","Formulaire de réservation gouvernemental obligatoire","Sans frais jusqu'à 16h le jour de l'arrivée, sinon des frais d'une nuitée pourraient s’appliquer.",134,"",2026,"",0,null,"4186221611","Oui","8004636721","valerie.guillemette@hotelnormandin.com","Oui","Oui","Oui","Non",null,null,"https://hotelnormandin.com/hotel-et-suites-normandin-quebec/",null,null,"Oui",20,3,"Oui","1142330548",null,"Non","Oui","Non",null,null,null,"Non","90110000","Non","","Oui",null,null,"Non","Oui","Non","Non","","","reservation.quebec@hotelnormandin.com","028803","Oui","",""]
["24-0006","9317-9406 Québec inc.","923815454-0238","*MONT-TREMBLANT",null,"HÔTEL-MOTEL LE BOISÉ DU LAC","1892, Route 117","MONT-TREMBLANT","J8E2Y2","8194252789",null,"David (Dezhong) Hong","Garantie en tout temps avec c.d.c (carte de crédit)","Sans frais jusqu’à 72 h avant l'arrivée",17,"",2026,"1",null,null,"8194252789","Oui","8884252789","info@boisedulac,com","Oui","Oui","Oui","Non",null,null,"www.boisedulac.com",null,null,"Non",null,15,"Non","1170734280",null,"Non","Oui","Non",null,null,null,"Oui","90110000","Non","","Oui",0,0,"Non","Non","Non","Non","","514 576-3970","info@boisedulac.com","591076","Non","",""]
["99-0010","Auberge St-Pierre","923815454-0239","*QUÉBEC",null,"AUBERGE SAINT-PIERRE","79, rue Saint-Pierre","QUÉBEC","G1K4A3","4186947981",null,"Pascale Blanco","Garantie en tout temps avec c.d.c. obligatoire ou par télécopieur avec le formulaire d'hébergement du gouvernement","Sans frais jusqu’à 16 h le jour de l'arrivée",39,"Chambres munies d'un réfrigérateur, coffret de sécurité, cafétière, bureau de travail",2026,"4 à 6 salles de 2 à 100 personnes",0,null,"4186942747","Oui","8882681017","pblanco@auberge.qc.ca","Oui","Oui","Oui","Non",null,null,"www.auberge.qc.ca",null,null,"Non",20,3,"Non","1146481909",null,"Oui","Non","Non",30,30,null,"Oui","90110000","Non","","Non",null,null,"Non","Non","Non","Non","","","reservation@hotel71.ca","130480","Oui","","22 au 31 décembre 2026",30]
["97-0240","Deville Centre hôtelier","923815454-0240","*ROUYN-NORANDA",null,"CENTRE HÔTELIER DEVILLE","95, avenue Horne","ROUYN-NORANDA","J9X4S4","8197620725",null,"Pierre-Marc Grégoire","Aucune condition","Aucune condition applicable",50,"10$ supplémentaire pou chambre à 2 lits queen",2026,"",0,null,"8197620725","Non","","pierre.marc@g5groupe.ca","Oui","Oui","Oui","Non",null,0,"www.devillehotelier.com",null,null,"Oui",15,8,"Oui","1181353245",null,"Non","Oui","Non",null,null,0,"Oui","90110000","Oui","","Oui",null,null,"Non","Oui","Non","Non","8738","Pierre-Marc Grégoire Cell: 819-277-8008","reservation@ledeville.ca","527936","Oui","",""]
["12-0014","Motel le Martinet","923815454-0241","*LA POCATIÈRE",null,"MOTEL LE MARTINET","120, Route 230 Ouest","LA POCATIÈRE","G0R1Z0","4188563904",null,"Yacine Hamdaoui  /  Marie-Claude Lavoie","Formulaire de réservation gouvernemental obligatoire","Sans frais jusqu’à 24 h avant l'arrivée",19,"Un supplément s'applique pour lofts et suite familiale.",2026,"1 salle pour une capacité de XX personnes / prix à déterminer",0,null,"4188563904","Oui","","lemartinet@videotron.ca","Oui","Oui","Oui","Non",null,3,"www.lemartinet.ca",null,null,"Oui",15,1,"Oui","1168663889",null,"Non","Oui","Non",null,null,null,"Non","90110000","Non","","Oui",null,null,"Non","Oui","Non","Non","","Marie-Claude Lavoie 418-551-4913","lemartinet@videotron.ca","042825","Oui","",""]
["14-0005","Hôtel & cie (9265-1447 Québec inc.)","923815454-0242","*STEANNE-DES-MO",null,"HÔTEL & CIE","90, boulevard Sainte-Anne Ouest","SAINTE-ANNE-DES-MONTS","G4V1R3","4187633321",null,"Isabelle Aubertin","Garantie en tout temps avec c.d.c. ou réservation avec le formulaire d'hébergement du gouvernement.","Sans frais jusqu’à 24 h avant l'arrivée",42,"Toutes nos chambres sont non-fumeur.  Des frais peuvent s'appliquer pour certaines demandes spéciales ou besoins particuliers.",2026,"2 salles / de 80 personnes / prix à déterminer",null,null,"4187633321","Oui","8559633321","isabelle.aubertin@hoteletcie.com","Oui","Oui","Oui","Non",null,7,"www.hoteletcie.com",null,null,"Non",20,11,"Non","1168356112",null,"Non","Oui","Non",null,null,null,"Oui","90110000","Non","","Oui",null,null,"Non","Non","Non","Non","1009","","ventes@hoteletcie.com","052360","Oui","",""]
["08-0003","Hôtel ALT ville de Québec","923815454-0243","*QUÉBEC",null,"HÔTEL ALT QUÉBEC","1200, avenue de Germain-des-Prés","QUÉBEC","G1V3M7","4186581224",null,"Marie-Claire Nolet","Garantie en tout temps avec c.d.c ou réservation avec le formulaire gouvernemental, preuve d'identité à l'emploi exigée si aucune facturation directe","Sans frais jusqu'à 16 h le jour de l'arrivée, sinon des frais d'une nuitée pourraient s’appliquer",126,"Restaurant sur place",2026,"8 salles de réunion / de 1 à 150 personnes",0,null,"4186581224","Oui","8004635253","mcnolet@germainhotels.com","Oui","Oui","Oui","Non",null,null,"https://www.germainhotels.com/fr/hotel-alt/quebec",null,null,"Non",null,3,"Oui","3366954728",null,"Oui","Oui","Oui",null,null,null,"Oui","90110000","Oui","","Oui",null,null,"Non","Oui","Non","Non","136","Cellulaire 418.554.5101","reservations.altquebec@germainhotels.com","023623","Oui","29 juin, 6,13, 20 et 27 juillet, 3, 10, 17, 24 31 aout.","4-11-18-25 juillet; 1-8-15-22-29 août"]
["26-0006","Hyatt Place Aéroport de Montréal","923815454-0244","*DORVAL",null,"HYATT PLACE AÉROPORT DE MONTRÉAL","690 Avenue Michel-Jasmin","DORVAL","H9P1C5","5143079000",null,"Dominic Cloutier","Garantie en tout temps avec c.d.c  ou réservation avec le formulaire d'hébergement du gouvernement, preuve d'indentité à l'emploi exigée si aucune facture directe","Sans frais jusqu' à 24 h avant l'arrivée",154,"",2026,"1 à  2 salles jusqu'à  40 personnes / prix à déterminer",null,null,"5143079000","Oui","8002331234","dominic.cloutier@hyatt.com","Oui","Oui","Oui","Non",null,0,"hyattplacemontrealairport.com",null,null,"Oui",169,6,"Oui","1175145391",null,"Oui","Oui","Non",null,null,null,"Oui","90110000","Oui","","Oui",0,0,"Oui","Non","Non","Oui","6614","Dominic Cloutier - Cell. 5147162982","info@hyattplaceyul.com","319789","Oui","","21-22-23-24 mai; 31 juillet,; 1-2 août 2026",52]
["24-0001","Auberge Sutton Brouërie inc.","923815454-0245","*SUTTON",null,"AUBERGE SUTTON BROUËRIE INC","27, rue Principale Sud","SUTTON","J0E2K0","4505380005",null,"Elise Bourduas","Garantie en tout temps avec c.d.c (carte de crédit)","Annulation 48h avant pour 1 nuit. Annulation 14 jours avant pour 7 nuits, 30 jours avant pour 30 nuits.",8,"",2026,"",null,null,"4505380005","Non","","elise@aubergesuttonbrouerie.com","Oui","Oui","Oui","Non",null,null,"www.aubergesuttonbrouerie.com",null,null,"Oui",15,5,"Non","1170748686",null,"Non","Oui","Non",null,null,null,"Non","90110000","Oui","","Oui",0,0,"Non","Non","Non","Non","","Pour les chambres 2-5-6-7-8 seulement. Tarif de semaine, du dimanche au jeudi inclusivement.","info@aubergesuttonbrouerie.com","240586","Oui","",""]
["97-0468","Sept-îles Comfort Inn","923815454-0246","*SEPT-ÎLES",null,"SEPT-ÎLES COMFORT INN","854, boulevard Laure","SEPT-ÎLES","G4R1Y7","4189686005",null,"Maude Savage","garantie en tout temps avec c.d.c. ou réservation avec formulaire d'hébergement du  gouvernement","Sans frais jusqu’à 24 h avant l'arrivée",60,"",2026,"",0,null,"4189686005","Oui","","cn344.agm@innvesthotels.com","Oui","Oui","Oui","Non",null,null,"http://www.septilescomfortinn.com/",null,null,"Oui",10,9,"Oui","3360912086",null,"Non","Oui","Non",null,null,null,"Oui","90110000","Oui","","Oui",null,null,"Non","Oui","Non","Non","361","","CN344.AGM@INNVESTHOTELS.COM","025852","Non","29-30-31 juillet, 1-2-3-5-6-7-12 août",""]
["26-0007","Loft Le Sommet","923815454-0247","*AMOS",null,"LOFT LE SOMMET","91 1re Avenue Ouest","AMOS","J9T1T7","8197322365",null,"Marie-Eve Tremblay","Formulaire de réservation gouvernemental obligatoire","Sans frais jusqu' à 24 h avant l'arrivée",4,"",2026,"N/A",null,null,"8197322365","Non","","marie-eve@ccslesommet.ca","Oui","Oui","Oui","Non",null,null,"www.ccslesommet.ca",null,null,"Non",101,8,"Non","1178962263",null,"Non","Oui","Non",null,null,null,"Non","90110000","Non","","Oui",0,0,"Non","Non","Non","Non","","Cell. 8197322365","marie-eve@ccslesommet.ca","320295","Non","",""]
["00-0023","9282-4168 Québec inc. (Motel la Bell'Villa)","923815454-0248","*SENNETERRE",null,"MOTEL LA BELL'VILLA","550, 10e Avenue","SENNETERRE","J0Y2M0","8197372331",null,"Joanie Fillion","Aucune condition applicable","Sans frais : 24 hrs avant l’arrivée",16,"la disponibilité des chambres est garantie à partir de 15 h le jour de l’arrivée. Les arrivées avant 15 h seront sujettes à la disponibilité des chambres",2026,"",0,null,"8197372331","Oui","8777372331","info@bell'villa.net  /  info@bellvilla.net","Oui","Oui","Oui","Non",null,0,"www.bellvilla.net",null,null,"Non",20,8,"Non","1179788550",null,"Non","Oui","Non",null,null,0,"Oui","90110000","Non","","Oui",null,null,"Non","Non","Non","Non","","Cellulaire 819 737-3033","info@bell'villa.net  /  info@bellvilla.net","532921","Non","",""]
["97-0404","Hôtel Baker ltée","923815454-0249","*GASPÉ",null,"HÔTEL BAKER","178, rue de la Reine","GASPÉ","G4X1T6","4183683355",null,"Pascal Denis","Aucune condition","Sans frais jusqu' à midi le jour de l'arrivée",70,"",2026,"",0,null,"4183605159","Oui","8004623355","pascal@hotelbaker.ca","Oui","Oui","Non","Non",null,null,"www.hotelbaker.ca",null,null,"Non",20,11,"Oui","1140991812",null,"Non","Oui","Non",null,null,null,"Non","90110000","Non","","Non",10,10,"Non","Oui","Non","Non","150","Pascal Denis cell: (418) 360-5159","info@hotelbaker.ca","001864","Oui","","",null,10]
["00-0108","Hôtel la Maison Blanche","923815454-0250","*NEW CARLISLE",null,"HÔTEL LA MAISON BLANCHE","104, boulevard Gérad-D.-Levesque","NEW CARLISLE","G0C1Z0","4187521000",null,"Pascal Denis","Formulaire de réservation gouvernemental obligatoire","Sans frais jusqu' à 12 h le jour de l'arrivée",28,"",2026,"",0,null,"4183605159","Non","8772663355","pascal@hotelbaker.ca","Oui","Oui","Oui","Non",null,null,"www.hotelmaisonblanche.ca",null,null,"Non",20,11,"Oui","1148483440",null,"Non","Oui","Non",null,null,null,"Non","90110000","Non","","Oui",null,null,"Non","Oui","Non","Non","150","Pascal Denis (418) 368-3355 Poste 150  Cell (418) 360-5159","info@hotelmaisonblanche.ca","041720","Non","",""]
["11-0015","Gestions Zéro 1 Mtl inc.","923815454-0251","*MONTRÉAL",null,"HÔTEL ZÉRO 1","1, boulevard René-Lévesque Est, bureau 201","MONTRÉAL","H2X3Z5","5148719696",null,"Karine Michaud","Réservation par courrier électronique ou par téléphone","Sans frais 24h avant l'arrivée",165,"Une pièce d'idendité et une carte de crédit seront demandées à l'arrivée",2026,"7",0,null,"5148719696","Oui","8553010001","ventes@zero1-mtl.com","Oui","Oui","Oui","Non",null,null,"https://www.zero1-mtl.com/",null,null,"Non",25,6,"Oui","1168429828",null,"Oui","Non","Non",35,35,null,"Oui","90110000","Non","","Non",null,null,"Non","Oui","Non","Non","214","Amy Cadiz Cell. (438)869/7898","reception@zero1-mtl.com","187740","Oui","7, 8 et 9 juin, 2, 3, 10, 11, 30 et 31 aout, 1er septembre 2024","22-23-24 mai, 31 juillet-1 août, 7-8 août, 14-15 août, 4-5-6 septembre, 18-19 septembre, 25-26 septembre, 31 décembre",35]
["97-0389","Cantlie Suites Hôtel, Le","923815454-0252","*MONTRÉAL",null,"HOTEL LE CANTLIE SUITES","1110, rue Sherbrooke Ouest","MONTRÉAL","H3A1G8","5148422000",null,"Brenda Plumb","Garantie en tout temps avec c.d.c. ou réservation avec le formulaire d'hébergement du gouvernement","sans frais 24 heures avant l'arrivée.",250,"Exclusions: 27 mai, 15-16-17-18 juin, 1e juillet, 4-5-6 août et 2 septembre",2026,"1 à 5 salles pour une capacité de 1800vpersonnes / prix à déterminer",0,null,"5148443951","Oui","8005671110","bplumb@hotelcantlie.com","Oui","Oui","Oui","Oui",4.95,194,"http://www.hotelcantlie.com/fr",null,null,"Non",null,6,"Oui","3342098947",null,"Oui","Non","Non",28,32,null,"Non","90110000","Oui","","Non",null,null,"Non","Oui","Non","Non","2814","","vipres@hotelcantlie.com / reservations@hotelcantlie.com","516316","Non","6-7-8-9 juin, 4 et 31 juillet, 1-2-3 août, 1er sept.","21-22-23-24 mai; 20-28 septembre",38]
["25-0003","Logement Eeyou Dorval inc.","923815454-0253","*DORVAL",null,"MICROTEL INN ET SUITES PAR WYNDHAM DORVAL","1695, route Transcanadienne Nord","DORVAL","H9P1J1","5144184644",null,"Harmeet Haar","Garantie en tout temps avec c.d.c ou réservation avec le formulaire gouvernemental, preuve d'identité à l'emploi exigée si aucune facturation directe","Sans frais jusqu'à 24 heures avant le jour de l'arrivée, sinon des frais d'une nuitée pourraient s’appliquer",119,"",2026,"",null,null,"5146163230","Oui","8004079832","hhaar@masterbuilthotels.com","Oui","Oui","Oui","Non",null,24,"https://www.wyndhamhotels.com/en-ca/microtel/dorval-quebec/microtel-inn-and-suites-montreal-airport-dorval-qc/overview",null,null,"Oui",159,6,"Oui","1174794934",null,"Non","Oui","Non",null,null,null,"Oui","90110000","Non","","Oui",0,0,"Oui","Non","Oui","Oui","","Harmeet Haar: 514-472-0158","info@microteldorval.com","309607","Non","",""]
["24-0033","Automne Argenté Canada inc.","923815454-0254","*MONTRÉAL",null,"WARWICK LE CRYSTAL MONTRÉAL","1100, rue de la montagne","MONTRÉAL","H3G0A1","5146578111",null,"Sened Joudi","Preuve d'identité à l'emploi du gouvernement ou formulaire de réservation gouvernemental","Sans frais jusqu’à 24 h avant l'arrivée",131,"",2026,"",null,null,"4383790226","Non","","sjoudi@warwickhotels.com","Oui","Oui","Oui","Non",null,null,"https://www.warwickhotels.com/fr/warwick-le-crystal-montreal",null,null,"Non",null,6,"Oui","1177641942",null,"Oui","Non","Non",null,null,null,"Non","90110000","Oui","","Non",0,0,"Oui","Non","Non","Non","","Cell:438 379-3197","reservation.lecrystal@warwickhotels.com","222116","Oui","6 au 10 juin, 2 au 5 août, 31 décembre","",59]

{"sheet":"Tarifs","index":5,"n_rows":9170,"n_cols":7,"rows_kept":9170,"cut":false,"hidden":true,"merged":[]}
["Numero_seq","no_duree","CLE","ValidDateReserv","Date_debut","Date_fin","Tarif"]
["00-0019","30",{"$f":"A2&\"-\"&B2&D2","v":"00-0019-300"},{"$f":"IF(AND(Config!$B$13<=Tarifs!F2,Config!$B$13>=Tarifs!E2),1,0)","v":0},"2026-07-01","2026-07-31",5460]
["00-0019","30",{"$f":"A3&\"-\"&B3&D3","v":"00-0019-300"},{"$f":"IF(AND(Config!$B$13<=Tarifs!F3,Config!$B$13>=Tarifs!E3),1,0)","v":0},"2026-08-01","2026-08-31",5460]
["00-0019","30","00-0019-300",{"$f":"IF(AND(Config!$B$13<=Tarifs!F4,Config!$B$13>=Tarifs!E4),1,0)","v":0},"2026-06-01","2026-06-30",4620]
["00-0019","30","00-0019-300",{"$f":"IF(AND(Config!$B$13<=Tarifs!F5,Config!$B$13>=Tarifs!E5),1,0)","v":0},"2026-09-01","2026-09-30",4620]
["00-0019","30","00-0019-301",{"$f":"IF(AND(Config!$B$13<=Tarifs!F6,Config!$B$13>=Tarifs!E6),1,0)","v":1},"2026-01-01","2026-01-31",4020]
["00-0019","30","00-0019-300",{"$f":"IF(AND(Config!$B$13<=Tarifs!F7,Config!$B$13>=Tarifs!E7),1,0)","v":0},"2026-02-01","2026-02-28",4020]
["00-0019","30","00-0019-300",{"$f":"IF(AND(Config!$B$13<=Tarifs!F8,Config!$B$13>=Tarifs!E8),1,0)","v":0},"2026-03-01","2026-03-31",4020]
["00-0019","30","00-0019-300",{"$f":"IF(AND(Config!$B$13<=Tarifs!F9,Config!$B$13>=Tarifs!E9),1,0)","v":0},"2026-04-01","2026-04-30",4020]
["00-0019","30","00-0019-300",{"$f":"IF(AND(Config!$B$13<=Tarifs!F10,Config!$B$13>=Tarifs!E10),1,0)","v":0},"2026-05-01","2026-05-31",4020]
["00-0019","30","00-0019-300",{"$f":"IF(AND(Config!$B$13<=Tarifs!F11,Config!$B$13>=Tarifs!E11),1,0)","v":0},"2026-10-01","2026-10-31",4020]
["00-0019","30","00-0019-300",{"$f":"IF(AND(Config!$B$13<=Tarifs!F12,Config!$B$13>=Tarifs!E12),1,0)","v":0},"2026-11-01","2026-11-30",4020]
["00-0019","30","00-0019-300",{"$f":"IF(AND(Config!$B$13<=Tarifs!F13,Config!$B$13>=Tarifs!E13),1,0)","v":0},"2026-12-01","2026-12-31",4020]
["00-0019","20","00-0019-200",{"$f":"IF(AND(Config!$B$13<=Tarifs!F14,Config!$B$13>=Tarifs!E14),1,0)","v":0},"2026-07-01","2026-07-31",1274]
["00-0019","20","00-0019-200",{"$f":"IF(AND(Config!$B$13<=Tarifs!F15,Config!$B$13>=Tarifs!E15),1,0)","v":0},"2026-08-01","2026-08-31",1274]
["00-0019","20","00-0019-200",{"$f":"IF(AND(Config!$B$13<=Tarifs!F16,Config!$B$13>=Tarifs!E16),1,0)","v":0},"2026-06-01","2026-06-30",1078]
["00-0019","20","00-0019-200",{"$f":"IF(AND(Config!$B$13<=Tarifs!F17,Config!$B$13>=Tarifs!E17),1,0)","v":0},"2026-09-01","2026-09-30",1078]
["00-0019","20","00-0019-201",{"$f":"IF(AND(Config!$B$13<=Tarifs!F18,Config!$B$13>=Tarifs!E18),1,0)","v":1},"2026-01-01","2026-01-31",938]
["00-0019","20","00-0019-200",{"$f":"IF(AND(Config!$B$13<=Tarifs!F19,Config!$B$13>=Tarifs!E19),1,0)","v":0},"2026-02-01","2026-02-28",938]
["00-0019","20","00-0019-200",{"$f":"IF(AND(Config!$B$13<=Tarifs!F20,Config!$B$13>=Tarifs!E20),1,0)","v":0},"2026-03-01","2026-03-31",938]
["00-0019","20","00-0019-200",{"$f":"IF(AND(Config!$B$13<=Tarifs!F21,Config!$B$13>=Tarifs!E21),1,0)","v":0},"2026-04-01","2026-04-30",938]
["00-0019","20","00-0019-200",{"$f":"IF(AND(Config!$B$13<=Tarifs!F22,Config!$B$13>=Tarifs!E22),1,0)","v":0},"2026-05-01","2026-05-31",938]
["00-0019","20","00-0019-200",{"$f":"IF(AND(Config!$B$13<=Tarifs!F23,Config!$B$13>=Tarifs!E23),1,0)","v":0},"2026-10-01","2026-10-31",938]
["00-0019","20","00-0019-200",{"$f":"IF(AND(Config!$B$13<=Tarifs!F24,Config!$B$13>=Tarifs!E24),1,0)","v":0},"2026-11-01","2026-11-30",938]
["00-0019","20","00-0019-200",{"$f":"IF(AND(Config!$B$13<=Tarifs!F25,Config!$B$13>=Tarifs!E25),1,0)","v":0},"2026-12-01","2026-12-31",938]
["00-0019","10","00-0019-100",{"$f":"IF(AND(Config!$B$13<=Tarifs!F26,Config!$B$13>=Tarifs!E26),1,0)","v":0},"2026-07-01","2026-07-31",184]
["00-0019","10","00-0019-100",{"$f":"IF(AND(Config!$B$13<=Tarifs!F27,Config!$B$13>=Tarifs!E27),1,0)","v":0},"2026-08-01","2026-08-31",184]
["00-0019","10","00-0019-100",{"$f":"IF(AND(Config!$B$13<=Tarifs!F28,Config!$B$13>=Tarifs!E28),1,0)","v":0},"2026-06-01","2026-06-30",154]
["00-0019","10","00-0019-100",{"$f":"IF(AND(Config!$B$13<=Tarifs!F29,Config!$B$13>=Tarifs!E29),1,0)","v":0},"2026-09-01","2026-09-30",154]
["00-0019","10","00-0019-101",{"$f":"IF(AND(Config!$B$13<=Tarifs!F30,Config!$B$13>=Tarifs!E30),1,0)","v":1},"2026-01-01","2026-01-31",134]
["00-0019","10","00-0019-100",{"$f":"IF(AND(Config!$B$13<=Tarifs!F31,Config!$B$13>=Tarifs!E31),1,0)","v":0},"2026-02-01","2026-02-28",134]
["00-0019","10","00-0019-100",{"$f":"IF(AND(Config!$B$13<=Tarifs!F32,Config!$B$13>=Tarifs!E32),1,0)","v":0},"2026-03-01","2026-03-31",134]
["00-0019","10","00-0019-100",{"$f":"IF(AND(Config!$B$13<=Tarifs!F33,Config!$B$13>=Tarifs!E33),1,0)","v":0},"2026-04-01","2026-04-30",134]
["00-0019","10","00-0019-100",{"$f":"IF(AND(Config!$B$13<=Tarifs!F34,Config!$B$13>=Tarifs!E34),1,0)","v":0},"2026-05-01","2026-05-31",134]
["00-0019","10","00-0019-100",{"$f":"IF(AND(Config!$B$13<=Tarifs!F35,Config!$B$13>=Tarifs!E35),1,0)","v":0},"2026-10-01","2026-10-31",134]
["00-0019","10","00-0019-100",{"$f":"IF(AND(Config!$B$13<=Tarifs!F36,Config!$B$13>=Tarifs!E36),1,0)","v":0},"2026-11-01","2026-11-30",134]
["00-0019","10","00-0019-100",{"$f":"IF(AND(Config!$B$13<=Tarifs!F37,Config!$B$13>=Tarifs!E37),1,0)","v":0},"2026-12-01","2026-12-31",134]
["00-0023","30","00-0023-300",{"$f":"IF(AND(Config!$B$13<=Tarifs!F38,Config!$B$13>=Tarifs!E38),1,0)","v":0},"2026-06-01","2026-05-31",3450]
["00-0023","30","00-0023-300",{"$f":"IF(AND(Config!$B$13<=Tarifs!F39,Config!$B$13>=Tarifs!E39),1,0)","v":0},"2026-07-01","2026-06-30",3450]
["00-0023","30","00-0023-300",{"$f":"IF(AND(Config!$B$13<=Tarifs!F40,Config!$B$13>=Tarifs!E40),1,0)","v":0},"2026-08-01","2026-07-31",3450]
["00-0023","30","00-0023-300",{"$f":"IF(AND(Config!$B$13<=Tarifs!F41,Config!$B$13>=Tarifs!E41),1,0)","v":0},"2026-09-01","2026-08-31",3450]
["00-0023","30","00-0023-300",{"$f":"IF(AND(Config!$B$13<=Tarifs!F42,Config!$B$13>=Tarifs!E42),1,0)","v":0},"2026-10-01","2026-09-30",3450]
["00-0023","30","00-0023-300",{"$f":"IF(AND(Config!$B$13<=Tarifs!F43,Config!$B$13>=Tarifs!E43),1,0)","v":0},"2026-11-01","2026-10-31",3450]
["00-0023","30","00-0023-300",{"$f":"IF(AND(Config!$B$13<=Tarifs!F44,Config!$B$13>=Tarifs!E44),1,0)","v":0},"2026-12-01","2026-11-30",3450]
["00-0023","30","00-0023-300",{"$f":"IF(AND(Config!$B$13<=Tarifs!F45,Config!$B$13>=Tarifs!E45),1,0)","v":0},"2026-01-01","2025-12-31",3450]
["00-0023","30","00-0023-300",{"$f":"IF(AND(Config!$B$13<=Tarifs!F46,Config!$B$13>=Tarifs!E46),1,0)","v":0},"2026-02-01","2026-01-31",3450]
["00-0023","30","00-0023-300",{"$f":"IF(AND(Config!$B$13<=Tarifs!F47,Config!$B$13>=Tarifs!E47),1,0)","v":0},"2026-03-01","2026-02-28",3450]
["00-0023","30","00-0023-300",{"$f":"IF(AND(Config!$B$13<=Tarifs!F48,Config!$B$13>=Tarifs!E48),1,0)","v":0},"2026-04-01","2026-03-31",3450]
["00-0023","30","00-0023-300",{"$f":"IF(AND(Config!$B$13<=Tarifs!F49,Config!$B$13>=Tarifs!E49),1,0)","v":0},"2026-05-01","2026-04-30",3450]
["00-0023","20","00-0023-200",{"$f":"IF(AND(Config!$B$13<=Tarifs!F50,Config!$B$13>=Tarifs!E50),1,0)","v":0},"2026-07-01","2026-06-30",805]
["00-0023","20","00-0023-200",{"$f":"IF(AND(Config!$B$13<=Tarifs!F51,Config!$B$13>=Tarifs!E51),1,0)","v":0},"2026-08-01","2026-07-31",805]
["00-0023","20","00-0023-200",{"$f":"IF(AND(Config!$B$13<=Tarifs!F52,Config!$B$13>=Tarifs!E52),1,0)","v":0},"2026-09-01","2026-08-31",805]
["00-0023","20","00-0023-200",{"$f":"IF(AND(Config!$B$13<=Tarifs!F53,Config!$B$13>=Tarifs!E53),1,0)","v":0},"2026-10-01","2026-09-30",805]
["00-0023","20","00-0023-200",{"$f":"IF(AND(Config!$B$13<=Tarifs!F54,Config!$B$13>=Tarifs!E54),1,0)","v":0},"2026-11-01","2026-10-31",805]
["00-0023","20","00-0023-200",{"$f":"IF(AND(Config!$B$13<=Tarifs!F55,Config!$B$13>=Tarifs!E55),1,0)","v":0},"2026-12-01","2026-11-30",805]
["00-0023","20","00-0023-200",{"$f":"IF(AND(Config!$B$13<=Tarifs!F56,Config!$B$13>=Tarifs!E56),1,0)","v":0},"2026-01-01","2025-12-31",805]
["00-0023","20","00-0023-200",{"$f":"IF(AND(Config!$B$13<=Tarifs!F57,Config!$B$13>=Tarifs!E57),1,0)","v":0},"2026-02-01","2026-01-31",805]
["00-0023","20","00-0023-200",{"$f":"IF(AND(Config!$B$13<=Tarifs!F58,Config!$B$13>=Tarifs!E58),1,0)","v":0},"2026-03-01","2026-02-28",805]
["00-0023","20","00-0023-200",{"$f":"IF(AND(Config!$B$13<=Tarifs!F59,Config!$B$13>=Tarifs!E59),1,0)","v":0},"2026-04-01","2026-03-31",805]
["00-0023","20","00-0023-200",{"$f":"IF(AND(Config!$B$13<=Tarifs!F60,Config!$B$13>=Tarifs!E60),1,0)","v":0},"2026-05-01","2026-04-30",805]
["00-0023","20","00-0023-200",{"$f":"IF(AND(Config!$B$13<=Tarifs!F61,Config!$B$13>=Tarifs!E61),1,0)","v":0},"2026-06-01","2026-05-31",805]
["00-0023","10","00-0023-100",{"$f":"IF(AND(Config!$B$13<=Tarifs!F62,Config!$B$13>=Tarifs!E62),1,0)","v":0},"2026-07-01","2026-06-30",115]
["00-0023","10","00-0023-100",{"$f":"IF(AND(Config!$B$13<=Tarifs!F63,Config!$B$13>=Tarifs!E63),1,0)","v":0},"2026-08-01","2026-07-31",115]
["00-0023","10","00-0023-100",{"$f":"IF(AND(Config!$B$13<=Tarifs!F64,Config!$B$13>=Tarifs!E64),1,0)","v":0},"2026-09-01","2026-08-31",115]
["00-0023","10","00-0023-100",{"$f":"IF(AND(Config!$B$13<=Tarifs!F65,Config!$B$13>=Tarifs!E65),1,0)","v":0},"2026-10-01","2026-09-30",115]
["00-0023","10","00-0023-100",{"$f":"IF(AND(Config!$B$13<=Tarifs!F66,Config!$B$13>=Tarifs!E66),1,0)","v":0},"2026-11-01","2026-10-31",115]
["00-0023","10",{"$f":"A67&\"-\"&B67&D67","v":"00-0023-100"},{"$f":"IF(AND(Config!$B$13<=Tarifs!F67,Config!$B$13>=Tarifs!E67),1,0)","v":0},"2026-12-01","2026-11-30",115]
["00-0023","10","00-0023-100",{"$f":"IF(AND(Config!$B$13<=Tarifs!F68,Config!$B$13>=Tarifs!E68),1,0)","v":0},"2026-01-01","2025-12-31",115]
["00-0023","10","00-0023-100",{"$f":"IF(AND(Config!$B$13<=Tarifs!F69,Config!$B$13>=Tarifs!E69),1,0)","v":0},"2026-02-01","2026-01-31",115]
["00-0023","10","00-0023-100",{"$f":"IF(AND(Config!$B$13<=Tarifs!F70,Config!$B$13>=Tarifs!E70),1,0)","v":0},"2026-03-01","2026-02-28",115]
["00-0023","10","00-0023-100",{"$f":"IF(AND(Config!$B$13<=Tarifs!F71,Config!$B$13>=Tarifs!E71),1,0)","v":0},"2026-04-01","2026-03-31",115]
["00-0023","10","00-0023-100",{"$f":"IF(AND(Config!$B$13<=Tarifs!F72,Config!$B$13>=Tarifs!E72),1,0)","v":0},"2026-05-01","2026-04-30",115]
["00-0023","10","00-0023-100",{"$f":"IF(AND(Config!$B$13<=Tarifs!F73,Config!$B$13>=Tarifs!E73),1,0)","v":0},"2026-06-01","2026-05-31",115]
["00-0027","30","00-0027-300",{"$f":"IF(AND(Config!$B$13<=Tarifs!F74,Config!$B$13>=Tarifs!E74),1,0)","v":0},"2026-08-01","2026-08-31",6210]
["00-0027","30","00-0027-300",{"$f":"IF(AND(Config!$B$13<=Tarifs!F75,Config!$B$13>=Tarifs!E75),1,0)","v":0},"2026-06-01","2026-06-30",5460]
["00-0027","30","00-0027-300",{"$f":"IF(AND(Config!$B$13<=Tarifs!F76,Config!$B$13>=Tarifs!E76),1,0)","v":0},"2026-07-01","2026-07-31",5460]
["00-0027","30","00-0027-300",{"$f":"IF(AND(Config!$B$13<=Tarifs!F77,Config!$B$13>=Tarifs!E77),1,0)","v":0},"2026-09-01","2026-09-30",5460]
["00-0027","30","00-0027-301",{"$f":"IF(AND(Config!$B$13<=Tarifs!F78,Config!$B$13>=Tarifs!E78),1,0)","v":1},"2026-01-01","2026-01-31",4650]
["00-0027","30","00-0027-300",{"$f":"IF(AND(Config!$B$13<=Tarifs!F79,Config!$B$13>=Tarifs!E79),1,0)","v":0},"2026-02-01","2026-02-28",4650]
["00-0027","30","00-0027-300",{"$f":"IF(AND(Config!$B$13<=Tarifs!F80,Config!$B$13>=Tarifs!E80),1,0)","v":0},"2026-03-01","2026-03-31",4650]
["00-0027","30","00-0027-300",{"$f":"IF(AND(Config!$B$13<=Tarifs!F81,Config!$B$13>=Tarifs!E81),1,0)","v":0},"2026-04-01","2026-04-30",4650]
["00-0027","30","00-0027-300",{"$f":"IF(AND(Config!$B$13<=Tarifs!F82,Config!$B$13>=Tarifs!E82),1,0)","v":0},"2026-05-01","2026-05-31",4650]
["00-0027","30","00-0027-300",{"$f":"IF(AND(Config!$B$13<=Tarifs!F83,Config!$B$13>=Tarifs!E83),1,0)","v":0},"2026-10-01","2026-10-31",4650]
["00-0027","30","00-0027-300",{"$f":"IF(AND(Config!$B$13<=Tarifs!F84,Config!$B$13>=Tarifs!E84),1,0)","v":0},"2026-11-01","2026-11-30",4650]
["00-0027","30","00-0027-300",{"$f":"IF(AND(Config!$B$13<=Tarifs!F85,Config!$B$13>=Tarifs!E85),1,0)","v":0},"2026-12-01","2026-12-31",4650]
["00-0027","20","00-0027-200",{"$f":"IF(AND(Config!$B$13<=Tarifs!F86,Config!$B$13>=Tarifs!E86),1,0)","v":0},"2026-08-01","2026-08-31",1449]
["00-0027","20","00-0027-200",{"$f":"IF(AND(Config!$B$13<=Tarifs!F87,Config!$B$13>=Tarifs!E87),1,0)","v":0},"2026-06-01","2026-06-30",1274]
["00-0027","20","00-0027-200",{"$f":"IF(AND(Config!$B$13<=Tarifs!F88,Config!$B$13>=Tarifs!E88),1,0)","v":0},"2026-07-01","2026-07-31",1274]
["00-0027","20","00-0027-200",{"$f":"IF(AND(Config!$B$13<=Tarifs!F89,Config!$B$13>=Tarifs!E89),1,0)","v":0},"2026-09-01","2026-09-30",1274]
["00-0027","20","00-0027-201",{"$f":"IF(AND(Config!$B$13<=Tarifs!F90,Config!$B$13>=Tarifs!E90),1,0)","v":1},"2026-01-01","2026-01-31",1085]
["00-0027","20","00-0027-200",{"$f":"IF(AND(Config!$B$13<=Tarifs!F91,Config!$B$13>=Tarifs!E91),1,0)","v":0},"2026-02-01","2026-02-28",1085]
["00-0027","20","00-0027-200",{"$f":"IF(AND(Config!$B$13<=Tarifs!F92,Config!$B$13>=Tarifs!E92),1,0)","v":0},"2026-03-01","2026-03-31",1085]
["00-0027","20","00-0027-200",{"$f":"IF(AND(Config!$B$13<=Tarifs!F93,Config!$B$13>=Tarifs!E93),1,0)","v":0},"2026-04-01","2026-04-30",1085]
["00-0027","20","00-0027-200",{"$f":"IF(AND(Config!$B$13<=Tarifs!F94,Config!$B$13>=Tarifs!E94),1,0)","v":0},"2026-05-01","2026-05-31",1085]
["00-0027","20","00-0027-200",{"$f":"IF(AND(Config!$B$13<=Tarifs!F95,Config!$B$13>=Tarifs!E95),1,0)","v":0},"2026-10-01","2026-10-31",1085]
["00-0027","20","00-0027-200",{"$f":"IF(AND(Config!$B$13<=Tarifs!F96,Config!$B$13>=Tarifs!E96),1,0)","v":0},"2026-11-01","2026-11-30",1085]
["00-0027","20","00-0027-200",{"$f":"IF(AND(Config!$B$13<=Tarifs!F97,Config!$B$13>=Tarifs!E97),1,0)","v":0},"2026-12-01","2026-12-31",1085]
["00-0027","10","00-0027-100",{"$f":"IF(AND(Config!$B$13<=Tarifs!F98,Config!$B$13>=Tarifs!E98),1,0)","v":0},"2026-08-01","2026-08-31",207]
["00-0027","10","00-0027-100",{"$f":"IF(AND(Config!$B$13<=Tarifs!F99,Config!$B$13>=Tarifs!E99),1,0)","v":0},"2026-06-01","2026-06-30",182]
["00-0027","10","00-0027-100",{"$f":"IF(AND(Config!$B$13<=Tarifs!F100,Config!$B$13>=Tarifs!E100),1,0)","v":0},"2026-07-01","2026-07-31",182]
["00-0027","10","00-0027-100",{"$f":"IF(AND(Config!$B$13<=Tarifs!F101,Config!$B$13>=Tarifs!E101),1,0)","v":0},"2026-09-01","2026-09-30",182]
["00-0027","10","00-0027-101",{"$f":"IF(AND(Config!$B$13<=Tarifs!F102,Config!$B$13>=Tarifs!E102),1,0)","v":1},"2026-01-01","2026-01-31",155]
["00-0027","10","00-0027-100",{"$f":"IF(AND(Config!$B$13<=Tarifs!F103,Config!$B$13>=Tarifs!E103),1,0)","v":0},"2026-02-01","2026-02-28",155]
["00-0027","10","00-0027-100",{"$f":"IF(AND(Config!$B$13<=Tarifs!F104,Config!$B$13>=Tarifs!E104),1,0)","v":0},"2026-03-01","2026-03-31",155]
["00-0027","10","00-0027-100",{"$f":"IF(AND(Config!$B$13<=Tarifs!F105,Config!$B$13>=Tarifs!E105),1,0)","v":0},"2026-04-01","2026-04-30",155]
["00-0027","10","00-0027-100",{"$f":"IF(AND(Config!$B$13<=Tarifs!F106,Config!$B$13>=Tarifs!E106),1,0)","v":0},"2026-05-01","2026-05-31",155]
["00-0027","10","00-0027-100",{"$f":"IF(AND(Config!$B$13<=Tarifs!F107,Config!$B$13>=Tarifs!E107),1,0)","v":0},"2026-10-01","2026-10-31",155]
["00-0027","10","00-0027-100",{"$f":"IF(AND(Config!$B$13<=Tarifs!F108,Config!$B$13>=Tarifs!E108),1,0)","v":0},"2026-11-01","2026-11-30",155]
["00-0027","10","00-0027-100",{"$f":"IF(AND(Config!$B$13<=Tarifs!F109,Config!$B$13>=Tarifs!E109),1,0)","v":0},"2026-12-01","2026-12-31",155]
["00-0039","30","00-0039-300",{"$f":"IF(AND(Config!$B$13<=Tarifs!F110,Config!$B$13>=Tarifs!E110),1,0)","v":0},"2026-05-01","2026-05-31",5790]
["00-0039","30","00-0039-300",{"$f":"IF(AND(Config!$B$13<=Tarifs!F111,Config!$B$13>=Tarifs!E111),1,0)","v":0},"2026-06-01","2026-06-30",5790]
["00-0039","30","00-0039-300",{"$f":"IF(AND(Config!$B$13<=Tarifs!F112,Config!$B$13>=Tarifs!E112),1,0)","v":0},"2026-07-01","2026-07-31",5790]
["00-0039","30","00-0039-300",{"$f":"IF(AND(Config!$B$13<=Tarifs!F113,Config!$B$13>=Tarifs!E113),1,0)","v":0},"2026-08-01","2026-08-31",5790]
["00-0039","30","00-0039-300",{"$f":"IF(AND(Config!$B$13<=Tarifs!F114,Config!$B$13>=Tarifs!E114),1,0)","v":0},"2026-09-01","2026-09-30",5790]
["00-0039","30","00-0039-300",{"$f":"IF(AND(Config!$B$13<=Tarifs!F115,Config!$B$13>=Tarifs!E115),1,0)","v":0},"2026-10-01","2026-10-31",5790]
["00-0039","30","00-0039-300",{"$f":"IF(AND(Config!$B$13<=Tarifs!F116,Config!$B$13>=Tarifs!E116),1,0)","v":0},"2026-04-01","2026-04-30",4260]
["00-0039","30","00-0039-300",{"$f":"IF(AND(Config!$B$13<=Tarifs!F117,Config!$B$13>=Tarifs!E117),1,0)","v":0},"2026-11-01","2026-11-30",4170]
["00-0039","30","00-0039-300",{"$f":"IF(AND(Config!$B$13<=Tarifs!F118,Config!$B$13>=Tarifs!E118),1,0)","v":0},"2026-12-01","2026-12-31",3990]
["00-0039","30","00-0039-301",{"$f":"IF(AND(Config!$B$13<=Tarifs!F119,Config!$B$13>=Tarifs!E119),1,0)","v":1},"2026-01-01","2026-01-31",3870]
["00-0039","30","00-0039-300",{"$f":"IF(AND(Config!$B$13<=Tarifs!F120,Config!$B$13>=Tarifs!E120),1,0)","v":0},"2026-02-01","2026-02-28",3870]
["00-0039","30","00-0039-300",{"$f":"IF(AND(Config!$B$13<=Tarifs!F121,Config!$B$13>=Tarifs!E121),1,0)","v":0},"2026-03-01","2026-03-31",3870]
["00-0039","20","00-0039-200",{"$f":"IF(AND(Config!$B$13<=Tarifs!F122,Config!$B$13>=Tarifs!E122),1,0)","v":0},"2026-05-01","2026-05-31",1351]
["00-0039","20","00-0039-200",{"$f":"IF(AND(Config!$B$13<=Tarifs!F123,Config!$B$13>=Tarifs!E123),1,0)","v":0},"2026-06-01","2026-06-30",1351]
["00-0039","20","00-0039-200",{"$f":"IF(AND(Config!$B$13<=Tarifs!F124,Config!$B$13>=Tarifs!E124),1,0)","v":0},"2026-07-01","2026-07-31",1351]
["00-0039","20","00-0039-200",{"$f":"IF(AND(Config!$B$13<=Tarifs!F125,Config!$B$13>=Tarifs!E125),1,0)","v":0},"2026-08-01","2026-08-31",1351]
["00-0039","20","00-0039-200",{"$f":"IF(AND(Config!$B$13<=Tarifs!F126,Config!$B$13>=Tarifs!E126),1,0)","v":0},"2026-09-01","2026-09-30",1351]
["00-0039","20","00-0039-200",{"$f":"IF(AND(Config!$B$13<=Tarifs!F127,Config!$B$13>=Tarifs!E127),1,0)","v":0},"2026-10-01","2026-10-31",1351]
["00-0039","20","00-0039-200",{"$f":"IF(AND(Config!$B$13<=Tarifs!F128,Config!$B$13>=Tarifs!E128),1,0)","v":0},"2026-04-01","2026-04-30",994]
["00-0039","20","00-0039-200",{"$f":"IF(AND(Config!$B$13<=Tarifs!F129,Config!$B$13>=Tarifs!E129),1,0)","v":0},"2026-11-01","2026-11-30",973]
["00-0039","20","00-0039-200",{"$f":"IF(AND(Config!$B$13<=Tarifs!F130,Config!$B$13>=Tarifs!E130),1,0)","v":0},"2026-12-01","2026-12-31",931]
["00-0039","20",{"$f":"A131&\"-\"&B131&D131","v":"00-0039-201"},{"$f":"IF(AND(Config!$B$13<=Tarifs!F131,Config!$B$13>=Tarifs!E131),1,0)","v":1},"2026-01-01","2026-01-31",903]
["00-0039","20","00-0039-200",{"$f":"IF(AND(Config!$B$13<=Tarifs!F132,Config!$B$13>=Tarifs!E132),1,0)","v":0},"2026-02-01","2026-02-28",903]
["00-0039","20","00-0039-200",{"$f":"IF(AND(Config!$B$13<=Tarifs!F133,Config!$B$13>=Tarifs!E133),1,0)","v":0},"2026-03-01","2026-03-31",903]
["00-0039","10","00-0039-100",{"$f":"IF(AND(Config!$B$13<=Tarifs!F134,Config!$B$13>=Tarifs!E134),1,0)","v":0},"2026-05-01","2026-05-31",193]
["00-0039","10","00-0039-100",{"$f":"IF(AND(Config!$B$13<=Tarifs!F135,Config!$B$13>=Tarifs!E135),1,0)","v":0},"2026-06-01","2026-06-30",193]
["00-0039","10","00-0039-100",{"$f":"IF(AND(Config!$B$13<=Tarifs!F136,Config!$B$13>=Tarifs!E136),1,0)","v":0},"2026-07-01","2026-07-31",193]
["00-0039","10","00-0039-100",{"$f":"IF(AND(Config!$B$13<=Tarifs!F137,Config!$B$13>=Tarifs!E137),1,0)","v":0},"2026-08-01","2026-08-31",193]
["00-0039","10","00-0039-100",{"$f":"IF(AND(Config!$B$13<=Tarifs!F138,Config!$B$13>=Tarifs!E138),1,0)","v":0},"2026-09-01","2026-09-30",193]
["00-0039","10","00-0039-100",{"$f":"IF(AND(Config!$B$13<=Tarifs!F139,Config!$B$13>=Tarifs!E139),1,0)","v":0},"2026-10-01","2026-10-31",193]
["00-0039","10","00-0039-100",{"$f":"IF(AND(Config!$B$13<=Tarifs!F140,Config!$B$13>=Tarifs!E140),1,0)","v":0},"2026-04-01","2026-04-30",142]
["00-0039","10","00-0039-100",{"$f":"IF(AND(Config!$B$13<=Tarifs!F141,Config!$B$13>=Tarifs!E141),1,0)","v":0},"2026-11-01","2026-11-30",139]
["00-0039","10","00-0039-100",{"$f":"IF(AND(Config!$B$13<=Tarifs!F142,Config!$B$13>=Tarifs!E142),1,0)","v":0},"2026-12-01","2026-12-31",133]
["00-0039","10","00-0039-101",{"$f":"IF(AND(Config!$B$13<=Tarifs!F143,Config!$B$13>=Tarifs!E143),1,0)","v":1},"2026-01-01","2026-01-31",129]
["00-0039","10","00-0039-100",{"$f":"IF(AND(Config!$B$13<=Tarifs!F144,Config!$B$13>=Tarifs!E144),1,0)","v":0},"2026-02-01","2026-02-28",129]
["00-0039","10","00-0039-100",{"$f":"IF(AND(Config!$B$13<=Tarifs!F145,Config!$B$13>=Tarifs!E145),1,0)","v":0},"2026-03-01","2026-03-31",129]
["00-0107","30","00-0107-300",{"$f":"IF(AND(Config!$B$13<=Tarifs!F146,Config!$B$13>=Tarifs!E146),1,0)","v":0},"2026-07-01","2026-07-31",3384]
["00-0107","30","00-0107-300",{"$f":"IF(AND(Config!$B$13<=Tarifs!F147,Config!$B$13>=Tarifs!E147),1,0)","v":0},"2026-08-01","2026-08-31",3384]
["00-0107","30","00-0107-300",{"$f":"IF(AND(Config!$B$13<=Tarifs!F148,Config!$B$13>=Tarifs!E148),1,0)","v":0},"2026-09-01","2026-09-30",3384]
["00-0107","30","00-0107-300",{"$f":"IF(AND(Config!$B$13<=Tarifs!F149,Config!$B$13>=Tarifs!E149),1,0)","v":0},"2026-10-01","2026-10-31",3384]
["00-0107","30","00-0107-301",{"$f":"IF(AND(Config!$B$13<=Tarifs!F150,Config!$B$13>=Tarifs!E150),1,0)","v":1},"2026-01-01","2026-01-31",2664]
["00-0107","30","00-0107-300",{"$f":"IF(AND(Config!$B$13<=Tarifs!F151,Config!$B$13>=Tarifs!E151),1,0)","v":0},"2026-02-01","2026-02-28",2664]
["00-0107","30","00-0107-300",{"$f":"IF(AND(Config!$B$13<=Tarifs!F152,Config!$B$13>=Tarifs!E152),1,0)","v":0},"2026-03-01","2026-03-31",2664]
["00-0107","30","00-0107-300",{"$f":"IF(AND(Config!$B$13<=Tarifs!F153,Config!$B$13>=Tarifs!E153),1,0)","v":0},"2026-04-01","2026-04-30",2664]
["00-0107","30","00-0107-300",{"$f":"IF(AND(Config!$B$13<=Tarifs!F154,Config!$B$13>=Tarifs!E154),1,0)","v":0},"2026-05-01","2026-05-31",2664]
["00-0107","30","00-0107-300",{"$f":"IF(AND(Config!$B$13<=Tarifs!F155,Config!$B$13>=Tarifs!E155),1,0)","v":0},"2026-06-01","2026-06-30",2664]
["00-0107","30","00-0107-300",{"$f":"IF(AND(Config!$B$13<=Tarifs!F156,Config!$B$13>=Tarifs!E156),1,0)","v":0},"2026-11-01","2026-11-30",2664]
["00-0107","30","00-0107-300",{"$f":"IF(AND(Config!$B$13<=Tarifs!F157,Config!$B$13>=Tarifs!E157),1,0)","v":0},"2026-12-01","2026-12-31",2664]
["00-0107","20","00-0107-200",{"$f":"IF(AND(Config!$B$13<=Tarifs!F158,Config!$B$13>=Tarifs!E158),1,0)","v":0},"2026-07-01","2026-07-31",1118]
["00-0107","20","00-0107-200",{"$f":"IF(AND(Config!$B$13<=Tarifs!F159,Config!$B$13>=Tarifs!E159),1,0)","v":0},"2026-08-01","2026-08-31",1118]
["00-0107","20","00-0107-200",{"$f":"IF(AND(Config!$B$13<=Tarifs!F160,Config!$B$13>=Tarifs!E160),1,0)","v":0},"2026-09-01","2026-09-30",1118]
["00-0107","20","00-0107-200",{"$f":"IF(AND(Config!$B$13<=Tarifs!F161,Config!$B$13>=Tarifs!E161),1,0)","v":0},"2026-10-01","2026-10-31",1118]
["00-0107","20","00-0107-201",{"$f":"IF(AND(Config!$B$13<=Tarifs!F162,Config!$B$13>=Tarifs!E162),1,0)","v":1},"2026-01-01","2026-01-31",880]
["00-0107","20","00-0107-200",{"$f":"IF(AND(Config!$B$13<=Tarifs!F163,Config!$B$13>=Tarifs!E163),1,0)","v":0},"2026-02-01","2026-02-28",880]
["00-0107","20","00-0107-200",{"$f":"IF(AND(Config!$B$13<=Tarifs!F164,Config!$B$13>=Tarifs!E164),1,0)","v":0},"2026-03-01","2026-03-31",880]
["00-0107","20","00-0107-200",{"$f":"IF(AND(Config!$B$13<=Tarifs!F165,Config!$B$13>=Tarifs!E165),1,0)","v":0},"2026-04-01","2026-04-30",880]
["00-0107","20","00-0107-200",{"$f":"IF(AND(Config!$B$13<=Tarifs!F166,Config!$B$13>=Tarifs!E166),1,0)","v":0},"2026-05-01","2026-05-31",880]
["00-0107","20","00-0107-200",{"$f":"IF(AND(Config!$B$13<=Tarifs!F167,Config!$B$13>=Tarifs!E167),1,0)","v":0},"2026-06-01","2026-06-30",880]
["00-0107","20","00-0107-200",{"$f":"IF(AND(Config!$B$13<=Tarifs!F168,Config!$B$13>=Tarifs!E168),1,0)","v":0},"2026-11-01","2026-11-30",880]
["00-0107","20","00-0107-200",{"$f":"IF(AND(Config!$B$13<=Tarifs!F169,Config!$B$13>=Tarifs!E169),1,0)","v":0},"2026-12-01","2026-12-31",880]
["00-0107","10","00-0107-100",{"$f":"IF(AND(Config!$B$13<=Tarifs!F170,Config!$B$13>=Tarifs!E170),1,0)","v":0},"2026-07-01","2026-07-31",188]
["00-0107","10","00-0107-100",{"$f":"IF(AND(Config!$B$13<=Tarifs!F171,Config!$B$13>=Tarifs!E171),1,0)","v":0},"2026-08-01","2026-08-31",188]
["00-0107","10","00-0107-100",{"$f":"IF(AND(Config!$B$13<=Tarifs!F172,Config!$B$13>=Tarifs!E172),1,0)","v":0},"2026-09-01","2026-09-30",188]
["00-0107","10","00-0107-100",{"$f":"IF(AND(Config!$B$13<=Tarifs!F173,Config!$B$13>=Tarifs!E173),1,0)","v":0},"2026-10-01","2026-10-31",188]
["00-0107","10","00-0107-101",{"$f":"IF(AND(Config!$B$13<=Tarifs!F174,Config!$B$13>=Tarifs!E174),1,0)","v":1},"2026-01-01","2026-01-31",148]
["00-0107","10","00-0107-100",{"$f":"IF(AND(Config!$B$13<=Tarifs!F175,Config!$B$13>=Tarifs!E175),1,0)","v":0},"2026-02-01","2026-02-28",148]
["00-0107","10","00-0107-100",{"$f":"IF(AND(Config!$B$13<=Tarifs!F176,Config!$B$13>=Tarifs!E176),1,0)","v":0},"2026-03-01","2026-03-31",148]
["00-0107","10","00-0107-100",{"$f":"IF(AND(Config!$B$13<=Tarifs!F177,Config!$B$13>=Tarifs!E177),1,0)","v":0},"2026-04-01","2026-04-30",148]
["00-0107","10","00-0107-100",{"$f":"IF(AND(Config!$B$13<=Tarifs!F178,Config!$B$13>=Tarifs!E178),1,0)","v":0},"2026-05-01","2026-05-31",148]
["00-0107","10","00-0107-100",{"$f":"IF(AND(Config!$B$13<=Tarifs!F179,Config!$B$13>=Tarifs!E179),1,0)","v":0},"2026-06-01","2026-06-30",148]
["00-0107","10","00-0107-100",{"$f":"IF(AND(Config!$B$13<=Tarifs!F180,Config!$B$13>=Tarifs!E180),1,0)","v":0},"2026-11-01","2026-11-30",148]
["00-0107","10","00-0107-100",{"$f":"IF(AND(Config!$B$13<=Tarifs!F181,Config!$B$13>=Tarifs!E181),1,0)","v":0},"2026-12-01","2026-12-31",148]
["00-0108","30","00-0108-300",{"$f":"IF(AND(Config!$B$13<=Tarifs!F182,Config!$B$13>=Tarifs!E182),1,0)","v":0},"2026-06-01","2026-05-31",3450]
["00-0108","30","00-0108-300",{"$f":"IF(AND(Config!$B$13<=Tarifs!F183,Config!$B$13>=Tarifs!E183),1,0)","v":0},"2026-07-01","2026-06-30",3450]
["00-0108","30","00-0108-300",{"$f":"IF(AND(Config!$B$13<=Tarifs!F184,Config!$B$13>=Tarifs!E184),1,0)","v":0},"2026-08-01","2026-07-31",3450]
["00-0108","30","00-0108-300",{"$f":"IF(AND(Config!$B$13<=Tarifs!F185,Config!$B$13>=Tarifs!E185),1,0)","v":0},"2026-09-01","2026-08-31",3450]
["00-0108","30","00-0108-300",{"$f":"IF(AND(Config!$B$13<=Tarifs!F186,Config!$B$13>=Tarifs!E186),1,0)","v":0},"2026-10-01","2026-09-30",3450]
["00-0108","30","00-0108-300",{"$f":"IF(AND(Config!$B$13<=Tarifs!F187,Config!$B$13>=Tarifs!E187),1,0)","v":0},"2026-04-01","2026-03-31",3300]
["00-0108","30","00-0108-300",{"$f":"IF(AND(Config!$B$13<=Tarifs!F188,Config!$B$13>=Tarifs!E188),1,0)","v":0},"2026-05-01","2026-04-30",3300]
["00-0108","30","00-0108-300",{"$f":"IF(AND(Config!$B$13<=Tarifs!F189,Config!$B$13>=Tarifs!E189),1,0)","v":0},"2026-11-01","2026-10-31",3300]
["00-0108","30","00-0108-300",{"$f":"IF(AND(Config!$B$13<=Tarifs!F190,Config!$B$13>=Tarifs!E190),1,0)","v":0},"2026-12-01","2026-11-30",3300]
["00-0108","30","00-0108-300",{"$f":"IF(AND(Config!$B$13<=Tarifs!F191,Config!$B$13>=Tarifs!E191),1,0)","v":0},"2026-01-01","2025-12-31",3150]
["00-0108","30","00-0108-300",{"$f":"IF(AND(Config!$B$13<=Tarifs!F192,Config!$B$13>=Tarifs!E192),1,0)","v":0},"2026-02-01","2026-01-31",3150]
["00-0108","30","00-0108-300",{"$f":"IF(AND(Config!$B$13<=Tarifs!F193,Config!$B$13>=Tarifs!E193),1,0)","v":0},"2026-03-01","2026-02-28",3150]
["00-0108","20","00-0108-200",{"$f":"IF(AND(Config!$B$13<=Tarifs!F194,Config!$B$13>=Tarifs!E194),1,0)","v":0},"2026-06-01","2026-05-31",805]
["00-0108","20",{"$f":"A195&\"-\"&B195&D195","v":"00-0108-200"},{"$f":"IF(AND(Config!$B$13<=Tarifs!F195,Config!$B$13>=Tarifs!E195),1,0)","v":0},"2026-07-01","2026-06-30",805]
["00-0108","20","00-0108-200",{"$f":"IF(AND(Config!$B$13<=Tarifs!F196,Config!$B$13>=Tarifs!E196),1,0)","v":0},"2026-08-01","2026-07-31",805]
["00-0108","20","00-0108-200",{"$f":"IF(AND(Config!$B$13<=Tarifs!F197,Config!$B$13>=Tarifs!E197),1,0)","v":0},"2026-09-01","2026-08-31",805]
["00-0108","20","00-0108-200",{"$f":"IF(AND(Config!$B$13<=Tarifs!F198,Config!$B$13>=Tarifs!E198),1,0)","v":0},"2026-10-01","2026-09-30",805]
["00-0108","20","00-0108-200",{"$f":"IF(AND(Config!$B$13<=Tarifs!F199,Config!$B$13>=Tarifs!E199),1,0)","v":0},"2026-04-01","2026-03-31",770]
["00-0108","20","00-0108-200",{"$f":"IF(AND(Config!$B$13<=Tarifs!F200,Config!$B$13>=Tarifs!E200),1,0)","v":0},"2026-05-01","2026-04-30",770]
["00-0108","20","00-0108-200",{"$f":"IF(AND(Config!$B$13<=Tarifs!F201,Config!$B$13>=Tarifs!E201),1,0)","v":0},"2026-11-01","2026-10-31",770]
["00-0108","20","00-0108-200",{"$f":"IF(AND(Config!$B$13<=Tarifs!F202,Config!$B$13>=Tarifs!E202),1,0)","v":0},"2026-12-01","2026-11-30",770]
["00-0108","20","00-0108-200",{"$f":"IF(AND(Config!$B$13<=Tarifs!F203,Config!$B$13>=Tarifs!E203),1,0)","v":0},"2026-01-01","2025-12-31",735]
["00-0108","20","00-0108-200",{"$f":"IF(AND(Config!$B$13<=Tarifs!F204,Config!$B$13>=Tarifs!E204),1,0)","v":0},"2026-02-01","2026-01-31",735]
["00-0108","20","00-0108-200",{"$f":"IF(AND(Config!$B$13<=Tarifs!F205,Config!$B$13>=Tarifs!E205),1,0)","v":0},"2026-03-01","2026-02-28",735]
["00-0108","10","00-0108-100",{"$f":"IF(AND(Config!$B$13<=Tarifs!F206,Config!$B$13>=Tarifs!E206),1,0)","v":0},"2026-06-01","2026-05-31",115]
["00-0108","10","00-0108-100",{"$f":"IF(AND(Config!$B$13<=Tarifs!F207,Config!$B$13>=Tarifs!E207),1,0)","v":0},"2026-07-01","2026-06-30",115]
["00-0108","10","00-0108-100",{"$f":"IF(AND(Config!$B$13<=Tarifs!F208,Config!$B$13>=Tarifs!E208),1,0)","v":0},"2026-08-01","2026-07-31",115]
["00-0108","10","00-0108-100",{"$f":"IF(AND(Config!$B$13<=Tarifs!F209,Config!$B$13>=Tarifs!E209),1,0)","v":0},"2026-09-01","2026-08-31",115]
["00-0108","10","00-0108-100",{"$f":"IF(AND(Config!$B$13<=Tarifs!F210,Config!$B$13>=Tarifs!E210),1,0)","v":0},"2026-10-01","2026-09-30",115]
["00-0108","10","00-0108-100",{"$f":"IF(AND(Config!$B$13<=Tarifs!F211,Config!$B$13>=Tarifs!E211),1,0)","v":0},"2026-04-01","2026-03-31",110]
["00-0108","10","00-0108-100",{"$f":"IF(AND(Config!$B$13<=Tarifs!F212,Config!$B$13>=Tarifs!E212),1,0)","v":0},"2026-05-01","2026-04-30",110]
["00-0108","10","00-0108-100",{"$f":"IF(AND(Config!$B$13<=Tarifs!F213,Config!$B$13>=Tarifs!E213),1,0)","v":0},"2026-11-01","2026-10-31",110]
["00-0108","10","00-0108-100",{"$f":"IF(AND(Config!$B$13<=Tarifs!F214,Config!$B$13>=Tarifs!E214),1,0)","v":0},"2026-12-01","2026-11-30",110]
["00-0108","10","00-0108-100",{"$f":"IF(AND(Config!$B$13<=Tarifs!F215,Config!$B$13>=Tarifs!E215),1,0)","v":0},"2026-01-01","2025-12-31",105]
["00-0108","10","00-0108-100",{"$f":"IF(AND(Config!$B$13<=Tarifs!F216,Config!$B$13>=Tarifs!E216),1,0)","v":0},"2026-02-01","2026-01-31",105]
["00-0108","10","00-0108-100",{"$f":"IF(AND(Config!$B$13<=Tarifs!F217,Config!$B$13>=Tarifs!E217),1,0)","v":0},"2026-03-01","2026-02-28",105]
["00-0117","30","00-0117-300",{"$f":"IF(AND(Config!$B$13<=Tarifs!F218,Config!$B$13>=Tarifs!E218),1,0)","v":0},"2026-07-01","2026-07-31",10170]
["00-0117","30","00-0117-300",{"$f":"IF(AND(Config!$B$13<=Tarifs!F219,Config!$B$13>=Tarifs!E219),1,0)","v":0},"2026-08-01","2026-08-31",10170]
["00-0117","30","00-0117-300",{"$f":"IF(AND(Config!$B$13<=Tarifs!F220,Config!$B$13>=Tarifs!E220),1,0)","v":0},"2026-09-01","2026-09-30",10170]
["00-0117","30","00-0117-300",{"$f":"IF(AND(Config!$B$13<=Tarifs!F221,Config!$B$13>=Tarifs!E221),1,0)","v":0},"2026-10-01","2026-10-31",10170]
["00-0117","30","00-0117-300",{"$f":"IF(AND(Config!$B$13<=Tarifs!F222,Config!$B$13>=Tarifs!E222),1,0)","v":0},"2026-05-01","2026-05-31",9270]
["00-0117","30","00-0117-300",{"$f":"IF(AND(Config!$B$13<=Tarifs!F223,Config!$B$13>=Tarifs!E223),1,0)","v":0},"2026-06-01","2026-06-30",9270]
["00-0117","30","00-0117-300",{"$f":"IF(AND(Config!$B$13<=Tarifs!F224,Config!$B$13>=Tarifs!E224),1,0)","v":0},"2026-11-01","2026-11-30",5970]
["00-0117","30","00-0117-300",{"$f":"IF(AND(Config!$B$13<=Tarifs!F225,Config!$B$13>=Tarifs!E225),1,0)","v":0},"2026-12-01","2026-12-31",5970]
["00-0117","30","00-0117-301",{"$f":"IF(AND(Config!$B$13<=Tarifs!F226,Config!$B$13>=Tarifs!E226),1,0)","v":1},"2026-01-01","2026-01-31",5670]
["00-0117","30","00-0117-300",{"$f":"IF(AND(Config!$B$13<=Tarifs!F227,Config!$B$13>=Tarifs!E227),1,0)","v":0},"2026-02-01","2026-02-28",5670]
["00-0117","30","00-0117-300",{"$f":"IF(AND(Config!$B$13<=Tarifs!F228,Config!$B$13>=Tarifs!E228),1,0)","v":0},"2026-03-01","2026-03-31",5670]
["00-0117","30","00-0117-300",{"$f":"IF(AND(Config!$B$13<=Tarifs!F229,Config!$B$13>=Tarifs!E229),1,0)","v":0},"2026-04-01","2026-04-30",5670]
["00-0117","20","00-0117-200",{"$f":"IF(AND(Config!$B$13<=Tarifs!F230,Config!$B$13>=Tarifs!E230),1,0)","v":0},"2026-07-01","2026-07-31",2373]
["00-0117","20","00-0117-200",{"$f":"IF(AND(Config!$B$13<=Tarifs!F231,Config!$B$13>=Tarifs!E231),1,0)","v":0},"2026-08-01","2026-08-31",2373]
["00-0117","20","00-0117-200",{"$f":"IF(AND(Config!$B$13<=Tarifs!F232,Config!$B$13>=Tarifs!E232),1,0)","v":0},"2026-09-01","2026-09-30",2373]
["00-0117","20","00-0117-200",{"$f":"IF(AND(Config!$B$13<=Tarifs!F233,Config!$B$13>=Tarifs!E233),1,0)","v":0},"2026-10-01","2026-10-31",2373]
["00-0117","20","00-0117-200",{"$f":"IF(AND(Config!$B$13<=Tarifs!F234,Config!$B$13>=Tarifs!E234),1,0)","v":0},"2026-05-01","2026-05-31",2163]
["00-0117","20","00-0117-200",{"$f":"IF(AND(Config!$B$13<=Tarifs!F235,Config!$B$13>=Tarifs!E235),1,0)","v":0},"2026-06-01","2026-06-30",2163]
["00-0117","20","00-0117-200",{"$f":"IF(AND(Config!$B$13<=Tarifs!F236,Config!$B$13>=Tarifs!E236),1,0)","v":0},"2026-11-01","2026-11-30",1393]
["00-0117","20","00-0117-200",{"$f":"IF(AND(Config!$B$13<=Tarifs!F237,Config!$B$13>=Tarifs!E237),1,0)","v":0},"2026-12-01","2026-12-31",1393]
["00-0117","20","00-0117-201",{"$f":"IF(AND(Config!$B$13<=Tarifs!F238,Config!$B$13>=Tarifs!E238),1,0)","v":1},"2026-01-01","2026-01-31",1323]
["00-0117","20","00-0117-200",{"$f":"IF(AND(Config!$B$13<=Tarifs!F239,Config!$B$13>=Tarifs!E239),1,0)","v":0},"2026-02-01","2026-02-28",1323]
["00-0117","20","00-0117-200",{"$f":"IF(AND(Config!$B$13<=Tarifs!F240,Config!$B$13>=Tarifs!E240),1,0)","v":0},"2026-03-01","2026-03-31",1323]
["00-0117","20","00-0117-200",{"$f":"IF(AND(Config!$B$13<=Tarifs!F241,Config!$B$13>=Tarifs!E241),1,0)","v":0},"2026-04-01","2026-04-30",1323]
["00-0117","10","00-0117-100",{"$f":"IF(AND(Config!$B$13<=Tarifs!F242,Config!$B$13>=Tarifs!E242),1,0)","v":0},"2026-07-01","2026-07-31",339]
["00-0117","10","00-0117-100",{"$f":"IF(AND(Config!$B$13<=Tarifs!F243,Config!$B$13>=Tarifs!E243),1,0)","v":0},"2026-08-01","2026-08-31",339]
["00-0117","10","00-0117-100",{"$f":"IF(AND(Config!$B$13<=Tarifs!F244,Config!$B$13>=Tarifs!E244),1,0)","v":0},"2026-09-01","2026-09-30",339]
["00-0117","10","00-0117-100",{"$f":"IF(AND(Config!$B$13<=Tarifs!F245,Config!$B$13>=Tarifs!E245),1,0)","v":0},"2026-10-01","2026-10-31",339]
["00-0117","10","00-0117-100",{"$f":"IF(AND(Config!$B$13<=Tarifs!F246,Config!$B$13>=Tarifs!E246),1,0)","v":0},"2026-05-01","2026-05-31",309]
["00-0117","10","00-0117-100",{"$f":"IF(AND(Config!$B$13<=Tarifs!F247,Config!$B$13>=Tarifs!E247),1,0)","v":0},"2026-06-01","2026-06-30",309]
["00-0117","10","00-0117-100",{"$f":"IF(AND(Config!$B$13<=Tarifs!F248,Config!$B$13>=Tarifs!E248),1,0)","v":0},"2026-11-01","2026-11-30",199]
["00-0117","10","00-0117-100",{"$f":"IF(AND(Config!$B$13<=Tarifs!F249,Config!$B$13>=Tarifs!E249),1,0)","v":0},"2026-12-01","2026-12-31",199]
["00-0117","10","00-0117-101",{"$f":"IF(AND(Config!$B$13<=Tarifs!F250,Config!$B$13>=Tarifs!E250),1,0)","v":1},"2026-01-01","2026-01-31",189]
["00-0117","10","00-0117-100",{"$f":"IF(AND(Config!$B$13<=Tarifs!F251,Config!$B$13>=Tarifs!E251),1,0)","v":0},"2026-02-01","2026-02-28",189]
["00-0117","10","00-0117-100",{"$f":"IF(AND(Config!$B$13<=Tarifs!F252,Config!$B$13>=Tarifs!E252),1,0)","v":0},"2026-03-01","2026-03-31",189]
["00-0117","10","00-0117-100",{"$f":"IF(AND(Config!$B$13<=Tarifs!F253,Config!$B$13>=Tarifs!E253),1,0)","v":0},"2026-04-01","2026-04-30",189]
["00-0126","30","00-0126-300",{"$f":"IF(AND(Config!$B$13<=Tarifs!F254,Config!$B$13>=Tarifs!E254),1,0)","v":0},"2026-06-01","2026-06-30",6390]
["00-0126","30","00-0126-300",{"$f":"IF(AND(Config!$B$13<=Tarifs!F255,Config!$B$13>=Tarifs!E255),1,0)","v":0},"2026-07-01","2026-07-31",6390]
["00-0126","30","00-0126-300",{"$f":"IF(AND(Config!$B$13<=Tarifs!F256,Config!$B$13>=Tarifs!E256),1,0)","v":0},"2026-08-01","2026-08-31",6390]
["00-0126","30","00-0126-301",{"$f":"IF(AND(Config!$B$13<=Tarifs!F257,Config!$B$13>=Tarifs!E257),1,0)","v":1},"2026-01-01","2026-01-31",5790]
["00-0126","30","00-0126-300",{"$f":"IF(AND(Config!$B$13<=Tarifs!F258,Config!$B$13>=Tarifs!E258),1,0)","v":0},"2026-02-01","2026-02-28",5790]
["00-0126","30",{"$f":"A259&\"-\"&B259&D259","v":"00-0126-300"},{"$f":"IF(AND(Config!$B$13<=Tarifs!F259,Config!$B$13>=Tarifs!E259),1,0)","v":0},"2026-03-01","2026-03-31",5790]
["00-0126","30","00-0126-300",{"$f":"IF(AND(Config!$B$13<=Tarifs!F260,Config!$B$13>=Tarifs!E260),1,0)","v":0},"2026-04-01","2026-04-30",5790]
["00-0126","30","00-0126-300",{"$f":"IF(AND(Config!$B$13<=Tarifs!F261,Config!$B$13>=Tarifs!E261),1,0)","v":0},"2026-05-01","2026-05-31",5790]
["00-0126","30","00-0126-300",{"$f":"IF(AND(Config!$B$13<=Tarifs!F262,Config!$B$13>=Tarifs!E262),1,0)","v":0},"2026-09-01","2026-09-30",5790]
["00-0126","30","00-0126-300",{"$f":"IF(AND(Config!$B$13<=Tarifs!F263,Config!$B$13>=Tarifs!E263),1,0)","v":0},"2026-10-01","2026-10-31",5790]
["00-0126","30","00-0126-300",{"$f":"IF(AND(Config!$B$13<=Tarifs!F264,Config!$B$13>=Tarifs!E264),1,0)","v":0},"2026-11-01","2026-11-30",5790]
["00-0126","30","00-0126-300",{"$f":"IF(AND(Config!$B$13<=Tarifs!F265,Config!$B$13>=Tarifs!E265),1,0)","v":0},"2026-12-01","2026-12-31",5790]
["00-0126","20","00-0126-200",{"$f":"IF(AND(Config!$B$13<=Tarifs!F266,Config!$B$13>=Tarifs!E266),1,0)","v":0},"2026-06-01","2026-06-30",1491]
["00-0126","20","00-0126-200",{"$f":"IF(AND(Config!$B$13<=Tarifs!F267,Config!$B$13>=Tarifs!E267),1,0)","v":0},"2026-07-01","2026-07-31",1491]
["00-0126","20","00-0126-200",{"$f":"IF(AND(Config!$B$13<=Tarifs!F268,Config!$B$13>=Tarifs!E268),1,0)","v":0},"2026-08-01","2026-08-31",1491]
["00-0126","20","00-0126-201",{"$f":"IF(AND(Config!$B$13<=Tarifs!F269,Config!$B$13>=Tarifs!E269),1,0)","v":1},"2026-01-01","2026-01-31",1351]
["00-0126","20","00-0126-200",{"$f":"IF(AND(Config!$B$13<=Tarifs!F270,Config!$B$13>=Tarifs!E270),1,0)","v":0},"2026-02-01","2026-02-28",1351]
["00-0126","20","00-0126-200",{"$f":"IF(AND(Config!$B$13<=Tarifs!F271,Config!$B$13>=Tarifs!E271),1,0)","v":0},"2026-03-01","2026-03-31",1351]
["00-0126","20","00-0126-200",{"$f":"IF(AND(Config!$B$13<=Tarifs!F272,Config!$B$13>=Tarifs!E272),1,0)","v":0},"2026-04-01","2026-04-30",1351]
["00-0126","20","00-0126-200",{"$f":"IF(AND(Config!$B$13<=Tarifs!F273,Config!$B$13>=Tarifs!E273),1,0)","v":0},"2026-05-01","2026-05-31",1351]
["00-0126","20","00-0126-200",{"$f":"IF(AND(Config!$B$13<=Tarifs!F274,Config!$B$13>=Tarifs!E274),1,0)","v":0},"2026-09-01","2026-09-30",1351]
["00-0126","20","00-0126-200",{"$f":"IF(AND(Config!$B$13<=Tarifs!F275,Config!$B$13>=Tarifs!E275),1,0)","v":0},"2026-10-01","2026-10-31",1351]
["00-0126","20","00-0126-200",{"$f":"IF(AND(Config!$B$13<=Tarifs!F276,Config!$B$13>=Tarifs!E276),1,0)","v":0},"2026-11-01","2026-11-30",1351]
["00-0126","20","00-0126-200",{"$f":"IF(AND(Config!$B$13<=Tarifs!F277,Config!$B$13>=Tarifs!E277),1,0)","v":0},"2026-12-01","2026-12-31",1351]
["00-0126","10","00-0126-100",{"$f":"IF(AND(Config!$B$13<=Tarifs!F278,Config!$B$13>=Tarifs!E278),1,0)","v":0},"2026-06-01","2026-06-30",213]
["00-0126","10","00-0126-100",{"$f":"IF(AND(Config!$B$13<=Tarifs!F279,Config!$B$13>=Tarifs!E279),1,0)","v":0},"2026-07-01","2026-07-31",213]
["00-0126","10","00-0126-100",{"$f":"IF(AND(Config!$B$13<=Tarifs!F280,Config!$B$13>=Tarifs!E280),1,0)","v":0},"2026-08-01","2026-08-31",213]
["00-0126","10","00-0126-101",{"$f":"IF(AND(Config!$B$13<=Tarifs!F281,Config!$B$13>=Tarifs!E281),1,0)","v":1},"2026-01-01","2026-01-31",193]
["00-0126","10","00-0126-100",{"$f":"IF(AND(Config!$B$13<=Tarifs!F282,Config!$B$13>=Tarifs!E282),1,0)","v":0},"2026-02-01","2026-02-28",193]
["00-0126","10","00-0126-100",{"$f":"IF(AND(Config!$B$13<=Tarifs!F283,Config!$B$13>=Tarifs!E283),1,0)","v":0},"2026-03-01","2026-03-31",193]
["00-0126","10","00-0126-100",{"$f":"IF(AND(Config!$B$13<=Tarifs!F284,Config!$B$13>=Tarifs!E284),1,0)","v":0},"2026-04-01","2026-04-30",193]
["00-0126","10","00-0126-100",{"$f":"IF(AND(Config!$B$13<=Tarifs!F285,Config!$B$13>=Tarifs!E285),1,0)","v":0},"2026-05-01","2026-05-31",193]
["00-0126","10","00-0126-100",{"$f":"IF(AND(Config!$B$13<=Tarifs!F286,Config!$B$13>=Tarifs!E286),1,0)","v":0},"2026-09-01","2026-09-30",193]
["00-0126","10","00-0126-100",{"$f":"IF(AND(Config!$B$13<=Tarifs!F287,Config!$B$13>=Tarifs!E287),1,0)","v":0},"2026-10-01","2026-10-31",193]
["00-0126","10","00-0126-100",{"$f":"IF(AND(Config!$B$13<=Tarifs!F288,Config!$B$13>=Tarifs!E288),1,0)","v":0},"2026-11-01","2026-11-30",193]
["00-0126","10","00-0126-100",{"$f":"IF(AND(Config!$B$13<=Tarifs!F289,Config!$B$13>=Tarifs!E289),1,0)","v":0},"2026-12-01","2026-12-31",193]
["00-0182","30","00-0182-301",{"$f":"IF(AND(Config!$B$13<=Tarifs!F290,Config!$B$13>=Tarifs!E290),1,0)","v":1},"2026-01-01","2026-01-31",6132.57]
["00-0182","30","00-0182-300",{"$f":"IF(AND(Config!$B$13<=Tarifs!F291,Config!$B$13>=Tarifs!E291),1,0)","v":0},"2026-02-01","2026-02-28",6132.57]
["00-0182","30","00-0182-300",{"$f":"IF(AND(Config!$B$13<=Tarifs!F292,Config!$B$13>=Tarifs!E292),1,0)","v":0},"2026-03-01","2026-03-31",6132.57]
["00-0182","30","00-0182-300",{"$f":"IF(AND(Config!$B$13<=Tarifs!F293,Config!$B$13>=Tarifs!E293),1,0)","v":0},"2026-04-01","2026-04-30",6132.57]
["00-0182","30","00-0182-300",{"$f":"IF(AND(Config!$B$13<=Tarifs!F294,Config!$B$13>=Tarifs!E294),1,0)","v":0},"2026-05-01","2026-05-31",6132.57]
["00-0182","30","00-0182-300",{"$f":"IF(AND(Config!$B$13<=Tarifs!F295,Config!$B$13>=Tarifs!E295),1,0)","v":0},"2026-06-01","2026-06-30",6132.57]
["00-0182","30","00-0182-300",{"$f":"IF(AND(Config!$B$13<=Tarifs!F296,Config!$B$13>=Tarifs!E296),1,0)","v":0},"2026-07-01","2026-07-31",6132.57]
["00-0182","30","00-0182-300",{"$f":"IF(AND(Config!$B$13<=Tarifs!F297,Config!$B$13>=Tarifs!E297),1,0)","v":0},"2026-08-01","2026-08-31",6132.57]
["00-0182","30","00-0182-300",{"$f":"IF(AND(Config!$B$13<=Tarifs!F298,Config!$B$13>=Tarifs!E298),1,0)","v":0},"2026-09-01","2026-09-30",6132.57]
["00-0182","30","00-0182-300",{"$f":"IF(AND(Config!$B$13<=Tarifs!F299,Config!$B$13>=Tarifs!E299),1,0)","v":0},"2026-10-01","2026-10-31",6132.57]
["00-0182","30","00-0182-300",{"$f":"IF(AND(Config!$B$13<=Tarifs!F300,Config!$B$13>=Tarifs!E300),1,0)","v":0},"2026-11-01","2026-11-30",6132.57]
["00-0182","30","00-0182-300",{"$f":"IF(AND(Config!$B$13<=Tarifs!F301,Config!$B$13>=Tarifs!E301),1,0)","v":0},"2026-12-01","2026-12-31",6132.57]
["00-0182","20","00-0182-201",{"$f":"IF(AND(Config!$B$13<=Tarifs!F302,Config!$B$13>=Tarifs!E302),1,0)","v":1},"2026-01-01","2026-01-31",1477]
["00-0182","20","00-0182-200",{"$f":"IF(AND(Config!$B$13<=Tarifs!F303,Config!$B$13>=Tarifs!E303),1,0)","v":0},"2026-02-01","2026-02-28",1477]
["00-0182","20","00-0182-200",{"$f":"IF(AND(Config!$B$13<=Tarifs!F304,Config!$B$13>=Tarifs!E304),1,0)","v":0},"2026-03-01","2026-03-31",1477]
["00-0182","20","00-0182-200",{"$f":"IF(AND(Config!$B$13<=Tarifs!F305,Config!$B$13>=Tarifs!E305),1,0)","v":0},"2026-04-01","2026-04-30",1477]
["00-0182","20","00-0182-200",{"$f":"IF(AND(Config!$B$13<=Tarifs!F306,Config!$B$13>=Tarifs!E306),1,0)","v":0},"2026-05-01","2026-05-31",1477]
["00-0182","20","00-0182-200",{"$f":"IF(AND(Config!$B$13<=Tarifs!F307,Config!$B$13>=Tarifs!E307),1,0)","v":0},"2026-06-01","2026-06-30",1477]
["00-0182","20","00-0182-200",{"$f":"IF(AND(Config!$B$13<=Tarifs!F308,Config!$B$13>=Tarifs!E308),1,0)","v":0},"2026-07-01","2026-07-31",1477]
["00-0182","20","00-0182-200",{"$f":"IF(AND(Config!$B$13<=Tarifs!F309,Config!$B$13>=Tarifs!E309),1,0)","v":0},"2026-08-01","2026-08-31",1477]
["00-0182","20","00-0182-200",{"$f":"IF(AND(Config!$B$13<=Tarifs!F310,Config!$B$13>=Tarifs!E310),1,0)","v":0},"2026-10-01","2026-10-31",1477]
["00-0182","20","00-0182-200",{"$f":"IF(AND(Config!$B$13<=Tarifs!F311,Config!$B$13>=Tarifs!E311),1,0)","v":0},"2026-11-01","2026-11-30",1477]
["00-0182","20","00-0182-200",{"$f":"IF(AND(Config!$B$13<=Tarifs!F312,Config!$B$13>=Tarifs!E312),1,0)","v":0},"2026-12-01","2026-12-31",1477]
["00-0182","10","00-0182-101",{"$f":"IF(AND(Config!$B$13<=Tarifs!F313,Config!$B$13>=Tarifs!E313),1,0)","v":1},"2026-01-01","2026-01-31",211]
["00-0182","10","00-0182-100",{"$f":"IF(AND(Config!$B$13<=Tarifs!F314,Config!$B$13>=Tarifs!E314),1,0)","v":0},"2026-02-01","2026-02-28",211]
["00-0182","10","00-0182-100",{"$f":"IF(AND(Config!$B$13<=Tarifs!F315,Config!$B$13>=Tarifs!E315),1,0)","v":0},"2026-03-01","2026-03-31",211]
["00-0182","10","00-0182-100",{"$f":"IF(AND(Config!$B$13<=Tarifs!F316,Config!$B$13>=Tarifs!E316),1,0)","v":0},"2026-04-01","2026-04-30",211]
["00-0182","10","00-0182-100",{"$f":"IF(AND(Config!$B$13<=Tarifs!F317,Config!$B$13>=Tarifs!E317),1,0)","v":0},"2026-05-01","2026-05-31",211]
["00-0182","10","00-0182-100",{"$f":"IF(AND(Config!$B$13<=Tarifs!F318,Config!$B$13>=Tarifs!E318),1,0)","v":0},"2026-06-01","2026-06-30",211]
["00-0182","10","00-0182-100",{"$f":"IF(AND(Config!$B$13<=Tarifs!F319,Config!$B$13>=Tarifs!E319),1,0)","v":0},"2026-07-01","2026-07-31",211]
["00-0182","10","00-0182-100",{"$f":"IF(AND(Config!$B$13<=Tarifs!F320,Config!$B$13>=Tarifs!E320),1,0)","v":0},"2026-08-01","2026-08-31",211]
["00-0182","10","00-0182-100",{"$f":"IF(AND(Config!$B$13<=Tarifs!F321,Config!$B$13>=Tarifs!E321),1,0)","v":0},"2026-09-01","2026-09-30",211]
["00-0182","10","00-0182-100",{"$f":"IF(AND(Config!$B$13<=Tarifs!F322,Config!$B$13>=Tarifs!E322),1,0)","v":0},"2026-10-01","2026-10-31",211]
["00-0182","10",{"$f":"A323&\"-\"&B323&D323","v":"00-0182-100"},{"$f":"IF(AND(Config!$B$13<=Tarifs!F323,Config!$B$13>=Tarifs!E323),1,0)","v":0},"2026-11-01","2026-11-30",211]
["00-0182","10","00-0182-100",{"$f":"IF(AND(Config!$B$13<=Tarifs!F324,Config!$B$13>=Tarifs!E324),1,0)","v":0},"2026-12-01","2026-12-31",211]
["00-0182","20","00-0182-200",{"$f":"IF(AND(Config!$B$13<=Tarifs!F325,Config!$B$13>=Tarifs!E325),1,0)","v":0},"2026-09-01","2026-09-30",147]
["01-0004","30","01-0004-300",{"$f":"IF(AND(Config!$B$13<=Tarifs!F326,Config!$B$13>=Tarifs!E326),1,0)","v":0},"2026-07-01","2026-07-31",7350]
["01-0004","30","01-0004-300",{"$f":"IF(AND(Config!$B$13<=Tarifs!F327,Config!$B$13>=Tarifs!E327),1,0)","v":0},"2026-08-01","2026-08-31",7350]
["01-0004","30","01-0004-300",{"$f":"IF(AND(Config!$B$13<=Tarifs!F328,Config!$B$13>=Tarifs!E328),1,0)","v":0},"2026-09-01","2026-09-30",7350]
["01-0004","30","01-0004-300",{"$f":"IF(AND(Config!$B$13<=Tarifs!F329,Config!$B$13>=Tarifs!E329),1,0)","v":0},"2026-10-01","2026-10-31",7350]
["01-0004","30","01-0004-300",{"$f":"IF(AND(Config!$B$13<=Tarifs!F330,Config!$B$13>=Tarifs!E330),1,0)","v":0},"2026-06-01","2026-06-30",5850]
["01-0004","30","01-0004-300",{"$f":"IF(AND(Config!$B$13<=Tarifs!F331,Config!$B$13>=Tarifs!E331),1,0)","v":0},"2026-05-01","2026-05-31",4950]
["01-0004","30","01-0004-301",{"$f":"IF(AND(Config!$B$13<=Tarifs!F332,Config!$B$13>=Tarifs!E332),1,0)","v":1},"2026-01-01","2026-01-31",4050]
["01-0004","30","01-0004-300",{"$f":"IF(AND(Config!$B$13<=Tarifs!F333,Config!$B$13>=Tarifs!E333),1,0)","v":0},"2026-02-01","2026-02-28",4050]
["01-0004","30","01-0004-300",{"$f":"IF(AND(Config!$B$13<=Tarifs!F334,Config!$B$13>=Tarifs!E334),1,0)","v":0},"2026-03-01","2026-03-31",4050]
["01-0004","30","01-0004-300",{"$f":"IF(AND(Config!$B$13<=Tarifs!F335,Config!$B$13>=Tarifs!E335),1,0)","v":0},"2026-04-01","2026-04-30",4050]
["01-0004","30","01-0004-300",{"$f":"IF(AND(Config!$B$13<=Tarifs!F336,Config!$B$13>=Tarifs!E336),1,0)","v":0},"2026-11-01","2026-11-30",4050]
["01-0004","30","01-0004-300",{"$f":"IF(AND(Config!$B$13<=Tarifs!F337,Config!$B$13>=Tarifs!E337),1,0)","v":0},"2026-12-01","2026-12-31",4050]
["01-0004","20","01-0004-200",{"$f":"IF(AND(Config!$B$13<=Tarifs!F338,Config!$B$13>=Tarifs!E338),1,0)","v":0},"2026-07-01","2026-07-31",1715]
["01-0004","20","01-0004-200",{"$f":"IF(AND(Config!$B$13<=Tarifs!F339,Config!$B$13>=Tarifs!E339),1,0)","v":0},"2026-08-01","2026-08-31",1715]
["01-0004","20","01-0004-200",{"$f":"IF(AND(Config!$B$13<=Tarifs!F340,Config!$B$13>=Tarifs!E340),1,0)","v":0},"2026-09-01","2026-09-30",1715]
["01-0004","20","01-0004-200",{"$f":"IF(AND(Config!$B$13<=Tarifs!F341,Config!$B$13>=Tarifs!E341),1,0)","v":0},"2026-10-01","2026-10-31",1715]
["01-0004","20","01-0004-200",{"$f":"IF(AND(Config!$B$13<=Tarifs!F342,Config!$B$13>=Tarifs!E342),1,0)","v":0},"2026-06-01","2026-06-30",1365]
["01-0004","20","01-0004-200",{"$f":"IF(AND(Config!$B$13<=Tarifs!F343,Config!$B$13>=Tarifs!E343),1,0)","v":0},"2026-05-01","2026-05-31",1155]
["01-0004","20","01-0004-201",{"$f":"IF(AND(Config!$B$13<=Tarifs!F344,Config!$B$13>=Tarifs!E344),1,0)","v":1},"2026-01-01","2026-01-31",945]
["01-0004","20","01-0004-200",{"$f":"IF(AND(Config!$B$13<=Tarifs!F345,Config!$B$13>=Tarifs!E345),1,0)","v":0},"2026-02-01","2026-02-28",945]
["01-0004","20","01-0004-200",{"$f":"IF(AND(Config!$B$13<=Tarifs!F346,Config!$B$13>=Tarifs!E346),1,0)","v":0},"2026-03-01","2026-03-31",945]
["01-0004","20","01-0004-200",{"$f":"IF(AND(Config!$B$13<=Tarifs!F347,Config!$B$13>=Tarifs!E347),1,0)","v":0},"2026-04-01","2026-04-30",945]
["01-0004","20","01-0004-200",{"$f":"IF(AND(Config!$B$13<=Tarifs!F348,Config!$B$13>=Tarifs!E348),1,0)","v":0},"2026-11-01","2026-11-30",945]
["01-0004","20","01-0004-200",{"$f":"IF(AND(Config!$B$13<=Tarifs!F349,Config!$B$13>=Tarifs!E349),1,0)","v":0},"2026-12-01","2026-12-31",945]
["01-0004","10","01-0004-100",{"$f":"IF(AND(Config!$B$13<=Tarifs!F350,Config!$B$13>=Tarifs!E350),1,0)","v":0},"2026-07-01","2026-07-31",245]
["01-0004","10","01-0004-100",{"$f":"IF(AND(Config!$B$13<=Tarifs!F351,Config!$B$13>=Tarifs!E351),1,0)","v":0},"2026-08-01","2026-08-31",245]
["01-0004","10","01-0004-100",{"$f":"IF(AND(Config!$B$13<=Tarifs!F352,Config!$B$13>=Tarifs!E352),1,0)","v":0},"2026-09-01","2026-09-30",245]
["01-0004","10","01-0004-100",{"$f":"IF(AND(Config!$B$13<=Tarifs!F353,Config!$B$13>=Tarifs!E353),1,0)","v":0},"2026-10-01","2026-10-31",245]
["01-0004","10","01-0004-100",{"$f":"IF(AND(Config!$B$13<=Tarifs!F354,Config!$B$13>=Tarifs!E354),1,0)","v":0},"2026-06-01","2026-06-30",195]
["01-0004","10","01-0004-100",{"$f":"IF(AND(Config!$B$13<=Tarifs!F355,Config!$B$13>=Tarifs!E355),1,0)","v":0},"2026-05-01","2026-05-31",165]
["01-0004","10","01-0004-101",{"$f":"IF(AND(Config!$B$13<=Tarifs!F356,Config!$B$13>=Tarifs!E356),1,0)","v":1},"2026-01-01","2026-01-31",135]
["01-0004","10","01-0004-100",{"$f":"IF(AND(Config!$B$13<=Tarifs!F357,Config!$B$13>=Tarifs!E357),1,0)","v":0},"2026-02-01","2026-02-28",135]
["01-0004","10","01-0004-100",{"$f":"IF(AND(Config!$B$13<=Tarifs!F358,Config!$B$13>=Tarifs!E358),1,0)","v":0},"2026-03-01","2026-03-31",135]
["01-0004","10","01-0004-100",{"$f":"IF(AND(Config!$B$13<=Tarifs!F359,Config!$B$13>=Tarifs!E359),1,0)","v":0},"2026-04-01","2026-04-30",135]
["01-0004","10","01-0004-100",{"$f":"IF(AND(Config!$B$13<=Tarifs!F360,Config!$B$13>=Tarifs!E360),1,0)","v":0},"2026-11-01","2026-11-30",135]
["01-0004","10","01-0004-100",{"$f":"IF(AND(Config!$B$13<=Tarifs!F361,Config!$B$13>=Tarifs!E361),1,0)","v":0},"2026-12-01","2026-12-31",135]
["01-0005","30","01-0005-300",{"$f":"IF(AND(Config!$B$13<=Tarifs!F362,Config!$B$13>=Tarifs!E362),1,0)","v":0},"2026-08-01","2026-08-31",6300]
["01-0005","30","01-0005-300",{"$f":"IF(AND(Config!$B$13<=Tarifs!F363,Config!$B$13>=Tarifs!E363),1,0)","v":0},"2026-09-01","2026-09-30",6300]
["01-0005","30","01-0005-300",{"$f":"IF(AND(Config!$B$13<=Tarifs!F364,Config!$B$13>=Tarifs!E364),1,0)","v":0},"2026-07-01","2026-07-31",6300]
["01-0005","30","01-0005-300",{"$f":"IF(AND(Config!$B$13<=Tarifs!F365,Config!$B$13>=Tarifs!E365),1,0)","v":0},"2026-10-01","2026-10-31",5700]
["01-0005","30","01-0005-300",{"$f":"IF(AND(Config!$B$13<=Tarifs!F366,Config!$B$13>=Tarifs!E366),1,0)","v":0},"2026-06-01","2026-06-30",4650]
["01-0005","30","01-0005-300",{"$f":"IF(AND(Config!$B$13<=Tarifs!F367,Config!$B$13>=Tarifs!E367),1,0)","v":0},"2026-05-01","2026-05-31",4350]
["01-0005","30","01-0005-300",{"$f":"IF(AND(Config!$B$13<=Tarifs!F368,Config!$B$13>=Tarifs!E368),1,0)","v":0},"2026-11-01","2026-11-30",4050]
["01-0005","30","01-0005-300",{"$f":"IF(AND(Config!$B$13<=Tarifs!F369,Config!$B$13>=Tarifs!E369),1,0)","v":0},"2026-12-01","2026-12-31",4050]
["01-0005","30","01-0005-301",{"$f":"IF(AND(Config!$B$13<=Tarifs!F370,Config!$B$13>=Tarifs!E370),1,0)","v":1},"2026-01-01","2026-01-31",4050]
["01-0005","30","01-0005-300",{"$f":"IF(AND(Config!$B$13<=Tarifs!F371,Config!$B$13>=Tarifs!E371),1,0)","v":0},"2026-02-01","2026-02-28",4050]
["01-0005","30","01-0005-300",{"$f":"IF(AND(Config!$B$13<=Tarifs!F372,Config!$B$13>=Tarifs!E372),1,0)","v":0},"2026-03-01","2026-03-31",4050]
["01-0005","30","01-0005-300",{"$f":"IF(AND(Config!$B$13<=Tarifs!F373,Config!$B$13>=Tarifs!E373),1,0)","v":0},"2026-04-01","2026-04-30",4050]
["01-0005","20","01-0005-200",{"$f":"IF(AND(Config!$B$13<=Tarifs!F374,Config!$B$13>=Tarifs!E374),1,0)","v":0},"2026-08-01","2026-08-31",1470]
["01-0005","20","01-0005-200",{"$f":"IF(AND(Config!$B$13<=Tarifs!F375,Config!$B$13>=Tarifs!E375),1,0)","v":0},"2026-09-01","2026-09-30",1470]
["01-0005","20","01-0005-200",{"$f":"IF(AND(Config!$B$13<=Tarifs!F376,Config!$B$13>=Tarifs!E376),1,0)","v":0},"2026-07-01","2026-07-31",1470]
["01-0005","20","01-0005-200",{"$f":"IF(AND(Config!$B$13<=Tarifs!F377,Config!$B$13>=Tarifs!E377),1,0)","v":0},"2026-10-01","2026-10-31",1330]
["01-0005","20","01-0005-200",{"$f":"IF(AND(Config!$B$13<=Tarifs!F378,Config!$B$13>=Tarifs!E378),1,0)","v":0},"2026-06-01","2026-06-30",1085]
["01-0005","20","01-0005-200",{"$f":"IF(AND(Config!$B$13<=Tarifs!F379,Config!$B$13>=Tarifs!E379),1,0)","v":0},"2026-05-01","2026-05-31",1015]
["01-0005","20","01-0005-200",{"$f":"IF(AND(Config!$B$13<=Tarifs!F380,Config!$B$13>=Tarifs!E380),1,0)","v":0},"2026-11-01","2026-11-30",945]
["01-0005","20","01-0005-200",{"$f":"IF(AND(Config!$B$13<=Tarifs!F381,Config!$B$13>=Tarifs!E381),1,0)","v":0},"2026-12-01","2026-12-31",945]
["01-0005","20","01-0005-201",{"$f":"IF(AND(Config!$B$13<=Tarifs!F382,Config!$B$13>=Tarifs!E382),1,0)","v":1},"2026-01-01","2026-01-31",945]
["01-0005","20","01-0005-200",{"$f":"IF(AND(Config!$B$13<=Tarifs!F383,Config!$B$13>=Tarifs!E383),1,0)","v":0},"2026-02-01","2026-02-28",945]
["01-0005","20","01-0005-200",{"$f":"IF(AND(Config!$B$13<=Tarifs!F384,Config!$B$13>=Tarifs!E384),1,0)","v":0},"2026-03-01","2026-03-31",945]
["01-0005","20","01-0005-200",{"$f":"IF(AND(Config!$B$13<=Tarifs!F385,Config!$B$13>=Tarifs!E385),1,0)","v":0},"2026-04-01","2026-04-30",945]
["01-0005","10","01-0005-100",{"$f":"IF(AND(Config!$B$13<=Tarifs!F386,Config!$B$13>=Tarifs!E386),1,0)","v":0},"2026-09-01","2026-09-30",210]
["01-0005","10",{"$f":"A387&\"-\"&B387&D387","v":"01-0005-100"},{"$f":"IF(AND(Config!$B$13<=Tarifs!F387,Config!$B$13>=Tarifs!E387),1,0)","v":0},"2026-07-01","2026-07-31",210]
["01-0005","10","01-0005-100",{"$f":"IF(AND(Config!$B$13<=Tarifs!F388,Config!$B$13>=Tarifs!E388),1,0)","v":0},"2026-08-01","2026-08-31",210]
["01-0005","10","01-0005-100",{"$f":"IF(AND(Config!$B$13<=Tarifs!F389,Config!$B$13>=Tarifs!E389),1,0)","v":0},"2026-10-01","2026-10-31",190]
["01-0005","10","01-0005-100",{"$f":"IF(AND(Config!$B$13<=Tarifs!F390,Config!$B$13>=Tarifs!E390),1,0)","v":0},"2026-06-01","2026-06-30",155]
["01-0005","10","01-0005-100",{"$f":"IF(AND(Config!$B$13<=Tarifs!F391,Config!$B$13>=Tarifs!E391),1,0)","v":0},"2026-05-01","2026-05-31",145]
["01-0005","10","01-0005-100",{"$f":"IF(AND(Config!$B$13<=Tarifs!F392,Config!$B$13>=Tarifs!E392),1,0)","v":0},"2026-11-01","2026-11-30",135]
["01-0005","10","01-0005-100",{"$f":"IF(AND(Config!$B$13<=Tarifs!F393,Config!$B$13>=Tarifs!E393),1,0)","v":0},"2026-12-01","2026-12-31",135]
["01-0005","10","01-0005-101",{"$f":"IF(AND(Config!$B$13<=Tarifs!F394,Config!$B$13>=Tarifs!E394),1,0)","v":1},"2026-01-01","2026-01-31",135]
["01-0005","10","01-0005-100",{"$f":"IF(AND(Config!$B$13<=Tarifs!F395,Config!$B$13>=Tarifs!E395),1,0)","v":0},"2026-02-01","2026-02-28",135]
["01-0005","10","01-0005-100",{"$f":"IF(AND(Config!$B$13<=Tarifs!F396,Config!$B$13>=Tarifs!E396),1,0)","v":0},"2026-03-01","2026-03-31",135]
["01-0005","10","01-0005-100",{"$f":"IF(AND(Config!$B$13<=Tarifs!F397,Config!$B$13>=Tarifs!E397),1,0)","v":0},"2026-04-01","2026-04-30",135]
["01-0014","30","01-0014-300",{"$f":"IF(AND(Config!$B$13<=Tarifs!F398,Config!$B$13>=Tarifs!E398),1,0)","v":0},"2026-06-01","2026-06-30",4200]
["01-0014","30","01-0014-300",{"$f":"IF(AND(Config!$B$13<=Tarifs!F399,Config!$B$13>=Tarifs!E399),1,0)","v":0},"2026-07-01","2026-07-31",4200]
["01-0014","30","01-0014-300",{"$f":"IF(AND(Config!$B$13<=Tarifs!F400,Config!$B$13>=Tarifs!E400),1,0)","v":0},"2026-08-01","2026-08-31",4200]
["01-0014","30","01-0014-300",{"$f":"IF(AND(Config!$B$13<=Tarifs!F401,Config!$B$13>=Tarifs!E401),1,0)","v":0},"2026-09-01","2026-09-30",4200]
["01-0014","30","01-0014-300",{"$f":"IF(AND(Config!$B$13<=Tarifs!F402,Config!$B$13>=Tarifs!E402),1,0)","v":0},"2026-10-01","2026-10-31",4200]
["01-0014","30","01-0014-301",{"$f":"IF(AND(Config!$B$13<=Tarifs!F403,Config!$B$13>=Tarifs!E403),1,0)","v":1},"2026-01-01","2026-01-31",3900]
["01-0014","30","01-0014-300",{"$f":"IF(AND(Config!$B$13<=Tarifs!F404,Config!$B$13>=Tarifs!E404),1,0)","v":0},"2026-02-01","2026-02-28",3900]
["01-0014","30","01-0014-300",{"$f":"IF(AND(Config!$B$13<=Tarifs!F405,Config!$B$13>=Tarifs!E405),1,0)","v":0},"2026-03-01","2026-03-31",3900]
["01-0014","30","01-0014-300",{"$f":"IF(AND(Config!$B$13<=Tarifs!F406,Config!$B$13>=Tarifs!E406),1,0)","v":0},"2026-04-01","2026-04-30",3900]
["01-0014","30","01-0014-300",{"$f":"IF(AND(Config!$B$13<=Tarifs!F407,Config!$B$13>=Tarifs!E407),1,0)","v":0},"2026-05-01","2026-05-31",3900]
["01-0014","30","01-0014-300",{"$f":"IF(AND(Config!$B$13<=Tarifs!F408,Config!$B$13>=Tarifs!E408),1,0)","v":0},"2026-11-01","2026-11-30",3900]
["01-0014","30","01-0014-300",{"$f":"IF(AND(Config!$B$13<=Tarifs!F409,Config!$B$13>=Tarifs!E409),1,0)","v":0},"2026-12-01","2026-12-31",3900]
["01-0014","20","01-0014-200",{"$f":"IF(AND(Config!$B$13<=Tarifs!F410,Config!$B$13>=Tarifs!E410),1,0)","v":0},"2026-06-01","2026-06-30",980]
["01-0014","20","01-0014-200",{"$f":"IF(AND(Config!$B$13<=Tarifs!F411,Config!$B$13>=Tarifs!E411),1,0)","v":0},"2026-07-01","2026-07-31",980]
["01-0014","20","01-0014-200",{"$f":"IF(AND(Config!$B$13<=Tarifs!F412,Config!$B$13>=Tarifs!E412),1,0)","v":0},"2026-08-01","2026-08-31",980]
["01-0014","20","01-0014-200",{"$f":"IF(AND(Config!$B$13<=Tarifs!F413,Config!$B$13>=Tarifs!E413),1,0)","v":0},"2026-09-01","2026-09-30",980]
["01-0014","20","01-0014-200",{"$f":"IF(AND(Config!$B$13<=Tarifs!F414,Config!$B$13>=Tarifs!E414),1,0)","v":0},"2026-10-01","2026-10-31",980]
["01-0014","20","01-0014-201",{"$f":"IF(AND(Config!$B$13<=Tarifs!F415,Config!$B$13>=Tarifs!E415),1,0)","v":1},"2026-01-01","2026-01-31",910]
["01-0014","20","01-0014-200",{"$f":"IF(AND(Config!$B$13<=Tarifs!F416,Config!$B$13>=Tarifs!E416),1,0)","v":0},"2026-02-01","2026-02-28",910]
["01-0014","20","01-0014-200",{"$f":"IF(AND(Config!$B$13<=Tarifs!F417,Config!$B$13>=Tarifs!E417),1,0)","v":0},"2026-03-01","2026-03-31",910]
["01-0014","20","01-0014-200",{"$f":"IF(AND(Config!$B$13<=Tarifs!F418,Config!$B$13>=Tarifs!E418),1,0)","v":0},"2026-04-01","2026-04-30",910]
["01-0014","20","01-0014-200",{"$f":"IF(AND(Config!$B$13<=Tarifs!F419,Config!$B$13>=Tarifs!E419),1,0)","v":0},"2026-05-01","2026-05-31",910]
["01-0014","20","01-0014-200",{"$f":"IF(AND(Config!$B$13<=Tarifs!F420,Config!$B$13>=Tarifs!E420),1,0)","v":0},"2026-11-01","2026-11-30",910]
["01-0014","20","01-0014-200",{"$f":"IF(AND(Config!$B$13<=Tarifs!F421,Config!$B$13>=Tarifs!E421),1,0)","v":0},"2026-12-01","2026-12-31",910]
["01-0014","10","01-0014-100",{"$f":"IF(AND(Config!$B$13<=Tarifs!F422,Config!$B$13>=Tarifs!E422),1,0)","v":0},"2026-06-01","2026-06-30",140]
["01-0014","10","01-0014-100",{"$f":"IF(AND(Config!$B$13<=Tarifs!F423,Config!$B$13>=Tarifs!E423),1,0)","v":0},"2026-07-01","2026-07-31",140]
["01-0014","10","01-0014-100",{"$f":"IF(AND(Config!$B$13<=Tarifs!F424,Config!$B$13>=Tarifs!E424),1,0)","v":0},"2026-08-01","2026-08-31",140]
["01-0014","10","01-0014-100",{"$f":"IF(AND(Config!$B$13<=Tarifs!F425,Config!$B$13>=Tarifs!E425),1,0)","v":0},"2026-09-01","2026-09-30",140]
["01-0014","10","01-0014-100",{"$f":"IF(AND(Config!$B$13<=Tarifs!F426,Config!$B$13>=Tarifs!E426),1,0)","v":0},"2026-10-01","2026-10-31",140]
["01-0014","10","01-0014-101",{"$f":"IF(AND(Config!$B$13<=Tarifs!F427,Config!$B$13>=Tarifs!E427),1,0)","v":1},"2026-01-01","2026-01-31",130]
["01-0014","10","01-0014-100",{"$f":"IF(AND(Config!$B$13<=Tarifs!F428,Config!$B$13>=Tarifs!E428),1,0)","v":0},"2026-02-01","2026-02-28",130]
["01-0014","10","01-0014-100",{"$f":"IF(AND(Config!$B$13<=Tarifs!F429,Config!$B$13>=Tarifs!E429),1,0)","v":0},"2026-03-01","2026-03-31",130]
["01-0014","10","01-0014-100",{"$f":"IF(AND(Config!$B$13<=Tarifs!F430,Config!$B$13>=Tarifs!E430),1,0)","v":0},"2026-04-01","2026-04-30",130]
["01-0014","10","01-0014-100",{"$f":"IF(AND(Config!$B$13<=Tarifs!F431,Config!$B$13>=Tarifs!E431),1,0)","v":0},"2026-05-01","2026-05-31",130]
["01-0014","10","01-0014-100",{"$f":"IF(AND(Config!$B$13<=Tarifs!F432,Config!$B$13>=Tarifs!E432),1,0)","v":0},"2026-11-01","2026-11-30",130]
["01-0014","10","01-0014-100",{"$f":"IF(AND(Config!$B$13<=Tarifs!F433,Config!$B$13>=Tarifs!E433),1,0)","v":0},"2026-12-01","2026-12-31",130]
["01-0015","30","01-0015-300",{"$f":"IF(AND(Config!$B$13<=Tarifs!F434,Config!$B$13>=Tarifs!E434),1,0)","v":0},"2026-05-01","2026-05-31",9900]
["01-0015","30","01-0015-300",{"$f":"IF(AND(Config!$B$13<=Tarifs!F435,Config!$B$13>=Tarifs!E435),1,0)","v":0},"2026-06-01","2026-06-30",9900]
["01-0015","30","01-0015-300",{"$f":"IF(AND(Config!$B$13<=Tarifs!F436,Config!$B$13>=Tarifs!E436),1,0)","v":0},"2026-07-01","2026-07-31",9900]
["01-0015","30","01-0015-300",{"$f":"IF(AND(Config!$B$13<=Tarifs!F437,Config!$B$13>=Tarifs!E437),1,0)","v":0},"2026-08-01","2026-08-31",9900]
["01-0015","30","01-0015-300",{"$f":"IF(AND(Config!$B$13<=Tarifs!F438,Config!$B$13>=Tarifs!E438),1,0)","v":0},"2026-09-01","2026-09-30",9900]
["01-0015","30","01-0015-300",{"$f":"IF(AND(Config!$B$13<=Tarifs!F439,Config!$B$13>=Tarifs!E439),1,0)","v":0},"2026-10-01","2026-10-31",9900]
["01-0015","30","01-0015-300",{"$f":"IF(AND(Config!$B$13<=Tarifs!F440,Config!$B$13>=Tarifs!E440),1,0)","v":0},"2026-11-01","2026-11-30",8070]
["01-0015","30","01-0015-300",{"$f":"IF(AND(Config!$B$13<=Tarifs!F441,Config!$B$13>=Tarifs!E441),1,0)","v":0},"2026-12-01","2026-12-31",8070]
["01-0015","30","01-0015-301",{"$f":"IF(AND(Config!$B$13<=Tarifs!F442,Config!$B$13>=Tarifs!E442),1,0)","v":1},"2026-01-01","2026-01-31",6570]
["01-0015","30","01-0015-300",{"$f":"IF(AND(Config!$B$13<=Tarifs!F443,Config!$B$13>=Tarifs!E443),1,0)","v":0},"2026-02-01","2026-02-28",6570]
["01-0015","30","01-0015-300",{"$f":"IF(AND(Config!$B$13<=Tarifs!F444,Config!$B$13>=Tarifs!E444),1,0)","v":0},"2026-03-01","2026-03-31",6570]
["01-0015","30","01-0015-300",{"$f":"IF(AND(Config!$B$13<=Tarifs!F445,Config!$B$13>=Tarifs!E445),1,0)","v":0},"2026-04-01","2026-04-30",6570]
["01-0015","20","01-0015-200",{"$f":"IF(AND(Config!$B$13<=Tarifs!F446,Config!$B$13>=Tarifs!E446),1,0)","v":0},"2026-05-01","2026-05-31",2310]
["01-0015","20","01-0015-200",{"$f":"IF(AND(Config!$B$13<=Tarifs!F447,Config!$B$13>=Tarifs!E447),1,0)","v":0},"2026-06-01","2026-06-30",2310]
["01-0015","20","01-0015-200",{"$f":"IF(AND(Config!$B$13<=Tarifs!F448,Config!$B$13>=Tarifs!E448),1,0)","v":0},"2026-07-01","2026-07-31",2310]
["01-0015","20","01-0015-200",{"$f":"IF(AND(Config!$B$13<=Tarifs!F449,Config!$B$13>=Tarifs!E449),1,0)","v":0},"2026-08-01","2026-08-31",2310]
["01-0015","20","01-0015-200",{"$f":"IF(AND(Config!$B$13<=Tarifs!F450,Config!$B$13>=Tarifs!E450),1,0)","v":0},"2026-09-01","2026-09-30",2310]
["01-0015","20",{"$f":"A451&\"-\"&B451&D451","v":"01-0015-200"},{"$f":"IF(AND(Config!$B$13<=Tarifs!F451,Config!$B$13>=Tarifs!E451),1,0)","v":0},"2026-10-01","2026-10-31",2310]
["01-0015","20","01-0015-200",{"$f":"IF(AND(Config!$B$13<=Tarifs!F452,Config!$B$13>=Tarifs!E452),1,0)","v":0},"2026-11-01","2026-11-30",1883]
["01-0015","20","01-0015-200",{"$f":"IF(AND(Config!$B$13<=Tarifs!F453,Config!$B$13>=Tarifs!E453),1,0)","v":0},"2026-12-01","2026-12-31",1883]
["01-0015","20","01-0015-201",{"$f":"IF(AND(Config!$B$13<=Tarifs!F454,Config!$B$13>=Tarifs!E454),1,0)","v":1},"2026-01-01","2026-01-31",1553]
["01-0015","20","01-0015-200",{"$f":"IF(AND(Config!$B$13<=Tarifs!F455,Config!$B$13>=Tarifs!E455),1,0)","v":0},"2026-02-01","2026-02-28",1553]
["01-0015","20","01-0015-200",{"$f":"IF(AND(Config!$B$13<=Tarifs!F456,Config!$B$13>=Tarifs!E456),1,0)","v":0},"2026-03-01","2026-03-31",1553]
["01-0015","20","01-0015-200",{"$f":"IF(AND(Config!$B$13<=Tarifs!F457,Config!$B$13>=Tarifs!E457),1,0)","v":0},"2026-04-01","2026-04-30",1553]
["01-0015","10","01-0015-100",{"$f":"IF(AND(Config!$B$13<=Tarifs!F458,Config!$B$13>=Tarifs!E458),1,0)","v":0},"2026-05-01","2026-05-31",330]
["01-0015","10","01-0015-100",{"$f":"IF(AND(Config!$B$13<=Tarifs!F459,Config!$B$13>=Tarifs!E459),1,0)","v":0},"2026-06-01","2026-06-30",330]
["01-0015","10","01-0015-100",{"$f":"IF(AND(Config!$B$13<=Tarifs!F460,Config!$B$13>=Tarifs!E460),1,0)","v":0},"2026-07-01","2026-07-31",330]
["01-0015","10","01-0015-100",{"$f":"IF(AND(Config!$B$13<=Tarifs!F461,Config!$B$13>=Tarifs!E461),1,0)","v":0},"2026-08-01","2026-08-31",330]
["01-0015","10","01-0015-100",{"$f":"IF(AND(Config!$B$13<=Tarifs!F462,Config!$B$13>=Tarifs!E462),1,0)","v":0},"2026-09-01","2026-09-30",330]
["01-0015","10","01-0015-100",{"$f":"IF(AND(Config!$B$13<=Tarifs!F463,Config!$B$13>=Tarifs!E463),1,0)","v":0},"2026-10-01","2026-10-31",330]
["01-0015","10","01-0015-100",{"$f":"IF(AND(Config!$B$13<=Tarifs!F464,Config!$B$13>=Tarifs!E464),1,0)","v":0},"2026-11-01","2026-11-30",269]
["01-0015","10","01-0015-100",{"$f":"IF(AND(Config!$B$13<=Tarifs!F465,Config!$B$13>=Tarifs!E465),1,0)","v":0},"2026-12-01","2026-12-31",269]
["01-0015","10","01-0015-101",{"$f":"IF(AND(Config!$B$13<=Tarifs!F466,Config!$B$13>=Tarifs!E466),1,0)","v":1},"2026-01-01","2026-01-31",219]
["01-0015","10","01-0015-100",{"$f":"IF(AND(Config!$B$13<=Tarifs!F467,Config!$B$13>=Tarifs!E467),1,0)","v":0},"2026-02-01","2026-02-28",219]
["01-0015","10","01-0015-100",{"$f":"IF(AND(Config!$B$13<=Tarifs!F468,Config!$B$13>=Tarifs!E468),1,0)","v":0},"2026-03-01","2026-03-31",219]
["01-0015","10","01-0015-100",{"$f":"IF(AND(Config!$B$13<=Tarifs!F469,Config!$B$13>=Tarifs!E469),1,0)","v":0},"2026-04-01","2026-04-30",219]
["01-0017","30","01-0017-300",{"$f":"IF(AND(Config!$B$13<=Tarifs!F470,Config!$B$13>=Tarifs!E470),1,0)","v":0},"2026-07-01","2026-07-31",4710]
["01-0017","30","01-0017-300",{"$f":"IF(AND(Config!$B$13<=Tarifs!F471,Config!$B$13>=Tarifs!E471),1,0)","v":0},"2026-08-01","2026-08-31",4710]
["01-0017","30","01-0017-300",{"$f":"IF(AND(Config!$B$13<=Tarifs!F472,Config!$B$13>=Tarifs!E472),1,0)","v":0},"2026-06-01","2026-06-30",3990]
["01-0017","30","01-0017-301",{"$f":"IF(AND(Config!$B$13<=Tarifs!F473,Config!$B$13>=Tarifs!E473),1,0)","v":1},"2026-01-01","2026-01-31",3360]
["01-0017","30","01-0017-300",{"$f":"IF(AND(Config!$B$13<=Tarifs!F474,Config!$B$13>=Tarifs!E474),1,0)","v":0},"2026-02-01","2026-02-28",3360]
["01-0017","30","01-0017-300",{"$f":"IF(AND(Config!$B$13<=Tarifs!F475,Config!$B$13>=Tarifs!E475),1,0)","v":0},"2026-03-01","2026-03-31",3360]
["01-0017","30","01-0017-300",{"$f":"IF(AND(Config!$B$13<=Tarifs!F476,Config!$B$13>=Tarifs!E476),1,0)","v":0},"2026-04-01","2026-04-30",3360]
["01-0017","30","01-0017-300",{"$f":"IF(AND(Config!$B$13<=Tarifs!F477,Config!$B$13>=Tarifs!E477),1,0)","v":0},"2026-05-01","2026-05-31",3360]
["01-0017","30","01-0017-300",{"$f":"IF(AND(Config!$B$13<=Tarifs!F478,Config!$B$13>=Tarifs!E478),1,0)","v":0},"2026-09-01","2026-09-30",3360]
["01-0017","30","01-0017-300",{"$f":"IF(AND(Config!$B$13<=Tarifs!F479,Config!$B$13>=Tarifs!E479),1,0)","v":0},"2026-10-01","2026-10-31",3360]
["01-0017","30","01-0017-300",{"$f":"IF(AND(Config!$B$13<=Tarifs!F480,Config!$B$13>=Tarifs!E480),1,0)","v":0},"2026-11-01","2026-11-30",3360]
["01-0017","30","01-0017-300",{"$f":"IF(AND(Config!$B$13<=Tarifs!F481,Config!$B$13>=Tarifs!E481),1,0)","v":0},"2026-12-01","2026-12-31",3360]
["01-0017","20","01-0017-200",{"$f":"IF(AND(Config!$B$13<=Tarifs!F482,Config!$B$13>=Tarifs!E482),1,0)","v":0},"2026-07-01","2026-07-31",1099]
["01-0017","20","01-0017-200",{"$f":"IF(AND(Config!$B$13<=Tarifs!F483,Config!$B$13>=Tarifs!E483),1,0)","v":0},"2026-08-01","2026-08-31",1099]
["01-0017","20","01-0017-200",{"$f":"IF(AND(Config!$B$13<=Tarifs!F484,Config!$B$13>=Tarifs!E484),1,0)","v":0},"2026-06-01","2026-06-30",931]
["01-0017","20","01-0017-200",{"$f":"IF(AND(Config!$B$13<=Tarifs!F485,Config!$B$13>=Tarifs!E485),1,0)","v":0},"2026-09-01","2026-09-30",882]
["01-0017","20","01-0017-200",{"$f":"IF(AND(Config!$B$13<=Tarifs!F486,Config!$B$13>=Tarifs!E486),1,0)","v":0},"2026-10-01","2026-10-31",882]
["01-0017","20","01-0017-200",{"$f":"IF(AND(Config!$B$13<=Tarifs!F487,Config!$B$13>=Tarifs!E487),1,0)","v":0},"2026-11-01","2026-11-30",882]
["01-0017","20","01-0017-200",{"$f":"IF(AND(Config!$B$13<=Tarifs!F488,Config!$B$13>=Tarifs!E488),1,0)","v":0},"2026-12-01","2026-12-31",882]
["01-0017","20","01-0017-201",{"$f":"IF(AND(Config!$B$13<=Tarifs!F489,Config!$B$13>=Tarifs!E489),1,0)","v":1},"2026-01-01","2026-01-31",784]
["01-0017","20","01-0017-200",{"$f":"IF(AND(Config!$B$13<=Tarifs!F490,Config!$B$13>=Tarifs!E490),1,0)","v":0},"2026-02-01","2026-02-28",784]
["01-0017","20","01-0017-200",{"$f":"IF(AND(Config!$B$13<=Tarifs!F491,Config!$B$13>=Tarifs!E491),1,0)","v":0},"2026-03-01","2026-03-31",784]
["01-0017","20","01-0017-200",{"$f":"IF(AND(Config!$B$13<=Tarifs!F492,Config!$B$13>=Tarifs!E492),1,0)","v":0},"2026-04-01","2026-04-30",784]
["01-0017","20","01-0017-200",{"$f":"IF(AND(Config!$B$13<=Tarifs!F493,Config!$B$13>=Tarifs!E493),1,0)","v":0},"2026-05-01","2026-05-31",784]
["01-0017","10","01-0017-100",{"$f":"IF(AND(Config!$B$13<=Tarifs!F494,Config!$B$13>=Tarifs!E494),1,0)","v":0},"2026-07-01","2026-07-31",157]
["01-0017","10","01-0017-100",{"$f":"IF(AND(Config!$B$13<=Tarifs!F495,Config!$B$13>=Tarifs!E495),1,0)","v":0},"2026-08-01","2026-08-31",157]
["01-0017","10","01-0017-100",{"$f":"IF(AND(Config!$B$13<=Tarifs!F496,Config!$B$13>=Tarifs!E496),1,0)","v":0},"2026-06-01","2026-06-30",133]
["01-0017","10","01-0017-101",{"$f":"IF(AND(Config!$B$13<=Tarifs!F497,Config!$B$13>=Tarifs!E497),1,0)","v":1},"2026-01-01","2026-01-31",112]
["01-0017","10","01-0017-100",{"$f":"IF(AND(Config!$B$13<=Tarifs!F498,Config!$B$13>=Tarifs!E498),1,0)","v":0},"2026-02-01","2026-02-28",112]
["01-0017","10","01-0017-100",{"$f":"IF(AND(Config!$B$13<=Tarifs!F499,Config!$B$13>=Tarifs!E499),1,0)","v":0},"2026-03-01","2026-03-31",112]
["01-0017","10","01-0017-100",{"$f":"IF(AND(Config!$B$13<=Tarifs!F500,Config!$B$13>=Tarifs!E500),1,0)","v":0},"2026-04-01","2026-04-30",112]
["01-0017","10","01-0017-100",{"$f":"IF(AND(Config!$B$13<=Tarifs!F501,Config!$B$13>=Tarifs!E501),1,0)","v":0},"2026-05-01","2026-05-31",112]
["01-0017","10","01-0017-100",{"$f":"IF(AND(Config!$B$13<=Tarifs!F502,Config!$B$13>=Tarifs!E502),1,0)","v":0},"2026-09-01","2026-09-30",112]
["01-0017","10","01-0017-100",{"$f":"IF(AND(Config!$B$13<=Tarifs!F503,Config!$B$13>=Tarifs!E503),1,0)","v":0},"2026-10-01","2026-10-31",112]
["01-0017","10","01-0017-100",{"$f":"IF(AND(Config!$B$13<=Tarifs!F504,Config!$B$13>=Tarifs!E504),1,0)","v":0},"2026-11-01","2026-11-30",112]
["01-0017","10","01-0017-100",{"$f":"IF(AND(Config!$B$13<=Tarifs!F505,Config!$B$13>=Tarifs!E505),1,0)","v":0},"2026-12-01","2026-12-31",112]
["01-0022","30","01-0022-300",{"$f":"IF(AND(Config!$B$13<=Tarifs!F506,Config!$B$13>=Tarifs!E506),1,0)","v":0},"2026-07-01","2026-07-31",7770]
["01-0022","30","01-0022-300",{"$f":"IF(AND(Config!$B$13<=Tarifs!F507,Config!$B$13>=Tarifs!E507),1,0)","v":0},"2026-08-01","2026-08-31",7770]
["01-0022","30","01-0022-300",{"$f":"IF(AND(Config!$B$13<=Tarifs!F508,Config!$B$13>=Tarifs!E508),1,0)","v":0},"2026-09-01","2026-09-30",7170]
["01-0022","30","01-0022-300",{"$f":"IF(AND(Config!$B$13<=Tarifs!F509,Config!$B$13>=Tarifs!E509),1,0)","v":0},"2026-10-01","2026-10-31",7170]
["01-0022","30","01-0022-300",{"$f":"IF(AND(Config!$B$13<=Tarifs!F510,Config!$B$13>=Tarifs!E510),1,0)","v":0},"2026-06-01","2026-06-30",5670]
["01-0022","30","01-0022-300",{"$f":"IF(AND(Config!$B$13<=Tarifs!F511,Config!$B$13>=Tarifs!E511),1,0)","v":0},"2026-05-01","2026-05-31",5370]
["01-0022","30","01-0022-301",{"$f":"IF(AND(Config!$B$13<=Tarifs!F512,Config!$B$13>=Tarifs!E512),1,0)","v":1},"2026-01-01","2026-01-31",4770]
["01-0022","30","01-0022-300",{"$f":"IF(AND(Config!$B$13<=Tarifs!F513,Config!$B$13>=Tarifs!E513),1,0)","v":0},"2026-02-01","2026-02-28",4770]
["01-0022","30","01-0022-300",{"$f":"IF(AND(Config!$B$13<=Tarifs!F514,Config!$B$13>=Tarifs!E514),1,0)","v":0},"2026-03-01","2026-03-31",4770]
["01-0022","30",{"$f":"A515&\"-\"&B515&D515","v":"01-0022-300"},{"$f":"IF(AND(Config!$B$13<=Tarifs!F515,Config!$B$13>=Tarifs!E515),1,0)","v":0},"2026-04-01","2026-04-30",4770]
["01-0022","30","01-0022-300",{"$f":"IF(AND(Config!$B$13<=Tarifs!F516,Config!$B$13>=Tarifs!E516),1,0)","v":0},"2026-11-01","2026-11-30",4770]
["01-0022","30","01-0022-300",{"$f":"IF(AND(Config!$B$13<=Tarifs!F517,Config!$B$13>=Tarifs!E517),1,0)","v":0},"2026-12-01","2026-12-31",4770]
["01-0022","20","01-0022-200",{"$f":"IF(AND(Config!$B$13<=Tarifs!F518,Config!$B$13>=Tarifs!E518),1,0)","v":0},"2026-07-01","2026-07-31",1813]
["01-0022","20","01-0022-200",{"$f":"IF(AND(Config!$B$13<=Tarifs!F519,Config!$B$13>=Tarifs!E519),1,0)","v":0},"2026-08-01","2026-08-31",1813]
["01-0022","20","01-0022-200",{"$f":"IF(AND(Config!$B$13<=Tarifs!F520,Config!$B$13>=Tarifs!E520),1,0)","v":0},"2026-09-01","2026-09-30",1673]
["01-0022","20","01-0022-200",{"$f":"IF(AND(Config!$B$13<=Tarifs!F521,Config!$B$13>=Tarifs!E521),1,0)","v":0},"2026-10-01","2026-10-31",1673]
["01-0022","20","01-0022-200",{"$f":"IF(AND(Config!$B$13<=Tarifs!F522,Config!$B$13>=Tarifs!E522),1,0)","v":0},"2026-06-01","2026-06-30",1323]
["01-0022","20","01-0022-200",{"$f":"IF(AND(Config!$B$13<=Tarifs!F523,Config!$B$13>=Tarifs!E523),1,0)","v":0},"2026-05-01","2026-05-31",1253]
["01-0022","20","01-0022-201",{"$f":"IF(AND(Config!$B$13<=Tarifs!F524,Config!$B$13>=Tarifs!E524),1,0)","v":1},"2026-01-01","2026-01-31",1113]
["01-0022","20","01-0022-200",{"$f":"IF(AND(Config!$B$13<=Tarifs!F525,Config!$B$13>=Tarifs!E525),1,0)","v":0},"2026-02-01","2026-02-28",1113]
["01-0022","20","01-0022-200",{"$f":"IF(AND(Config!$B$13<=Tarifs!F526,Config!$B$13>=Tarifs!E526),1,0)","v":0},"2026-03-01","2026-03-31",1113]
["01-0022","20","01-0022-200",{"$f":"IF(AND(Config!$B$13<=Tarifs!F527,Config!$B$13>=Tarifs!E527),1,0)","v":0},"2026-04-01","2026-04-30",1113]
["01-0022","20","01-0022-200",{"$f":"IF(AND(Config!$B$13<=Tarifs!F528,Config!$B$13>=Tarifs!E528),1,0)","v":0},"2026-11-01","2026-11-30",1113]
["01-0022","20","01-0022-200",{"$f":"IF(AND(Config!$B$13<=Tarifs!F529,Config!$B$13>=Tarifs!E529),1,0)","v":0},"2026-12-01","2026-12-31",1113]
["01-0022","10","01-0022-100",{"$f":"IF(AND(Config!$B$13<=Tarifs!F530,Config!$B$13>=Tarifs!E530),1,0)","v":0},"2026-07-01","2026-07-31",259]
["01-0022","10","01-0022-100",{"$f":"IF(AND(Config!$B$13<=Tarifs!F531,Config!$B$13>=Tarifs!E531),1,0)","v":0},"2026-08-01","2026-08-31",259]
["01-0022","10","01-0022-100",{"$f":"IF(AND(Config!$B$13<=Tarifs!F532,Config!$B$13>=Tarifs!E532),1,0)","v":0},"2026-09-01","2026-09-30",239]
["01-0022","10","01-0022-100",{"$f":"IF(AND(Config!$B$13<=Tarifs!F533,Config!$B$13>=Tarifs!E533),1,0)","v":0},"2026-10-01","2026-10-31",239]
["01-0022","10","01-0022-100",{"$f":"IF(AND(Config!$B$13<=Tarifs!F534,Config!$B$13>=Tarifs!E534),1,0)","v":0},"2026-06-01","2026-06-30",189]
["01-0022","10","01-0022-100",{"$f":"IF(AND(Config!$B$13<=Tarifs!F535,Config!$B$13>=Tarifs!E535),1,0)","v":0},"2026-05-01","2026-05-31",179]
["01-0022","10","01-0022-101",{"$f":"IF(AND(Config!$B$13<=Tarifs!F536,Config!$B$13>=Tarifs!E536),1,0)","v":1},"2026-01-01","2026-01-31",159]
["01-0022","10","01-0022-100",{"$f":"IF(AND(Config!$B$13<=Tarifs!F537,Config!$B$13>=Tarifs!E537),1,0)","v":0},"2026-02-01","2026-02-28",159]
["01-0022","10","01-0022-100",{"$f":"IF(AND(Config!$B$13<=Tarifs!F538,Config!$B$13>=Tarifs!E538),1,0)","v":0},"2026-03-01","2026-03-31",159]
["01-0022","10","01-0022-100",{"$f":"IF(AND(Config!$B$13<=Tarifs!F539,Config!$B$13>=Tarifs!E539),1,0)","v":0},"2026-04-01","2026-04-30",159]
["01-0022","10","01-0022-100",{"$f":"IF(AND(Config!$B$13<=Tarifs!F540,Config!$B$13>=Tarifs!E540),1,0)","v":0},"2026-11-01","2026-11-30",159]
["01-0022","10","01-0022-100",{"$f":"IF(AND(Config!$B$13<=Tarifs!F541,Config!$B$13>=Tarifs!E541),1,0)","v":0},"2026-12-01","2026-12-31",159]
["02-0005","30","02-0005-300",{"$f":"IF(AND(Config!$B$13<=Tarifs!F542,Config!$B$13>=Tarifs!E542),1,0)","v":0},"2026-05-01","2026-05-31",5970]
["02-0005","30","02-0005-300",{"$f":"IF(AND(Config!$B$13<=Tarifs!F543,Config!$B$13>=Tarifs!E543),1,0)","v":0},"2026-06-01","2026-06-30",5970]
["02-0005","30","02-0005-300",{"$f":"IF(AND(Config!$B$13<=Tarifs!F544,Config!$B$13>=Tarifs!E544),1,0)","v":0},"2026-07-01","2026-07-31",5970]
["02-0005","30","02-0005-300",{"$f":"IF(AND(Config!$B$13<=Tarifs!F545,Config!$B$13>=Tarifs!E545),1,0)","v":0},"2026-08-01","2026-08-31",5970]
["02-0005","30","02-0005-300",{"$f":"IF(AND(Config!$B$13<=Tarifs!F546,Config!$B$13>=Tarifs!E546),1,0)","v":0},"2026-09-01","2026-09-30",5970]
["02-0005","30","02-0005-301",{"$f":"IF(AND(Config!$B$13<=Tarifs!F547,Config!$B$13>=Tarifs!E547),1,0)","v":1},"2026-01-01","2026-01-31",5070]
["02-0005","30","02-0005-300",{"$f":"IF(AND(Config!$B$13<=Tarifs!F548,Config!$B$13>=Tarifs!E548),1,0)","v":0},"2026-02-01","2026-02-28",5070]
["02-0005","30","02-0005-300",{"$f":"IF(AND(Config!$B$13<=Tarifs!F549,Config!$B$13>=Tarifs!E549),1,0)","v":0},"2026-03-01","2026-03-31",5070]
["02-0005","30","02-0005-300",{"$f":"IF(AND(Config!$B$13<=Tarifs!F550,Config!$B$13>=Tarifs!E550),1,0)","v":0},"2026-04-01","2026-04-30",5070]
["02-0005","30","02-0005-300",{"$f":"IF(AND(Config!$B$13<=Tarifs!F551,Config!$B$13>=Tarifs!E551),1,0)","v":0},"2026-10-01","2026-10-31",5070]
["02-0005","30","02-0005-300",{"$f":"IF(AND(Config!$B$13<=Tarifs!F552,Config!$B$13>=Tarifs!E552),1,0)","v":0},"2026-11-01","2026-11-30",5070]
["02-0005","30","02-0005-300",{"$f":"IF(AND(Config!$B$13<=Tarifs!F553,Config!$B$13>=Tarifs!E553),1,0)","v":0},"2026-12-01","2026-12-31",5070]
["02-0005","20","02-0005-200",{"$f":"IF(AND(Config!$B$13<=Tarifs!F554,Config!$B$13>=Tarifs!E554),1,0)","v":0},"2026-05-01","2026-05-31",1393]
["02-0005","20","02-0005-200",{"$f":"IF(AND(Config!$B$13<=Tarifs!F555,Config!$B$13>=Tarifs!E555),1,0)","v":0},"2026-06-01","2026-06-30",1393]
["02-0005","20","02-0005-200",{"$f":"IF(AND(Config!$B$13<=Tarifs!F556,Config!$B$13>=Tarifs!E556),1,0)","v":0},"2026-07-01","2026-07-31",1393]
["02-0005","20","02-0005-200",{"$f":"IF(AND(Config!$B$13<=Tarifs!F557,Config!$B$13>=Tarifs!E557),1,0)","v":0},"2026-08-01","2026-08-31",1393]
["02-0005","20","02-0005-200",{"$f":"IF(AND(Config!$B$13<=Tarifs!F558,Config!$B$13>=Tarifs!E558),1,0)","v":0},"2026-09-01","2026-09-30",1393]
["02-0005","20","02-0005-201",{"$f":"IF(AND(Config!$B$13<=Tarifs!F559,Config!$B$13>=Tarifs!E559),1,0)","v":1},"2026-01-01","2026-01-31",1183]
["02-0005","20","02-0005-200",{"$f":"IF(AND(Config!$B$13<=Tarifs!F560,Config!$B$13>=Tarifs!E560),1,0)","v":0},"2026-02-01","2026-02-28",1183]
["02-0005","20","02-0005-200",{"$f":"IF(AND(Config!$B$13<=Tarifs!F561,Config!$B$13>=Tarifs!E561),1,0)","v":0},"2026-03-01","2026-03-31",1183]
["02-0005","20","02-0005-200",{"$f":"IF(AND(Config!$B$13<=Tarifs!F562,Config!$B$13>=Tarifs!E562),1,0)","v":0},"2026-04-01","2026-04-30",1183]
["02-0005","20","02-0005-200",{"$f":"IF(AND(Config!$B$13<=Tarifs!F563,Config!$B$13>=Tarifs!E563),1,0)","v":0},"2026-10-01","2026-10-31",1183]
["02-0005","20","02-0005-200",{"$f":"IF(AND(Config!$B$13<=Tarifs!F564,Config!$B$13>=Tarifs!E564),1,0)","v":0},"2026-11-01","2026-11-30",1183]
["02-0005","20","02-0005-200",{"$f":"IF(AND(Config!$B$13<=Tarifs!F565,Config!$B$13>=Tarifs!E565),1,0)","v":0},"2026-12-01","2026-12-31",1183]
["02-0005","10","02-0005-100",{"$f":"IF(AND(Config!$B$13<=Tarifs!F566,Config!$B$13>=Tarifs!E566),1,0)","v":0},"2026-05-01","2026-05-31",199]
["02-0005","10","02-0005-100",{"$f":"IF(AND(Config!$B$13<=Tarifs!F567,Config!$B$13>=Tarifs!E567),1,0)","v":0},"2026-06-01","2026-06-30",199]
["02-0005","10","02-0005-100",{"$f":"IF(AND(Config!$B$13<=Tarifs!F568,Config!$B$13>=Tarifs!E568),1,0)","v":0},"2026-07-01","2026-07-31",199]
["02-0005","10","02-0005-100",{"$f":"IF(AND(Config!$B$13<=Tarifs!F569,Config!$B$13>=Tarifs!E569),1,0)","v":0},"2026-08-01","2026-08-31",199]
["02-0005","10","02-0005-100",{"$f":"IF(AND(Config!$B$13<=Tarifs!F570,Config!$B$13>=Tarifs!E570),1,0)","v":0},"2026-09-01","2026-09-30",199]
["02-0005","10","02-0005-101",{"$f":"IF(AND(Config!$B$13<=Tarifs!F571,Config!$B$13>=Tarifs!E571),1,0)","v":1},"2026-01-01","2026-01-31",169]
["02-0005","10","02-0005-100",{"$f":"IF(AND(Config!$B$13<=Tarifs!F572,Config!$B$13>=Tarifs!E572),1,0)","v":0},"2026-02-01","2026-02-28",169]
["02-0005","10","02-0005-100",{"$f":"IF(AND(Config!$B$13<=Tarifs!F573,Config!$B$13>=Tarifs!E573),1,0)","v":0},"2026-03-01","2026-03-31",169]
["02-0005","10","02-0005-100",{"$f":"IF(AND(Config!$B$13<=Tarifs!F574,Config!$B$13>=Tarifs!E574),1,0)","v":0},"2026-04-01","2026-04-30",169]
["02-0005","10","02-0005-100",{"$f":"IF(AND(Config!$B$13<=Tarifs!F575,Config!$B$13>=Tarifs!E575),1,0)","v":0},"2026-10-01","2026-10-31",169]
["02-0005","10","02-0005-100",{"$f":"IF(AND(Config!$B$13<=Tarifs!F576,Config!$B$13>=Tarifs!E576),1,0)","v":0},"2026-11-01","2026-11-30",169]
["02-0005","10","02-0005-100",{"$f":"IF(AND(Config!$B$13<=Tarifs!F577,Config!$B$13>=Tarifs!E577),1,0)","v":0},"2026-12-01","2026-12-31",169]
["02-0011","30","02-0011-300",{"$f":"IF(AND(Config!$B$13<=Tarifs!F578,Config!$B$13>=Tarifs!E578),1,0)","v":0},"2026-08-01","2026-08-31",8670]
["02-0011","30",{"$f":"A579&\"-\"&B579&D579","v":"02-0011-300"},{"$f":"IF(AND(Config!$B$13<=Tarifs!F579,Config!$B$13>=Tarifs!E579),1,0)","v":0},"2026-09-01","2026-09-30",8670]
["02-0011","30","02-0011-300",{"$f":"IF(AND(Config!$B$13<=Tarifs!F580,Config!$B$13>=Tarifs!E580),1,0)","v":0},"2026-10-01","2026-10-31",8670]
["02-0011","30","02-0011-300",{"$f":"IF(AND(Config!$B$13<=Tarifs!F581,Config!$B$13>=Tarifs!E581),1,0)","v":0},"2026-11-01","2026-11-30",8670]
["02-0011","30","02-0011-300",{"$f":"IF(AND(Config!$B$13<=Tarifs!F582,Config!$B$13>=Tarifs!E582),1,0)","v":0},"2026-12-01","2026-12-31",8670]
["02-0011","30","02-0011-301",{"$f":"IF(AND(Config!$B$13<=Tarifs!F583,Config!$B$13>=Tarifs!E583),1,0)","v":1},"2026-01-01","2026-01-31",8670]
["02-0011","30","02-0011-300",{"$f":"IF(AND(Config!$B$13<=Tarifs!F584,Config!$B$13>=Tarifs!E584),1,0)","v":0},"2026-02-01","2026-02-28",8670]
["02-0011","30","02-0011-300",{"$f":"IF(AND(Config!$B$13<=Tarifs!F585,Config!$B$13>=Tarifs!E585),1,0)","v":0},"2026-03-01","2026-03-31",8670]
["02-0011","30","02-0011-300",{"$f":"IF(AND(Config!$B$13<=Tarifs!F586,Config!$B$13>=Tarifs!E586),1,0)","v":0},"2026-04-01","2026-04-30",8670]
["02-0011","30","02-0011-300",{"$f":"IF(AND(Config!$B$13<=Tarifs!F587,Config!$B$13>=Tarifs!E587),1,0)","v":0},"2026-05-01","2026-05-31",8670]
["02-0011","30","02-0011-300",{"$f":"IF(AND(Config!$B$13<=Tarifs!F588,Config!$B$13>=Tarifs!E588),1,0)","v":0},"2026-06-01","2026-06-30",8670]
["02-0011","30","02-0011-300",{"$f":"IF(AND(Config!$B$13<=Tarifs!F589,Config!$B$13>=Tarifs!E589),1,0)","v":0},"2026-07-01","2026-07-31",8670]
["02-0011","20","02-0011-200",{"$f":"IF(AND(Config!$B$13<=Tarifs!F590,Config!$B$13>=Tarifs!E590),1,0)","v":0},"2026-08-01","2026-08-31",2023]
["02-0011","20","02-0011-200",{"$f":"IF(AND(Config!$B$13<=Tarifs!F591,Config!$B$13>=Tarifs!E591),1,0)","v":0},"2026-09-01","2026-09-30",2023]
["02-0011","20","02-0011-200",{"$f":"IF(AND(Config!$B$13<=Tarifs!F592,Config!$B$13>=Tarifs!E592),1,0)","v":0},"2026-10-01","2026-10-31",2023]
["02-0011","20","02-0011-200",{"$f":"IF(AND(Config!$B$13<=Tarifs!F593,Config!$B$13>=Tarifs!E593),1,0)","v":0},"2026-11-01","2026-11-30",2023]
["02-0011","20","02-0011-200",{"$f":"IF(AND(Config!$B$13<=Tarifs!F594,Config!$B$13>=Tarifs!E594),1,0)","v":0},"2026-12-01","2026-12-31",2023]
["02-0011","20","02-0011-201",{"$f":"IF(AND(Config!$B$13<=Tarifs!F595,Config!$B$13>=Tarifs!E595),1,0)","v":1},"2026-01-01","2026-01-31",2023]
["02-0011","20","02-0011-200",{"$f":"IF(AND(Config!$B$13<=Tarifs!F596,Config!$B$13>=Tarifs!E596),1,0)","v":0},"2026-02-01","2026-02-28",2023]
["02-0011","20","02-0011-200",{"$f":"IF(AND(Config!$B$13<=Tarifs!F597,Config!$B$13>=Tarifs!E597),1,0)","v":0},"2026-03-01","2026-03-31",2023]
["02-0011","20","02-0011-200",{"$f":"IF(AND(Config!$B$13<=Tarifs!F598,Config!$B$13>=Tarifs!E598),1,0)","v":0},"2026-04-01","2026-04-30",2023]
["02-0011","20","02-0011-200",{"$f":"IF(AND(Config!$B$13<=Tarifs!F599,Config!$B$13>=Tarifs!E599),1,0)","v":0},"2026-05-01","2026-05-31",2023]
["02-0011","20","02-0011-200",{"$f":"IF(AND(Config!$B$13<=Tarifs!F600,Config!$B$13>=Tarifs!E600),1,0)","v":0},"2026-06-01","2026-06-30",2023]
["02-0011","20","02-0011-200",{"$f":"IF(AND(Config!$B$13<=Tarifs!F601,Config!$B$13>=Tarifs!E601),1,0)","v":0},"2026-07-01","2026-07-31",2023]
["02-0011","10","02-0011-100",{"$f":"IF(AND(Config!$B$13<=Tarifs!F602,Config!$B$13>=Tarifs!E602),1,0)","v":0},"2026-09-01","2026-09-30",289]
["02-0011","10","02-0011-100",{"$f":"IF(AND(Config!$B$13<=Tarifs!F603,Config!$B$13>=Tarifs!E603),1,0)","v":0},"2026-10-01","2026-10-31",289]
["02-0011","10","02-0011-100",{"$f":"IF(AND(Config!$B$13<=Tarifs!F604,Config!$B$13>=Tarifs!E604),1,0)","v":0},"2026-11-01","2026-11-30",289]
["02-0011","10","02-0011-100",{"$f":"IF(AND(Config!$B$13<=Tarifs!F605,Config!$B$13>=Tarifs!E605),1,0)","v":0},"2026-12-01","2026-12-31",289]
["02-0011","10","02-0011-101",{"$f":"IF(AND(Config!$B$13<=Tarifs!F606,Config!$B$13>=Tarifs!E606),1,0)","v":1},"2026-01-01","2026-01-31",289]
["02-0011","10","02-0011-100",{"$f":"IF(AND(Config!$B$13<=Tarifs!F607,Config!$B$13>=Tarifs!E607),1,0)","v":0},"2026-02-01","2026-02-28",289]
["02-0011","10","02-0011-100",{"$f":"IF(AND(Config!$B$13<=Tarifs!F608,Config!$B$13>=Tarifs!E608),1,0)","v":0},"2026-03-01","2026-03-31",289]
["02-0011","10","02-0011-100",{"$f":"IF(AND(Config!$B$13<=Tarifs!F609,Config!$B$13>=Tarifs!E609),1,0)","v":0},"2026-04-01","2026-04-30",289]
["02-0011","10","02-0011-100",{"$f":"IF(AND(Config!$B$13<=Tarifs!F610,Config!$B$13>=Tarifs!E610),1,0)","v":0},"2026-05-01","2026-05-31",289]
["02-0011","10","02-0011-100",{"$f":"IF(AND(Config!$B$13<=Tarifs!F611,Config!$B$13>=Tarifs!E611),1,0)","v":0},"2026-06-01","2026-06-30",289]
["02-0011","10","02-0011-100",{"$f":"IF(AND(Config!$B$13<=Tarifs!F612,Config!$B$13>=Tarifs!E612),1,0)","v":0},"2026-07-01","2026-07-31",289]
["02-0011","10","02-0011-100",{"$f":"IF(AND(Config!$B$13<=Tarifs!F613,Config!$B$13>=Tarifs!E613),1,0)","v":0},"2026-08-01","2026-08-31",289]
["02-0013","30","02-0013-300",{"$f":"IF(AND(Config!$B$13<=Tarifs!F614,Config!$B$13>=Tarifs!E614),1,0)","v":0},"2026-05-01","2026-05-31",5100]
["02-0013","30","02-0013-300",{"$f":"IF(AND(Config!$B$13<=Tarifs!F615,Config!$B$13>=Tarifs!E615),1,0)","v":0},"2026-06-01","2026-06-30",5100]
["02-0013","30","02-0013-300",{"$f":"IF(AND(Config!$B$13<=Tarifs!F616,Config!$B$13>=Tarifs!E616),1,0)","v":0},"2026-07-01","2026-07-31",5100]
["02-0013","30","02-0013-300",{"$f":"IF(AND(Config!$B$13<=Tarifs!F617,Config!$B$13>=Tarifs!E617),1,0)","v":0},"2026-08-01","2026-08-31",5100]
["02-0013","30","02-0013-300",{"$f":"IF(AND(Config!$B$13<=Tarifs!F618,Config!$B$13>=Tarifs!E618),1,0)","v":0},"2026-09-01","2026-09-30",5100]
["02-0013","30","02-0013-300",{"$f":"IF(AND(Config!$B$13<=Tarifs!F619,Config!$B$13>=Tarifs!E619),1,0)","v":0},"2026-10-01","2026-10-31",5100]
["02-0013","30","02-0013-300",{"$f":"IF(AND(Config!$B$13<=Tarifs!F620,Config!$B$13>=Tarifs!E620),1,0)","v":0},"2026-04-01","2026-04-30",4800]
["02-0013","30","02-0013-300",{"$f":"IF(AND(Config!$B$13<=Tarifs!F621,Config!$B$13>=Tarifs!E621),1,0)","v":0},"2026-11-01","2026-11-30",4800]
["02-0013","30","02-0013-300",{"$f":"IF(AND(Config!$B$13<=Tarifs!F622,Config!$B$13>=Tarifs!E622),1,0)","v":0},"2026-12-01","2026-12-31",4800]
["02-0013","30","02-0013-301",{"$f":"IF(AND(Config!$B$13<=Tarifs!F623,Config!$B$13>=Tarifs!E623),1,0)","v":1},"2026-01-01","2026-01-31",4800]
["02-0013","30","02-0013-300",{"$f":"IF(AND(Config!$B$13<=Tarifs!F624,Config!$B$13>=Tarifs!E624),1,0)","v":0},"2026-02-01","2026-02-28",4800]
["02-0013","30","02-0013-300",{"$f":"IF(AND(Config!$B$13<=Tarifs!F625,Config!$B$13>=Tarifs!E625),1,0)","v":0},"2026-03-01","2026-03-31",4800]
["02-0013","20","02-0013-200",{"$f":"IF(AND(Config!$B$13<=Tarifs!F626,Config!$B$13>=Tarifs!E626),1,0)","v":0},"2026-05-01","2026-05-31",1190]
["02-0013","20","02-0013-200",{"$f":"IF(AND(Config!$B$13<=Tarifs!F627,Config!$B$13>=Tarifs!E627),1,0)","v":0},"2026-06-01","2026-06-30",1190]
["02-0013","20","02-0013-200",{"$f":"IF(AND(Config!$B$13<=Tarifs!F628,Config!$B$13>=Tarifs!E628),1,0)","v":0},"2026-07-01","2026-07-31",1190]
["02-0013","20","02-0013-200",{"$f":"IF(AND(Config!$B$13<=Tarifs!F629,Config!$B$13>=Tarifs!E629),1,0)","v":0},"2026-08-01","2026-08-31",1190]
["02-0013","20","02-0013-200",{"$f":"IF(AND(Config!$B$13<=Tarifs!F630,Config!$B$13>=Tarifs!E630),1,0)","v":0},"2026-09-01","2026-09-30",1190]
["02-0013","20","02-0013-200",{"$f":"IF(AND(Config!$B$13<=Tarifs!F631,Config!$B$13>=Tarifs!E631),1,0)","v":0},"2026-10-01","2026-10-31",1190]
["02-0013","20","02-0013-200",{"$f":"IF(AND(Config!$B$13<=Tarifs!F632,Config!$B$13>=Tarifs!E632),1,0)","v":0},"2026-04-01","2026-04-30",1120]
["02-0013","20","02-0013-200",{"$f":"IF(AND(Config!$B$13<=Tarifs!F633,Config!$B$13>=Tarifs!E633),1,0)","v":0},"2026-11-01","2026-11-30",1120]
["02-0013","20","02-0013-200",{"$f":"IF(AND(Config!$B$13<=Tarifs!F634,Config!$B$13>=Tarifs!E634),1,0)","v":0},"2026-12-01","2026-12-31",1120]
["02-0013","20","02-0013-201",{"$f":"IF(AND(Config!$B$13<=Tarifs!F635,Config!$B$13>=Tarifs!E635),1,0)","v":1},"2026-01-01","2026-01-31",1120]
["02-0013","20","02-0013-200",{"$f":"IF(AND(Config!$B$13<=Tarifs!F636,Config!$B$13>=Tarifs!E636),1,0)","v":0},"2026-02-01","2026-02-28",1120]
["02-0013","20","02-0013-200",{"$f":"IF(AND(Config!$B$13<=Tarifs!F637,Config!$B$13>=Tarifs!E637),1,0)","v":0},"2026-03-01","2026-03-31",1120]
["02-0013","10","02-0013-100",{"$f":"IF(AND(Config!$B$13<=Tarifs!F638,Config!$B$13>=Tarifs!E638),1,0)","v":0},"2026-05-01","2026-05-31",170]
["02-0013","10","02-0013-100",{"$f":"IF(AND(Config!$B$13<=Tarifs!F639,Config!$B$13>=Tarifs!E639),1,0)","v":0},"2026-06-01","2026-06-30",170]
["02-0013","10","02-0013-100",{"$f":"IF(AND(Config!$B$13<=Tarifs!F640,Config!$B$13>=Tarifs!E640),1,0)","v":0},"2026-07-01","2026-07-31",170]
["02-0013","10","02-0013-100",{"$f":"IF(AND(Config!$B$13<=Tarifs!F641,Config!$B$13>=Tarifs!E641),1,0)","v":0},"2026-08-01","2026-08-31",170]
["02-0013","10","02-0013-100",{"$f":"IF(AND(Config!$B$13<=Tarifs!F642,Config!$B$13>=Tarifs!E642),1,0)","v":0},"2026-09-01","2026-09-30",170]
["02-0013","10",{"$f":"A643&\"-\"&B643&D643","v":"02-0013-100"},{"$f":"IF(AND(Config!$B$13<=Tarifs!F643,Config!$B$13>=Tarifs!E643),1,0)","v":0},"2026-10-01","2026-10-31",170]
["02-0013","10","02-0013-100",{"$f":"IF(AND(Config!$B$13<=Tarifs!F644,Config!$B$13>=Tarifs!E644),1,0)","v":0},"2026-11-01","2026-11-30",160]
["02-0013","10","02-0013-100",{"$f":"IF(AND(Config!$B$13<=Tarifs!F645,Config!$B$13>=Tarifs!E645),1,0)","v":0},"2026-12-01","2026-12-31",160]
["02-0013","10","02-0013-101",{"$f":"IF(AND(Config!$B$13<=Tarifs!F646,Config!$B$13>=Tarifs!E646),1,0)","v":1},"2026-01-01","2026-01-31",160]
["02-0013","10","02-0013-100",{"$f":"IF(AND(Config!$B$13<=Tarifs!F647,Config!$B$13>=Tarifs!E647),1,0)","v":0},"2026-02-01","2026-02-28",160]
["02-0013","10","02-0013-100",{"$f":"IF(AND(Config!$B$13<=Tarifs!F648,Config!$B$13>=Tarifs!E648),1,0)","v":0},"2026-03-01","2026-03-31",160]
["02-0013","10","02-0013-100",{"$f":"IF(AND(Config!$B$13<=Tarifs!F649,Config!$B$13>=Tarifs!E649),1,0)","v":0},"2026-04-01","2026-04-30",160]
["03-0001","30","03-0001-300",{"$f":"IF(AND(Config!$B$13<=Tarifs!F650,Config!$B$13>=Tarifs!E650),1,0)","v":0},"2026-05-01","2026-05-31",3990]
["03-0001","30","03-0001-300",{"$f":"IF(AND(Config!$B$13<=Tarifs!F651,Config!$B$13>=Tarifs!E651),1,0)","v":0},"2026-06-01","2026-06-30",3990]
["03-0001","30","03-0001-300",{"$f":"IF(AND(Config!$B$13<=Tarifs!F652,Config!$B$13>=Tarifs!E652),1,0)","v":0},"2026-07-01","2026-07-31",3990]
["03-0001","30","03-0001-300",{"$f":"IF(AND(Config!$B$13<=Tarifs!F653,Config!$B$13>=Tarifs!E653),1,0)","v":0},"2026-08-01","2026-08-31",3990]
["03-0001","30","03-0001-300",{"$f":"IF(AND(Config!$B$13<=Tarifs!F654,Config!$B$13>=Tarifs!E654),1,0)","v":0},"2026-09-01","2026-09-30",3990]
["03-0001","30","03-0001-301",{"$f":"IF(AND(Config!$B$13<=Tarifs!F655,Config!$B$13>=Tarifs!E655),1,0)","v":1},"2026-01-01","2026-01-31",3390]
["03-0001","30","03-0001-300",{"$f":"IF(AND(Config!$B$13<=Tarifs!F656,Config!$B$13>=Tarifs!E656),1,0)","v":0},"2026-02-01","2026-02-28",3390]
["03-0001","30","03-0001-300",{"$f":"IF(AND(Config!$B$13<=Tarifs!F657,Config!$B$13>=Tarifs!E657),1,0)","v":0},"2026-03-01","2026-03-31",3390]
["03-0001","30","03-0001-300",{"$f":"IF(AND(Config!$B$13<=Tarifs!F658,Config!$B$13>=Tarifs!E658),1,0)","v":0},"2026-04-01","2026-04-30",3390]
["03-0001","30","03-0001-300",{"$f":"IF(AND(Config!$B$13<=Tarifs!F659,Config!$B$13>=Tarifs!E659),1,0)","v":0},"2026-10-01","2026-10-31",3390]
["03-0001","30","03-0001-300",{"$f":"IF(AND(Config!$B$13<=Tarifs!F660,Config!$B$13>=Tarifs!E660),1,0)","v":0},"2026-11-01","2026-11-30",3390]
["03-0001","30","03-0001-300",{"$f":"IF(AND(Config!$B$13<=Tarifs!F661,Config!$B$13>=Tarifs!E661),1,0)","v":0},"2026-12-01","2026-12-31",3390]
["03-0001","20","03-0001-200",{"$f":"IF(AND(Config!$B$13<=Tarifs!F662,Config!$B$13>=Tarifs!E662),1,0)","v":0},"2026-05-01","2026-05-31",931]
["03-0001","20","03-0001-200",{"$f":"IF(AND(Config!$B$13<=Tarifs!F663,Config!$B$13>=Tarifs!E663),1,0)","v":0},"2026-06-01","2026-06-30",931]
["03-0001","20","03-0001-200",{"$f":"IF(AND(Config!$B$13<=Tarifs!F664,Config!$B$13>=Tarifs!E664),1,0)","v":0},"2026-07-01","2026-07-31",931]
["03-0001","20","03-0001-200",{"$f":"IF(AND(Config!$B$13<=Tarifs!F665,Config!$B$13>=Tarifs!E665),1,0)","v":0},"2026-08-01","2026-08-31",931]
["03-0001","20","03-0001-200",{"$f":"IF(AND(Config!$B$13<=Tarifs!F666,Config!$B$13>=Tarifs!E666),1,0)","v":0},"2026-09-01","2026-09-30",931]
["03-0001","20","03-0001-201",{"$f":"IF(AND(Config!$B$13<=Tarifs!F667,Config!$B$13>=Tarifs!E667),1,0)","v":1},"2026-01-01","2026-01-31",791]
["03-0001","20","03-0001-200",{"$f":"IF(AND(Config!$B$13<=Tarifs!F668,Config!$B$13>=Tarifs!E668),1,0)","v":0},"2026-02-01","2026-02-28",791]
["03-0001","20","03-0001-200",{"$f":"IF(AND(Config!$B$13<=Tarifs!F669,Config!$B$13>=Tarifs!E669),1,0)","v":0},"2026-03-01","2026-03-31",791]
["03-0001","20","03-0001-200",{"$f":"IF(AND(Config!$B$13<=Tarifs!F670,Config!$B$13>=Tarifs!E670),1,0)","v":0},"2026-04-01","2026-04-30",791]
["03-0001","20","03-0001-200",{"$f":"IF(AND(Config!$B$13<=Tarifs!F671,Config!$B$13>=Tarifs!E671),1,0)","v":0},"2026-10-01","2026-10-31",791]
["03-0001","20","03-0001-200",{"$f":"IF(AND(Config!$B$13<=Tarifs!F672,Config!$B$13>=Tarifs!E672),1,0)","v":0},"2026-11-01","2026-11-30",791]
["03-0001","20","03-0001-200",{"$f":"IF(AND(Config!$B$13<=Tarifs!F673,Config!$B$13>=Tarifs!E673),1,0)","v":0},"2026-12-01","2026-12-31",791]
["03-0001","10","03-0001-100",{"$f":"IF(AND(Config!$B$13<=Tarifs!F674,Config!$B$13>=Tarifs!E674),1,0)","v":0},"2026-05-01","2026-05-31",133]
["03-0001","10","03-0001-100",{"$f":"IF(AND(Config!$B$13<=Tarifs!F675,Config!$B$13>=Tarifs!E675),1,0)","v":0},"2026-06-01","2026-06-30",133]
["03-0001","10","03-0001-100",{"$f":"IF(AND(Config!$B$13<=Tarifs!F676,Config!$B$13>=Tarifs!E676),1,0)","v":0},"2026-07-01","2026-07-31",133]
["03-0001","10","03-0001-100",{"$f":"IF(AND(Config!$B$13<=Tarifs!F677,Config!$B$13>=Tarifs!E677),1,0)","v":0},"2026-08-01","2026-08-31",133]
["03-0001","10","03-0001-100",{"$f":"IF(AND(Config!$B$13<=Tarifs!F678,Config!$B$13>=Tarifs!E678),1,0)","v":0},"2026-09-01","2026-09-30",133]
["03-0001","10","03-0001-101",{"$f":"IF(AND(Config!$B$13<=Tarifs!F679,Config!$B$13>=Tarifs!E679),1,0)","v":1},"2026-01-01","2026-01-31",113]
["03-0001","10","03-0001-100",{"$f":"IF(AND(Config!$B$13<=Tarifs!F680,Config!$B$13>=Tarifs!E680),1,0)","v":0},"2026-02-01","2026-02-28",113]
["03-0001","10","03-0001-100",{"$f":"IF(AND(Config!$B$13<=Tarifs!F681,Config!$B$13>=Tarifs!E681),1,0)","v":0},"2026-03-01","2026-03-31",113]
["03-0001","10","03-0001-100",{"$f":"IF(AND(Config!$B$13<=Tarifs!F682,Config!$B$13>=Tarifs!E682),1,0)","v":0},"2026-04-01","2026-04-30",113]
["03-0001","10","03-0001-100",{"$f":"IF(AND(Config!$B$13<=Tarifs!F683,Config!$B$13>=Tarifs!E683),1,0)","v":0},"2026-10-01","2026-10-31",113]
["03-0001","10","03-0001-100",{"$f":"IF(AND(Config!$B$13<=Tarifs!F684,Config!$B$13>=Tarifs!E684),1,0)","v":0},"2026-11-01","2026-11-30",113]
["03-0001","10","03-0001-100",{"$f":"IF(AND(Config!$B$13<=Tarifs!F685,Config!$B$13>=Tarifs!E685),1,0)","v":0},"2026-12-01","2026-12-31",113]
["03-0035","30","03-0035-300",{"$f":"IF(AND(Config!$B$13<=Tarifs!F686,Config!$B$13>=Tarifs!E686),1,0)","v":0},"2026-05-01","2026-05-31",4830]
["03-0035","30","03-0035-300",{"$f":"IF(AND(Config!$B$13<=Tarifs!F687,Config!$B$13>=Tarifs!E687),1,0)","v":0},"2026-06-01","2026-06-30",4830]
["03-0035","30","03-0035-300",{"$f":"IF(AND(Config!$B$13<=Tarifs!F688,Config!$B$13>=Tarifs!E688),1,0)","v":0},"2026-07-01","2026-07-31",4830]
["03-0035","30","03-0035-300",{"$f":"IF(AND(Config!$B$13<=Tarifs!F689,Config!$B$13>=Tarifs!E689),1,0)","v":0},"2026-08-01","2026-08-31",4830]
["03-0035","30","03-0035-300",{"$f":"IF(AND(Config!$B$13<=Tarifs!F690,Config!$B$13>=Tarifs!E690),1,0)","v":0},"2026-09-01","2026-09-30",4830]
["03-0035","30","03-0035-300",{"$f":"IF(AND(Config!$B$13<=Tarifs!F691,Config!$B$13>=Tarifs!E691),1,0)","v":0},"2026-10-01","2026-10-31",4830]
["03-0035","30","03-0035-300",{"$f":"IF(AND(Config!$B$13<=Tarifs!F692,Config!$B$13>=Tarifs!E692),1,0)","v":0},"2026-12-01","2026-12-31",3960]
["03-0035","30","03-0035-300",{"$f":"IF(AND(Config!$B$13<=Tarifs!F693,Config!$B$13>=Tarifs!E693),1,0)","v":0},"2026-11-01","2026-11-30",3960]
["03-0035","30","03-0035-301",{"$f":"IF(AND(Config!$B$13<=Tarifs!F694,Config!$B$13>=Tarifs!E694),1,0)","v":1},"2026-01-01","2026-01-31",3870]
["03-0035","30","03-0035-300",{"$f":"IF(AND(Config!$B$13<=Tarifs!F695,Config!$B$13>=Tarifs!E695),1,0)","v":0},"2026-02-01","2026-02-28",3870]
["03-0035","30","03-0035-300",{"$f":"IF(AND(Config!$B$13<=Tarifs!F696,Config!$B$13>=Tarifs!E696),1,0)","v":0},"2026-03-01","2026-03-31",3870]
["03-0035","30","03-0035-300",{"$f":"IF(AND(Config!$B$13<=Tarifs!F697,Config!$B$13>=Tarifs!E697),1,0)","v":0},"2026-04-01","2026-04-30",3870]
["03-0035","20","03-0035-200",{"$f":"IF(AND(Config!$B$13<=Tarifs!F698,Config!$B$13>=Tarifs!E698),1,0)","v":0},"2026-05-01","2026-05-31",1197]
["03-0035","20","03-0035-200",{"$f":"IF(AND(Config!$B$13<=Tarifs!F699,Config!$B$13>=Tarifs!E699),1,0)","v":0},"2026-06-01","2026-06-30",1197]
["03-0035","20","03-0035-200",{"$f":"IF(AND(Config!$B$13<=Tarifs!F700,Config!$B$13>=Tarifs!E700),1,0)","v":0},"2026-07-01","2026-07-31",1197]
["03-0035","20","03-0035-200",{"$f":"IF(AND(Config!$B$13<=Tarifs!F701,Config!$B$13>=Tarifs!E701),1,0)","v":0},"2026-08-01","2026-08-31",1197]
["03-0035","20","03-0035-200",{"$f":"IF(AND(Config!$B$13<=Tarifs!F702,Config!$B$13>=Tarifs!E702),1,0)","v":0},"2026-09-01","2026-09-30",1197]
["03-0035","20","03-0035-200",{"$f":"IF(AND(Config!$B$13<=Tarifs!F703,Config!$B$13>=Tarifs!E703),1,0)","v":0},"2026-10-01","2026-10-31",1197]
["03-0035","20","03-0035-200",{"$f":"IF(AND(Config!$B$13<=Tarifs!F704,Config!$B$13>=Tarifs!E704),1,0)","v":0},"2026-12-01","2026-12-31",994]
["03-0035","20","03-0035-200",{"$f":"IF(AND(Config!$B$13<=Tarifs!F705,Config!$B$13>=Tarifs!E705),1,0)","v":0},"2026-11-01","2026-11-30",994]
["03-0035","20","03-0035-201",{"$f":"IF(AND(Config!$B$13<=Tarifs!F706,Config!$B$13>=Tarifs!E706),1,0)","v":1},"2026-01-01","2026-01-31",973]
["03-0035","20",{"$f":"A707&\"-\"&B707&D707","v":"03-0035-200"},{"$f":"IF(AND(Config!$B$13<=Tarifs!F707,Config!$B$13>=Tarifs!E707),1,0)","v":0},"2026-02-01","2026-02-28",973]
["03-0035","20","03-0035-200",{"$f":"IF(AND(Config!$B$13<=Tarifs!F708,Config!$B$13>=Tarifs!E708),1,0)","v":0},"2026-03-01","2026-03-31",973]
["03-0035","20","03-0035-200",{"$f":"IF(AND(Config!$B$13<=Tarifs!F709,Config!$B$13>=Tarifs!E709),1,0)","v":0},"2026-04-01","2026-04-30",973]
["03-0035","10","03-0035-100",{"$f":"IF(AND(Config!$B$13<=Tarifs!F710,Config!$B$13>=Tarifs!E710),1,0)","v":0},"2026-05-01","2026-05-31",182]
["03-0035","10","03-0035-100",{"$f":"IF(AND(Config!$B$13<=Tarifs!F711,Config!$B$13>=Tarifs!E711),1,0)","v":0},"2026-06-01","2026-06-30",182]
["03-0035","10","03-0035-100",{"$f":"IF(AND(Config!$B$13<=Tarifs!F712,Config!$B$13>=Tarifs!E712),1,0)","v":0},"2026-07-01","2026-07-31",182]
["03-0035","10","03-0035-100",{"$f":"IF(AND(Config!$B$13<=Tarifs!F713,Config!$B$13>=Tarifs!E713),1,0)","v":0},"2026-08-01","2026-08-31",182]
["03-0035","10","03-0035-100",{"$f":"IF(AND(Config!$B$13<=Tarifs!F714,Config!$B$13>=Tarifs!E714),1,0)","v":0},"2026-09-01","2026-09-30",182]
["03-0035","10","03-0035-100",{"$f":"IF(AND(Config!$B$13<=Tarifs!F715,Config!$B$13>=Tarifs!E715),1,0)","v":0},"2026-10-01","2026-10-31",182]
["03-0035","10","03-0035-100",{"$f":"IF(AND(Config!$B$13<=Tarifs!F716,Config!$B$13>=Tarifs!E716),1,0)","v":0},"2026-11-01","2026-11-30",165]
["03-0035","10","03-0035-100",{"$f":"IF(AND(Config!$B$13<=Tarifs!F717,Config!$B$13>=Tarifs!E717),1,0)","v":0},"2026-12-01","2026-12-31",165]
["03-0035","10","03-0035-101",{"$f":"IF(AND(Config!$B$13<=Tarifs!F718,Config!$B$13>=Tarifs!E718),1,0)","v":1},"2026-01-01","2026-01-31",161]
["03-0035","10","03-0035-100",{"$f":"IF(AND(Config!$B$13<=Tarifs!F719,Config!$B$13>=Tarifs!E719),1,0)","v":0},"2026-02-01","2026-02-28",161]
["03-0035","10","03-0035-100",{"$f":"IF(AND(Config!$B$13<=Tarifs!F720,Config!$B$13>=Tarifs!E720),1,0)","v":0},"2026-03-01","2026-03-31",161]
["03-0035","10","03-0035-100",{"$f":"IF(AND(Config!$B$13<=Tarifs!F721,Config!$B$13>=Tarifs!E721),1,0)","v":0},"2026-04-01","2026-04-30",161]
["03-0044","30","03-0044-300",{"$f":"IF(AND(Config!$B$13<=Tarifs!F722,Config!$B$13>=Tarifs!E722),1,0)","v":0},"2026-07-01","2026-07-31",2899]
["03-0044","30","03-0044-300",{"$f":"IF(AND(Config!$B$13<=Tarifs!F723,Config!$B$13>=Tarifs!E723),1,0)","v":0},"2026-08-01","2026-08-31",2899]
["03-0044","30","03-0044-300",{"$f":"IF(AND(Config!$B$13<=Tarifs!F724,Config!$B$13>=Tarifs!E724),1,0)","v":0},"2026-06-01","2026-06-30",2599]
["03-0044","30","03-0044-300",{"$f":"IF(AND(Config!$B$13<=Tarifs!F725,Config!$B$13>=Tarifs!E725),1,0)","v":0},"2026-09-01","2026-09-30",2599]
["03-0044","30","03-0044-300",{"$f":"IF(AND(Config!$B$13<=Tarifs!F726,Config!$B$13>=Tarifs!E726),1,0)","v":0},"2026-04-01","2026-04-30",2099]
["03-0044","30","03-0044-300",{"$f":"IF(AND(Config!$B$13<=Tarifs!F727,Config!$B$13>=Tarifs!E727),1,0)","v":0},"2026-05-01","2026-05-31",2099]
["03-0044","30","03-0044-300",{"$f":"IF(AND(Config!$B$13<=Tarifs!F728,Config!$B$13>=Tarifs!E728),1,0)","v":0},"2026-10-01","2026-10-31",2099]
["03-0044","30","03-0044-300",{"$f":"IF(AND(Config!$B$13<=Tarifs!F729,Config!$B$13>=Tarifs!E729),1,0)","v":0},"2026-11-01","2026-11-30",2099]
["03-0044","30","03-0044-300",{"$f":"IF(AND(Config!$B$13<=Tarifs!F730,Config!$B$13>=Tarifs!E730),1,0)","v":0},"2026-12-01","2026-12-31",2099]
["03-0044","30","03-0044-301",{"$f":"IF(AND(Config!$B$13<=Tarifs!F731,Config!$B$13>=Tarifs!E731),1,0)","v":1},"2026-01-01","2026-01-31",2099]
["03-0044","30","03-0044-300",{"$f":"IF(AND(Config!$B$13<=Tarifs!F732,Config!$B$13>=Tarifs!E732),1,0)","v":0},"2026-02-01","2026-02-28",2099]
["03-0044","30","03-0044-300",{"$f":"IF(AND(Config!$B$13<=Tarifs!F733,Config!$B$13>=Tarifs!E733),1,0)","v":0},"2026-03-01","2026-03-31",2099]
["03-0044","20","03-0044-200",{"$f":"IF(AND(Config!$B$13<=Tarifs!F734,Config!$B$13>=Tarifs!E734),1,0)","v":0},"2026-07-01","2026-07-31",899]
["03-0044","20","03-0044-200",{"$f":"IF(AND(Config!$B$13<=Tarifs!F735,Config!$B$13>=Tarifs!E735),1,0)","v":0},"2026-08-01","2026-08-31",899]
["03-0044","20","03-0044-200",{"$f":"IF(AND(Config!$B$13<=Tarifs!F736,Config!$B$13>=Tarifs!E736),1,0)","v":0},"2026-06-01","2026-06-30",700]
["03-0044","20","03-0044-200",{"$f":"IF(AND(Config!$B$13<=Tarifs!F737,Config!$B$13>=Tarifs!E737),1,0)","v":0},"2026-09-01","2026-09-30",700]
["03-0044","20","03-0044-200",{"$f":"IF(AND(Config!$B$13<=Tarifs!F738,Config!$B$13>=Tarifs!E738),1,0)","v":0},"2026-05-01","2026-05-31",589]
["03-0044","20","03-0044-200",{"$f":"IF(AND(Config!$B$13<=Tarifs!F739,Config!$B$13>=Tarifs!E739),1,0)","v":0},"2026-10-01","2026-10-31",589]
["03-0044","20","03-0044-200",{"$f":"IF(AND(Config!$B$13<=Tarifs!F740,Config!$B$13>=Tarifs!E740),1,0)","v":0},"2026-11-01","2026-11-30",589]
["03-0044","20","03-0044-200",{"$f":"IF(AND(Config!$B$13<=Tarifs!F741,Config!$B$13>=Tarifs!E741),1,0)","v":0},"2026-12-01","2026-12-31",589]
["03-0044","20","03-0044-201",{"$f":"IF(AND(Config!$B$13<=Tarifs!F742,Config!$B$13>=Tarifs!E742),1,0)","v":1},"2026-01-01","2026-01-31",589]
["03-0044","20","03-0044-200",{"$f":"IF(AND(Config!$B$13<=Tarifs!F743,Config!$B$13>=Tarifs!E743),1,0)","v":0},"2026-02-01","2026-02-28",589]
["03-0044","20","03-0044-200",{"$f":"IF(AND(Config!$B$13<=Tarifs!F744,Config!$B$13>=Tarifs!E744),1,0)","v":0},"2026-03-01","2026-03-31",589]
["03-0044","20","03-0044-200",{"$f":"IF(AND(Config!$B$13<=Tarifs!F745,Config!$B$13>=Tarifs!E745),1,0)","v":0},"2026-04-01","2026-04-30",589]
["03-0044","10","03-0044-100",{"$f":"IF(AND(Config!$B$13<=Tarifs!F746,Config!$B$13>=Tarifs!E746),1,0)","v":0},"2026-07-01","2026-07-31",155]
["03-0044","10","03-0044-100",{"$f":"IF(AND(Config!$B$13<=Tarifs!F747,Config!$B$13>=Tarifs!E747),1,0)","v":0},"2026-08-01","2026-08-31",155]
["03-0044","10","03-0044-100",{"$f":"IF(AND(Config!$B$13<=Tarifs!F748,Config!$B$13>=Tarifs!E748),1,0)","v":0},"2026-06-01","2026-06-30",125]
["03-0044","10","03-0044-100",{"$f":"IF(AND(Config!$B$13<=Tarifs!F749,Config!$B$13>=Tarifs!E749),1,0)","v":0},"2026-09-01","2026-09-30",125]
["03-0044","10","03-0044-100",{"$f":"IF(AND(Config!$B$13<=Tarifs!F750,Config!$B$13>=Tarifs!E750),1,0)","v":0},"2026-05-01","2026-05-31",109]
["03-0044","10","03-0044-100",{"$f":"IF(AND(Config!$B$13<=Tarifs!F751,Config!$B$13>=Tarifs!E751),1,0)","v":0},"2026-10-01","2026-10-31",109]
["03-0044","10","03-0044-100",{"$f":"IF(AND(Config!$B$13<=Tarifs!F752,Config!$B$13>=Tarifs!E752),1,0)","v":0},"2026-11-01","2026-11-30",109]
["03-0044","10","03-0044-100",{"$f":"IF(AND(Config!$B$13<=Tarifs!F753,Config!$B$13>=Tarifs!E753),1,0)","v":0},"2026-12-01","2026-12-31",109]
["03-0044","10","03-0044-101",{"$f":"IF(AND(Config!$B$13<=Tarifs!F754,Config!$B$13>=Tarifs!E754),1,0)","v":1},"2026-01-01","2026-01-31",109]
["03-0044","10","03-0044-100",{"$f":"IF(AND(Config!$B$13<=Tarifs!F755,Config!$B$13>=Tarifs!E755),1,0)","v":0},"2026-02-01","2026-02-28",109]
["03-0044","10","03-0044-100",{"$f":"IF(AND(Config!$B$13<=Tarifs!F756,Config!$B$13>=Tarifs!E756),1,0)","v":0},"2026-03-01","2026-03-31",109]
["03-0044","10","03-0044-100",{"$f":"IF(AND(Config!$B$13<=Tarifs!F757,Config!$B$13>=Tarifs!E757),1,0)","v":0},"2026-04-01","2026-04-30",109]
["03-0064","30","03-0064-300",{"$f":"IF(AND(Config!$B$13<=Tarifs!F758,Config!$B$13>=Tarifs!E758),1,0)","v":0},"2026-06-01","2026-06-30",4020]
["03-0064","30","03-0064-300",{"$f":"IF(AND(Config!$B$13<=Tarifs!F759,Config!$B$13>=Tarifs!E759),1,0)","v":0},"2026-07-01","2026-07-31",4020]
["03-0064","30","03-0064-300",{"$f":"IF(AND(Config!$B$13<=Tarifs!F760,Config!$B$13>=Tarifs!E760),1,0)","v":0},"2026-08-01","2026-08-31",4020]
["03-0064","30","03-0064-300",{"$f":"IF(AND(Config!$B$13<=Tarifs!F761,Config!$B$13>=Tarifs!E761),1,0)","v":0},"2026-09-01","2026-09-30",4020]
["03-0064","30","03-0064-300",{"$f":"IF(AND(Config!$B$13<=Tarifs!F762,Config!$B$13>=Tarifs!E762),1,0)","v":0},"2026-10-01","2026-10-31",4020]
["03-0064","30","03-0064-301",{"$f":"IF(AND(Config!$B$13<=Tarifs!F763,Config!$B$13>=Tarifs!E763),1,0)","v":1},"2026-01-01","2026-01-31",3720]
["03-0064","30","03-0064-300",{"$f":"IF(AND(Config!$B$13<=Tarifs!F764,Config!$B$13>=Tarifs!E764),1,0)","v":0},"2026-02-01","2026-02-28",3720]
["03-0064","30","03-0064-300",{"$f":"IF(AND(Config!$B$13<=Tarifs!F765,Config!$B$13>=Tarifs!E765),1,0)","v":0},"2026-03-01","2026-03-31",3720]
["03-0064","30","03-0064-300",{"$f":"IF(AND(Config!$B$13<=Tarifs!F766,Config!$B$13>=Tarifs!E766),1,0)","v":0},"2026-04-01","2026-04-30",3720]
["03-0064","30","03-0064-300",{"$f":"IF(AND(Config!$B$13<=Tarifs!F767,Config!$B$13>=Tarifs!E767),1,0)","v":0},"2026-05-01","2026-05-31",3720]
["03-0064","30","03-0064-300",{"$f":"IF(AND(Config!$B$13<=Tarifs!F768,Config!$B$13>=Tarifs!E768),1,0)","v":0},"2026-11-01","2026-11-30",3720]
["03-0064","30","03-0064-300",{"$f":"IF(AND(Config!$B$13<=Tarifs!F769,Config!$B$13>=Tarifs!E769),1,0)","v":0},"2026-12-01","2026-12-31",3720]
["03-0064","20","03-0064-200",{"$f":"IF(AND(Config!$B$13<=Tarifs!F770,Config!$B$13>=Tarifs!E770),1,0)","v":0},"2026-06-01","2026-06-30",938]
["03-0064","20",{"$f":"A771&\"-\"&B771&D771","v":"03-0064-200"},{"$f":"IF(AND(Config!$B$13<=Tarifs!F771,Config!$B$13>=Tarifs!E771),1,0)","v":0},"2026-07-01","2026-07-31",938]
["03-0064","20","03-0064-200",{"$f":"IF(AND(Config!$B$13<=Tarifs!F772,Config!$B$13>=Tarifs!E772),1,0)","v":0},"2026-08-01","2026-08-31",938]
["03-0064","20","03-0064-200",{"$f":"IF(AND(Config!$B$13<=Tarifs!F773,Config!$B$13>=Tarifs!E773),1,0)","v":0},"2026-09-01","2026-09-30",938]
["03-0064","20","03-0064-200",{"$f":"IF(AND(Config!$B$13<=Tarifs!F774,Config!$B$13>=Tarifs!E774),1,0)","v":0},"2026-10-01","2026-10-31",938]
["03-0064","20","03-0064-201",{"$f":"IF(AND(Config!$B$13<=Tarifs!F775,Config!$B$13>=Tarifs!E775),1,0)","v":1},"2026-01-01","2026-01-31",868]
["03-0064","20","03-0064-200",{"$f":"IF(AND(Config!$B$13<=Tarifs!F776,Config!$B$13>=Tarifs!E776),1,0)","v":0},"2026-02-01","2026-02-28",868]
["03-0064","20","03-0064-200",{"$f":"IF(AND(Config!$B$13<=Tarifs!F777,Config!$B$13>=Tarifs!E777),1,0)","v":0},"2026-03-01","2026-03-31",868]
["03-0064","20","03-0064-200",{"$f":"IF(AND(Config!$B$13<=Tarifs!F778,Config!$B$13>=Tarifs!E778),1,0)","v":0},"2026-04-01","2026-04-30",868]
["03-0064","20","03-0064-200",{"$f":"IF(AND(Config!$B$13<=Tarifs!F779,Config!$B$13>=Tarifs!E779),1,0)","v":0},"2026-05-01","2026-05-31",868]
["03-0064","20","03-0064-200",{"$f":"IF(AND(Config!$B$13<=Tarifs!F780,Config!$B$13>=Tarifs!E780),1,0)","v":0},"2026-11-01","2026-11-30",868]
["03-0064","20","03-0064-200",{"$f":"IF(AND(Config!$B$13<=Tarifs!F781,Config!$B$13>=Tarifs!E781),1,0)","v":0},"2026-12-01","2026-12-31",868]
["03-0064","10","03-0064-100",{"$f":"IF(AND(Config!$B$13<=Tarifs!F782,Config!$B$13>=Tarifs!E782),1,0)","v":0},"2026-06-01","2026-06-30",134]
["03-0064","10","03-0064-100",{"$f":"IF(AND(Config!$B$13<=Tarifs!F783,Config!$B$13>=Tarifs!E783),1,0)","v":0},"2026-07-01","2026-07-31",134]
["03-0064","10","03-0064-100",{"$f":"IF(AND(Config!$B$13<=Tarifs!F784,Config!$B$13>=Tarifs!E784),1,0)","v":0},"2026-08-01","2026-08-31",134]
["03-0064","10","03-0064-100",{"$f":"IF(AND(Config!$B$13<=Tarifs!F785,Config!$B$13>=Tarifs!E785),1,0)","v":0},"2026-09-01","2026-09-30",134]
["03-0064","10","03-0064-100",{"$f":"IF(AND(Config!$B$13<=Tarifs!F786,Config!$B$13>=Tarifs!E786),1,0)","v":0},"2026-10-01","2026-10-31",134]
["03-0064","10","03-0064-101",{"$f":"IF(AND(Config!$B$13<=Tarifs!F787,Config!$B$13>=Tarifs!E787),1,0)","v":1},"2026-01-01","2026-01-31",124]
["03-0064","10","03-0064-100",{"$f":"IF(AND(Config!$B$13<=Tarifs!F788,Config!$B$13>=Tarifs!E788),1,0)","v":0},"2026-02-01","2026-02-28",124]
["03-0064","10","03-0064-100",{"$f":"IF(AND(Config!$B$13<=Tarifs!F789,Config!$B$13>=Tarifs!E789),1,0)","v":0},"2026-03-01","2026-03-31",124]
["03-0064","10","03-0064-100",{"$f":"IF(AND(Config!$B$13<=Tarifs!F790,Config!$B$13>=Tarifs!E790),1,0)","v":0},"2026-04-01","2026-04-30",124]
["03-0064","10","03-0064-100",{"$f":"IF(AND(Config!$B$13<=Tarifs!F791,Config!$B$13>=Tarifs!E791),1,0)","v":0},"2026-05-01","2026-05-31",124]
["03-0064","10","03-0064-100",{"$f":"IF(AND(Config!$B$13<=Tarifs!F792,Config!$B$13>=Tarifs!E792),1,0)","v":0},"2026-11-01","2026-11-30",124]
["03-0064","10","03-0064-100",{"$f":"IF(AND(Config!$B$13<=Tarifs!F793,Config!$B$13>=Tarifs!E793),1,0)","v":0},"2026-12-01","2026-12-31",124]
["03-0066","30","03-0066-300",{"$f":"IF(AND(Config!$B$13<=Tarifs!F794,Config!$B$13>=Tarifs!E794),1,0)","v":0},"2026-05-01","2026-05-31",6570]
["03-0066","30","03-0066-300",{"$f":"IF(AND(Config!$B$13<=Tarifs!F795,Config!$B$13>=Tarifs!E795),1,0)","v":0},"2026-06-01","2026-06-30",6570]
["03-0066","30","03-0066-300",{"$f":"IF(AND(Config!$B$13<=Tarifs!F796,Config!$B$13>=Tarifs!E796),1,0)","v":0},"2026-07-01","2026-07-31",6570]
["03-0066","30","03-0066-300",{"$f":"IF(AND(Config!$B$13<=Tarifs!F797,Config!$B$13>=Tarifs!E797),1,0)","v":0},"2026-08-01","2026-08-31",6570]
["03-0066","30","03-0066-300",{"$f":"IF(AND(Config!$B$13<=Tarifs!F798,Config!$B$13>=Tarifs!E798),1,0)","v":0},"2026-09-01","2026-09-30",6570]
["03-0066","30","03-0066-300",{"$f":"IF(AND(Config!$B$13<=Tarifs!F799,Config!$B$13>=Tarifs!E799),1,0)","v":0},"2026-10-01","2026-10-31",5820]
["03-0066","30","03-0066-300",{"$f":"IF(AND(Config!$B$13<=Tarifs!F800,Config!$B$13>=Tarifs!E800),1,0)","v":0},"2026-03-01","2026-03-31",4470]
["03-0066","30","03-0066-300",{"$f":"IF(AND(Config!$B$13<=Tarifs!F801,Config!$B$13>=Tarifs!E801),1,0)","v":0},"2026-04-01","2026-04-30",4470]
["03-0066","30","03-0066-300",{"$f":"IF(AND(Config!$B$13<=Tarifs!F802,Config!$B$13>=Tarifs!E802),1,0)","v":0},"2026-11-01","2026-11-30",4170]
["03-0066","30","03-0066-300",{"$f":"IF(AND(Config!$B$13<=Tarifs!F803,Config!$B$13>=Tarifs!E803),1,0)","v":0},"2026-12-01","2026-12-31",4170]
["03-0066","30","03-0066-301",{"$f":"IF(AND(Config!$B$13<=Tarifs!F804,Config!$B$13>=Tarifs!E804),1,0)","v":1},"2026-01-01","2026-01-31",3870]
["03-0066","30","03-0066-300",{"$f":"IF(AND(Config!$B$13<=Tarifs!F805,Config!$B$13>=Tarifs!E805),1,0)","v":0},"2026-02-01","2026-02-28",3870]
["03-0066","20","03-0066-200",{"$f":"IF(AND(Config!$B$13<=Tarifs!F806,Config!$B$13>=Tarifs!E806),1,0)","v":0},"2026-05-01","2026-05-31",1533]
["03-0066","20","03-0066-200",{"$f":"IF(AND(Config!$B$13<=Tarifs!F807,Config!$B$13>=Tarifs!E807),1,0)","v":0},"2026-06-01","2026-06-30",1533]
["03-0066","20","03-0066-200",{"$f":"IF(AND(Config!$B$13<=Tarifs!F808,Config!$B$13>=Tarifs!E808),1,0)","v":0},"2026-07-01","2026-07-31",1533]
["03-0066","20","03-0066-200",{"$f":"IF(AND(Config!$B$13<=Tarifs!F809,Config!$B$13>=Tarifs!E809),1,0)","v":0},"2026-08-01","2026-08-31",1533]
["03-0066","20","03-0066-200",{"$f":"IF(AND(Config!$B$13<=Tarifs!F810,Config!$B$13>=Tarifs!E810),1,0)","v":0},"2026-09-01","2026-09-30",1533]
["03-0066","20","03-0066-200",{"$f":"IF(AND(Config!$B$13<=Tarifs!F811,Config!$B$13>=Tarifs!E811),1,0)","v":0},"2026-10-01","2026-10-31",1358]
["03-0066","20","03-0066-200",{"$f":"IF(AND(Config!$B$13<=Tarifs!F812,Config!$B$13>=Tarifs!E812),1,0)","v":0},"2026-03-01","2026-03-31",1043]
["03-0066","20","03-0066-200",{"$f":"IF(AND(Config!$B$13<=Tarifs!F813,Config!$B$13>=Tarifs!E813),1,0)","v":0},"2026-04-01","2026-04-30",1043]
["03-0066","20","03-0066-200",{"$f":"IF(AND(Config!$B$13<=Tarifs!F814,Config!$B$13>=Tarifs!E814),1,0)","v":0},"2026-11-01","2026-11-30",973]
["03-0066","20","03-0066-200",{"$f":"IF(AND(Config!$B$13<=Tarifs!F815,Config!$B$13>=Tarifs!E815),1,0)","v":0},"2026-12-01","2026-12-31",973]
["03-0066","20","03-0066-201",{"$f":"IF(AND(Config!$B$13<=Tarifs!F816,Config!$B$13>=Tarifs!E816),1,0)","v":1},"2026-01-01","2026-01-31",903]
["03-0066","20","03-0066-200",{"$f":"IF(AND(Config!$B$13<=Tarifs!F817,Config!$B$13>=Tarifs!E817),1,0)","v":0},"2026-02-01","2026-02-28",903]
["03-0066","10","03-0066-100",{"$f":"IF(AND(Config!$B$13<=Tarifs!F818,Config!$B$13>=Tarifs!E818),1,0)","v":0},"2026-05-01","2026-05-31",219]
["03-0066","10","03-0066-100",{"$f":"IF(AND(Config!$B$13<=Tarifs!F819,Config!$B$13>=Tarifs!E819),1,0)","v":0},"2026-06-01","2026-06-30",219]
["03-0066","10","03-0066-100",{"$f":"IF(AND(Config!$B$13<=Tarifs!F820,Config!$B$13>=Tarifs!E820),1,0)","v":0},"2026-07-01","2026-07-31",219]
["03-0066","10","03-0066-100",{"$f":"IF(AND(Config!$B$13<=Tarifs!F821,Config!$B$13>=Tarifs!E821),1,0)","v":0},"2026-08-01","2026-08-31",219]
["03-0066","10","03-0066-100",{"$f":"IF(AND(Config!$B$13<=Tarifs!F822,Config!$B$13>=Tarifs!E822),1,0)","v":0},"2026-09-01","2026-09-30",219]
["03-0066","10","03-0066-100",{"$f":"IF(AND(Config!$B$13<=Tarifs!F823,Config!$B$13>=Tarifs!E823),1,0)","v":0},"2026-10-01","2026-10-31",194]
["03-0066","10","03-0066-100",{"$f":"IF(AND(Config!$B$13<=Tarifs!F824,Config!$B$13>=Tarifs!E824),1,0)","v":0},"2026-03-01","2026-03-31",149]
["03-0066","10","03-0066-100",{"$f":"IF(AND(Config!$B$13<=Tarifs!F825,Config!$B$13>=Tarifs!E825),1,0)","v":0},"2026-04-01","2026-04-30",149]
["03-0066","10","03-0066-100",{"$f":"IF(AND(Config!$B$13<=Tarifs!F826,Config!$B$13>=Tarifs!E826),1,0)","v":0},"2026-11-01","2026-11-30",139]
["03-0066","10","03-0066-100",{"$f":"IF(AND(Config!$B$13<=Tarifs!F827,Config!$B$13>=Tarifs!E827),1,0)","v":0},"2026-12-01","2026-12-31",139]
["03-0066","10","03-0066-101",{"$f":"IF(AND(Config!$B$13<=Tarifs!F828,Config!$B$13>=Tarifs!E828),1,0)","v":1},"2026-01-01","2026-01-31",129]
["03-0066","10","03-0066-100",{"$f":"IF(AND(Config!$B$13<=Tarifs!F829,Config!$B$13>=Tarifs!E829),1,0)","v":0},"2026-02-01","2026-02-28",129]
["03-0081","30","03-0081-300",{"$f":"IF(AND(Config!$B$13<=Tarifs!F830,Config!$B$13>=Tarifs!E830),1,0)","v":0},"2026-05-01","2026-05-31",9450]
["03-0081","30","03-0081-300",{"$f":"IF(AND(Config!$B$13<=Tarifs!F831,Config!$B$13>=Tarifs!E831),1,0)","v":0},"2026-06-01","2026-06-30",9450]
["03-0081","30","03-0081-300",{"$f":"IF(AND(Config!$B$13<=Tarifs!F832,Config!$B$13>=Tarifs!E832),1,0)","v":0},"2026-07-01","2026-07-31",9450]
["03-0081","30","03-0081-300",{"$f":"IF(AND(Config!$B$13<=Tarifs!F833,Config!$B$13>=Tarifs!E833),1,0)","v":0},"2026-08-01","2026-08-31",9450]
["03-0081","30","03-0081-300",{"$f":"IF(AND(Config!$B$13<=Tarifs!F834,Config!$B$13>=Tarifs!E834),1,0)","v":0},"2026-09-01","2026-09-30",9450]
["03-0081","30",{"$f":"A835&\"-\"&B835&D835","v":"03-0081-300"},{"$f":"IF(AND(Config!$B$13<=Tarifs!F835,Config!$B$13>=Tarifs!E835),1,0)","v":0},"2026-10-01","2026-10-31",9450]
["03-0081","30","03-0081-301",{"$f":"IF(AND(Config!$B$13<=Tarifs!F836,Config!$B$13>=Tarifs!E836),1,0)","v":1},"2026-01-01","2026-01-31",7290]
["03-0081","30","03-0081-300",{"$f":"IF(AND(Config!$B$13<=Tarifs!F837,Config!$B$13>=Tarifs!E837),1,0)","v":0},"2026-02-01","2026-02-28",7290]
["03-0081","30","03-0081-300",{"$f":"IF(AND(Config!$B$13<=Tarifs!F838,Config!$B$13>=Tarifs!E838),1,0)","v":0},"2026-03-01","2026-03-31",7290]
["03-0081","30","03-0081-300",{"$f":"IF(AND(Config!$B$13<=Tarifs!F839,Config!$B$13>=Tarifs!E839),1,0)","v":0},"2026-04-01","2026-04-30",7290]
["03-0081","30","03-0081-300",{"$f":"IF(AND(Config!$B$13<=Tarifs!F840,Config!$B$13>=Tarifs!E840),1,0)","v":0},"2026-11-01","2026-11-30",7290]
["03-0081","30","03-0081-300",{"$f":"IF(AND(Config!$B$13<=Tarifs!F841,Config!$B$13>=Tarifs!E841),1,0)","v":0},"2026-12-01","2026-12-31",7290]
["03-0081","20","03-0081-200",{"$f":"IF(AND(Config!$B$13<=Tarifs!F842,Config!$B$13>=Tarifs!E842),1,0)","v":0},"2026-05-01","2026-05-31",2205]
["03-0081","20","03-0081-200",{"$f":"IF(AND(Config!$B$13<=Tarifs!F843,Config!$B$13>=Tarifs!E843),1,0)","v":0},"2026-06-01","2026-06-30",2205]
["03-0081","20","03-0081-200",{"$f":"IF(AND(Config!$B$13<=Tarifs!F844,Config!$B$13>=Tarifs!E844),1,0)","v":0},"2026-07-01","2026-07-31",2205]
["03-0081","20","03-0081-200",{"$f":"IF(AND(Config!$B$13<=Tarifs!F845,Config!$B$13>=Tarifs!E845),1,0)","v":0},"2026-08-01","2026-08-31",2205]
["03-0081","20","03-0081-200",{"$f":"IF(AND(Config!$B$13<=Tarifs!F846,Config!$B$13>=Tarifs!E846),1,0)","v":0},"2026-09-01","2026-09-30",2205]
["03-0081","20","03-0081-200",{"$f":"IF(AND(Config!$B$13<=Tarifs!F847,Config!$B$13>=Tarifs!E847),1,0)","v":0},"2026-10-01","2026-10-31",2205]
["03-0081","20","03-0081-201",{"$f":"IF(AND(Config!$B$13<=Tarifs!F848,Config!$B$13>=Tarifs!E848),1,0)","v":1},"2026-01-01","2026-01-31",1701]
["03-0081","20","03-0081-200",{"$f":"IF(AND(Config!$B$13<=Tarifs!F849,Config!$B$13>=Tarifs!E849),1,0)","v":0},"2026-02-01","2026-02-28",1701]
["03-0081","20","03-0081-200",{"$f":"IF(AND(Config!$B$13<=Tarifs!F850,Config!$B$13>=Tarifs!E850),1,0)","v":0},"2026-03-01","2026-03-31",1701]
["03-0081","20","03-0081-200",{"$f":"IF(AND(Config!$B$13<=Tarifs!F851,Config!$B$13>=Tarifs!E851),1,0)","v":0},"2026-04-01","2026-04-30",1701]
["03-0081","20","03-0081-200",{"$f":"IF(AND(Config!$B$13<=Tarifs!F852,Config!$B$13>=Tarifs!E852),1,0)","v":0},"2026-11-01","2026-11-30",1701]
["03-0081","20","03-0081-200",{"$f":"IF(AND(Config!$B$13<=Tarifs!F853,Config!$B$13>=Tarifs!E853),1,0)","v":0},"2026-12-01","2026-12-31",1701]
["03-0081","10","03-0081-100",{"$f":"IF(AND(Config!$B$13<=Tarifs!F854,Config!$B$13>=Tarifs!E854),1,0)","v":0},"2026-05-01","2026-05-31",315]
["03-0081","10","03-0081-100",{"$f":"IF(AND(Config!$B$13<=Tarifs!F855,Config!$B$13>=Tarifs!E855),1,0)","v":0},"2026-06-01","2026-06-30",315]
["03-0081","10","03-0081-100",{"$f":"IF(AND(Config!$B$13<=Tarifs!F856,Config!$B$13>=Tarifs!E856),1,0)","v":0},"2026-07-01","2026-07-31",315]
["03-0081","10","03-0081-100",{"$f":"IF(AND(Config!$B$13<=Tarifs!F857,Config!$B$13>=Tarifs!E857),1,0)","v":0},"2026-08-01","2026-08-31",315]
["03-0081","10","03-0081-100",{"$f":"IF(AND(Config!$B$13<=Tarifs!F858,Config!$B$13>=Tarifs!E858),1,0)","v":0},"2026-09-01","2026-09-30",315]
["03-0081","10","03-0081-100",{"$f":"IF(AND(Config!$B$13<=Tarifs!F859,Config!$B$13>=Tarifs!E859),1,0)","v":0},"2026-10-01","2026-10-31",315]
["03-0081","10","03-0081-101",{"$f":"IF(AND(Config!$B$13<=Tarifs!F860,Config!$B$13>=Tarifs!E860),1,0)","v":1},"2026-01-01","2026-01-31",243]
["03-0081","10","03-0081-100",{"$f":"IF(AND(Config!$B$13<=Tarifs!F861,Config!$B$13>=Tarifs!E861),1,0)","v":0},"2026-02-01","2026-02-28",243]
["03-0081","10","03-0081-100",{"$f":"IF(AND(Config!$B$13<=Tarifs!F862,Config!$B$13>=Tarifs!E862),1,0)","v":0},"2026-03-01","2026-03-31",243]
["03-0081","10","03-0081-100",{"$f":"IF(AND(Config!$B$13<=Tarifs!F863,Config!$B$13>=Tarifs!E863),1,0)","v":0},"2026-04-01","2026-04-30",243]
["03-0081","10","03-0081-100",{"$f":"IF(AND(Config!$B$13<=Tarifs!F864,Config!$B$13>=Tarifs!E864),1,0)","v":0},"2026-11-01","2026-11-30",243]
["03-0081","10","03-0081-100",{"$f":"IF(AND(Config!$B$13<=Tarifs!F865,Config!$B$13>=Tarifs!E865),1,0)","v":0},"2026-12-01","2026-12-31",243]
["03-0107","30","03-0107-300",{"$f":"IF(AND(Config!$B$13<=Tarifs!F866,Config!$B$13>=Tarifs!E866),1,0)","v":0},"2026-05-01","2026-05-31",6270]
["03-0107","30","03-0107-300",{"$f":"IF(AND(Config!$B$13<=Tarifs!F867,Config!$B$13>=Tarifs!E867),1,0)","v":0},"2026-06-01","2026-06-30",6270]
["03-0107","30","03-0107-300",{"$f":"IF(AND(Config!$B$13<=Tarifs!F868,Config!$B$13>=Tarifs!E868),1,0)","v":0},"2026-07-01","2026-07-31",6270]
["03-0107","30","03-0107-300",{"$f":"IF(AND(Config!$B$13<=Tarifs!F869,Config!$B$13>=Tarifs!E869),1,0)","v":0},"2026-08-01","2026-08-31",6270]
["03-0107","30","03-0107-300",{"$f":"IF(AND(Config!$B$13<=Tarifs!F870,Config!$B$13>=Tarifs!E870),1,0)","v":0},"2026-09-01","2026-09-30",6270]
["03-0107","30","03-0107-300",{"$f":"IF(AND(Config!$B$13<=Tarifs!F871,Config!$B$13>=Tarifs!E871),1,0)","v":0},"2026-10-01","2026-10-31",6270]
["03-0107","30","03-0107-301",{"$f":"IF(AND(Config!$B$13<=Tarifs!F872,Config!$B$13>=Tarifs!E872),1,0)","v":1},"2026-01-01","2026-01-31",5970]
["03-0107","30","03-0107-300",{"$f":"IF(AND(Config!$B$13<=Tarifs!F873,Config!$B$13>=Tarifs!E873),1,0)","v":0},"2026-02-01","2026-02-28",5970]
["03-0107","30","03-0107-300",{"$f":"IF(AND(Config!$B$13<=Tarifs!F874,Config!$B$13>=Tarifs!E874),1,0)","v":0},"2026-03-01","2026-03-31",5970]
["03-0107","30","03-0107-300",{"$f":"IF(AND(Config!$B$13<=Tarifs!F875,Config!$B$13>=Tarifs!E875),1,0)","v":0},"2026-04-01","2026-04-30",5970]
["03-0107","30","03-0107-300",{"$f":"IF(AND(Config!$B$13<=Tarifs!F876,Config!$B$13>=Tarifs!E876),1,0)","v":0},"2026-11-01","2026-11-30",5970]
["03-0107","30","03-0107-300",{"$f":"IF(AND(Config!$B$13<=Tarifs!F877,Config!$B$13>=Tarifs!E877),1,0)","v":0},"2026-12-01","2026-12-31",5970]
["03-0107","20","03-0107-200",{"$f":"IF(AND(Config!$B$13<=Tarifs!F878,Config!$B$13>=Tarifs!E878),1,0)","v":0},"2026-05-01","2026-05-31",1463]
["03-0107","20","03-0107-200",{"$f":"IF(AND(Config!$B$13<=Tarifs!F879,Config!$B$13>=Tarifs!E879),1,0)","v":0},"2026-06-01","2026-06-30",1463]
["03-0107","20","03-0107-200",{"$f":"IF(AND(Config!$B$13<=Tarifs!F880,Config!$B$13>=Tarifs!E880),1,0)","v":0},"2026-07-01","2026-07-31",1463]
["03-0107","20","03-0107-200",{"$f":"IF(AND(Config!$B$13<=Tarifs!F881,Config!$B$13>=Tarifs!E881),1,0)","v":0},"2026-08-01","2026-08-31",1463]
["03-0107","20","03-0107-200",{"$f":"IF(AND(Config!$B$13<=Tarifs!F882,Config!$B$13>=Tarifs!E882),1,0)","v":0},"2026-09-01","2026-09-30",1463]
["03-0107","20","03-0107-200",{"$f":"IF(AND(Config!$B$13<=Tarifs!F883,Config!$B$13>=Tarifs!E883),1,0)","v":0},"2026-10-01","2026-10-31",1463]
["03-0107","20","03-0107-201",{"$f":"IF(AND(Config!$B$13<=Tarifs!F884,Config!$B$13>=Tarifs!E884),1,0)","v":1},"2026-01-01","2026-01-31",1393]
["03-0107","20","03-0107-200",{"$f":"IF(AND(Config!$B$13<=Tarifs!F885,Config!$B$13>=Tarifs!E885),1,0)","v":0},"2026-02-01","2026-02-28",1393]
["03-0107","20","03-0107-200",{"$f":"IF(AND(Config!$B$13<=Tarifs!F886,Config!$B$13>=Tarifs!E886),1,0)","v":0},"2026-03-01","2026-03-31",1393]
["03-0107","20","03-0107-200",{"$f":"IF(AND(Config!$B$13<=Tarifs!F887,Config!$B$13>=Tarifs!E887),1,0)","v":0},"2026-04-01","2026-04-30",1393]
["03-0107","20","03-0107-200",{"$f":"IF(AND(Config!$B$13<=Tarifs!F888,Config!$B$13>=Tarifs!E888),1,0)","v":0},"2026-11-01","2026-11-30",1393]
["03-0107","20","03-0107-200",{"$f":"IF(AND(Config!$B$13<=Tarifs!F889,Config!$B$13>=Tarifs!E889),1,0)","v":0},"2026-12-01","2026-12-31",1393]
["03-0107","10","03-0107-100",{"$f":"IF(AND(Config!$B$13<=Tarifs!F890,Config!$B$13>=Tarifs!E890),1,0)","v":0},"2026-05-01","2026-05-31",209]
["03-0107","10","03-0107-100",{"$f":"IF(AND(Config!$B$13<=Tarifs!F891,Config!$B$13>=Tarifs!E891),1,0)","v":0},"2026-06-01","2026-06-30",209]
["03-0107","10","03-0107-100",{"$f":"IF(AND(Config!$B$13<=Tarifs!F892,Config!$B$13>=Tarifs!E892),1,0)","v":0},"2026-07-01","2026-07-31",209]
["03-0107","10","03-0107-100",{"$f":"IF(AND(Config!$B$13<=Tarifs!F893,Config!$B$13>=Tarifs!E893),1,0)","v":0},"2026-08-01","2026-08-31",209]
["03-0107","10","03-0107-100",{"$f":"IF(AND(Config!$B$13<=Tarifs!F894,Config!$B$13>=Tarifs!E894),1,0)","v":0},"2026-09-01","2026-09-30",209]
["03-0107","10","03-0107-100",{"$f":"IF(AND(Config!$B$13<=Tarifs!F895,Config!$B$13>=Tarifs!E895),1,0)","v":0},"2026-10-01","2026-10-31",209]
["03-0107","10","03-0107-101",{"$f":"IF(AND(Config!$B$13<=Tarifs!F896,Config!$B$13>=Tarifs!E896),1,0)","v":1},"2026-01-01","2026-01-31",199]
["03-0107","10","03-0107-100",{"$f":"IF(AND(Config!$B$13<=Tarifs!F897,Config!$B$13>=Tarifs!E897),1,0)","v":0},"2026-02-01","2026-02-28",199]
["03-0107","10","03-0107-100",{"$f":"IF(AND(Config!$B$13<=Tarifs!F898,Config!$B$13>=Tarifs!E898),1,0)","v":0},"2026-03-01","2026-03-31",199]
["03-0107","10",{"$f":"A899&\"-\"&B899&D899","v":"03-0107-100"},{"$f":"IF(AND(Config!$B$13<=Tarifs!F899,Config!$B$13>=Tarifs!E899),1,0)","v":0},"2026-04-01","2026-04-30",199]
["03-0107","10","03-0107-100",{"$f":"IF(AND(Config!$B$13<=Tarifs!F900,Config!$B$13>=Tarifs!E900),1,0)","v":0},"2026-11-01","2026-11-30",199]
["03-0107","10","03-0107-100",{"$f":"IF(AND(Config!$B$13<=Tarifs!F901,Config!$B$13>=Tarifs!E901),1,0)","v":0},"2026-12-01","2026-12-31",199]
["04-0002","30","04-0002-300",{"$f":"IF(AND(Config!$B$13<=Tarifs!F902,Config!$B$13>=Tarifs!E902),1,0)","v":0},"2026-04-01","2026-04-30",3720]
["04-0002","30","04-0002-300",{"$f":"IF(AND(Config!$B$13<=Tarifs!F903,Config!$B$13>=Tarifs!E903),1,0)","v":0},"2026-05-01","2026-05-31",3720]
["04-0002","30","04-0002-300",{"$f":"IF(AND(Config!$B$13<=Tarifs!F904,Config!$B$13>=Tarifs!E904),1,0)","v":0},"2026-06-01","2026-06-30",3720]
["04-0002","30","04-0002-300",{"$f":"IF(AND(Config!$B$13<=Tarifs!F905,Config!$B$13>=Tarifs!E905),1,0)","v":0},"2026-07-01","2026-07-31",3720]
["04-0002","30","04-0002-300",{"$f":"IF(AND(Config!$B$13<=Tarifs!F906,Config!$B$13>=Tarifs!E906),1,0)","v":0},"2026-08-01","2026-08-31",3720]
["04-0002","30","04-0002-300",{"$f":"IF(AND(Config!$B$13<=Tarifs!F907,Config!$B$13>=Tarifs!E907),1,0)","v":0},"2026-09-01","2026-09-30",3720]
["04-0002","30","04-0002-300",{"$f":"IF(AND(Config!$B$13<=Tarifs!F908,Config!$B$13>=Tarifs!E908),1,0)","v":0},"2026-10-01","2026-10-31",3720]
["04-0002","30","04-0002-300",{"$f":"IF(AND(Config!$B$13<=Tarifs!F909,Config!$B$13>=Tarifs!E909),1,0)","v":0},"2026-11-01","2026-11-30",3720]
["04-0002","30","04-0002-300",{"$f":"IF(AND(Config!$B$13<=Tarifs!F910,Config!$B$13>=Tarifs!E910),1,0)","v":0},"2026-12-01","2026-12-31",3720]
["04-0002","30","04-0002-301",{"$f":"IF(AND(Config!$B$13<=Tarifs!F911,Config!$B$13>=Tarifs!E911),1,0)","v":1},"2026-01-01","2026-01-31",3720]
["04-0002","30","04-0002-300",{"$f":"IF(AND(Config!$B$13<=Tarifs!F912,Config!$B$13>=Tarifs!E912),1,0)","v":0},"2026-02-01","2026-02-28",3720]
["04-0002","30","04-0002-300",{"$f":"IF(AND(Config!$B$13<=Tarifs!F913,Config!$B$13>=Tarifs!E913),1,0)","v":0},"2026-03-01","2026-03-31",3720]
["04-0002","20","04-0002-200",{"$f":"IF(AND(Config!$B$13<=Tarifs!F914,Config!$B$13>=Tarifs!E914),1,0)","v":0},"2026-04-01","2026-04-30",868]
["04-0002","20","04-0002-200",{"$f":"IF(AND(Config!$B$13<=Tarifs!F915,Config!$B$13>=Tarifs!E915),1,0)","v":0},"2026-05-01","2026-05-31",868]
["04-0002","20","04-0002-200",{"$f":"IF(AND(Config!$B$13<=Tarifs!F916,Config!$B$13>=Tarifs!E916),1,0)","v":0},"2026-06-01","2026-06-30",868]
["04-0002","20","04-0002-200",{"$f":"IF(AND(Config!$B$13<=Tarifs!F917,Config!$B$13>=Tarifs!E917),1,0)","v":0},"2026-07-01","2026-07-31",868]
["04-0002","20","04-0002-200",{"$f":"IF(AND(Config!$B$13<=Tarifs!F918,Config!$B$13>=Tarifs!E918),1,0)","v":0},"2026-08-01","2026-08-31",868]
["04-0002","20","04-0002-200",{"$f":"IF(AND(Config!$B$13<=Tarifs!F919,Config!$B$13>=Tarifs!E919),1,0)","v":0},"2026-09-01","2026-09-30",868]
["04-0002","20","04-0002-200",{"$f":"IF(AND(Config!$B$13<=Tarifs!F920,Config!$B$13>=Tarifs!E920),1,0)","v":0},"2026-10-01","2026-10-31",868]
["04-0002","20","04-0002-200",{"$f":"IF(AND(Config!$B$13<=Tarifs!F921,Config!$B$13>=Tarifs!E921),1,0)","v":0},"2026-11-01","2026-11-30",868]
["04-0002","20","04-0002-200",{"$f":"IF(AND(Config!$B$13<=Tarifs!F922,Config!$B$13>=Tarifs!E922),1,0)","v":0},"2026-12-01","2026-12-31",868]
["04-0002","20","04-0002-201",{"$f":"IF(AND(Config!$B$13<=Tarifs!F923,Config!$B$13>=Tarifs!E923),1,0)","v":1},"2026-01-01","2026-01-31",868]
["04-0002","20","04-0002-200",{"$f":"IF(AND(Config!$B$13<=Tarifs!F924,Config!$B$13>=Tarifs!E924),1,0)","v":0},"2026-02-01","2026-02-28",868]
["04-0002","20","04-0002-200",{"$f":"IF(AND(Config!$B$13<=Tarifs!F925,Config!$B$13>=Tarifs!E925),1,0)","v":0},"2026-03-01","2026-03-31",868]
["04-0002","10","04-0002-100",{"$f":"IF(AND(Config!$B$13<=Tarifs!F926,Config!$B$13>=Tarifs!E926),1,0)","v":0},"2026-05-01","2026-05-31",124]
["04-0002","10","04-0002-100",{"$f":"IF(AND(Config!$B$13<=Tarifs!F927,Config!$B$13>=Tarifs!E927),1,0)","v":0},"2026-06-01","2026-06-30",124]
["04-0002","10","04-0002-100",{"$f":"IF(AND(Config!$B$13<=Tarifs!F928,Config!$B$13>=Tarifs!E928),1,0)","v":0},"2026-07-01","2026-07-31",124]
["04-0002","10","04-0002-100",{"$f":"IF(AND(Config!$B$13<=Tarifs!F929,Config!$B$13>=Tarifs!E929),1,0)","v":0},"2026-08-01","2026-08-31",124]
["04-0002","10","04-0002-100",{"$f":"IF(AND(Config!$B$13<=Tarifs!F930,Config!$B$13>=Tarifs!E930),1,0)","v":0},"2026-09-01","2026-09-30",124]
["04-0002","10","04-0002-100",{"$f":"IF(AND(Config!$B$13<=Tarifs!F931,Config!$B$13>=Tarifs!E931),1,0)","v":0},"2026-10-01","2026-10-31",124]
["04-0002","10","04-0002-100",{"$f":"IF(AND(Config!$B$13<=Tarifs!F932,Config!$B$13>=Tarifs!E932),1,0)","v":0},"2026-11-01","2026-11-30",124]
["04-0002","10","04-0002-100",{"$f":"IF(AND(Config!$B$13<=Tarifs!F933,Config!$B$13>=Tarifs!E933),1,0)","v":0},"2026-12-01","2026-12-31",124]
["04-0002","10","04-0002-101",{"$f":"IF(AND(Config!$B$13<=Tarifs!F934,Config!$B$13>=Tarifs!E934),1,0)","v":1},"2026-01-01","2026-01-31",124]
["04-0002","10","04-0002-100",{"$f":"IF(AND(Config!$B$13<=Tarifs!F935,Config!$B$13>=Tarifs!E935),1,0)","v":0},"2026-02-01","2026-02-28",124]
["04-0002","10","04-0002-100",{"$f":"IF(AND(Config!$B$13<=Tarifs!F936,Config!$B$13>=Tarifs!E936),1,0)","v":0},"2026-03-01","2026-03-31",124]
["04-0002","10","04-0002-100",{"$f":"IF(AND(Config!$B$13<=Tarifs!F937,Config!$B$13>=Tarifs!E937),1,0)","v":0},"2026-04-01","2026-04-30",124]
["04-0015","30","04-0015-301",{"$f":"IF(AND(Config!$B$13<=Tarifs!F938,Config!$B$13>=Tarifs!E938),1,0)","v":1},"2026-01-01","2026-01-31",5550]
["04-0015","30","04-0015-300",{"$f":"IF(AND(Config!$B$13<=Tarifs!F939,Config!$B$13>=Tarifs!E939),1,0)","v":0},"2026-02-01","2026-02-28",5550]
["04-0015","30","04-0015-300",{"$f":"IF(AND(Config!$B$13<=Tarifs!F940,Config!$B$13>=Tarifs!E940),1,0)","v":0},"2026-03-01","2026-03-31",5550]
["04-0015","30","04-0015-300",{"$f":"IF(AND(Config!$B$13<=Tarifs!F941,Config!$B$13>=Tarifs!E941),1,0)","v":0},"2026-04-01","2026-04-30",5550]
["04-0015","30","04-0015-300",{"$f":"IF(AND(Config!$B$13<=Tarifs!F942,Config!$B$13>=Tarifs!E942),1,0)","v":0},"2026-05-01","2026-05-31",5550]
["04-0015","30","04-0015-300",{"$f":"IF(AND(Config!$B$13<=Tarifs!F943,Config!$B$13>=Tarifs!E943),1,0)","v":0},"2026-06-01","2026-06-30",5550]
["04-0015","30","04-0015-300",{"$f":"IF(AND(Config!$B$13<=Tarifs!F944,Config!$B$13>=Tarifs!E944),1,0)","v":0},"2026-07-01","2026-07-31",5550]
["04-0015","30","04-0015-300",{"$f":"IF(AND(Config!$B$13<=Tarifs!F945,Config!$B$13>=Tarifs!E945),1,0)","v":0},"2026-08-01","2026-08-31",5550]
["04-0015","30","04-0015-300",{"$f":"IF(AND(Config!$B$13<=Tarifs!F946,Config!$B$13>=Tarifs!E946),1,0)","v":0},"2026-09-01","2026-09-30",5550]
["04-0015","30","04-0015-300",{"$f":"IF(AND(Config!$B$13<=Tarifs!F947,Config!$B$13>=Tarifs!E947),1,0)","v":0},"2026-10-01","2026-10-31",5550]
["04-0015","30","04-0015-300",{"$f":"IF(AND(Config!$B$13<=Tarifs!F948,Config!$B$13>=Tarifs!E948),1,0)","v":0},"2026-11-01","2026-11-30",5550]
["04-0015","30","04-0015-300",{"$f":"IF(AND(Config!$B$13<=Tarifs!F949,Config!$B$13>=Tarifs!E949),1,0)","v":0},"2026-12-01","2026-12-31",5550]
["04-0015","20","04-0015-201",{"$f":"IF(AND(Config!$B$13<=Tarifs!F950,Config!$B$13>=Tarifs!E950),1,0)","v":1},"2026-01-01","2026-01-31",1295]
["04-0015","20","04-0015-200",{"$f":"IF(AND(Config!$B$13<=Tarifs!F951,Config!$B$13>=Tarifs!E951),1,0)","v":0},"2026-02-01","2026-02-28",1295]
["04-0015","20","04-0015-200",{"$f":"IF(AND(Config!$B$13<=Tarifs!F952,Config!$B$13>=Tarifs!E952),1,0)","v":0},"2026-03-01","2026-03-31",1295]
["04-0015","20","04-0015-200",{"$f":"IF(AND(Config!$B$13<=Tarifs!F953,Config!$B$13>=Tarifs!E953),1,0)","v":0},"2026-04-01","2026-04-30",1295]
["04-0015","20","04-0015-200",{"$f":"IF(AND(Config!$B$13<=Tarifs!F954,Config!$B$13>=Tarifs!E954),1,0)","v":0},"2026-05-01","2026-05-31",1295]
["04-0015","20","04-0015-200",{"$f":"IF(AND(Config!$B$13<=Tarifs!F955,Config!$B$13>=Tarifs!E955),1,0)","v":0},"2026-06-01","2026-06-30",1295]
["04-0015","20","04-0015-200",{"$f":"IF(AND(Config!$B$13<=Tarifs!F956,Config!$B$13>=Tarifs!E956),1,0)","v":0},"2026-07-01","2026-07-31",1295]
["04-0015","20","04-0015-200",{"$f":"IF(AND(Config!$B$13<=Tarifs!F957,Config!$B$13>=Tarifs!E957),1,0)","v":0},"2026-08-01","2026-08-31",1295]
["04-0015","20","04-0015-200",{"$f":"IF(AND(Config!$B$13<=Tarifs!F958,Config!$B$13>=Tarifs!E958),1,0)","v":0},"2026-09-01","2026-09-30",1295]
["04-0015","20","04-0015-200",{"$f":"IF(AND(Config!$B$13<=Tarifs!F959,Config!$B$13>=Tarifs!E959),1,0)","v":0},"2026-10-01","2026-10-31",1295]
["04-0015","20","04-0015-200",{"$f":"IF(AND(Config!$B$13<=Tarifs!F960,Config!$B$13>=Tarifs!E960),1,0)","v":0},"2026-11-01","2026-11-30",1295]
["04-0015","20","04-0015-200",{"$f":"IF(AND(Config!$B$13<=Tarifs!F961,Config!$B$13>=Tarifs!E961),1,0)","v":0},"2026-12-01","2026-12-31",1295]
["04-0015","10","04-0015-101",{"$f":"IF(AND(Config!$B$13<=Tarifs!F962,Config!$B$13>=Tarifs!E962),1,0)","v":1},"2026-01-01","2026-01-31",185]
["04-0015","10",{"$f":"A963&\"-\"&B963&D963","v":"04-0015-100"},{"$f":"IF(AND(Config!$B$13<=Tarifs!F963,Config!$B$13>=Tarifs!E963),1,0)","v":0},"2026-02-01","2026-02-28",185]
["04-0015","10","04-0015-100",{"$f":"IF(AND(Config!$B$13<=Tarifs!F964,Config!$B$13>=Tarifs!E964),1,0)","v":0},"2026-03-01","2026-03-31",185]
["04-0015","10","04-0015-100",{"$f":"IF(AND(Config!$B$13<=Tarifs!F965,Config!$B$13>=Tarifs!E965),1,0)","v":0},"2026-04-01","2026-04-30",185]
["04-0015","10","04-0015-100",{"$f":"IF(AND(Config!$B$13<=Tarifs!F966,Config!$B$13>=Tarifs!E966),1,0)","v":0},"2026-05-01","2026-05-31",185]
["04-0015","10","04-0015-100",{"$f":"IF(AND(Config!$B$13<=Tarifs!F967,Config!$B$13>=Tarifs!E967),1,0)","v":0},"2026-06-01","2026-06-30",185]
["04-0015","10","04-0015-100",{"$f":"IF(AND(Config!$B$13<=Tarifs!F968,Config!$B$13>=Tarifs!E968),1,0)","v":0},"2026-07-01","2026-07-31",185]
["04-0015","10","04-0015-100",{"$f":"IF(AND(Config!$B$13<=Tarifs!F969,Config!$B$13>=Tarifs!E969),1,0)","v":0},"2026-08-01","2026-08-31",185]
["04-0015","10","04-0015-100",{"$f":"IF(AND(Config!$B$13<=Tarifs!F970,Config!$B$13>=Tarifs!E970),1,0)","v":0},"2026-09-01","2026-09-30",185]
["04-0015","10","04-0015-100",{"$f":"IF(AND(Config!$B$13<=Tarifs!F971,Config!$B$13>=Tarifs!E971),1,0)","v":0},"2026-10-01","2026-10-31",185]
["04-0015","10","04-0015-100",{"$f":"IF(AND(Config!$B$13<=Tarifs!F972,Config!$B$13>=Tarifs!E972),1,0)","v":0},"2026-11-01","2026-11-30",185]
["04-0015","10","04-0015-100",{"$f":"IF(AND(Config!$B$13<=Tarifs!F973,Config!$B$13>=Tarifs!E973),1,0)","v":0},"2026-12-01","2026-12-31",185]
["05-0001","30","05-0001-300",{"$f":"IF(AND(Config!$B$13<=Tarifs!F974,Config!$B$13>=Tarifs!E974),1,0)","v":0},"2026-07-01","2026-07-31",5550]
["05-0001","30","05-0001-300",{"$f":"IF(AND(Config!$B$13<=Tarifs!F975,Config!$B$13>=Tarifs!E975),1,0)","v":0},"2026-08-01","2026-08-31",5550]
["05-0001","30","05-0001-300",{"$f":"IF(AND(Config!$B$13<=Tarifs!F976,Config!$B$13>=Tarifs!E976),1,0)","v":0},"2026-09-01","2026-09-30",4470]
["05-0001","30","05-0001-300",{"$f":"IF(AND(Config!$B$13<=Tarifs!F977,Config!$B$13>=Tarifs!E977),1,0)","v":0},"2026-10-01","2026-10-31",4470]
["05-0001","30","05-0001-300",{"$f":"IF(AND(Config!$B$13<=Tarifs!F978,Config!$B$13>=Tarifs!E978),1,0)","v":0},"2026-04-01","2026-04-30",4350]
["05-0001","30","05-0001-300",{"$f":"IF(AND(Config!$B$13<=Tarifs!F979,Config!$B$13>=Tarifs!E979),1,0)","v":0},"2026-05-01","2026-05-31",4350]
["05-0001","30","05-0001-300",{"$f":"IF(AND(Config!$B$13<=Tarifs!F980,Config!$B$13>=Tarifs!E980),1,0)","v":0},"2026-06-01","2026-06-30",4350]
["05-0001","30","05-0001-300",{"$f":"IF(AND(Config!$B$13<=Tarifs!F981,Config!$B$13>=Tarifs!E981),1,0)","v":0},"2026-11-01","2026-11-30",4170]
["05-0001","30","05-0001-300",{"$f":"IF(AND(Config!$B$13<=Tarifs!F982,Config!$B$13>=Tarifs!E982),1,0)","v":0},"2026-12-01","2026-12-31",4170]
["05-0001","30","05-0001-301",{"$f":"IF(AND(Config!$B$13<=Tarifs!F983,Config!$B$13>=Tarifs!E983),1,0)","v":1},"2026-01-01","2026-01-31",4050]
["05-0001","30","05-0001-300",{"$f":"IF(AND(Config!$B$13<=Tarifs!F984,Config!$B$13>=Tarifs!E984),1,0)","v":0},"2026-02-01","2026-02-28",4050]
["05-0001","30","05-0001-300",{"$f":"IF(AND(Config!$B$13<=Tarifs!F985,Config!$B$13>=Tarifs!E985),1,0)","v":0},"2026-03-01","2026-03-31",4050]
["05-0001","20","05-0001-200",{"$f":"IF(AND(Config!$B$13<=Tarifs!F986,Config!$B$13>=Tarifs!E986),1,0)","v":0},"2026-07-01","2026-07-31",1295]
["05-0001","20","05-0001-200",{"$f":"IF(AND(Config!$B$13<=Tarifs!F987,Config!$B$13>=Tarifs!E987),1,0)","v":0},"2026-08-01","2026-08-31",1295]
["05-0001","20","05-0001-200",{"$f":"IF(AND(Config!$B$13<=Tarifs!F988,Config!$B$13>=Tarifs!E988),1,0)","v":0},"2026-09-01","2026-09-30",1043]
["05-0001","20","05-0001-200",{"$f":"IF(AND(Config!$B$13<=Tarifs!F989,Config!$B$13>=Tarifs!E989),1,0)","v":0},"2026-10-01","2026-10-31",1043]
["05-0001","20","05-0001-200",{"$f":"IF(AND(Config!$B$13<=Tarifs!F990,Config!$B$13>=Tarifs!E990),1,0)","v":0},"2026-04-01","2026-04-30",1015]
["05-0001","20","05-0001-200",{"$f":"IF(AND(Config!$B$13<=Tarifs!F991,Config!$B$13>=Tarifs!E991),1,0)","v":0},"2026-05-01","2026-05-31",1015]
["05-0001","20","05-0001-200",{"$f":"IF(AND(Config!$B$13<=Tarifs!F992,Config!$B$13>=Tarifs!E992),1,0)","v":0},"2026-06-01","2026-06-30",1015]
["05-0001","20","05-0001-200",{"$f":"IF(AND(Config!$B$13<=Tarifs!F993,Config!$B$13>=Tarifs!E993),1,0)","v":0},"2026-11-01","2026-11-30",973]
["05-0001","20","05-0001-200",{"$f":"IF(AND(Config!$B$13<=Tarifs!F994,Config!$B$13>=Tarifs!E994),1,0)","v":0},"2026-12-01","2026-12-31",973]
["05-0001","20","05-0001-201",{"$f":"IF(AND(Config!$B$13<=Tarifs!F995,Config!$B$13>=Tarifs!E995),1,0)","v":1},"2026-01-01","2026-01-31",945]
["05-0001","20","05-0001-200",{"$f":"IF(AND(Config!$B$13<=Tarifs!F996,Config!$B$13>=Tarifs!E996),1,0)","v":0},"2026-02-01","2026-02-28",945]
["05-0001","20","05-0001-200",{"$f":"IF(AND(Config!$B$13<=Tarifs!F997,Config!$B$13>=Tarifs!E997),1,0)","v":0},"2026-03-01","2026-03-31",945]
["05-0001","10","05-0001-100",{"$f":"IF(AND(Config!$B$13<=Tarifs!F998,Config!$B$13>=Tarifs!E998),1,0)","v":0},"2026-07-01","2026-07-31",185]
["05-0001","10","05-0001-100",{"$f":"IF(AND(Config!$B$13<=Tarifs!F999,Config!$B$13>=Tarifs!E999),1,0)","v":0},"2026-08-01","2026-08-31",185]
["05-0001","10","05-0001-100",{"$f":"IF(AND(Config!$B$13<=Tarifs!F1000,Config!$B$13>=Tarifs!E1000),1,0)","v":0},"2026-09-01","2026-09-30",149]
["05-0001","10","05-0001-100",{"$f":"IF(AND(Config!$B$13<=Tarifs!F1001,Config!$B$13>=Tarifs!E1001),1,0)","v":0},"2026-10-01","2026-10-31",149]
["05-0001","10","05-0001-100",{"$f":"IF(AND(Config!$B$13<=Tarifs!F1002,Config!$B$13>=Tarifs!E1002),1,0)","v":0},"2026-04-01","2026-04-30",145]
["05-0001","10","05-0001-100",{"$f":"IF(AND(Config!$B$13<=Tarifs!F1003,Config!$B$13>=Tarifs!E1003),1,0)","v":0},"2026-05-01","2026-05-31",145]
["05-0001","10","05-0001-100",{"$f":"IF(AND(Config!$B$13<=Tarifs!F1004,Config!$B$13>=Tarifs!E1004),1,0)","v":0},"2026-06-01","2026-06-30",145]
["05-0001","10","05-0001-100",{"$f":"IF(AND(Config!$B$13<=Tarifs!F1005,Config!$B$13>=Tarifs!E1005),1,0)","v":0},"2026-11-01","2026-11-30",139]
["05-0001","10","05-0001-100",{"$f":"IF(AND(Config!$B$13<=Tarifs!F1006,Config!$B$13>=Tarifs!E1006),1,0)","v":0},"2026-12-01","2026-12-31",139]
["05-0001","10","05-0001-101",{"$f":"IF(AND(Config!$B$13<=Tarifs!F1007,Config!$B$13>=Tarifs!E1007),1,0)","v":1},"2026-01-01","2026-01-31",135]
["05-0001","10","05-0001-100",{"$f":"IF(AND(Config!$B$13<=Tarifs!F1008,Config!$B$13>=Tarifs!E1008),1,0)","v":0},"2026-02-01","2026-02-28",135]
["05-0001","10","05-0001-100",{"$f":"IF(AND(Config!$B$13<=Tarifs!F1009,Config!$B$13>=Tarifs!E1009),1,0)","v":0},"2026-03-01","2026-03-31",135]
["05-0008","30","05-0008-300",{"$f":"IF(AND(Config!$B$13<=Tarifs!F1010,Config!$B$13>=Tarifs!E1010),1,0)","v":0},"2026-08-01","2026-08-31",6300]
["05-0008","30","05-0008-300",{"$f":"IF(AND(Config!$B$13<=Tarifs!F1011,Config!$B$13>=Tarifs!E1011),1,0)","v":0},"2026-09-01","2026-09-30",6300]
["05-0008","30","05-0008-300",{"$f":"IF(AND(Config!$B$13<=Tarifs!F1012,Config!$B$13>=Tarifs!E1012),1,0)","v":0},"2026-07-01","2026-07-31",6300]
["05-0008","30","05-0008-300",{"$f":"IF(AND(Config!$B$13<=Tarifs!F1013,Config!$B$13>=Tarifs!E1013),1,0)","v":0},"2026-10-01","2026-10-31",5700]
["05-0008","30","05-0008-300",{"$f":"IF(AND(Config!$B$13<=Tarifs!F1014,Config!$B$13>=Tarifs!E1014),1,0)","v":0},"2026-06-01","2026-06-30",4650]
["05-0008","30","05-0008-300",{"$f":"IF(AND(Config!$B$13<=Tarifs!F1015,Config!$B$13>=Tarifs!E1015),1,0)","v":0},"2026-05-01","2026-05-31",4350]
["05-0008","30","05-0008-300",{"$f":"IF(AND(Config!$B$13<=Tarifs!F1016,Config!$B$13>=Tarifs!E1016),1,0)","v":0},"2026-11-01","2026-11-30",4050]
["05-0008","30","05-0008-300",{"$f":"IF(AND(Config!$B$13<=Tarifs!F1017,Config!$B$13>=Tarifs!E1017),1,0)","v":0},"2026-12-01","2026-12-31",4050]
["05-0008","30","05-0008-301",{"$f":"IF(AND(Config!$B$13<=Tarifs!F1018,Config!$B$13>=Tarifs!E1018),1,0)","v":1},"2026-01-01","2026-01-31",4050]
["05-0008","30","05-0008-300",{"$f":"IF(AND(Config!$B$13<=Tarifs!F1019,Config!$B$13>=Tarifs!E1019),1,0)","v":0},"2026-02-01","2026-02-28",4050]
["05-0008","30","05-0008-300",{"$f":"IF(AND(Config!$B$13<=Tarifs!F1020,Config!$B$13>=Tarifs!E1020),1,0)","v":0},"2026-03-01","2026-03-31",4050]
["05-0008","30","05-0008-300",{"$f":"IF(AND(Config!$B$13<=Tarifs!F1021,Config!$B$13>=Tarifs!E1021),1,0)","v":0},"2026-04-01","2026-04-30",4050]
["05-0008","20","05-0008-200",{"$f":"IF(AND(Config!$B$13<=Tarifs!F1022,Config!$B$13>=Tarifs!E1022),1,0)","v":0},"2026-09-01","2026-09-30",1470]
["05-0008","20","05-0008-200",{"$f":"IF(AND(Config!$B$13<=Tarifs!F1023,Config!$B$13>=Tarifs!E1023),1,0)","v":0},"2026-07-01","2026-07-31",1470]
["05-0008","20","05-0008-200",{"$f":"IF(AND(Config!$B$13<=Tarifs!F1024,Config!$B$13>=Tarifs!E1024),1,0)","v":0},"2026-08-01","2026-08-31",1470]
["05-0008","20","05-0008-200",{"$f":"IF(AND(Config!$B$13<=Tarifs!F1025,Config!$B$13>=Tarifs!E1025),1,0)","v":0},"2026-10-01","2026-10-31",1330]
["05-0008","20","05-0008-200",{"$f":"IF(AND(Config!$B$13<=Tarifs!F1026,Config!$B$13>=Tarifs!E1026),1,0)","v":0},"2026-06-01","2026-06-30",1085]
["05-0008","20",{"$f":"A1027&\"-\"&B1027&D1027","v":"05-0008-200"},{"$f":"IF(AND(Config!$B$13<=Tarifs!F1027,Config!$B$13>=Tarifs!E1027),1,0)","v":0},"2026-05-01","2026-05-31",1015]
["05-0008","20","05-0008-200",{"$f":"IF(AND(Config!$B$13<=Tarifs!F1028,Config!$B$13>=Tarifs!E1028),1,0)","v":0},"2026-11-01","2026-11-30",945]
["05-0008","20","05-0008-200",{"$f":"IF(AND(Config!$B$13<=Tarifs!F1029,Config!$B$13>=Tarifs!E1029),1,0)","v":0},"2026-12-01","2026-12-31",945]
["05-0008","20","05-0008-201",{"$f":"IF(AND(Config!$B$13<=Tarifs!F1030,Config!$B$13>=Tarifs!E1030),1,0)","v":1},"2026-01-01","2026-01-31",945]
["05-0008","20","05-0008-200",{"$f":"IF(AND(Config!$B$13<=Tarifs!F1031,Config!$B$13>=Tarifs!E1031),1,0)","v":0},"2026-02-01","2026-02-28",945]
["05-0008","20","05-0008-200",{"$f":"IF(AND(Config!$B$13<=Tarifs!F1032,Config!$B$13>=Tarifs!E1032),1,0)","v":0},"2026-03-01","2026-03-31",945]
["05-0008","20","05-0008-200",{"$f":"IF(AND(Config!$B$13<=Tarifs!F1033,Config!$B$13>=Tarifs!E1033),1,0)","v":0},"2026-04-01","2026-04-30",945]
["05-0008","10","05-0008-100",{"$f":"IF(AND(Config!$B$13<=Tarifs!F1034,Config!$B$13>=Tarifs!E1034),1,0)","v":0},"2026-09-01","2026-09-30",210]
["05-0008","10","05-0008-100",{"$f":"IF(AND(Config!$B$13<=Tarifs!F1035,Config!$B$13>=Tarifs!E1035),1,0)","v":0},"2026-07-01","2026-07-31",210]
["05-0008","10","05-0008-100",{"$f":"IF(AND(Config!$B$13<=Tarifs!F1036,Config!$B$13>=Tarifs!E1036),1,0)","v":0},"2026-08-01","2026-08-31",210]
["05-0008","10","05-0008-100",{"$f":"IF(AND(Config!$B$13<=Tarifs!F1037,Config!$B$13>=Tarifs!E1037),1,0)","v":0},"2026-10-01","2026-10-31",190]
["05-0008","10","05-0008-100",{"$f":"IF(AND(Config!$B$13<=Tarifs!F1038,Config!$B$13>=Tarifs!E1038),1,0)","v":0},"2026-06-01","2026-06-30",155]
["05-0008","10","05-0008-100",{"$f":"IF(AND(Config!$B$13<=Tarifs!F1039,Config!$B$13>=Tarifs!E1039),1,0)","v":0},"2026-05-01","2026-05-31",145]
["05-0008","10","05-0008-100",{"$f":"IF(AND(Config!$B$13<=Tarifs!F1040,Config!$B$13>=Tarifs!E1040),1,0)","v":0},"2026-11-01","2026-11-30",135]
["05-0008","10","05-0008-100",{"$f":"IF(AND(Config!$B$13<=Tarifs!F1041,Config!$B$13>=Tarifs!E1041),1,0)","v":0},"2026-12-01","2026-12-31",135]
["05-0008","10","05-0008-101",{"$f":"IF(AND(Config!$B$13<=Tarifs!F1042,Config!$B$13>=Tarifs!E1042),1,0)","v":1},"2026-01-01","2026-01-31",135]
["05-0008","10","05-0008-100",{"$f":"IF(AND(Config!$B$13<=Tarifs!F1043,Config!$B$13>=Tarifs!E1043),1,0)","v":0},"2026-02-01","2026-02-28",135]
["05-0008","10","05-0008-100",{"$f":"IF(AND(Config!$B$13<=Tarifs!F1044,Config!$B$13>=Tarifs!E1044),1,0)","v":0},"2026-03-01","2026-03-31",135]
["05-0008","10","05-0008-100",{"$f":"IF(AND(Config!$B$13<=Tarifs!F1045,Config!$B$13>=Tarifs!E1045),1,0)","v":0},"2026-04-01","2026-04-30",135]
["06-0004","30","06-0004-300",{"$f":"IF(AND(Config!$B$13<=Tarifs!F1046,Config!$B$13>=Tarifs!E1046),1,0)","v":0},"2026-07-01","2026-07-31",4650]
["06-0004","30","06-0004-300",{"$f":"IF(AND(Config!$B$13<=Tarifs!F1047,Config!$B$13>=Tarifs!E1047),1,0)","v":0},"2026-08-01","2026-08-31",4650]
["06-0004","30","06-0004-300",{"$f":"IF(AND(Config!$B$13<=Tarifs!F1048,Config!$B$13>=Tarifs!E1048),1,0)","v":0},"2026-06-01","2026-06-30",4500]
["06-0004","30","06-0004-300",{"$f":"IF(AND(Config!$B$13<=Tarifs!F1049,Config!$B$13>=Tarifs!E1049),1,0)","v":0},"2026-09-01","2026-09-30",4350]
["06-0004","30","06-0004-300",{"$f":"IF(AND(Config!$B$13<=Tarifs!F1050,Config!$B$13>=Tarifs!E1050),1,0)","v":0},"2026-10-01","2026-10-31",4350]
["06-0004","30","06-0004-300",{"$f":"IF(AND(Config!$B$13<=Tarifs!F1051,Config!$B$13>=Tarifs!E1051),1,0)","v":0},"2026-05-01","2026-05-31",4200]
["06-0004","30","06-0004-300",{"$f":"IF(AND(Config!$B$13<=Tarifs!F1052,Config!$B$13>=Tarifs!E1052),1,0)","v":0},"2026-11-01","2026-11-30",3900]
["06-0004","30","06-0004-300",{"$f":"IF(AND(Config!$B$13<=Tarifs!F1053,Config!$B$13>=Tarifs!E1053),1,0)","v":0},"2026-12-01","2026-12-31",3900]
["06-0004","30","06-0004-301",{"$f":"IF(AND(Config!$B$13<=Tarifs!F1054,Config!$B$13>=Tarifs!E1054),1,0)","v":1},"2026-01-01","2026-01-31",3000]
["06-0004","30","06-0004-300",{"$f":"IF(AND(Config!$B$13<=Tarifs!F1055,Config!$B$13>=Tarifs!E1055),1,0)","v":0},"2026-02-01","2026-02-28",3000]
["06-0004","30","06-0004-300",{"$f":"IF(AND(Config!$B$13<=Tarifs!F1056,Config!$B$13>=Tarifs!E1056),1,0)","v":0},"2026-03-01","2026-03-31",3000]
["06-0004","30","06-0004-300",{"$f":"IF(AND(Config!$B$13<=Tarifs!F1057,Config!$B$13>=Tarifs!E1057),1,0)","v":0},"2026-04-01","2026-04-30",3000]
["06-0004","20","06-0004-200",{"$f":"IF(AND(Config!$B$13<=Tarifs!F1058,Config!$B$13>=Tarifs!E1058),1,0)","v":0},"2026-08-01","2026-08-31",1050]
["06-0004","20","06-0004-200",{"$f":"IF(AND(Config!$B$13<=Tarifs!F1059,Config!$B$13>=Tarifs!E1059),1,0)","v":0},"2026-07-01","2026-07-31",1001]
["06-0004","20","06-0004-200",{"$f":"IF(AND(Config!$B$13<=Tarifs!F1060,Config!$B$13>=Tarifs!E1060),1,0)","v":0},"2026-06-01","2026-06-30",994]
["06-0004","20","06-0004-200",{"$f":"IF(AND(Config!$B$13<=Tarifs!F1061,Config!$B$13>=Tarifs!E1061),1,0)","v":0},"2026-09-01","2026-09-30",994]
["06-0004","20","06-0004-200",{"$f":"IF(AND(Config!$B$13<=Tarifs!F1062,Config!$B$13>=Tarifs!E1062),1,0)","v":0},"2026-03-01","2026-03-31",980]
["06-0004","20","06-0004-200",{"$f":"IF(AND(Config!$B$13<=Tarifs!F1063,Config!$B$13>=Tarifs!E1063),1,0)","v":0},"2026-04-01","2026-04-30",980]
["06-0004","20","06-0004-200",{"$f":"IF(AND(Config!$B$13<=Tarifs!F1064,Config!$B$13>=Tarifs!E1064),1,0)","v":0},"2026-05-01","2026-05-31",980]
["06-0004","20","06-0004-200",{"$f":"IF(AND(Config!$B$13<=Tarifs!F1065,Config!$B$13>=Tarifs!E1065),1,0)","v":0},"2026-10-01","2026-10-31",980]
["06-0004","20","06-0004-200",{"$f":"IF(AND(Config!$B$13<=Tarifs!F1066,Config!$B$13>=Tarifs!E1066),1,0)","v":0},"2026-12-01","2026-12-31",980]
["06-0004","20","06-0004-201",{"$f":"IF(AND(Config!$B$13<=Tarifs!F1067,Config!$B$13>=Tarifs!E1067),1,0)","v":1},"2026-01-01","2026-01-31",945]
["06-0004","20","06-0004-200",{"$f":"IF(AND(Config!$B$13<=Tarifs!F1068,Config!$B$13>=Tarifs!E1068),1,0)","v":0},"2026-02-01","2026-02-28",945]
["06-0004","20","06-0004-200",{"$f":"IF(AND(Config!$B$13<=Tarifs!F1069,Config!$B$13>=Tarifs!E1069),1,0)","v":0},"2026-11-01","2026-11-30",945]
["06-0004","10","06-0004-100",{"$f":"IF(AND(Config!$B$13<=Tarifs!F1070,Config!$B$13>=Tarifs!E1070),1,0)","v":0},"2026-08-01","2026-08-31",165]
["06-0004","10","06-0004-100",{"$f":"IF(AND(Config!$B$13<=Tarifs!F1071,Config!$B$13>=Tarifs!E1071),1,0)","v":0},"2026-07-01","2026-07-31",159]
["06-0004","10","06-0004-100",{"$f":"IF(AND(Config!$B$13<=Tarifs!F1072,Config!$B$13>=Tarifs!E1072),1,0)","v":0},"2026-06-01","2026-06-30",149]
["06-0004","10","06-0004-100",{"$f":"IF(AND(Config!$B$13<=Tarifs!F1073,Config!$B$13>=Tarifs!E1073),1,0)","v":0},"2026-09-01","2026-09-30",149]
["06-0004","10","06-0004-100",{"$f":"IF(AND(Config!$B$13<=Tarifs!F1074,Config!$B$13>=Tarifs!E1074),1,0)","v":0},"2026-03-01","2026-03-31",145]
["06-0004","10","06-0004-100",{"$f":"IF(AND(Config!$B$13<=Tarifs!F1075,Config!$B$13>=Tarifs!E1075),1,0)","v":0},"2026-04-01","2026-04-30",145]
["06-0004","10","06-0004-100",{"$f":"IF(AND(Config!$B$13<=Tarifs!F1076,Config!$B$13>=Tarifs!E1076),1,0)","v":0},"2026-05-01","2026-05-31",145]
["06-0004","10","06-0004-100",{"$f":"IF(AND(Config!$B$13<=Tarifs!F1077,Config!$B$13>=Tarifs!E1077),1,0)","v":0},"2026-10-01","2026-10-31",145]
["06-0004","10","06-0004-100",{"$f":"IF(AND(Config!$B$13<=Tarifs!F1078,Config!$B$13>=Tarifs!E1078),1,0)","v":0},"2026-12-01","2026-12-31",145]
["06-0004","10","06-0004-100",{"$f":"IF(AND(Config!$B$13<=Tarifs!F1079,Config!$B$13>=Tarifs!E1079),1,0)","v":0},"2026-11-01","2026-11-30",140]
["06-0004","10","06-0004-101",{"$f":"IF(AND(Config!$B$13<=Tarifs!F1080,Config!$B$13>=Tarifs!E1080),1,0)","v":1},"2026-01-01","2026-01-31",139]
["06-0004","10","06-0004-100",{"$f":"IF(AND(Config!$B$13<=Tarifs!F1081,Config!$B$13>=Tarifs!E1081),1,0)","v":0},"2026-02-01","2026-02-28",139]
["06-0026","30","06-0026-300",{"$f":"IF(AND(Config!$B$13<=Tarifs!F1082,Config!$B$13>=Tarifs!E1082),1,0)","v":0},"2026-07-01","2026-07-31",5850]
["06-0026","30","06-0026-300",{"$f":"IF(AND(Config!$B$13<=Tarifs!F1083,Config!$B$13>=Tarifs!E1083),1,0)","v":0},"2026-08-01","2026-08-31",5850]
["06-0026","30","06-0026-300",{"$f":"IF(AND(Config!$B$13<=Tarifs!F1084,Config!$B$13>=Tarifs!E1084),1,0)","v":0},"2026-09-01","2026-09-30",5850]
["06-0026","30","06-0026-300",{"$f":"IF(AND(Config!$B$13<=Tarifs!F1085,Config!$B$13>=Tarifs!E1085),1,0)","v":0},"2026-05-01","2026-05-31",4560]
["06-0026","30","06-0026-300",{"$f":"IF(AND(Config!$B$13<=Tarifs!F1086,Config!$B$13>=Tarifs!E1086),1,0)","v":0},"2026-06-01","2026-06-30",4560]
["06-0026","30","06-0026-300",{"$f":"IF(AND(Config!$B$13<=Tarifs!F1087,Config!$B$13>=Tarifs!E1087),1,0)","v":0},"2026-10-01","2026-10-31",4470]
["06-0026","30","06-0026-300",{"$f":"IF(AND(Config!$B$13<=Tarifs!F1088,Config!$B$13>=Tarifs!E1088),1,0)","v":0},"2026-11-01","2026-11-30",4470]
["06-0026","30","06-0026-300",{"$f":"IF(AND(Config!$B$13<=Tarifs!F1089,Config!$B$13>=Tarifs!E1089),1,0)","v":0},"2026-12-01","2026-12-31",4470]
["06-0026","30","06-0026-301",{"$f":"IF(AND(Config!$B$13<=Tarifs!F1090,Config!$B$13>=Tarifs!E1090),1,0)","v":1},"2026-01-01","2026-01-31",4260]
["06-0026","30",{"$f":"A1091&\"-\"&B1091&D1091","v":"06-0026-300"},{"$f":"IF(AND(Config!$B$13<=Tarifs!F1091,Config!$B$13>=Tarifs!E1091),1,0)","v":0},"2026-02-01","2026-02-28",4260]
["06-0026","30","06-0026-300",{"$f":"IF(AND(Config!$B$13<=Tarifs!F1092,Config!$B$13>=Tarifs!E1092),1,0)","v":0},"2026-03-01","2026-03-31",4260]
["06-0026","30","06-0026-300",{"$f":"IF(AND(Config!$B$13<=Tarifs!F1093,Config!$B$13>=Tarifs!E1093),1,0)","v":0},"2026-04-01","2026-04-30",4260]
["06-0026","20","06-0026-200",{"$f":"IF(AND(Config!$B$13<=Tarifs!F1094,Config!$B$13>=Tarifs!E1094),1,0)","v":0},"2026-07-01","2026-07-31",1365]
["06-0026","20","06-0026-200",{"$f":"IF(AND(Config!$B$13<=Tarifs!F1095,Config!$B$13>=Tarifs!E1095),1,0)","v":0},"2026-08-01","2026-08-31",1365]
["06-0026","20","06-0026-200",{"$f":"IF(AND(Config!$B$13<=Tarifs!F1096,Config!$B$13>=Tarifs!E1096),1,0)","v":0},"2026-09-01","2026-09-30",1365]
["06-0026","20","06-0026-200",{"$f":"IF(AND(Config!$B$13<=Tarifs!F1097,Config!$B$13>=Tarifs!E1097),1,0)","v":0},"2026-05-01","2026-05-31",1064]
["06-0026","20","06-0026-200",{"$f":"IF(AND(Config!$B$13<=Tarifs!F1098,Config!$B$13>=Tarifs!E1098),1,0)","v":0},"2026-06-01","2026-06-30",1064]
["06-0026","20","06-0026-200",{"$f":"IF(AND(Config!$B$13<=Tarifs!F1099,Config!$B$13>=Tarifs!E1099),1,0)","v":0},"2026-10-01","2026-10-31",1043]
["06-0026","20","06-0026-200",{"$f":"IF(AND(Config!$B$13<=Tarifs!F1100,Config!$B$13>=Tarifs!E1100),1,0)","v":0},"2026-11-01","2026-11-30",1043]
["06-0026","20","06-0026-200",{"$f":"IF(AND(Config!$B$13<=Tarifs!F1101,Config!$B$13>=Tarifs!E1101),1,0)","v":0},"2026-12-01","2026-12-31",1043]
["06-0026","20","06-0026-201",{"$f":"IF(AND(Config!$B$13<=Tarifs!F1102,Config!$B$13>=Tarifs!E1102),1,0)","v":1},"2026-01-01","2026-01-31",994]
["06-0026","20","06-0026-200",{"$f":"IF(AND(Config!$B$13<=Tarifs!F1103,Config!$B$13>=Tarifs!E1103),1,0)","v":0},"2026-02-01","2026-02-28",994]
["06-0026","20","06-0026-200",{"$f":"IF(AND(Config!$B$13<=Tarifs!F1104,Config!$B$13>=Tarifs!E1104),1,0)","v":0},"2026-03-01","2026-03-31",994]
["06-0026","20","06-0026-200",{"$f":"IF(AND(Config!$B$13<=Tarifs!F1105,Config!$B$13>=Tarifs!E1105),1,0)","v":0},"2026-04-01","2026-04-30",994]
["06-0026","10","06-0026-100",{"$f":"IF(AND(Config!$B$13<=Tarifs!F1106,Config!$B$13>=Tarifs!E1106),1,0)","v":0},"2026-07-01","2026-07-31",195]
["06-0026","10","06-0026-100",{"$f":"IF(AND(Config!$B$13<=Tarifs!F1107,Config!$B$13>=Tarifs!E1107),1,0)","v":0},"2026-08-01","2026-08-31",195]
["06-0026","10","06-0026-100",{"$f":"IF(AND(Config!$B$13<=Tarifs!F1108,Config!$B$13>=Tarifs!E1108),1,0)","v":0},"2026-09-01","2026-09-30",195]
["06-0026","10","06-0026-100",{"$f":"IF(AND(Config!$B$13<=Tarifs!F1109,Config!$B$13>=Tarifs!E1109),1,0)","v":0},"2026-05-01","2026-05-31",152]
["06-0026","10","06-0026-100",{"$f":"IF(AND(Config!$B$13<=Tarifs!F1110,Config!$B$13>=Tarifs!E1110),1,0)","v":0},"2026-06-01","2026-06-30",152]
["06-0026","10","06-0026-100",{"$f":"IF(AND(Config!$B$13<=Tarifs!F1111,Config!$B$13>=Tarifs!E1111),1,0)","v":0},"2026-10-01","2026-10-31",149]
["06-0026","10","06-0026-100",{"$f":"IF(AND(Config!$B$13<=Tarifs!F1112,Config!$B$13>=Tarifs!E1112),1,0)","v":0},"2026-11-01","2026-11-30",149]
["06-0026","10","06-0026-100",{"$f":"IF(AND(Config!$B$13<=Tarifs!F1113,Config!$B$13>=Tarifs!E1113),1,0)","v":0},"2026-12-01","2026-12-31",149]
["06-0026","10","06-0026-101",{"$f":"IF(AND(Config!$B$13<=Tarifs!F1114,Config!$B$13>=Tarifs!E1114),1,0)","v":1},"2026-01-01","2026-01-31",142]
["06-0026","10","06-0026-100",{"$f":"IF(AND(Config!$B$13<=Tarifs!F1115,Config!$B$13>=Tarifs!E1115),1,0)","v":0},"2026-02-01","2026-02-28",142]
["06-0026","10","06-0026-100",{"$f":"IF(AND(Config!$B$13<=Tarifs!F1116,Config!$B$13>=Tarifs!E1116),1,0)","v":0},"2026-03-01","2026-03-31",142]
["06-0026","10","06-0026-100",{"$f":"IF(AND(Config!$B$13<=Tarifs!F1117,Config!$B$13>=Tarifs!E1117),1,0)","v":0},"2026-04-01","2026-04-30",142]
["06-0027","30","06-0027-300",{"$f":"IF(AND(Config!$B$13<=Tarifs!F1118,Config!$B$13>=Tarifs!E1118),1,0)","v":0},"2026-06-01","2026-06-30",5310]
["06-0027","30","06-0027-300",{"$f":"IF(AND(Config!$B$13<=Tarifs!F1119,Config!$B$13>=Tarifs!E1119),1,0)","v":0},"2026-07-01","2026-07-31",5310]
["06-0027","30","06-0027-300",{"$f":"IF(AND(Config!$B$13<=Tarifs!F1120,Config!$B$13>=Tarifs!E1120),1,0)","v":0},"2026-08-01","2026-08-31",5310]
["06-0027","30","06-0027-300",{"$f":"IF(AND(Config!$B$13<=Tarifs!F1121,Config!$B$13>=Tarifs!E1121),1,0)","v":0},"2026-09-01","2026-09-30",5310]
["06-0027","30","06-0027-300",{"$f":"IF(AND(Config!$B$13<=Tarifs!F1122,Config!$B$13>=Tarifs!E1122),1,0)","v":0},"2026-10-01","2026-10-31",5310]
["06-0027","30","06-0027-301",{"$f":"IF(AND(Config!$B$13<=Tarifs!F1123,Config!$B$13>=Tarifs!E1123),1,0)","v":1},"2026-01-01","2026-01-31",4530]
["06-0027","30","06-0027-300",{"$f":"IF(AND(Config!$B$13<=Tarifs!F1124,Config!$B$13>=Tarifs!E1124),1,0)","v":0},"2026-02-01","2026-02-28",4530]
["06-0027","30","06-0027-300",{"$f":"IF(AND(Config!$B$13<=Tarifs!F1125,Config!$B$13>=Tarifs!E1125),1,0)","v":0},"2026-03-01","2026-03-31",4530]
["06-0027","30","06-0027-300",{"$f":"IF(AND(Config!$B$13<=Tarifs!F1126,Config!$B$13>=Tarifs!E1126),1,0)","v":0},"2026-04-01","2026-04-30",4530]
["06-0027","30","06-0027-300",{"$f":"IF(AND(Config!$B$13<=Tarifs!F1127,Config!$B$13>=Tarifs!E1127),1,0)","v":0},"2026-05-01","2026-05-31",4530]
["06-0027","30","06-0027-300",{"$f":"IF(AND(Config!$B$13<=Tarifs!F1128,Config!$B$13>=Tarifs!E1128),1,0)","v":0},"2026-11-01","2026-11-30",4530]
["06-0027","30","06-0027-300",{"$f":"IF(AND(Config!$B$13<=Tarifs!F1129,Config!$B$13>=Tarifs!E1129),1,0)","v":0},"2026-12-01","2026-12-31",4530]
["06-0027","20","06-0027-200",{"$f":"IF(AND(Config!$B$13<=Tarifs!F1130,Config!$B$13>=Tarifs!E1130),1,0)","v":0},"2026-06-01","2026-06-30",1239]
["06-0027","20","06-0027-200",{"$f":"IF(AND(Config!$B$13<=Tarifs!F1131,Config!$B$13>=Tarifs!E1131),1,0)","v":0},"2026-07-01","2026-07-31",1239]
["06-0027","20","06-0027-200",{"$f":"IF(AND(Config!$B$13<=Tarifs!F1132,Config!$B$13>=Tarifs!E1132),1,0)","v":0},"2026-08-01","2026-08-31",1239]
["06-0027","20","06-0027-200",{"$f":"IF(AND(Config!$B$13<=Tarifs!F1133,Config!$B$13>=Tarifs!E1133),1,0)","v":0},"2026-09-01","2026-09-30",1239]
["06-0027","20","06-0027-200",{"$f":"IF(AND(Config!$B$13<=Tarifs!F1134,Config!$B$13>=Tarifs!E1134),1,0)","v":0},"2026-10-01","2026-10-31",1239]
["06-0027","20","06-0027-201",{"$f":"IF(AND(Config!$B$13<=Tarifs!F1135,Config!$B$13>=Tarifs!E1135),1,0)","v":1},"2026-01-01","2026-01-31",1057]
["06-0027","20","06-0027-200",{"$f":"IF(AND(Config!$B$13<=Tarifs!F1136,Config!$B$13>=Tarifs!E1136),1,0)","v":0},"2026-02-01","2026-02-28",1057]
["06-0027","20","06-0027-200",{"$f":"IF(AND(Config!$B$13<=Tarifs!F1137,Config!$B$13>=Tarifs!E1137),1,0)","v":0},"2026-03-01","2026-03-31",1057]
["06-0027","20","06-0027-200",{"$f":"IF(AND(Config!$B$13<=Tarifs!F1138,Config!$B$13>=Tarifs!E1138),1,0)","v":0},"2026-04-01","2026-04-30",1057]
["06-0027","20","06-0027-200",{"$f":"IF(AND(Config!$B$13<=Tarifs!F1139,Config!$B$13>=Tarifs!E1139),1,0)","v":0},"2026-05-01","2026-05-31",1057]
["06-0027","20","06-0027-200",{"$f":"IF(AND(Config!$B$13<=Tarifs!F1140,Config!$B$13>=Tarifs!E1140),1,0)","v":0},"2026-11-01","2026-11-30",1057]
["06-0027","20","06-0027-200",{"$f":"IF(AND(Config!$B$13<=Tarifs!F1141,Config!$B$13>=Tarifs!E1141),1,0)","v":0},"2026-12-01","2026-12-31",1057]
["06-0027","10","06-0027-100",{"$f":"IF(AND(Config!$B$13<=Tarifs!F1142,Config!$B$13>=Tarifs!E1142),1,0)","v":0},"2026-06-01","2026-06-30",177]
["06-0027","10","06-0027-100",{"$f":"IF(AND(Config!$B$13<=Tarifs!F1143,Config!$B$13>=Tarifs!E1143),1,0)","v":0},"2026-07-01","2026-07-31",177]
["06-0027","10","06-0027-100",{"$f":"IF(AND(Config!$B$13<=Tarifs!F1144,Config!$B$13>=Tarifs!E1144),1,0)","v":0},"2026-08-01","2026-08-31",177]
["06-0027","10","06-0027-100",{"$f":"IF(AND(Config!$B$13<=Tarifs!F1145,Config!$B$13>=Tarifs!E1145),1,0)","v":0},"2026-09-01","2026-09-30",177]
["06-0027","10","06-0027-100",{"$f":"IF(AND(Config!$B$13<=Tarifs!F1146,Config!$B$13>=Tarifs!E1146),1,0)","v":0},"2026-10-01","2026-10-31",177]
["06-0027","10","06-0027-101",{"$f":"IF(AND(Config!$B$13<=Tarifs!F1147,Config!$B$13>=Tarifs!E1147),1,0)","v":1},"2026-01-01","2026-01-31",151]
["06-0027","10","06-0027-100",{"$f":"IF(AND(Config!$B$13<=Tarifs!F1148,Config!$B$13>=Tarifs!E1148),1,0)","v":0},"2026-02-01","2026-02-28",151]
["06-0027","10","06-0027-100",{"$f":"IF(AND(Config!$B$13<=Tarifs!F1149,Config!$B$13>=Tarifs!E1149),1,0)","v":0},"2026-03-01","2026-03-31",151]
["06-0027","10","06-0027-100",{"$f":"IF(AND(Config!$B$13<=Tarifs!F1150,Config!$B$13>=Tarifs!E1150),1,0)","v":0},"2026-04-01","2026-04-30",151]
["06-0027","10","06-0027-100",{"$f":"IF(AND(Config!$B$13<=Tarifs!F1151,Config!$B$13>=Tarifs!E1151),1,0)","v":0},"2026-05-01","2026-05-31",151]
["06-0027","10","06-0027-100",{"$f":"IF(AND(Config!$B$13<=Tarifs!F1152,Config!$B$13>=Tarifs!E1152),1,0)","v":0},"2026-11-01","2026-11-30",151]
["06-0027","10","06-0027-100",{"$f":"IF(AND(Config!$B$13<=Tarifs!F1153,Config!$B$13>=Tarifs!E1153),1,0)","v":0},"2026-12-01","2026-12-31",151]
["06-0040","30","06-0040-300",{"$f":"IF(AND(Config!$B$13<=Tarifs!F1154,Config!$B$13>=Tarifs!E1154),1,0)","v":0},"2026-07-01","2026-07-31",8370]
["06-0040","30",{"$f":"A1155&\"-\"&B1155&D1155","v":"06-0040-300"},{"$f":"IF(AND(Config!$B$13<=Tarifs!F1155,Config!$B$13>=Tarifs!E1155),1,0)","v":0},"2026-08-01","2026-08-31",8370]
["06-0040","30","06-0040-300",{"$f":"IF(AND(Config!$B$13<=Tarifs!F1156,Config!$B$13>=Tarifs!E1156),1,0)","v":0},"2026-09-01","2026-09-30",8370]
["06-0040","30","06-0040-301",{"$f":"IF(AND(Config!$B$13<=Tarifs!F1157,Config!$B$13>=Tarifs!E1157),1,0)","v":1},"2026-01-01","2026-01-31",5070]
["06-0040","30","06-0040-300",{"$f":"IF(AND(Config!$B$13<=Tarifs!F1158,Config!$B$13>=Tarifs!E1158),1,0)","v":0},"2026-02-01","2026-02-28",5070]
["06-0040","30","06-0040-300",{"$f":"IF(AND(Config!$B$13<=Tarifs!F1159,Config!$B$13>=Tarifs!E1159),1,0)","v":0},"2026-03-01","2026-03-31",5070]
["06-0040","30","06-0040-300",{"$f":"IF(AND(Config!$B$13<=Tarifs!F1160,Config!$B$13>=Tarifs!E1160),1,0)","v":0},"2026-04-01","2026-04-30",5070]
["06-0040","30","06-0040-300",{"$f":"IF(AND(Config!$B$13<=Tarifs!F1161,Config!$B$13>=Tarifs!E1161),1,0)","v":0},"2026-05-01","2026-05-31",5070]
["06-0040","30","06-0040-300",{"$f":"IF(AND(Config!$B$13<=Tarifs!F1162,Config!$B$13>=Tarifs!E1162),1,0)","v":0},"2026-06-01","2026-06-30",5070]
["06-0040","30","06-0040-300",{"$f":"IF(AND(Config!$B$13<=Tarifs!F1163,Config!$B$13>=Tarifs!E1163),1,0)","v":0},"2026-10-01","2026-10-31",5070]
["06-0040","30","06-0040-300",{"$f":"IF(AND(Config!$B$13<=Tarifs!F1164,Config!$B$13>=Tarifs!E1164),1,0)","v":0},"2026-11-01","2026-11-30",5070]
["06-0040","30","06-0040-300",{"$f":"IF(AND(Config!$B$13<=Tarifs!F1165,Config!$B$13>=Tarifs!E1165),1,0)","v":0},"2026-12-01","2026-12-31",5070]
["06-0040","20","06-0040-200",{"$f":"IF(AND(Config!$B$13<=Tarifs!F1166,Config!$B$13>=Tarifs!E1166),1,0)","v":0},"2026-07-01","2026-07-31",1953]
["06-0040","20","06-0040-200",{"$f":"IF(AND(Config!$B$13<=Tarifs!F1167,Config!$B$13>=Tarifs!E1167),1,0)","v":0},"2026-08-01","2026-08-31",1953]
["06-0040","20","06-0040-200",{"$f":"IF(AND(Config!$B$13<=Tarifs!F1168,Config!$B$13>=Tarifs!E1168),1,0)","v":0},"2026-09-01","2026-09-30",1953]
["06-0040","20","06-0040-201",{"$f":"IF(AND(Config!$B$13<=Tarifs!F1169,Config!$B$13>=Tarifs!E1169),1,0)","v":1},"2026-01-01","2026-01-31",1183]
["06-0040","20","06-0040-200",{"$f":"IF(AND(Config!$B$13<=Tarifs!F1170,Config!$B$13>=Tarifs!E1170),1,0)","v":0},"2026-02-01","2026-02-28",1183]
["06-0040","20","06-0040-200",{"$f":"IF(AND(Config!$B$13<=Tarifs!F1171,Config!$B$13>=Tarifs!E1171),1,0)","v":0},"2026-03-01","2026-03-31",1183]
["06-0040","20","06-0040-200",{"$f":"IF(AND(Config!$B$13<=Tarifs!F1172,Config!$B$13>=Tarifs!E1172),1,0)","v":0},"2026-04-01","2026-04-30",1183]
["06-0040","20","06-0040-200",{"$f":"IF(AND(Config!$B$13<=Tarifs!F1173,Config!$B$13>=Tarifs!E1173),1,0)","v":0},"2026-05-01","2026-05-31",1183]
["06-0040","20","06-0040-200",{"$f":"IF(AND(Config!$B$13<=Tarifs!F1174,Config!$B$13>=Tarifs!E1174),1,0)","v":0},"2026-06-01","2026-06-30",1183]
["06-0040","20","06-0040-200",{"$f":"IF(AND(Config!$B$13<=Tarifs!F1175,Config!$B$13>=Tarifs!E1175),1,0)","v":0},"2026-10-01","2026-10-31",1183]
["06-0040","20","06-0040-200",{"$f":"IF(AND(Config!$B$13<=Tarifs!F1176,Config!$B$13>=Tarifs!E1176),1,0)","v":0},"2026-11-01","2026-11-30",1183]
["06-0040","20","06-0040-200",{"$f":"IF(AND(Config!$B$13<=Tarifs!F1177,Config!$B$13>=Tarifs!E1177),1,0)","v":0},"2026-12-01","2026-12-31",1183]
["06-0040","10","06-0040-100",{"$f":"IF(AND(Config!$B$13<=Tarifs!F1178,Config!$B$13>=Tarifs!E1178),1,0)","v":0},"2026-07-01","2026-07-31",279]
["06-0040","10","06-0040-100",{"$f":"IF(AND(Config!$B$13<=Tarifs!F1179,Config!$B$13>=Tarifs!E1179),1,0)","v":0},"2026-08-01","2026-08-31",279]
["06-0040","10","06-0040-100",{"$f":"IF(AND(Config!$B$13<=Tarifs!F1180,Config!$B$13>=Tarifs!E1180),1,0)","v":0},"2026-09-01","2026-09-30",279]
["06-0040","10","06-0040-101",{"$f":"IF(AND(Config!$B$13<=Tarifs!F1181,Config!$B$13>=Tarifs!E1181),1,0)","v":1},"2026-01-01","2026-01-31",169]
["06-0040","10","06-0040-100",{"$f":"IF(AND(Config!$B$13<=Tarifs!F1182,Config!$B$13>=Tarifs!E1182),1,0)","v":0},"2026-02-01","2026-02-28",169]
["06-0040","10","06-0040-100",{"$f":"IF(AND(Config!$B$13<=Tarifs!F1183,Config!$B$13>=Tarifs!E1183),1,0)","v":0},"2026-03-01","2026-03-31",169]
["06-0040","10","06-0040-100",{"$f":"IF(AND(Config!$B$13<=Tarifs!F1184,Config!$B$13>=Tarifs!E1184),1,0)","v":0},"2026-04-01","2026-04-30",169]
["06-0040","10","06-0040-100",{"$f":"IF(AND(Config!$B$13<=Tarifs!F1185,Config!$B$13>=Tarifs!E1185),1,0)","v":0},"2026-05-01","2026-05-31",169]
["06-0040","10","06-0040-100",{"$f":"IF(AND(Config!$B$13<=Tarifs!F1186,Config!$B$13>=Tarifs!E1186),1,0)","v":0},"2026-06-01","2026-06-30",169]
["06-0040","10","06-0040-100",{"$f":"IF(AND(Config!$B$13<=Tarifs!F1187,Config!$B$13>=Tarifs!E1187),1,0)","v":0},"2026-10-01","2026-10-31",169]
["06-0040","10","06-0040-100",{"$f":"IF(AND(Config!$B$13<=Tarifs!F1188,Config!$B$13>=Tarifs!E1188),1,0)","v":0},"2026-11-01","2026-11-30",169]
["06-0040","10","06-0040-100",{"$f":"IF(AND(Config!$B$13<=Tarifs!F1189,Config!$B$13>=Tarifs!E1189),1,0)","v":0},"2026-12-01","2026-12-31",169]
["06-0050","30","06-0050-300",{"$f":"IF(AND(Config!$B$13<=Tarifs!F1190,Config!$B$13>=Tarifs!E1190),1,0)","v":0},"2026-07-01","2026-07-31",7170]
["06-0050","30","06-0050-300",{"$f":"IF(AND(Config!$B$13<=Tarifs!F1191,Config!$B$13>=Tarifs!E1191),1,0)","v":0},"2026-08-01","2026-08-31",7170]
["06-0050","30","06-0050-300",{"$f":"IF(AND(Config!$B$13<=Tarifs!F1192,Config!$B$13>=Tarifs!E1192),1,0)","v":0},"2026-06-01","2026-06-30",5970]
["06-0050","30","06-0050-300",{"$f":"IF(AND(Config!$B$13<=Tarifs!F1193,Config!$B$13>=Tarifs!E1193),1,0)","v":0},"2026-09-01","2026-09-30",5970]
["06-0050","30","06-0050-300",{"$f":"IF(AND(Config!$B$13<=Tarifs!F1194,Config!$B$13>=Tarifs!E1194),1,0)","v":0},"2026-10-01","2026-10-31",5970]
["06-0050","30","06-0050-300",{"$f":"IF(AND(Config!$B$13<=Tarifs!F1195,Config!$B$13>=Tarifs!E1195),1,0)","v":0},"2026-05-01","2026-05-31",5370]
["06-0050","30","06-0050-301",{"$f":"IF(AND(Config!$B$13<=Tarifs!F1196,Config!$B$13>=Tarifs!E1196),1,0)","v":1},"2026-01-01","2026-01-31",5070]
["06-0050","30","06-0050-300",{"$f":"IF(AND(Config!$B$13<=Tarifs!F1197,Config!$B$13>=Tarifs!E1197),1,0)","v":0},"2026-02-01","2026-02-28",5070]
["06-0050","30","06-0050-300",{"$f":"IF(AND(Config!$B$13<=Tarifs!F1198,Config!$B$13>=Tarifs!E1198),1,0)","v":0},"2026-03-01","2026-03-31",5070]
["06-0050","30","06-0050-300",{"$f":"IF(AND(Config!$B$13<=Tarifs!F1199,Config!$B$13>=Tarifs!E1199),1,0)","v":0},"2026-04-01","2026-04-30",5070]
["06-0050","30","06-0050-300",{"$f":"IF(AND(Config!$B$13<=Tarifs!F1200,Config!$B$13>=Tarifs!E1200),1,0)","v":0},"2026-11-01","2026-11-30",5070]
["06-0050","30","06-0050-300",{"$f":"IF(AND(Config!$B$13<=Tarifs!F1201,Config!$B$13>=Tarifs!E1201),1,0)","v":0},"2026-12-01","2026-12-31",5070]
["06-0050","20","06-0050-200",{"$f":"IF(AND(Config!$B$13<=Tarifs!F1202,Config!$B$13>=Tarifs!E1202),1,0)","v":0},"2026-07-01","2026-07-31",1673]
["06-0050","20","06-0050-200",{"$f":"IF(AND(Config!$B$13<=Tarifs!F1203,Config!$B$13>=Tarifs!E1203),1,0)","v":0},"2026-08-01","2026-08-31",1673]
["06-0050","20","06-0050-200",{"$f":"IF(AND(Config!$B$13<=Tarifs!F1204,Config!$B$13>=Tarifs!E1204),1,0)","v":0},"2026-06-01","2026-06-30",1393]
["06-0050","20","06-0050-200",{"$f":"IF(AND(Config!$B$13<=Tarifs!F1205,Config!$B$13>=Tarifs!E1205),1,0)","v":0},"2026-09-01","2026-09-30",1393]
["06-0050","20","06-0050-200",{"$f":"IF(AND(Config!$B$13<=Tarifs!F1206,Config!$B$13>=Tarifs!E1206),1,0)","v":0},"2026-10-01","2026-10-31",1393]
["06-0050","20","06-0050-200",{"$f":"IF(AND(Config!$B$13<=Tarifs!F1207,Config!$B$13>=Tarifs!E1207),1,0)","v":0},"2026-05-01","2026-05-31",1253]
["06-0050","20","06-0050-201",{"$f":"IF(AND(Config!$B$13<=Tarifs!F1208,Config!$B$13>=Tarifs!E1208),1,0)","v":1},"2026-01-01","2026-01-31",1183]
["06-0050","20","06-0050-200",{"$f":"IF(AND(Config!$B$13<=Tarifs!F1209,Config!$B$13>=Tarifs!E1209),1,0)","v":0},"2026-02-01","2026-02-28",1183]
["06-0050","20","06-0050-200",{"$f":"IF(AND(Config!$B$13<=Tarifs!F1210,Config!$B$13>=Tarifs!E1210),1,0)","v":0},"2026-03-01","2026-03-31",1183]
["06-0050","20","06-0050-200",{"$f":"IF(AND(Config!$B$13<=Tarifs!F1211,Config!$B$13>=Tarifs!E1211),1,0)","v":0},"2026-04-01","2026-04-30",1183]
["06-0050","20","06-0050-200",{"$f":"IF(AND(Config!$B$13<=Tarifs!F1212,Config!$B$13>=Tarifs!E1212),1,0)","v":0},"2026-11-01","2026-11-30",1183]
["06-0050","20","06-0050-200",{"$f":"IF(AND(Config!$B$13<=Tarifs!F1213,Config!$B$13>=Tarifs!E1213),1,0)","v":0},"2026-12-01","2026-12-31",1183]
["06-0050","10","06-0050-100",{"$f":"IF(AND(Config!$B$13<=Tarifs!F1214,Config!$B$13>=Tarifs!E1214),1,0)","v":0},"2026-07-01","2026-07-31",239]
["06-0050","10","06-0050-100",{"$f":"IF(AND(Config!$B$13<=Tarifs!F1215,Config!$B$13>=Tarifs!E1215),1,0)","v":0},"2026-08-01","2026-08-31",239]
["06-0050","10","06-0050-100",{"$f":"IF(AND(Config!$B$13<=Tarifs!F1216,Config!$B$13>=Tarifs!E1216),1,0)","v":0},"2026-06-01","2026-06-30",199]
["06-0050","10","06-0050-100",{"$f":"IF(AND(Config!$B$13<=Tarifs!F1217,Config!$B$13>=Tarifs!E1217),1,0)","v":0},"2026-09-01","2026-09-30",199]
["06-0050","10","06-0050-100",{"$f":"IF(AND(Config!$B$13<=Tarifs!F1218,Config!$B$13>=Tarifs!E1218),1,0)","v":0},"2026-10-01","2026-10-31",199]
["06-0050","10",{"$f":"A1219&\"-\"&B1219&D1219","v":"06-0050-100"},{"$f":"IF(AND(Config!$B$13<=Tarifs!F1219,Config!$B$13>=Tarifs!E1219),1,0)","v":0},"2026-05-01","2026-05-31",179]
["06-0050","10","06-0050-101",{"$f":"IF(AND(Config!$B$13<=Tarifs!F1220,Config!$B$13>=Tarifs!E1220),1,0)","v":1},"2026-01-01","2026-01-31",169]
["06-0050","10","06-0050-100",{"$f":"IF(AND(Config!$B$13<=Tarifs!F1221,Config!$B$13>=Tarifs!E1221),1,0)","v":0},"2026-02-01","2026-02-28",169]
["06-0050","10","06-0050-100",{"$f":"IF(AND(Config!$B$13<=Tarifs!F1222,Config!$B$13>=Tarifs!E1222),1,0)","v":0},"2026-03-01","2026-03-31",169]
["06-0050","10","06-0050-100",{"$f":"IF(AND(Config!$B$13<=Tarifs!F1223,Config!$B$13>=Tarifs!E1223),1,0)","v":0},"2026-04-01","2026-04-30",169]
["06-0050","10","06-0050-100",{"$f":"IF(AND(Config!$B$13<=Tarifs!F1224,Config!$B$13>=Tarifs!E1224),1,0)","v":0},"2026-11-01","2026-11-30",169]
["06-0050","10","06-0050-100",{"$f":"IF(AND(Config!$B$13<=Tarifs!F1225,Config!$B$13>=Tarifs!E1225),1,0)","v":0},"2026-12-01","2026-12-31",169]
["06-0069","30","06-0069-300",{"$f":"IF(AND(Config!$B$13<=Tarifs!F1226,Config!$B$13>=Tarifs!E1226),1,0)","v":0},"2026-06-01","2026-06-30",4350]
["06-0069","30","06-0069-300",{"$f":"IF(AND(Config!$B$13<=Tarifs!F1227,Config!$B$13>=Tarifs!E1227),1,0)","v":0},"2026-07-01","2026-07-31",4350]
["06-0069","30","06-0069-300",{"$f":"IF(AND(Config!$B$13<=Tarifs!F1228,Config!$B$13>=Tarifs!E1228),1,0)","v":0},"2026-08-01","2026-08-31",4350]
["06-0069","30","06-0069-300",{"$f":"IF(AND(Config!$B$13<=Tarifs!F1229,Config!$B$13>=Tarifs!E1229),1,0)","v":0},"2026-09-01","2026-09-30",4350]
["06-0069","30","06-0069-300",{"$f":"IF(AND(Config!$B$13<=Tarifs!F1230,Config!$B$13>=Tarifs!E1230),1,0)","v":0},"2026-10-01","2026-10-31",4350]
["06-0069","30","06-0069-300",{"$f":"IF(AND(Config!$B$13<=Tarifs!F1231,Config!$B$13>=Tarifs!E1231),1,0)","v":0},"2026-04-01","2026-04-30",3900]
["06-0069","30","06-0069-300",{"$f":"IF(AND(Config!$B$13<=Tarifs!F1232,Config!$B$13>=Tarifs!E1232),1,0)","v":0},"2026-05-01","2026-05-31",3900]
["06-0069","30","06-0069-300",{"$f":"IF(AND(Config!$B$13<=Tarifs!F1233,Config!$B$13>=Tarifs!E1233),1,0)","v":0},"2026-11-01","2026-11-30",3900]
["06-0069","30","06-0069-300",{"$f":"IF(AND(Config!$B$13<=Tarifs!F1234,Config!$B$13>=Tarifs!E1234),1,0)","v":0},"2026-12-01","2026-12-31",3900]
["06-0069","30","06-0069-301",{"$f":"IF(AND(Config!$B$13<=Tarifs!F1235,Config!$B$13>=Tarifs!E1235),1,0)","v":1},"2026-01-01","2026-01-31",3750]
["06-0069","30","06-0069-300",{"$f":"IF(AND(Config!$B$13<=Tarifs!F1236,Config!$B$13>=Tarifs!E1236),1,0)","v":0},"2026-02-01","2026-02-28",3750]
["06-0069","30","06-0069-300",{"$f":"IF(AND(Config!$B$13<=Tarifs!F1237,Config!$B$13>=Tarifs!E1237),1,0)","v":0},"2026-03-01","2026-03-31",3750]
["06-0069","20","06-0069-200",{"$f":"IF(AND(Config!$B$13<=Tarifs!F1238,Config!$B$13>=Tarifs!E1238),1,0)","v":0},"2026-06-01","2026-06-30",1015]
["06-0069","20","06-0069-200",{"$f":"IF(AND(Config!$B$13<=Tarifs!F1239,Config!$B$13>=Tarifs!E1239),1,0)","v":0},"2026-07-01","2026-07-31",1015]
["06-0069","20","06-0069-200",{"$f":"IF(AND(Config!$B$13<=Tarifs!F1240,Config!$B$13>=Tarifs!E1240),1,0)","v":0},"2026-08-01","2026-08-31",1015]
["06-0069","20","06-0069-200",{"$f":"IF(AND(Config!$B$13<=Tarifs!F1241,Config!$B$13>=Tarifs!E1241),1,0)","v":0},"2026-09-01","2026-09-30",1015]
["06-0069","20","06-0069-200",{"$f":"IF(AND(Config!$B$13<=Tarifs!F1242,Config!$B$13>=Tarifs!E1242),1,0)","v":0},"2026-10-01","2026-10-31",1015]
["06-0069","20","06-0069-200",{"$f":"IF(AND(Config!$B$13<=Tarifs!F1243,Config!$B$13>=Tarifs!E1243),1,0)","v":0},"2026-04-01","2026-04-30",910]
["06-0069","20","06-0069-200",{"$f":"IF(AND(Config!$B$13<=Tarifs!F1244,Config!$B$13>=Tarifs!E1244),1,0)","v":0},"2026-05-01","2026-05-31",910]
["06-0069","20","06-0069-200",{"$f":"IF(AND(Config!$B$13<=Tarifs!F1245,Config!$B$13>=Tarifs!E1245),1,0)","v":0},"2026-11-01","2026-11-30",910]
["06-0069","20","06-0069-200",{"$f":"IF(AND(Config!$B$13<=Tarifs!F1246,Config!$B$13>=Tarifs!E1246),1,0)","v":0},"2026-12-01","2026-12-31",910]
["06-0069","20","06-0069-201",{"$f":"IF(AND(Config!$B$13<=Tarifs!F1247,Config!$B$13>=Tarifs!E1247),1,0)","v":1},"2026-01-01","2026-01-31",875]
["06-0069","20","06-0069-200",{"$f":"IF(AND(Config!$B$13<=Tarifs!F1248,Config!$B$13>=Tarifs!E1248),1,0)","v":0},"2026-02-01","2026-02-28",875]
["06-0069","20","06-0069-200",{"$f":"IF(AND(Config!$B$13<=Tarifs!F1249,Config!$B$13>=Tarifs!E1249),1,0)","v":0},"2026-03-01","2026-03-31",875]
["06-0069","10","06-0069-100",{"$f":"IF(AND(Config!$B$13<=Tarifs!F1250,Config!$B$13>=Tarifs!E1250),1,0)","v":0},"2026-06-01","2026-06-30",145]
["06-0069","10","06-0069-100",{"$f":"IF(AND(Config!$B$13<=Tarifs!F1251,Config!$B$13>=Tarifs!E1251),1,0)","v":0},"2026-07-01","2026-07-31",145]
["06-0069","10","06-0069-100",{"$f":"IF(AND(Config!$B$13<=Tarifs!F1252,Config!$B$13>=Tarifs!E1252),1,0)","v":0},"2026-08-01","2026-08-31",145]
["06-0069","10","06-0069-100",{"$f":"IF(AND(Config!$B$13<=Tarifs!F1253,Config!$B$13>=Tarifs!E1253),1,0)","v":0},"2026-09-01","2026-09-30",145]
["06-0069","10","06-0069-100",{"$f":"IF(AND(Config!$B$13<=Tarifs!F1254,Config!$B$13>=Tarifs!E1254),1,0)","v":0},"2026-10-01","2026-10-31",145]
["06-0069","10","06-0069-100",{"$f":"IF(AND(Config!$B$13<=Tarifs!F1255,Config!$B$13>=Tarifs!E1255),1,0)","v":0},"2026-04-01","2026-04-30",130]
["06-0069","10","06-0069-100",{"$f":"IF(AND(Config!$B$13<=Tarifs!F1256,Config!$B$13>=Tarifs!E1256),1,0)","v":0},"2026-05-01","2026-05-31",130]
["06-0069","10","06-0069-100",{"$f":"IF(AND(Config!$B$13<=Tarifs!F1257,Config!$B$13>=Tarifs!E1257),1,0)","v":0},"2026-11-01","2026-11-30",130]
["06-0069","10","06-0069-100",{"$f":"IF(AND(Config!$B$13<=Tarifs!F1258,Config!$B$13>=Tarifs!E1258),1,0)","v":0},"2026-12-01","2026-12-31",130]
["06-0069","10","06-0069-101",{"$f":"IF(AND(Config!$B$13<=Tarifs!F1259,Config!$B$13>=Tarifs!E1259),1,0)","v":1},"2026-01-01","2026-01-31",125]
["06-0069","10","06-0069-100",{"$f":"IF(AND(Config!$B$13<=Tarifs!F1260,Config!$B$13>=Tarifs!E1260),1,0)","v":0},"2026-02-01","2026-02-28",125]
["06-0069","10","06-0069-100",{"$f":"IF(AND(Config!$B$13<=Tarifs!F1261,Config!$B$13>=Tarifs!E1261),1,0)","v":0},"2026-03-01","2026-03-31",125]
["06-0100","30","06-0100-300",{"$f":"IF(AND(Config!$B$13<=Tarifs!F1262,Config!$B$13>=Tarifs!E1262),1,0)","v":0},"2026-07-01","2026-07-31",5070]
["06-0100","30","06-0100-300",{"$f":"IF(AND(Config!$B$13<=Tarifs!F1263,Config!$B$13>=Tarifs!E1263),1,0)","v":0},"2026-08-01","2026-08-31",5070]
["06-0100","30","06-0100-300",{"$f":"IF(AND(Config!$B$13<=Tarifs!F1264,Config!$B$13>=Tarifs!E1264),1,0)","v":0},"2026-09-01","2026-09-30",5070]
["06-0100","30","06-0100-300",{"$f":"IF(AND(Config!$B$13<=Tarifs!F1265,Config!$B$13>=Tarifs!E1265),1,0)","v":0},"2026-06-01","2026-06-30",4200]
["06-0100","30","06-0100-300",{"$f":"IF(AND(Config!$B$13<=Tarifs!F1266,Config!$B$13>=Tarifs!E1266),1,0)","v":0},"2026-10-01","2026-10-31",4200]
["06-0100","30","06-0100-300",{"$f":"IF(AND(Config!$B$13<=Tarifs!F1267,Config!$B$13>=Tarifs!E1267),1,0)","v":0},"2026-11-01","2026-11-30",3870]
["06-0100","30","06-0100-300",{"$f":"IF(AND(Config!$B$13<=Tarifs!F1268,Config!$B$13>=Tarifs!E1268),1,0)","v":0},"2026-12-01","2026-12-31",3870]
["06-0100","30","06-0100-301",{"$f":"IF(AND(Config!$B$13<=Tarifs!F1269,Config!$B$13>=Tarifs!E1269),1,0)","v":1},"2026-01-01","2026-01-31",3720]
["06-0100","30","06-0100-300",{"$f":"IF(AND(Config!$B$13<=Tarifs!F1270,Config!$B$13>=Tarifs!E1270),1,0)","v":0},"2026-02-01","2026-02-28",3720]
["06-0100","30","06-0100-300",{"$f":"IF(AND(Config!$B$13<=Tarifs!F1271,Config!$B$13>=Tarifs!E1271),1,0)","v":0},"2026-03-01","2026-03-31",3720]
["06-0100","30","06-0100-300",{"$f":"IF(AND(Config!$B$13<=Tarifs!F1272,Config!$B$13>=Tarifs!E1272),1,0)","v":0},"2026-04-01","2026-04-30",3720]
["06-0100","30","06-0100-300",{"$f":"IF(AND(Config!$B$13<=Tarifs!F1273,Config!$B$13>=Tarifs!E1273),1,0)","v":0},"2026-05-01","2026-05-31",3720]
["06-0100","20","06-0100-200",{"$f":"IF(AND(Config!$B$13<=Tarifs!F1274,Config!$B$13>=Tarifs!E1274),1,0)","v":0},"2026-07-01","2026-07-31",1183]
["06-0100","20","06-0100-200",{"$f":"IF(AND(Config!$B$13<=Tarifs!F1275,Config!$B$13>=Tarifs!E1275),1,0)","v":0},"2026-08-01","2026-08-31",1183]
["06-0100","20","06-0100-200",{"$f":"IF(AND(Config!$B$13<=Tarifs!F1276,Config!$B$13>=Tarifs!E1276),1,0)","v":0},"2026-09-01","2026-09-30",1183]
["06-0100","20","06-0100-200",{"$f":"IF(AND(Config!$B$13<=Tarifs!F1277,Config!$B$13>=Tarifs!E1277),1,0)","v":0},"2026-06-01","2026-06-30",980]
["06-0100","20","06-0100-200",{"$f":"IF(AND(Config!$B$13<=Tarifs!F1278,Config!$B$13>=Tarifs!E1278),1,0)","v":0},"2026-10-01","2026-10-31",980]
["06-0100","20","06-0100-200",{"$f":"IF(AND(Config!$B$13<=Tarifs!F1279,Config!$B$13>=Tarifs!E1279),1,0)","v":0},"2026-11-01","2026-11-30",903]
["06-0100","20","06-0100-200",{"$f":"IF(AND(Config!$B$13<=Tarifs!F1280,Config!$B$13>=Tarifs!E1280),1,0)","v":0},"2026-12-01","2026-12-31",903]
["06-0100","20","06-0100-201",{"$f":"IF(AND(Config!$B$13<=Tarifs!F1281,Config!$B$13>=Tarifs!E1281),1,0)","v":1},"2026-01-01","2026-01-31",868]
["06-0100","20","06-0100-200",{"$f":"IF(AND(Config!$B$13<=Tarifs!F1282,Config!$B$13>=Tarifs!E1282),1,0)","v":0},"2026-02-01","2026-02-28",868]
["06-0100","20",{"$f":"A1283&\"-\"&B1283&D1283","v":"06-0100-200"},{"$f":"IF(AND(Config!$B$13<=Tarifs!F1283,Config!$B$13>=Tarifs!E1283),1,0)","v":0},"2026-03-01","2026-03-31",868]
["06-0100","20","06-0100-200",{"$f":"IF(AND(Config!$B$13<=Tarifs!F1284,Config!$B$13>=Tarifs!E1284),1,0)","v":0},"2026-04-01","2026-04-30",868]
["06-0100","20","06-0100-200",{"$f":"IF(AND(Config!$B$13<=Tarifs!F1285,Config!$B$13>=Tarifs!E1285),1,0)","v":0},"2026-05-01","2026-05-31",868]
["06-0100","10","06-0100-100",{"$f":"IF(AND(Config!$B$13<=Tarifs!F1286,Config!$B$13>=Tarifs!E1286),1,0)","v":0},"2026-07-01","2026-07-31",169]
["06-0100","10","06-0100-100",{"$f":"IF(AND(Config!$B$13<=Tarifs!F1287,Config!$B$13>=Tarifs!E1287),1,0)","v":0},"2026-08-01","2026-08-31",169]
["06-0100","10","06-0100-100",{"$f":"IF(AND(Config!$B$13<=Tarifs!F1288,Config!$B$13>=Tarifs!E1288),1,0)","v":0},"2026-09-01","2026-09-30",169]
["06-0100","10","06-0100-100",{"$f":"IF(AND(Config!$B$13<=Tarifs!F1289,Config!$B$13>=Tarifs!E1289),1,0)","v":0},"2026-06-01","2026-06-30",140]
["06-0100","10","06-0100-100",{"$f":"IF(AND(Config!$B$13<=Tarifs!F1290,Config!$B$13>=Tarifs!E1290),1,0)","v":0},"2026-10-01","2026-10-31",140]
["06-0100","10","06-0100-100",{"$f":"IF(AND(Config!$B$13<=Tarifs!F1291,Config!$B$13>=Tarifs!E1291),1,0)","v":0},"2026-11-01","2026-11-30",129]
["06-0100","10","06-0100-100",{"$f":"IF(AND(Config!$B$13<=Tarifs!F1292,Config!$B$13>=Tarifs!E1292),1,0)","v":0},"2026-12-01","2026-12-31",129]
["06-0100","10","06-0100-101",{"$f":"IF(AND(Config!$B$13<=Tarifs!F1293,Config!$B$13>=Tarifs!E1293),1,0)","v":1},"2026-01-01","2026-01-31",124]
["06-0100","10","06-0100-100",{"$f":"IF(AND(Config!$B$13<=Tarifs!F1294,Config!$B$13>=Tarifs!E1294),1,0)","v":0},"2026-02-01","2026-02-28",124]
["06-0100","10","06-0100-100",{"$f":"IF(AND(Config!$B$13<=Tarifs!F1295,Config!$B$13>=Tarifs!E1295),1,0)","v":0},"2026-03-01","2026-03-31",124]
["06-0100","10","06-0100-100",{"$f":"IF(AND(Config!$B$13<=Tarifs!F1296,Config!$B$13>=Tarifs!E1296),1,0)","v":0},"2026-04-01","2026-04-30",124]
["06-0100","10","06-0100-100",{"$f":"IF(AND(Config!$B$13<=Tarifs!F1297,Config!$B$13>=Tarifs!E1297),1,0)","v":0},"2026-05-01","2026-05-31",124]
["06-0131","30","06-0131-300",{"$f":"IF(AND(Config!$B$13<=Tarifs!F1298,Config!$B$13>=Tarifs!E1298),1,0)","v":0},"2026-04-01","2026-04-30",7700]
["06-0131","30","06-0131-300",{"$f":"IF(AND(Config!$B$13<=Tarifs!F1299,Config!$B$13>=Tarifs!E1299),1,0)","v":0},"2026-05-01","2026-05-31",7700]
["06-0131","30","06-0131-300",{"$f":"IF(AND(Config!$B$13<=Tarifs!F1300,Config!$B$13>=Tarifs!E1300),1,0)","v":0},"2026-06-01","2026-06-30",7700]
["06-0131","30","06-0131-300",{"$f":"IF(AND(Config!$B$13<=Tarifs!F1301,Config!$B$13>=Tarifs!E1301),1,0)","v":0},"2026-07-01","2026-07-31",7700]
["06-0131","30","06-0131-300",{"$f":"IF(AND(Config!$B$13<=Tarifs!F1302,Config!$B$13>=Tarifs!E1302),1,0)","v":0},"2026-08-01","2026-08-31",7700]
["06-0131","30","06-0131-300",{"$f":"IF(AND(Config!$B$13<=Tarifs!F1303,Config!$B$13>=Tarifs!E1303),1,0)","v":0},"2026-09-01","2026-09-30",7700]
["06-0131","30","06-0131-300",{"$f":"IF(AND(Config!$B$13<=Tarifs!F1304,Config!$B$13>=Tarifs!E1304),1,0)","v":0},"2026-10-01","2026-10-31",7700]
["06-0131","30","06-0131-300",{"$f":"IF(AND(Config!$B$13<=Tarifs!F1305,Config!$B$13>=Tarifs!E1305),1,0)","v":0},"2026-12-01","2026-12-31",6270]
["06-0131","30","06-0131-300",{"$f":"IF(AND(Config!$B$13<=Tarifs!F1306,Config!$B$13>=Tarifs!E1306),1,0)","v":0},"2026-11-01","2026-11-30",6270]
["06-0131","30","06-0131-301",{"$f":"IF(AND(Config!$B$13<=Tarifs!F1307,Config!$B$13>=Tarifs!E1307),1,0)","v":1},"2026-01-01","2026-01-31",6120]
["06-0131","30","06-0131-300",{"$f":"IF(AND(Config!$B$13<=Tarifs!F1308,Config!$B$13>=Tarifs!E1308),1,0)","v":0},"2026-02-01","2026-02-28",6120]
["06-0131","30","06-0131-300",{"$f":"IF(AND(Config!$B$13<=Tarifs!F1309,Config!$B$13>=Tarifs!E1309),1,0)","v":0},"2026-03-01","2026-03-31",6120]
["06-0131","20","06-0131-200",{"$f":"IF(AND(Config!$B$13<=Tarifs!F1310,Config!$B$13>=Tarifs!E1310),1,0)","v":0},"2026-04-01","2026-04-30",1813]
["06-0131","20","06-0131-200",{"$f":"IF(AND(Config!$B$13<=Tarifs!F1311,Config!$B$13>=Tarifs!E1311),1,0)","v":0},"2026-05-01","2026-05-31",1813]
["06-0131","20","06-0131-200",{"$f":"IF(AND(Config!$B$13<=Tarifs!F1312,Config!$B$13>=Tarifs!E1312),1,0)","v":0},"2026-06-01","2026-06-30",1813]
["06-0131","20","06-0131-200",{"$f":"IF(AND(Config!$B$13<=Tarifs!F1313,Config!$B$13>=Tarifs!E1313),1,0)","v":0},"2026-07-01","2026-07-31",1813]
["06-0131","20","06-0131-200",{"$f":"IF(AND(Config!$B$13<=Tarifs!F1314,Config!$B$13>=Tarifs!E1314),1,0)","v":0},"2026-08-01","2026-08-31",1813]
["06-0131","20","06-0131-200",{"$f":"IF(AND(Config!$B$13<=Tarifs!F1315,Config!$B$13>=Tarifs!E1315),1,0)","v":0},"2026-09-01","2026-09-30",1813]
["06-0131","20","06-0131-200",{"$f":"IF(AND(Config!$B$13<=Tarifs!F1316,Config!$B$13>=Tarifs!E1316),1,0)","v":0},"2026-10-01","2026-10-31",1813]
["06-0131","20","06-0131-200",{"$f":"IF(AND(Config!$B$13<=Tarifs!F1317,Config!$B$13>=Tarifs!E1317),1,0)","v":0},"2026-12-01","2026-12-31",1463]
["06-0131","20","06-0131-200",{"$f":"IF(AND(Config!$B$13<=Tarifs!F1318,Config!$B$13>=Tarifs!E1318),1,0)","v":0},"2026-11-01","2026-11-30",1463]
["06-0131","20","06-0131-200",{"$f":"IF(AND(Config!$B$13<=Tarifs!F1319,Config!$B$13>=Tarifs!E1319),1,0)","v":0},"2026-02-01","2026-02-28",1428]
["06-0131","20","06-0131-200",{"$f":"IF(AND(Config!$B$13<=Tarifs!F1320,Config!$B$13>=Tarifs!E1320),1,0)","v":0},"2026-03-01","2026-03-31",1428]
["06-0131","20","06-0131-201",{"$f":"IF(AND(Config!$B$13<=Tarifs!F1321,Config!$B$13>=Tarifs!E1321),1,0)","v":1},"2026-01-01","2026-01-31",428]
["06-0131","10","06-0131-100",{"$f":"IF(AND(Config!$B$13<=Tarifs!F1322,Config!$B$13>=Tarifs!E1322),1,0)","v":0},"2026-04-01","2026-04-30",259]
["06-0131","10","06-0131-100",{"$f":"IF(AND(Config!$B$13<=Tarifs!F1323,Config!$B$13>=Tarifs!E1323),1,0)","v":0},"2026-05-01","2026-05-31",259]
["06-0131","10","06-0131-100",{"$f":"IF(AND(Config!$B$13<=Tarifs!F1324,Config!$B$13>=Tarifs!E1324),1,0)","v":0},"2026-06-01","2026-06-30",259]
["06-0131","10","06-0131-100",{"$f":"IF(AND(Config!$B$13<=Tarifs!F1325,Config!$B$13>=Tarifs!E1325),1,0)","v":0},"2026-07-01","2026-07-31",259]
["06-0131","10","06-0131-100",{"$f":"IF(AND(Config!$B$13<=Tarifs!F1326,Config!$B$13>=Tarifs!E1326),1,0)","v":0},"2026-08-01","2026-08-31",259]
["06-0131","10","06-0131-100",{"$f":"IF(AND(Config!$B$13<=Tarifs!F1327,Config!$B$13>=Tarifs!E1327),1,0)","v":0},"2026-10-01","2026-10-31",259]
["06-0131","10","06-0131-100",{"$f":"IF(AND(Config!$B$13<=Tarifs!F1328,Config!$B$13>=Tarifs!E1328),1,0)","v":0},"2026-09-01","2026-09-30",259]
["06-0131","10","06-0131-100",{"$f":"IF(AND(Config!$B$13<=Tarifs!F1329,Config!$B$13>=Tarifs!E1329),1,0)","v":0},"2026-11-01","2026-11-30",209]
["06-0131","10","06-0131-100",{"$f":"IF(AND(Config!$B$13<=Tarifs!F1330,Config!$B$13>=Tarifs!E1330),1,0)","v":0},"2026-12-01","2026-12-31",209]
["06-0131","10","06-0131-101",{"$f":"IF(AND(Config!$B$13<=Tarifs!F1331,Config!$B$13>=Tarifs!E1331),1,0)","v":1},"2026-01-01","2026-01-31",204]
["06-0131","10","06-0131-100",{"$f":"IF(AND(Config!$B$13<=Tarifs!F1332,Config!$B$13>=Tarifs!E1332),1,0)","v":0},"2026-02-01","2026-02-28",204]
["06-0131","10","06-0131-100",{"$f":"IF(AND(Config!$B$13<=Tarifs!F1333,Config!$B$13>=Tarifs!E1333),1,0)","v":0},"2026-03-01","2026-03-31",204]
["07-0005","30","07-0005-300",{"$f":"IF(AND(Config!$B$13<=Tarifs!F1334,Config!$B$13>=Tarifs!E1334),1,0)","v":0},"2026-07-01","2026-07-31",5970]
["07-0005","30","07-0005-300",{"$f":"IF(AND(Config!$B$13<=Tarifs!F1335,Config!$B$13>=Tarifs!E1335),1,0)","v":0},"2026-08-01","2026-08-31",5970]
["07-0005","30","07-0005-300",{"$f":"IF(AND(Config!$B$13<=Tarifs!F1336,Config!$B$13>=Tarifs!E1336),1,0)","v":0},"2026-06-01","2026-06-30",4470]
["07-0005","30","07-0005-300",{"$f":"IF(AND(Config!$B$13<=Tarifs!F1337,Config!$B$13>=Tarifs!E1337),1,0)","v":0},"2026-09-01","2026-09-30",4470]
["07-0005","30","07-0005-301",{"$f":"IF(AND(Config!$B$13<=Tarifs!F1338,Config!$B$13>=Tarifs!E1338),1,0)","v":1},"2026-01-01","2026-01-31",3900]
["07-0005","30","07-0005-300",{"$f":"IF(AND(Config!$B$13<=Tarifs!F1339,Config!$B$13>=Tarifs!E1339),1,0)","v":0},"2026-02-01","2026-02-28",3900]
["07-0005","30","07-0005-300",{"$f":"IF(AND(Config!$B$13<=Tarifs!F1340,Config!$B$13>=Tarifs!E1340),1,0)","v":0},"2026-03-01","2026-03-31",3900]
["07-0005","30","07-0005-300",{"$f":"IF(AND(Config!$B$13<=Tarifs!F1341,Config!$B$13>=Tarifs!E1341),1,0)","v":0},"2026-04-01","2026-04-30",3900]
["07-0005","30","07-0005-300",{"$f":"IF(AND(Config!$B$13<=Tarifs!F1342,Config!$B$13>=Tarifs!E1342),1,0)","v":0},"2026-05-01","2026-05-31",3900]
["07-0005","30","07-0005-300",{"$f":"IF(AND(Config!$B$13<=Tarifs!F1343,Config!$B$13>=Tarifs!E1343),1,0)","v":0},"2026-10-01","2026-10-31",3900]
["07-0005","30","07-0005-300",{"$f":"IF(AND(Config!$B$13<=Tarifs!F1344,Config!$B$13>=Tarifs!E1344),1,0)","v":0},"2026-11-01","2026-11-30",3900]
["07-0005","30","07-0005-300",{"$f":"IF(AND(Config!$B$13<=Tarifs!F1345,Config!$B$13>=Tarifs!E1345),1,0)","v":0},"2026-12-01","2026-12-31",3900]
["07-0005","20","07-0005-200",{"$f":"IF(AND(Config!$B$13<=Tarifs!F1346,Config!$B$13>=Tarifs!E1346),1,0)","v":0},"2026-07-01","2026-07-31",1393]
["07-0005","20",{"$f":"A1347&\"-\"&B1347&D1347","v":"07-0005-200"},{"$f":"IF(AND(Config!$B$13<=Tarifs!F1347,Config!$B$13>=Tarifs!E1347),1,0)","v":0},"2026-08-01","2026-08-31",1393]
["07-0005","20","07-0005-200",{"$f":"IF(AND(Config!$B$13<=Tarifs!F1348,Config!$B$13>=Tarifs!E1348),1,0)","v":0},"2026-06-01","2026-06-30",1043]
["07-0005","20","07-0005-200",{"$f":"IF(AND(Config!$B$13<=Tarifs!F1349,Config!$B$13>=Tarifs!E1349),1,0)","v":0},"2026-09-01","2026-09-30",1043]
["07-0005","20","07-0005-201",{"$f":"IF(AND(Config!$B$13<=Tarifs!F1350,Config!$B$13>=Tarifs!E1350),1,0)","v":1},"2026-01-01","2026-01-31",910]
["07-0005","20","07-0005-200",{"$f":"IF(AND(Config!$B$13<=Tarifs!F1351,Config!$B$13>=Tarifs!E1351),1,0)","v":0},"2026-02-01","2026-02-28",910]
["07-0005","20","07-0005-200",{"$f":"IF(AND(Config!$B$13<=Tarifs!F1352,Config!$B$13>=Tarifs!E1352),1,0)","v":0},"2026-03-01","2026-03-31",910]
["07-0005","20","07-0005-200",{"$f":"IF(AND(Config!$B$13<=Tarifs!F1353,Config!$B$13>=Tarifs!E1353),1,0)","v":0},"2026-04-01","2026-04-30",910]
["07-0005","20","07-0005-200",{"$f":"IF(AND(Config!$B$13<=Tarifs!F1354,Config!$B$13>=Tarifs!E1354),1,0)","v":0},"2026-05-01","2026-05-31",910]
["07-0005","20","07-0005-200",{"$f":"IF(AND(Config!$B$13<=Tarifs!F1355,Config!$B$13>=Tarifs!E1355),1,0)","v":0},"2026-10-01","2026-10-31",910]
["07-0005","20","07-0005-200",{"$f":"IF(AND(Config!$B$13<=Tarifs!F1356,Config!$B$13>=Tarifs!E1356),1,0)","v":0},"2026-11-01","2026-11-30",910]
["07-0005","20","07-0005-200",{"$f":"IF(AND(Config!$B$13<=Tarifs!F1357,Config!$B$13>=Tarifs!E1357),1,0)","v":0},"2026-12-01","2026-12-31",910]
["07-0005","10","07-0005-100",{"$f":"IF(AND(Config!$B$13<=Tarifs!F1358,Config!$B$13>=Tarifs!E1358),1,0)","v":0},"2026-07-01","2026-07-31",199]
["07-0005","10","07-0005-100",{"$f":"IF(AND(Config!$B$13<=Tarifs!F1359,Config!$B$13>=Tarifs!E1359),1,0)","v":0},"2026-08-01","2026-08-31",199]
["07-0005","10","07-0005-100",{"$f":"IF(AND(Config!$B$13<=Tarifs!F1360,Config!$B$13>=Tarifs!E1360),1,0)","v":0},"2026-06-01","2026-06-30",149]
["07-0005","10","07-0005-100",{"$f":"IF(AND(Config!$B$13<=Tarifs!F1361,Config!$B$13>=Tarifs!E1361),1,0)","v":0},"2026-09-01","2026-09-30",149]
["07-0005","10","07-0005-101",{"$f":"IF(AND(Config!$B$13<=Tarifs!F1362,Config!$B$13>=Tarifs!E1362),1,0)","v":1},"2026-01-01","2026-01-31",130]
["07-0005","10","07-0005-100",{"$f":"IF(AND(Config!$B$13<=Tarifs!F1363,Config!$B$13>=Tarifs!E1363),1,0)","v":0},"2026-02-01","2026-02-28",130]
["07-0005","10","07-0005-100",{"$f":"IF(AND(Config!$B$13<=Tarifs!F1364,Config!$B$13>=Tarifs!E1364),1,0)","v":0},"2026-03-01","2026-03-31",130]
["07-0005","10","07-0005-100",{"$f":"IF(AND(Config!$B$13<=Tarifs!F1365,Config!$B$13>=Tarifs!E1365),1,0)","v":0},"2026-04-01","2026-04-30",130]
["07-0005","10","07-0005-100",{"$f":"IF(AND(Config!$B$13<=Tarifs!F1366,Config!$B$13>=Tarifs!E1366),1,0)","v":0},"2026-05-01","2026-05-31",130]
["07-0005","10","07-0005-100",{"$f":"IF(AND(Config!$B$13<=Tarifs!F1367,Config!$B$13>=Tarifs!E1367),1,0)","v":0},"2026-10-01","2026-10-31",130]
["07-0005","10","07-0005-100",{"$f":"IF(AND(Config!$B$13<=Tarifs!F1368,Config!$B$13>=Tarifs!E1368),1,0)","v":0},"2026-11-01","2026-11-30",130]
["07-0005","10","07-0005-100",{"$f":"IF(AND(Config!$B$13<=Tarifs!F1369,Config!$B$13>=Tarifs!E1369),1,0)","v":0},"2026-12-01","2026-12-31",130]
["07-0006","30","07-0006-300",{"$f":"IF(AND(Config!$B$13<=Tarifs!F1370,Config!$B$13>=Tarifs!E1370),1,0)","v":0},"2026-07-01","2026-07-31",5970]
["07-0006","30","07-0006-300",{"$f":"IF(AND(Config!$B$13<=Tarifs!F1371,Config!$B$13>=Tarifs!E1371),1,0)","v":0},"2026-08-01","2026-08-31",5970]
["07-0006","30","07-0006-300",{"$f":"IF(AND(Config!$B$13<=Tarifs!F1372,Config!$B$13>=Tarifs!E1372),1,0)","v":0},"2026-06-01","2026-06-30",4470]
["07-0006","30","07-0006-300",{"$f":"IF(AND(Config!$B$13<=Tarifs!F1373,Config!$B$13>=Tarifs!E1373),1,0)","v":0},"2026-09-01","2026-09-30",4470]
["07-0006","30","07-0006-301",{"$f":"IF(AND(Config!$B$13<=Tarifs!F1374,Config!$B$13>=Tarifs!E1374),1,0)","v":1},"2026-01-01","2026-01-31",3900]
["07-0006","30","07-0006-300",{"$f":"IF(AND(Config!$B$13<=Tarifs!F1375,Config!$B$13>=Tarifs!E1375),1,0)","v":0},"2026-02-01","2026-02-28",3900]
["07-0006","30","07-0006-300",{"$f":"IF(AND(Config!$B$13<=Tarifs!F1376,Config!$B$13>=Tarifs!E1376),1,0)","v":0},"2026-03-01","2026-03-31",3900]
["07-0006","30","07-0006-300",{"$f":"IF(AND(Config!$B$13<=Tarifs!F1377,Config!$B$13>=Tarifs!E1377),1,0)","v":0},"2026-04-01","2026-04-30",3900]
["07-0006","30","07-0006-300",{"$f":"IF(AND(Config!$B$13<=Tarifs!F1378,Config!$B$13>=Tarifs!E1378),1,0)","v":0},"2026-05-01","2026-05-31",3900]
["07-0006","30","07-0006-300",{"$f":"IF(AND(Config!$B$13<=Tarifs!F1379,Config!$B$13>=Tarifs!E1379),1,0)","v":0},"2026-10-01","2026-10-31",3900]
["07-0006","30","07-0006-300",{"$f":"IF(AND(Config!$B$13<=Tarifs!F1380,Config!$B$13>=Tarifs!E1380),1,0)","v":0},"2026-11-01","2026-11-30",3900]
["07-0006","30","07-0006-300",{"$f":"IF(AND(Config!$B$13<=Tarifs!F1381,Config!$B$13>=Tarifs!E1381),1,0)","v":0},"2026-12-01","2026-12-31",3900]
["07-0006","20","07-0006-200",{"$f":"IF(AND(Config!$B$13<=Tarifs!F1382,Config!$B$13>=Tarifs!E1382),1,0)","v":0},"2026-07-01","2026-07-31",1393]
["07-0006","20","07-0006-200",{"$f":"IF(AND(Config!$B$13<=Tarifs!F1383,Config!$B$13>=Tarifs!E1383),1,0)","v":0},"2026-08-01","2026-08-31",1393]
["07-0006","20","07-0006-200",{"$f":"IF(AND(Config!$B$13<=Tarifs!F1384,Config!$B$13>=Tarifs!E1384),1,0)","v":0},"2026-06-01","2026-06-30",1043]
["07-0006","20","07-0006-200",{"$f":"IF(AND(Config!$B$13<=Tarifs!F1385,Config!$B$13>=Tarifs!E1385),1,0)","v":0},"2026-09-01","2026-09-30",1043]
["07-0006","20","07-0006-201",{"$f":"IF(AND(Config!$B$13<=Tarifs!F1386,Config!$B$13>=Tarifs!E1386),1,0)","v":1},"2026-01-01","2026-01-31",910]
["07-0006","20","07-0006-200",{"$f":"IF(AND(Config!$B$13<=Tarifs!F1387,Config!$B$13>=Tarifs!E1387),1,0)","v":0},"2026-02-01","2026-02-28",910]
["07-0006","20","07-0006-200",{"$f":"IF(AND(Config!$B$13<=Tarifs!F1388,Config!$B$13>=Tarifs!E1388),1,0)","v":0},"2026-03-01","2026-03-31",910]
["07-0006","20","07-0006-200",{"$f":"IF(AND(Config!$B$13<=Tarifs!F1389,Config!$B$13>=Tarifs!E1389),1,0)","v":0},"2026-04-01","2026-04-30",910]
["07-0006","20","07-0006-200",{"$f":"IF(AND(Config!$B$13<=Tarifs!F1390,Config!$B$13>=Tarifs!E1390),1,0)","v":0},"2026-05-01","2026-05-31",910]
["07-0006","20","07-0006-200",{"$f":"IF(AND(Config!$B$13<=Tarifs!F1391,Config!$B$13>=Tarifs!E1391),1,0)","v":0},"2026-10-01","2026-10-31",910]
["07-0006","20","07-0006-200",{"$f":"IF(AND(Config!$B$13<=Tarifs!F1392,Config!$B$13>=Tarifs!E1392),1,0)","v":0},"2026-11-01","2026-11-30",910]
["07-0006","20","07-0006-200",{"$f":"IF(AND(Config!$B$13<=Tarifs!F1393,Config!$B$13>=Tarifs!E1393),1,0)","v":0},"2026-12-01","2026-12-31",910]
["07-0006","10","07-0006-100",{"$f":"IF(AND(Config!$B$13<=Tarifs!F1394,Config!$B$13>=Tarifs!E1394),1,0)","v":0},"2026-07-01","2026-07-31",199]
["07-0006","10","07-0006-100",{"$f":"IF(AND(Config!$B$13<=Tarifs!F1395,Config!$B$13>=Tarifs!E1395),1,0)","v":0},"2026-08-01","2026-08-31",199]
["07-0006","10","07-0006-100",{"$f":"IF(AND(Config!$B$13<=Tarifs!F1396,Config!$B$13>=Tarifs!E1396),1,0)","v":0},"2026-06-01","2026-06-30",149]
["07-0006","10","07-0006-100",{"$f":"IF(AND(Config!$B$13<=Tarifs!F1397,Config!$B$13>=Tarifs!E1397),1,0)","v":0},"2026-09-01","2026-09-30",149]
["07-0006","10","07-0006-101",{"$f":"IF(AND(Config!$B$13<=Tarifs!F1398,Config!$B$13>=Tarifs!E1398),1,0)","v":1},"2026-01-01","2026-01-31",130]
["07-0006","10","07-0006-100",{"$f":"IF(AND(Config!$B$13<=Tarifs!F1399,Config!$B$13>=Tarifs!E1399),1,0)","v":0},"2026-02-01","2026-02-28",130]
["07-0006","10","07-0006-100",{"$f":"IF(AND(Config!$B$13<=Tarifs!F1400,Config!$B$13>=Tarifs!E1400),1,0)","v":0},"2026-03-01","2026-03-31",130]
["07-0006","10","07-0006-100",{"$f":"IF(AND(Config!$B$13<=Tarifs!F1401,Config!$B$13>=Tarifs!E1401),1,0)","v":0},"2026-04-01","2026-04-30",130]
["07-0006","10","07-0006-100",{"$f":"IF(AND(Config!$B$13<=Tarifs!F1402,Config!$B$13>=Tarifs!E1402),1,0)","v":0},"2026-05-01","2026-05-31",130]
["07-0006","10","07-0006-100",{"$f":"IF(AND(Config!$B$13<=Tarifs!F1403,Config!$B$13>=Tarifs!E1403),1,0)","v":0},"2026-10-01","2026-10-31",130]
["07-0006","10","07-0006-100",{"$f":"IF(AND(Config!$B$13<=Tarifs!F1404,Config!$B$13>=Tarifs!E1404),1,0)","v":0},"2026-11-01","2026-11-30",130]
["07-0006","10","07-0006-100",{"$f":"IF(AND(Config!$B$13<=Tarifs!F1405,Config!$B$13>=Tarifs!E1405),1,0)","v":0},"2026-12-01","2026-12-31",130]
["08-0003","30","08-0003-300",{"$f":"IF(AND(Config!$B$13<=Tarifs!F1406,Config!$B$13>=Tarifs!E1406),1,0)","v":0},"2026-07-01","2026-07-31",5970]
["08-0003","30","08-0003-300",{"$f":"IF(AND(Config!$B$13<=Tarifs!F1407,Config!$B$13>=Tarifs!E1407),1,0)","v":0},"2026-08-01","2026-08-31",5970]
["08-0003","30","08-0003-300",{"$f":"IF(AND(Config!$B$13<=Tarifs!F1408,Config!$B$13>=Tarifs!E1408),1,0)","v":0},"2026-05-01","2026-05-31",5670]
["08-0003","30","08-0003-300",{"$f":"IF(AND(Config!$B$13<=Tarifs!F1409,Config!$B$13>=Tarifs!E1409),1,0)","v":0},"2026-06-01","2026-06-30",5670]
["08-0003","30","08-0003-300",{"$f":"IF(AND(Config!$B$13<=Tarifs!F1410,Config!$B$13>=Tarifs!E1410),1,0)","v":0},"2026-09-01","2026-09-30",5670]
["08-0003","30",{"$f":"A1411&\"-\"&B1411&D1411","v":"08-0003-300"},{"$f":"IF(AND(Config!$B$13<=Tarifs!F1411,Config!$B$13>=Tarifs!E1411),1,0)","v":0},"2026-10-01","2026-10-31",5670]
["08-0003","30","08-0003-300",{"$f":"IF(AND(Config!$B$13<=Tarifs!F1412,Config!$B$13>=Tarifs!E1412),1,0)","v":0},"2026-11-01","2026-11-30",5670]
["08-0003","30","08-0003-300",{"$f":"IF(AND(Config!$B$13<=Tarifs!F1413,Config!$B$13>=Tarifs!E1413),1,0)","v":0},"2026-12-01","2026-12-31",5670]
["08-0003","30","08-0003-301",{"$f":"IF(AND(Config!$B$13<=Tarifs!F1414,Config!$B$13>=Tarifs!E1414),1,0)","v":1},"2026-01-01","2026-01-31",5370]
["08-0003","30","08-0003-300",{"$f":"IF(AND(Config!$B$13<=Tarifs!F1415,Config!$B$13>=Tarifs!E1415),1,0)","v":0},"2026-02-01","2026-02-28",5370]
["08-0003","30","08-0003-300",{"$f":"IF(AND(Config!$B$13<=Tarifs!F1416,Config!$B$13>=Tarifs!E1416),1,0)","v":0},"2026-03-01","2026-03-31",5370]
["08-0003","30","08-0003-300",{"$f":"IF(AND(Config!$B$13<=Tarifs!F1417,Config!$B$13>=Tarifs!E1417),1,0)","v":0},"2026-04-01","2026-04-30",5370]
["08-0003","20","08-0003-200",{"$f":"IF(AND(Config!$B$13<=Tarifs!F1418,Config!$B$13>=Tarifs!E1418),1,0)","v":0},"2026-07-01","2026-07-31",1393]
["08-0003","20","08-0003-200",{"$f":"IF(AND(Config!$B$13<=Tarifs!F1419,Config!$B$13>=Tarifs!E1419),1,0)","v":0},"2026-08-01","2026-08-31",1393]
["08-0003","20","08-0003-200",{"$f":"IF(AND(Config!$B$13<=Tarifs!F1420,Config!$B$13>=Tarifs!E1420),1,0)","v":0},"2026-05-01","2026-05-31",1323]
["08-0003","20","08-0003-200",{"$f":"IF(AND(Config!$B$13<=Tarifs!F1421,Config!$B$13>=Tarifs!E1421),1,0)","v":0},"2026-06-01","2026-06-30",1323]
["08-0003","20","08-0003-200",{"$f":"IF(AND(Config!$B$13<=Tarifs!F1422,Config!$B$13>=Tarifs!E1422),1,0)","v":0},"2026-09-01","2026-09-30",1323]
["08-0003","20","08-0003-200",{"$f":"IF(AND(Config!$B$13<=Tarifs!F1423,Config!$B$13>=Tarifs!E1423),1,0)","v":0},"2026-10-01","2026-10-31",1323]
["08-0003","20","08-0003-200",{"$f":"IF(AND(Config!$B$13<=Tarifs!F1424,Config!$B$13>=Tarifs!E1424),1,0)","v":0},"2026-11-01","2026-11-30",1323]
["08-0003","20","08-0003-200",{"$f":"IF(AND(Config!$B$13<=Tarifs!F1425,Config!$B$13>=Tarifs!E1425),1,0)","v":0},"2026-12-01","2026-12-31",1323]
["08-0003","20","08-0003-201",{"$f":"IF(AND(Config!$B$13<=Tarifs!F1426,Config!$B$13>=Tarifs!E1426),1,0)","v":1},"2026-01-01","2026-01-31",1253]
["08-0003","20","08-0003-200",{"$f":"IF(AND(Config!$B$13<=Tarifs!F1427,Config!$B$13>=Tarifs!E1427),1,0)","v":0},"2026-02-01","2026-02-28",1253]
["08-0003","20","08-0003-200",{"$f":"IF(AND(Config!$B$13<=Tarifs!F1428,Config!$B$13>=Tarifs!E1428),1,0)","v":0},"2026-03-01","2026-03-31",1253]
["08-0003","20","08-0003-200",{"$f":"IF(AND(Config!$B$13<=Tarifs!F1429,Config!$B$13>=Tarifs!E1429),1,0)","v":0},"2026-04-01","2026-04-30",1253]
["08-0003","10","08-0003-100",{"$f":"IF(AND(Config!$B$13<=Tarifs!F1430,Config!$B$13>=Tarifs!E1430),1,0)","v":0},"2026-07-01","2026-07-31",199]
["08-0003","10","08-0003-100",{"$f":"IF(AND(Config!$B$13<=Tarifs!F1431,Config!$B$13>=Tarifs!E1431),1,0)","v":0},"2026-08-01","2026-08-31",199]
["08-0003","10","08-0003-100",{"$f":"IF(AND(Config!$B$13<=Tarifs!F1432,Config!$B$13>=Tarifs!E1432),1,0)","v":0},"2026-05-01","2026-05-31",189]
["08-0003","10","08-0003-100",{"$f":"IF(AND(Config!$B$13<=Tarifs!F1433,Config!$B$13>=Tarifs!E1433),1,0)","v":0},"2026-06-01","2026-06-30",189]
["08-0003","10","08-0003-100",{"$f":"IF(AND(Config!$B$13<=Tarifs!F1434,Config!$B$13>=Tarifs!E1434),1,0)","v":0},"2026-09-01","2026-09-30",189]
["08-0003","10","08-0003-100",{"$f":"IF(AND(Config!$B$13<=Tarifs!F1435,Config!$B$13>=Tarifs!E1435),1,0)","v":0},"2026-10-01","2026-10-31",189]
["08-0003","10","08-0003-100",{"$f":"IF(AND(Config!$B$13<=Tarifs!F1436,Config!$B$13>=Tarifs!E1436),1,0)","v":0},"2026-11-01","2026-11-30",189]
["08-0003","10","08-0003-100",{"$f":"IF(AND(Config!$B$13<=Tarifs!F1437,Config!$B$13>=Tarifs!E1437),1,0)","v":0},"2026-12-01","2026-12-31",189]
["08-0003","10","08-0003-101",{"$f":"IF(AND(Config!$B$13<=Tarifs!F1438,Config!$B$13>=Tarifs!E1438),1,0)","v":1},"2026-01-01","2026-01-31",179]
["08-0003","10","08-0003-100",{"$f":"IF(AND(Config!$B$13<=Tarifs!F1439,Config!$B$13>=Tarifs!E1439),1,0)","v":0},"2026-02-01","2026-02-28",179]
["08-0003","10","08-0003-100",{"$f":"IF(AND(Config!$B$13<=Tarifs!F1440,Config!$B$13>=Tarifs!E1440),1,0)","v":0},"2026-03-01","2026-03-31",179]
["08-0003","10","08-0003-100",{"$f":"IF(AND(Config!$B$13<=Tarifs!F1441,Config!$B$13>=Tarifs!E1441),1,0)","v":0},"2026-04-01","2026-04-30",179]
["08-0015","30","08-0015-300",{"$f":"IF(AND(Config!$B$13<=Tarifs!F1442,Config!$B$13>=Tarifs!E1442),1,0)","v":0},"2026-07-01","2026-07-31",6120]
["08-0015","30","08-0015-300",{"$f":"IF(AND(Config!$B$13<=Tarifs!F1443,Config!$B$13>=Tarifs!E1443),1,0)","v":0},"2026-08-01","2026-08-31",6120]
["08-0015","30","08-0015-300",{"$f":"IF(AND(Config!$B$13<=Tarifs!F1444,Config!$B$13>=Tarifs!E1444),1,0)","v":0},"2026-09-01","2026-09-30",5970]
["08-0015","30","08-0015-300",{"$f":"IF(AND(Config!$B$13<=Tarifs!F1445,Config!$B$13>=Tarifs!E1445),1,0)","v":0},"2026-05-01","2026-05-31",5370]
["08-0015","30","08-0015-300",{"$f":"IF(AND(Config!$B$13<=Tarifs!F1446,Config!$B$13>=Tarifs!E1446),1,0)","v":0},"2026-06-01","2026-06-30",5370]
["08-0015","30","08-0015-301",{"$f":"IF(AND(Config!$B$13<=Tarifs!F1447,Config!$B$13>=Tarifs!E1447),1,0)","v":1},"2026-01-01","2026-01-31",4770]
["08-0015","30","08-0015-300",{"$f":"IF(AND(Config!$B$13<=Tarifs!F1448,Config!$B$13>=Tarifs!E1448),1,0)","v":0},"2026-02-01","2026-02-28",4770]
["08-0015","30","08-0015-300",{"$f":"IF(AND(Config!$B$13<=Tarifs!F1449,Config!$B$13>=Tarifs!E1449),1,0)","v":0},"2026-03-01","2026-03-31",4770]
["08-0015","30","08-0015-300",{"$f":"IF(AND(Config!$B$13<=Tarifs!F1450,Config!$B$13>=Tarifs!E1450),1,0)","v":0},"2026-04-01","2026-04-30",4770]
["08-0015","30","08-0015-300",{"$f":"IF(AND(Config!$B$13<=Tarifs!F1451,Config!$B$13>=Tarifs!E1451),1,0)","v":0},"2026-10-01","2026-10-31",4770]
["08-0015","30","08-0015-300",{"$f":"IF(AND(Config!$B$13<=Tarifs!F1452,Config!$B$13>=Tarifs!E1452),1,0)","v":0},"2026-11-01","2026-11-30",4770]
["08-0015","30","08-0015-300",{"$f":"IF(AND(Config!$B$13<=Tarifs!F1453,Config!$B$13>=Tarifs!E1453),1,0)","v":0},"2026-12-01","2026-12-31",4770]
["08-0015","20","08-0015-200",{"$f":"IF(AND(Config!$B$13<=Tarifs!F1454,Config!$B$13>=Tarifs!E1454),1,0)","v":0},"2026-07-01","2026-07-31",1428]
["08-0015","20","08-0015-200",{"$f":"IF(AND(Config!$B$13<=Tarifs!F1455,Config!$B$13>=Tarifs!E1455),1,0)","v":0},"2026-08-01","2026-08-31",1428]
["08-0015","20","08-0015-200",{"$f":"IF(AND(Config!$B$13<=Tarifs!F1456,Config!$B$13>=Tarifs!E1456),1,0)","v":0},"2026-09-01","2026-09-30",1393]
["08-0015","20","08-0015-200",{"$f":"IF(AND(Config!$B$13<=Tarifs!F1457,Config!$B$13>=Tarifs!E1457),1,0)","v":0},"2026-05-01","2026-05-31",1253]
["08-0015","20","08-0015-200",{"$f":"IF(AND(Config!$B$13<=Tarifs!F1458,Config!$B$13>=Tarifs!E1458),1,0)","v":0},"2026-06-01","2026-06-30",1253]
["08-0015","20","08-0015-201",{"$f":"IF(AND(Config!$B$13<=Tarifs!F1459,Config!$B$13>=Tarifs!E1459),1,0)","v":1},"2026-01-01","2026-01-31",1113]
["08-0015","20","08-0015-200",{"$f":"IF(AND(Config!$B$13<=Tarifs!F1460,Config!$B$13>=Tarifs!E1460),1,0)","v":0},"2026-02-01","2026-02-28",1113]
["08-0015","20","08-0015-200",{"$f":"IF(AND(Config!$B$13<=Tarifs!F1461,Config!$B$13>=Tarifs!E1461),1,0)","v":0},"2026-03-01","2026-03-31",1113]
["08-0015","20","08-0015-200",{"$f":"IF(AND(Config!$B$13<=Tarifs!F1462,Config!$B$13>=Tarifs!E1462),1,0)","v":0},"2026-04-01","2026-04-30",1113]
["08-0015","20","08-0015-200",{"$f":"IF(AND(Config!$B$13<=Tarifs!F1463,Config!$B$13>=Tarifs!E1463),1,0)","v":0},"2026-10-01","2026-10-31",1113]
["08-0015","20","08-0015-200",{"$f":"IF(AND(Config!$B$13<=Tarifs!F1464,Config!$B$13>=Tarifs!E1464),1,0)","v":0},"2026-11-01","2026-11-30",1113]
["08-0015","20","08-0015-200",{"$f":"IF(AND(Config!$B$13<=Tarifs!F1465,Config!$B$13>=Tarifs!E1465),1,0)","v":0},"2026-12-01","2026-12-31",1113]
["08-0015","10","08-0015-100",{"$f":"IF(AND(Config!$B$13<=Tarifs!F1466,Config!$B$13>=Tarifs!E1466),1,0)","v":0},"2026-07-01","2026-07-31",204]
["08-0015","10","08-0015-100",{"$f":"IF(AND(Config!$B$13<=Tarifs!F1467,Config!$B$13>=Tarifs!E1467),1,0)","v":0},"2026-08-01","2026-08-31",204]
["08-0015","10","08-0015-100",{"$f":"IF(AND(Config!$B$13<=Tarifs!F1468,Config!$B$13>=Tarifs!E1468),1,0)","v":0},"2026-09-01","2026-09-30",199]
["08-0015","10","08-0015-100",{"$f":"IF(AND(Config!$B$13<=Tarifs!F1469,Config!$B$13>=Tarifs!E1469),1,0)","v":0},"2026-05-01","2026-05-31",179]
["08-0015","10","08-0015-100",{"$f":"IF(AND(Config!$B$13<=Tarifs!F1470,Config!$B$13>=Tarifs!E1470),1,0)","v":0},"2026-06-01","2026-06-30",179]
["08-0015","10","08-0015-101",{"$f":"IF(AND(Config!$B$13<=Tarifs!F1471,Config!$B$13>=Tarifs!E1471),1,0)","v":1},"2026-01-01","2026-01-31",159]
["08-0015","10","08-0015-100",{"$f":"IF(AND(Config!$B$13<=Tarifs!F1472,Config!$B$13>=Tarifs!E1472),1,0)","v":0},"2026-02-01","2026-02-28",159]
["08-0015","10","08-0015-100",{"$f":"IF(AND(Config!$B$13<=Tarifs!F1473,Config!$B$13>=Tarifs!E1473),1,0)","v":0},"2026-03-01","2026-03-31",159]
["08-0015","10","08-0015-100",{"$f":"IF(AND(Config!$B$13<=Tarifs!F1474,Config!$B$13>=Tarifs!E1474),1,0)","v":0},"2026-04-01","2026-04-30",159]
["08-0015","10",{"$f":"A1475&\"-\"&B1475&D1475","v":"08-0015-100"},{"$f":"IF(AND(Config!$B$13<=Tarifs!F1475,Config!$B$13>=Tarifs!E1475),1,0)","v":0},"2026-10-01","2026-10-31",159]
["08-0015","10","08-0015-100",{"$f":"IF(AND(Config!$B$13<=Tarifs!F1476,Config!$B$13>=Tarifs!E1476),1,0)","v":0},"2026-11-01","2026-11-30",159]
["08-0015","10","08-0015-100",{"$f":"IF(AND(Config!$B$13<=Tarifs!F1477,Config!$B$13>=Tarifs!E1477),1,0)","v":0},"2026-12-01","2026-12-31",159]
["08-0018","30","08-0018-300",{"$f":"IF(AND(Config!$B$13<=Tarifs!F1478,Config!$B$13>=Tarifs!E1478),1,0)","v":0},"2026-07-01","2026-07-31",5970]
["08-0018","30","08-0018-300",{"$f":"IF(AND(Config!$B$13<=Tarifs!F1479,Config!$B$13>=Tarifs!E1479),1,0)","v":0},"2026-08-01","2026-08-31",5970]
["08-0018","30","08-0018-300",{"$f":"IF(AND(Config!$B$13<=Tarifs!F1480,Config!$B$13>=Tarifs!E1480),1,0)","v":0},"2026-09-01","2026-09-30",5370]
["08-0018","30","08-0018-300",{"$f":"IF(AND(Config!$B$13<=Tarifs!F1481,Config!$B$13>=Tarifs!E1481),1,0)","v":0},"2026-06-01","2026-06-30",4770]
["08-0018","30","08-0018-301",{"$f":"IF(AND(Config!$B$13<=Tarifs!F1482,Config!$B$13>=Tarifs!E1482),1,0)","v":1},"2026-01-01","2026-01-31",4050]
["08-0018","30","08-0018-300",{"$f":"IF(AND(Config!$B$13<=Tarifs!F1483,Config!$B$13>=Tarifs!E1483),1,0)","v":0},"2026-02-01","2026-02-28",4050]
["08-0018","30","08-0018-300",{"$f":"IF(AND(Config!$B$13<=Tarifs!F1484,Config!$B$13>=Tarifs!E1484),1,0)","v":0},"2026-03-01","2026-03-31",4050]
["08-0018","30","08-0018-300",{"$f":"IF(AND(Config!$B$13<=Tarifs!F1485,Config!$B$13>=Tarifs!E1485),1,0)","v":0},"2026-04-01","2026-04-30",4050]
["08-0018","30","08-0018-300",{"$f":"IF(AND(Config!$B$13<=Tarifs!F1486,Config!$B$13>=Tarifs!E1486),1,0)","v":0},"2026-05-01","2026-05-31",4050]
["08-0018","30","08-0018-300",{"$f":"IF(AND(Config!$B$13<=Tarifs!F1487,Config!$B$13>=Tarifs!E1487),1,0)","v":0},"2026-10-01","2026-10-31",4050]
["08-0018","30","08-0018-300",{"$f":"IF(AND(Config!$B$13<=Tarifs!F1488,Config!$B$13>=Tarifs!E1488),1,0)","v":0},"2026-11-01","2026-11-30",4050]
["08-0018","30","08-0018-300",{"$f":"IF(AND(Config!$B$13<=Tarifs!F1489,Config!$B$13>=Tarifs!E1489),1,0)","v":0},"2026-12-01","2026-12-31",4050]
["08-0018","20","08-0018-200",{"$f":"IF(AND(Config!$B$13<=Tarifs!F1490,Config!$B$13>=Tarifs!E1490),1,0)","v":0},"2026-07-01","2026-07-31",1393]
["08-0018","20","08-0018-200",{"$f":"IF(AND(Config!$B$13<=Tarifs!F1491,Config!$B$13>=Tarifs!E1491),1,0)","v":0},"2026-08-01","2026-08-31",1393]
["08-0018","20","08-0018-200",{"$f":"IF(AND(Config!$B$13<=Tarifs!F1492,Config!$B$13>=Tarifs!E1492),1,0)","v":0},"2026-09-01","2026-09-30",1253]
["08-0018","20","08-0018-200",{"$f":"IF(AND(Config!$B$13<=Tarifs!F1493,Config!$B$13>=Tarifs!E1493),1,0)","v":0},"2026-06-01","2026-06-30",1113]
["08-0018","20","08-0018-201",{"$f":"IF(AND(Config!$B$13<=Tarifs!F1494,Config!$B$13>=Tarifs!E1494),1,0)","v":1},"2026-01-01","2026-01-31",945]
["08-0018","20","08-0018-200",{"$f":"IF(AND(Config!$B$13<=Tarifs!F1495,Config!$B$13>=Tarifs!E1495),1,0)","v":0},"2026-02-01","2026-02-28",945]
["08-0018","20","08-0018-200",{"$f":"IF(AND(Config!$B$13<=Tarifs!F1496,Config!$B$13>=Tarifs!E1496),1,0)","v":0},"2026-03-01","2026-03-31",945]
["08-0018","20","08-0018-200",{"$f":"IF(AND(Config!$B$13<=Tarifs!F1497,Config!$B$13>=Tarifs!E1497),1,0)","v":0},"2026-04-01","2026-04-30",945]
["08-0018","20","08-0018-200",{"$f":"IF(AND(Config!$B$13<=Tarifs!F1498,Config!$B$13>=Tarifs!E1498),1,0)","v":0},"2026-05-01","2026-05-31",945]
["08-0018","20","08-0018-200",{"$f":"IF(AND(Config!$B$13<=Tarifs!F1499,Config!$B$13>=Tarifs!E1499),1,0)","v":0},"2026-10-01","2026-10-31",945]
["08-0018","20","08-0018-200",{"$f":"IF(AND(Config!$B$13<=Tarifs!F1500,Config!$B$13>=Tarifs!E1500),1,0)","v":0},"2026-11-01","2026-11-30",945]
["08-0018","20","08-0018-200",{"$f":"IF(AND(Config!$B$13<=Tarifs!F1501,Config!$B$13>=Tarifs!E1501),1,0)","v":0},"2026-12-01","2026-12-31",945]
["08-0018","10","08-0018-100",{"$f":"IF(AND(Config!$B$13<=Tarifs!F1502,Config!$B$13>=Tarifs!E1502),1,0)","v":0},"2026-07-01","2026-07-31",199]
["08-0018","10","08-0018-100",{"$f":"IF(AND(Config!$B$13<=Tarifs!F1503,Config!$B$13>=Tarifs!E1503),1,0)","v":0},"2026-08-01","2026-08-31",199]
["08-0018","10","08-0018-100",{"$f":"IF(AND(Config!$B$13<=Tarifs!F1504,Config!$B$13>=Tarifs!E1504),1,0)","v":0},"2026-09-01","2026-09-30",179]
["08-0018","10","08-0018-100",{"$f":"IF(AND(Config!$B$13<=Tarifs!F1505,Config!$B$13>=Tarifs!E1505),1,0)","v":0},"2026-06-01","2026-06-30",159]
["08-0018","10","08-0018-101",{"$f":"IF(AND(Config!$B$13<=Tarifs!F1506,Config!$B$13>=Tarifs!E1506),1,0)","v":1},"2026-01-01","2026-01-31",135]
["08-0018","10","08-0018-100",{"$f":"IF(AND(Config!$B$13<=Tarifs!F1507,Config!$B$13>=Tarifs!E1507),1,0)","v":0},"2026-02-01","2026-02-28",135]
["08-0018","10","08-0018-100",{"$f":"IF(AND(Config!$B$13<=Tarifs!F1508,Config!$B$13>=Tarifs!E1508),1,0)","v":0},"2026-03-01","2026-03-31",135]
["08-0018","10","08-0018-100",{"$f":"IF(AND(Config!$B$13<=Tarifs!F1509,Config!$B$13>=Tarifs!E1509),1,0)","v":0},"2026-04-01","2026-04-30",135]
["08-0018","10","08-0018-100",{"$f":"IF(AND(Config!$B$13<=Tarifs!F1510,Config!$B$13>=Tarifs!E1510),1,0)","v":0},"2026-05-01","2026-05-31",135]
["08-0018","10","08-0018-100",{"$f":"IF(AND(Config!$B$13<=Tarifs!F1511,Config!$B$13>=Tarifs!E1511),1,0)","v":0},"2026-10-01","2026-10-31",135]
["08-0018","10","08-0018-100",{"$f":"IF(AND(Config!$B$13<=Tarifs!F1512,Config!$B$13>=Tarifs!E1512),1,0)","v":0},"2026-11-01","2026-11-30",135]
["08-0018","10","08-0018-100",{"$f":"IF(AND(Config!$B$13<=Tarifs!F1513,Config!$B$13>=Tarifs!E1513),1,0)","v":0},"2026-12-01","2026-12-31",135]
["08-0019","30","08-0019-300",{"$f":"IF(AND(Config!$B$13<=Tarifs!F1514,Config!$B$13>=Tarifs!E1514),1,0)","v":0},"2026-06-01","2026-06-30",5670]
["08-0019","30","08-0019-300",{"$f":"IF(AND(Config!$B$13<=Tarifs!F1515,Config!$B$13>=Tarifs!E1515),1,0)","v":0},"2026-07-01","2026-07-31",5670]
["08-0019","30","08-0019-300",{"$f":"IF(AND(Config!$B$13<=Tarifs!F1516,Config!$B$13>=Tarifs!E1516),1,0)","v":0},"2026-08-01","2026-08-31",5670]
["08-0019","30","08-0019-300",{"$f":"IF(AND(Config!$B$13<=Tarifs!F1517,Config!$B$13>=Tarifs!E1517),1,0)","v":0},"2026-09-01","2026-09-30",5670]
["08-0019","30","08-0019-301",{"$f":"IF(AND(Config!$B$13<=Tarifs!F1518,Config!$B$13>=Tarifs!E1518),1,0)","v":1},"2026-01-01","2026-01-31",4470]
["08-0019","30","08-0019-300",{"$f":"IF(AND(Config!$B$13<=Tarifs!F1519,Config!$B$13>=Tarifs!E1519),1,0)","v":0},"2026-02-01","2026-02-28",4470]
["08-0019","30","08-0019-300",{"$f":"IF(AND(Config!$B$13<=Tarifs!F1520,Config!$B$13>=Tarifs!E1520),1,0)","v":0},"2026-03-01","2026-03-31",4470]
["08-0019","30","08-0019-300",{"$f":"IF(AND(Config!$B$13<=Tarifs!F1521,Config!$B$13>=Tarifs!E1521),1,0)","v":0},"2026-04-01","2026-04-30",4470]
["08-0019","30","08-0019-300",{"$f":"IF(AND(Config!$B$13<=Tarifs!F1522,Config!$B$13>=Tarifs!E1522),1,0)","v":0},"2026-05-01","2026-05-31",4470]
["08-0019","30","08-0019-300",{"$f":"IF(AND(Config!$B$13<=Tarifs!F1523,Config!$B$13>=Tarifs!E1523),1,0)","v":0},"2026-10-01","2026-10-31",4470]
["08-0019","30","08-0019-300",{"$f":"IF(AND(Config!$B$13<=Tarifs!F1524,Config!$B$13>=Tarifs!E1524),1,0)","v":0},"2026-11-01","2026-11-30",4470]
["08-0019","30","08-0019-300",{"$f":"IF(AND(Config!$B$13<=Tarifs!F1525,Config!$B$13>=Tarifs!E1525),1,0)","v":0},"2026-12-01","2026-12-31",4470]
["08-0019","20","08-0019-200",{"$f":"IF(AND(Config!$B$13<=Tarifs!F1526,Config!$B$13>=Tarifs!E1526),1,0)","v":0},"2026-06-01","2026-06-30",1323]
["08-0019","20","08-0019-200",{"$f":"IF(AND(Config!$B$13<=Tarifs!F1527,Config!$B$13>=Tarifs!E1527),1,0)","v":0},"2026-07-01","2026-07-31",1323]
["08-0019","20","08-0019-200",{"$f":"IF(AND(Config!$B$13<=Tarifs!F1528,Config!$B$13>=Tarifs!E1528),1,0)","v":0},"2026-08-01","2026-08-31",1323]
["08-0019","20","08-0019-200",{"$f":"IF(AND(Config!$B$13<=Tarifs!F1529,Config!$B$13>=Tarifs!E1529),1,0)","v":0},"2026-09-01","2026-09-30",1323]
["08-0019","20","08-0019-201",{"$f":"IF(AND(Config!$B$13<=Tarifs!F1530,Config!$B$13>=Tarifs!E1530),1,0)","v":1},"2026-01-01","2026-01-31",1043]
["08-0019","20","08-0019-200",{"$f":"IF(AND(Config!$B$13<=Tarifs!F1531,Config!$B$13>=Tarifs!E1531),1,0)","v":0},"2026-02-01","2026-02-28",1043]
["08-0019","20","08-0019-200",{"$f":"IF(AND(Config!$B$13<=Tarifs!F1532,Config!$B$13>=Tarifs!E1532),1,0)","v":0},"2026-03-01","2026-03-31",1043]
["08-0019","20","08-0019-200",{"$f":"IF(AND(Config!$B$13<=Tarifs!F1533,Config!$B$13>=Tarifs!E1533),1,0)","v":0},"2026-04-01","2026-04-30",1043]
["08-0019","20","08-0019-200",{"$f":"IF(AND(Config!$B$13<=Tarifs!F1534,Config!$B$13>=Tarifs!E1534),1,0)","v":0},"2026-05-01","2026-05-31",1043]
["08-0019","20","08-0019-200",{"$f":"IF(AND(Config!$B$13<=Tarifs!F1535,Config!$B$13>=Tarifs!E1535),1,0)","v":0},"2026-10-01","2026-10-31",1043]
["08-0019","20","08-0019-200",{"$f":"IF(AND(Config!$B$13<=Tarifs!F1536,Config!$B$13>=Tarifs!E1536),1,0)","v":0},"2026-11-01","2026-11-30",1043]
["08-0019","20","08-0019-200",{"$f":"IF(AND(Config!$B$13<=Tarifs!F1537,Config!$B$13>=Tarifs!E1537),1,0)","v":0},"2026-12-01","2026-12-31",1043]
["08-0019","10","08-0019-100",{"$f":"IF(AND(Config!$B$13<=Tarifs!F1538,Config!$B$13>=Tarifs!E1538),1,0)","v":0},"2026-06-01","2026-06-30",189]
["08-0019","10",{"$f":"A1539&\"-\"&B1539&D1539","v":"08-0019-100"},{"$f":"IF(AND(Config!$B$13<=Tarifs!F1539,Config!$B$13>=Tarifs!E1539),1,0)","v":0},"2026-07-01","2026-07-31",189]
["08-0019","10","08-0019-100",{"$f":"IF(AND(Config!$B$13<=Tarifs!F1540,Config!$B$13>=Tarifs!E1540),1,0)","v":0},"2026-08-01","2026-08-31",189]
["08-0019","10","08-0019-100",{"$f":"IF(AND(Config!$B$13<=Tarifs!F1541,Config!$B$13>=Tarifs!E1541),1,0)","v":0},"2026-09-01","2026-09-30",189]
["08-0019","10","08-0019-101",{"$f":"IF(AND(Config!$B$13<=Tarifs!F1542,Config!$B$13>=Tarifs!E1542),1,0)","v":1},"2026-01-01","2026-01-31",149]
["08-0019","10","08-0019-100",{"$f":"IF(AND(Config!$B$13<=Tarifs!F1543,Config!$B$13>=Tarifs!E1543),1,0)","v":0},"2026-02-01","2026-02-28",149]
["08-0019","10","08-0019-100",{"$f":"IF(AND(Config!$B$13<=Tarifs!F1544,Config!$B$13>=Tarifs!E1544),1,0)","v":0},"2026-03-01","2026-03-31",149]
["08-0019","10","08-0019-100",{"$f":"IF(AND(Config!$B$13<=Tarifs!F1545,Config!$B$13>=Tarifs!E1545),1,0)","v":0},"2026-04-01","2026-04-30",149]
["08-0019","10","08-0019-100",{"$f":"IF(AND(Config!$B$13<=Tarifs!F1546,Config!$B$13>=Tarifs!E1546),1,0)","v":0},"2026-05-01","2026-05-31",149]
["08-0019","10","08-0019-100",{"$f":"IF(AND(Config!$B$13<=Tarifs!F1547,Config!$B$13>=Tarifs!E1547),1,0)","v":0},"2026-10-01","2026-10-31",149]
["08-0019","10","08-0019-100",{"$f":"IF(AND(Config!$B$13<=Tarifs!F1548,Config!$B$13>=Tarifs!E1548),1,0)","v":0},"2026-11-01","2026-11-30",149]
["08-0019","10","08-0019-100",{"$f":"IF(AND(Config!$B$13<=Tarifs!F1549,Config!$B$13>=Tarifs!E1549),1,0)","v":0},"2026-12-01","2026-12-31",149]
["08-0020","30","08-0020-300",{"$f":"IF(AND(Config!$B$13<=Tarifs!F1550,Config!$B$13>=Tarifs!E1550),1,0)","v":0},"2026-06-01","2026-06-30",3360]
["08-0020","30","08-0020-300",{"$f":"IF(AND(Config!$B$13<=Tarifs!F1551,Config!$B$13>=Tarifs!E1551),1,0)","v":0},"2026-07-01","2026-07-31",3360]
["08-0020","30","08-0020-300",{"$f":"IF(AND(Config!$B$13<=Tarifs!F1552,Config!$B$13>=Tarifs!E1552),1,0)","v":0},"2026-08-01","2026-08-31",3360]
["08-0020","30","08-0020-300",{"$f":"IF(AND(Config!$B$13<=Tarifs!F1553,Config!$B$13>=Tarifs!E1553),1,0)","v":0},"2026-09-01","2026-09-30",3360]
["08-0020","30","08-0020-300",{"$f":"IF(AND(Config!$B$13<=Tarifs!F1554,Config!$B$13>=Tarifs!E1554),1,0)","v":0},"2026-10-01","2026-10-31",3240]
["08-0020","30","08-0020-300",{"$f":"IF(AND(Config!$B$13<=Tarifs!F1555,Config!$B$13>=Tarifs!E1555),1,0)","v":0},"2026-11-01","2026-11-30",3240]
["08-0020","30","08-0020-300",{"$f":"IF(AND(Config!$B$13<=Tarifs!F1556,Config!$B$13>=Tarifs!E1556),1,0)","v":0},"2026-12-01","2026-12-31",3240]
["08-0020","30","08-0020-301",{"$f":"IF(AND(Config!$B$13<=Tarifs!F1557,Config!$B$13>=Tarifs!E1557),1,0)","v":1},"2026-01-01","2026-01-31",3060]
["08-0020","30","08-0020-300",{"$f":"IF(AND(Config!$B$13<=Tarifs!F1558,Config!$B$13>=Tarifs!E1558),1,0)","v":0},"2026-02-01","2026-02-28",3060]
["08-0020","30","08-0020-300",{"$f":"IF(AND(Config!$B$13<=Tarifs!F1559,Config!$B$13>=Tarifs!E1559),1,0)","v":0},"2026-03-01","2026-03-31",3060]
["08-0020","30","08-0020-300",{"$f":"IF(AND(Config!$B$13<=Tarifs!F1560,Config!$B$13>=Tarifs!E1560),1,0)","v":0},"2026-04-01","2026-04-30",3060]
["08-0020","30","08-0020-300",{"$f":"IF(AND(Config!$B$13<=Tarifs!F1561,Config!$B$13>=Tarifs!E1561),1,0)","v":0},"2026-05-01","2026-05-31",3060]
["08-0020","20","08-0020-200",{"$f":"IF(AND(Config!$B$13<=Tarifs!F1562,Config!$B$13>=Tarifs!E1562),1,0)","v":0},"2026-06-01","2026-06-30",784]
["08-0020","20","08-0020-200",{"$f":"IF(AND(Config!$B$13<=Tarifs!F1563,Config!$B$13>=Tarifs!E1563),1,0)","v":0},"2026-07-01","2026-07-31",784]
["08-0020","20","08-0020-200",{"$f":"IF(AND(Config!$B$13<=Tarifs!F1564,Config!$B$13>=Tarifs!E1564),1,0)","v":0},"2026-08-01","2026-08-31",784]
["08-0020","20","08-0020-200",{"$f":"IF(AND(Config!$B$13<=Tarifs!F1565,Config!$B$13>=Tarifs!E1565),1,0)","v":0},"2026-09-01","2026-09-30",784]
["08-0020","20","08-0020-200",{"$f":"IF(AND(Config!$B$13<=Tarifs!F1566,Config!$B$13>=Tarifs!E1566),1,0)","v":0},"2026-10-01","2026-10-31",756]
["08-0020","20","08-0020-200",{"$f":"IF(AND(Config!$B$13<=Tarifs!F1567,Config!$B$13>=Tarifs!E1567),1,0)","v":0},"2026-11-01","2026-11-30",756]
["08-0020","20","08-0020-200",{"$f":"IF(AND(Config!$B$13<=Tarifs!F1568,Config!$B$13>=Tarifs!E1568),1,0)","v":0},"2026-12-01","2026-12-31",756]
["08-0020","20","08-0020-201",{"$f":"IF(AND(Config!$B$13<=Tarifs!F1569,Config!$B$13>=Tarifs!E1569),1,0)","v":1},"2026-01-01","2026-01-31",714]
["08-0020","20","08-0020-200",{"$f":"IF(AND(Config!$B$13<=Tarifs!F1570,Config!$B$13>=Tarifs!E1570),1,0)","v":0},"2026-02-01","2026-02-28",714]
["08-0020","20","08-0020-200",{"$f":"IF(AND(Config!$B$13<=Tarifs!F1571,Config!$B$13>=Tarifs!E1571),1,0)","v":0},"2026-03-01","2026-03-31",714]
["08-0020","20","08-0020-200",{"$f":"IF(AND(Config!$B$13<=Tarifs!F1572,Config!$B$13>=Tarifs!E1572),1,0)","v":0},"2026-04-01","2026-04-30",714]
["08-0020","20","08-0020-200",{"$f":"IF(AND(Config!$B$13<=Tarifs!F1573,Config!$B$13>=Tarifs!E1573),1,0)","v":0},"2026-05-01","2026-05-31",714]
["08-0020","10","08-0020-100",{"$f":"IF(AND(Config!$B$13<=Tarifs!F1574,Config!$B$13>=Tarifs!E1574),1,0)","v":0},"2026-06-01","2026-06-30",112]
["08-0020","10","08-0020-100",{"$f":"IF(AND(Config!$B$13<=Tarifs!F1575,Config!$B$13>=Tarifs!E1575),1,0)","v":0},"2026-07-01","2026-07-31",112]
["08-0020","10","08-0020-100",{"$f":"IF(AND(Config!$B$13<=Tarifs!F1576,Config!$B$13>=Tarifs!E1576),1,0)","v":0},"2026-08-01","2026-08-31",112]
["08-0020","10","08-0020-100",{"$f":"IF(AND(Config!$B$13<=Tarifs!F1577,Config!$B$13>=Tarifs!E1577),1,0)","v":0},"2026-09-01","2026-09-30",112]
["08-0020","10","08-0020-100",{"$f":"IF(AND(Config!$B$13<=Tarifs!F1578,Config!$B$13>=Tarifs!E1578),1,0)","v":0},"2026-10-01","2026-10-31",108]
["08-0020","10","08-0020-100",{"$f":"IF(AND(Config!$B$13<=Tarifs!F1579,Config!$B$13>=Tarifs!E1579),1,0)","v":0},"2026-11-01","2026-11-30",108]
["08-0020","10","08-0020-100",{"$f":"IF(AND(Config!$B$13<=Tarifs!F1580,Config!$B$13>=Tarifs!E1580),1,0)","v":0},"2026-12-01","2026-12-31",108]
["08-0020","10","08-0020-101",{"$f":"IF(AND(Config!$B$13<=Tarifs!F1581,Config!$B$13>=Tarifs!E1581),1,0)","v":1},"2026-01-01","2026-01-31",102]
["08-0020","10","08-0020-100",{"$f":"IF(AND(Config!$B$13<=Tarifs!F1582,Config!$B$13>=Tarifs!E1582),1,0)","v":0},"2026-02-01","2026-02-28",102]
["08-0020","10","08-0020-100",{"$f":"IF(AND(Config!$B$13<=Tarifs!F1583,Config!$B$13>=Tarifs!E1583),1,0)","v":0},"2026-03-01","2026-03-31",102]
["08-0020","10","08-0020-100",{"$f":"IF(AND(Config!$B$13<=Tarifs!F1584,Config!$B$13>=Tarifs!E1584),1,0)","v":0},"2026-04-01","2026-04-30",102]
["08-0020","10","08-0020-100",{"$f":"IF(AND(Config!$B$13<=Tarifs!F1585,Config!$B$13>=Tarifs!E1585),1,0)","v":0},"2026-05-01","2026-05-31",102]
["08-0021","30","08-0021-300",{"$f":"IF(AND(Config!$B$13<=Tarifs!F1586,Config!$B$13>=Tarifs!E1586),1,0)","v":0},"2026-05-01","2026-05-31",5820]
["08-0021","30","08-0021-300",{"$f":"IF(AND(Config!$B$13<=Tarifs!F1587,Config!$B$13>=Tarifs!E1587),1,0)","v":0},"2026-06-01","2026-06-30",5820]
["08-0021","30","08-0021-300",{"$f":"IF(AND(Config!$B$13<=Tarifs!F1588,Config!$B$13>=Tarifs!E1588),1,0)","v":0},"2026-07-01","2026-07-31",5820]
["08-0021","30","08-0021-300",{"$f":"IF(AND(Config!$B$13<=Tarifs!F1589,Config!$B$13>=Tarifs!E1589),1,0)","v":0},"2026-08-01","2026-08-31",5820]
["08-0021","30","08-0021-300",{"$f":"IF(AND(Config!$B$13<=Tarifs!F1590,Config!$B$13>=Tarifs!E1590),1,0)","v":0},"2026-09-01","2026-09-30",5820]
["08-0021","30","08-0021-300",{"$f":"IF(AND(Config!$B$13<=Tarifs!F1591,Config!$B$13>=Tarifs!E1591),1,0)","v":0},"2026-10-01","2026-10-31",5820]
["08-0021","30","08-0021-301",{"$f":"IF(AND(Config!$B$13<=Tarifs!F1592,Config!$B$13>=Tarifs!E1592),1,0)","v":1},"2026-01-01","2026-01-31",5070]
["08-0021","30","08-0021-300",{"$f":"IF(AND(Config!$B$13<=Tarifs!F1593,Config!$B$13>=Tarifs!E1593),1,0)","v":0},"2026-02-01","2026-02-28",5070]
["08-0021","30","08-0021-300",{"$f":"IF(AND(Config!$B$13<=Tarifs!F1594,Config!$B$13>=Tarifs!E1594),1,0)","v":0},"2026-03-01","2026-03-31",5070]
["08-0021","30","08-0021-300",{"$f":"IF(AND(Config!$B$13<=Tarifs!F1595,Config!$B$13>=Tarifs!E1595),1,0)","v":0},"2026-04-01","2026-04-30",5070]
["08-0021","30","08-0021-300",{"$f":"IF(AND(Config!$B$13<=Tarifs!F1596,Config!$B$13>=Tarifs!E1596),1,0)","v":0},"2026-11-01","2026-11-30",5070]
["08-0021","30","08-0021-300",{"$f":"IF(AND(Config!$B$13<=Tarifs!F1597,Config!$B$13>=Tarifs!E1597),1,0)","v":0},"2026-12-01","2026-12-31",5070]
["08-0021","20","08-0021-200",{"$f":"IF(AND(Config!$B$13<=Tarifs!F1598,Config!$B$13>=Tarifs!E1598),1,0)","v":0},"2026-05-01","2026-05-31",1358]
["08-0021","20","08-0021-200",{"$f":"IF(AND(Config!$B$13<=Tarifs!F1599,Config!$B$13>=Tarifs!E1599),1,0)","v":0},"2026-06-01","2026-06-30",1358]
["08-0021","20","08-0021-200",{"$f":"IF(AND(Config!$B$13<=Tarifs!F1600,Config!$B$13>=Tarifs!E1600),1,0)","v":0},"2026-07-01","2026-07-31",1358]
["08-0021","20","08-0021-200",{"$f":"IF(AND(Config!$B$13<=Tarifs!F1601,Config!$B$13>=Tarifs!E1601),1,0)","v":0},"2026-08-01","2026-08-31",1358]
["08-0021","20","08-0021-200",{"$f":"IF(AND(Config!$B$13<=Tarifs!F1602,Config!$B$13>=Tarifs!E1602),1,0)","v":0},"2026-09-01","2026-09-30",1358]
["08-0021","20",{"$f":"A1603&\"-\"&B1603&D1603","v":"08-0021-200"},{"$f":"IF(AND(Config!$B$13<=Tarifs!F1603,Config!$B$13>=Tarifs!E1603),1,0)","v":0},"2026-10-01","2026-10-31",1358]
["08-0021","20","08-0021-201",{"$f":"IF(AND(Config!$B$13<=Tarifs!F1604,Config!$B$13>=Tarifs!E1604),1,0)","v":1},"2026-01-01","2026-01-31",1183]
["08-0021","20","08-0021-200",{"$f":"IF(AND(Config!$B$13<=Tarifs!F1605,Config!$B$13>=Tarifs!E1605),1,0)","v":0},"2026-02-01","2026-02-28",1183]
["08-0021","20","08-0021-200",{"$f":"IF(AND(Config!$B$13<=Tarifs!F1606,Config!$B$13>=Tarifs!E1606),1,0)","v":0},"2026-03-01","2026-03-31",1183]
["08-0021","20","08-0021-200",{"$f":"IF(AND(Config!$B$13<=Tarifs!F1607,Config!$B$13>=Tarifs!E1607),1,0)","v":0},"2026-04-01","2026-04-30",1183]
["08-0021","20","08-0021-200",{"$f":"IF(AND(Config!$B$13<=Tarifs!F1608,Config!$B$13>=Tarifs!E1608),1,0)","v":0},"2026-11-01","2026-11-30",1183]
["08-0021","20","08-0021-200",{"$f":"IF(AND(Config!$B$13<=Tarifs!F1609,Config!$B$13>=Tarifs!E1609),1,0)","v":0},"2026-12-01","2026-12-31",1183]
["08-0021","10","08-0021-100",{"$f":"IF(AND(Config!$B$13<=Tarifs!F1610,Config!$B$13>=Tarifs!E1610),1,0)","v":0},"2026-05-01","2026-05-31",194]
["08-0021","10","08-0021-100",{"$f":"IF(AND(Config!$B$13<=Tarifs!F1611,Config!$B$13>=Tarifs!E1611),1,0)","v":0},"2026-06-01","2026-06-30",194]
["08-0021","10","08-0021-100",{"$f":"IF(AND(Config!$B$13<=Tarifs!F1612,Config!$B$13>=Tarifs!E1612),1,0)","v":0},"2026-07-01","2026-07-31",194]
["08-0021","10","08-0021-100",{"$f":"IF(AND(Config!$B$13<=Tarifs!F1613,Config!$B$13>=Tarifs!E1613),1,0)","v":0},"2026-08-01","2026-08-31",194]
["08-0021","10","08-0021-100",{"$f":"IF(AND(Config!$B$13<=Tarifs!F1614,Config!$B$13>=Tarifs!E1614),1,0)","v":0},"2026-09-01","2026-09-30",194]
["08-0021","10","08-0021-100",{"$f":"IF(AND(Config!$B$13<=Tarifs!F1615,Config!$B$13>=Tarifs!E1615),1,0)","v":0},"2026-10-01","2026-10-31",194]
["08-0021","10","08-0021-101",{"$f":"IF(AND(Config!$B$13<=Tarifs!F1616,Config!$B$13>=Tarifs!E1616),1,0)","v":1},"2026-01-01","2026-01-31",169]
["08-0021","10","08-0021-100",{"$f":"IF(AND(Config!$B$13<=Tarifs!F1617,Config!$B$13>=Tarifs!E1617),1,0)","v":0},"2026-02-01","2026-02-28",169]
["08-0021","10","08-0021-100",{"$f":"IF(AND(Config!$B$13<=Tarifs!F1618,Config!$B$13>=Tarifs!E1618),1,0)","v":0},"2026-03-01","2026-03-31",169]
["08-0021","10","08-0021-100",{"$f":"IF(AND(Config!$B$13<=Tarifs!F1619,Config!$B$13>=Tarifs!E1619),1,0)","v":0},"2026-04-01","2026-04-30",169]
["08-0021","10","08-0021-100",{"$f":"IF(AND(Config!$B$13<=Tarifs!F1620,Config!$B$13>=Tarifs!E1620),1,0)","v":0},"2026-11-01","2026-11-30",169]
["08-0021","10","08-0021-100",{"$f":"IF(AND(Config!$B$13<=Tarifs!F1621,Config!$B$13>=Tarifs!E1621),1,0)","v":0},"2026-12-01","2026-12-31",169]
["09-0005","30","09-0005-301",{"$f":"IF(AND(Config!$B$13<=Tarifs!F1622,Config!$B$13>=Tarifs!E1622),1,0)","v":1},"2026-01-01","2026-01-31",3450]
["09-0005","30","09-0005-300",{"$f":"IF(AND(Config!$B$13<=Tarifs!F1623,Config!$B$13>=Tarifs!E1623),1,0)","v":0},"2026-02-01","2026-02-28",3450]
["09-0005","30","09-0005-300",{"$f":"IF(AND(Config!$B$13<=Tarifs!F1624,Config!$B$13>=Tarifs!E1624),1,0)","v":0},"2026-03-01","2026-03-31",3450]
["09-0005","30","09-0005-300",{"$f":"IF(AND(Config!$B$13<=Tarifs!F1625,Config!$B$13>=Tarifs!E1625),1,0)","v":0},"2026-04-01","2026-04-30",3450]
["09-0005","30","09-0005-300",{"$f":"IF(AND(Config!$B$13<=Tarifs!F1626,Config!$B$13>=Tarifs!E1626),1,0)","v":0},"2026-05-01","2026-05-31",3450]
["09-0005","30","09-0005-300",{"$f":"IF(AND(Config!$B$13<=Tarifs!F1627,Config!$B$13>=Tarifs!E1627),1,0)","v":0},"2026-06-01","2026-06-30",3450]
["09-0005","30","09-0005-300",{"$f":"IF(AND(Config!$B$13<=Tarifs!F1628,Config!$B$13>=Tarifs!E1628),1,0)","v":0},"2026-07-01","2026-07-31",3450]
["09-0005","30","09-0005-300",{"$f":"IF(AND(Config!$B$13<=Tarifs!F1629,Config!$B$13>=Tarifs!E1629),1,0)","v":0},"2026-08-01","2026-08-31",3450]
["09-0005","30","09-0005-300",{"$f":"IF(AND(Config!$B$13<=Tarifs!F1630,Config!$B$13>=Tarifs!E1630),1,0)","v":0},"2026-09-01","2026-09-30",3450]
["09-0005","30","09-0005-300",{"$f":"IF(AND(Config!$B$13<=Tarifs!F1631,Config!$B$13>=Tarifs!E1631),1,0)","v":0},"2026-10-01","2026-10-31",3450]
["09-0005","30","09-0005-300",{"$f":"IF(AND(Config!$B$13<=Tarifs!F1632,Config!$B$13>=Tarifs!E1632),1,0)","v":0},"2026-11-01","2026-11-30",3450]
["09-0005","30","09-0005-300",{"$f":"IF(AND(Config!$B$13<=Tarifs!F1633,Config!$B$13>=Tarifs!E1633),1,0)","v":0},"2026-12-01","2026-12-31",3450]
["09-0005","20","09-0005-201",{"$f":"IF(AND(Config!$B$13<=Tarifs!F1634,Config!$B$13>=Tarifs!E1634),1,0)","v":1},"2026-01-01","2026-01-31",805]
["09-0005","20","09-0005-200",{"$f":"IF(AND(Config!$B$13<=Tarifs!F1635,Config!$B$13>=Tarifs!E1635),1,0)","v":0},"2026-02-01","2026-02-28",805]
["09-0005","20","09-0005-200",{"$f":"IF(AND(Config!$B$13<=Tarifs!F1636,Config!$B$13>=Tarifs!E1636),1,0)","v":0},"2026-03-01","2026-03-31",805]
["09-0005","20","09-0005-200",{"$f":"IF(AND(Config!$B$13<=Tarifs!F1637,Config!$B$13>=Tarifs!E1637),1,0)","v":0},"2026-04-01","2026-04-30",805]
["09-0005","20","09-0005-200",{"$f":"IF(AND(Config!$B$13<=Tarifs!F1638,Config!$B$13>=Tarifs!E1638),1,0)","v":0},"2026-05-01","2026-05-31",805]
["09-0005","20","09-0005-200",{"$f":"IF(AND(Config!$B$13<=Tarifs!F1639,Config!$B$13>=Tarifs!E1639),1,0)","v":0},"2026-06-01","2026-06-30",805]
["09-0005","20","09-0005-200",{"$f":"IF(AND(Config!$B$13<=Tarifs!F1640,Config!$B$13>=Tarifs!E1640),1,0)","v":0},"2026-07-01","2026-07-31",805]
["09-0005","20","09-0005-200",{"$f":"IF(AND(Config!$B$13<=Tarifs!F1641,Config!$B$13>=Tarifs!E1641),1,0)","v":0},"2026-08-01","2026-08-31",805]
["09-0005","20","09-0005-200",{"$f":"IF(AND(Config!$B$13<=Tarifs!F1642,Config!$B$13>=Tarifs!E1642),1,0)","v":0},"2026-09-01","2026-09-30",805]
["09-0005","20","09-0005-200",{"$f":"IF(AND(Config!$B$13<=Tarifs!F1643,Config!$B$13>=Tarifs!E1643),1,0)","v":0},"2026-10-01","2026-10-31",805]
["09-0005","20","09-0005-200",{"$f":"IF(AND(Config!$B$13<=Tarifs!F1644,Config!$B$13>=Tarifs!E1644),1,0)","v":0},"2026-11-01","2026-11-30",805]
["09-0005","20","09-0005-200",{"$f":"IF(AND(Config!$B$13<=Tarifs!F1645,Config!$B$13>=Tarifs!E1645),1,0)","v":0},"2026-12-01","2026-12-31",805]
["09-0005","10","09-0005-101",{"$f":"IF(AND(Config!$B$13<=Tarifs!F1646,Config!$B$13>=Tarifs!E1646),1,0)","v":1},"2026-01-01","2026-01-31",115]
["09-0005","10","09-0005-100",{"$f":"IF(AND(Config!$B$13<=Tarifs!F1647,Config!$B$13>=Tarifs!E1647),1,0)","v":0},"2026-02-01","2026-02-28",115]
["09-0005","10","09-0005-100",{"$f":"IF(AND(Config!$B$13<=Tarifs!F1648,Config!$B$13>=Tarifs!E1648),1,0)","v":0},"2026-03-01","2026-03-31",115]
["09-0005","10","09-0005-100",{"$f":"IF(AND(Config!$B$13<=Tarifs!F1649,Config!$B$13>=Tarifs!E1649),1,0)","v":0},"2026-04-01","2026-04-30",115]
["09-0005","10","09-0005-100",{"$f":"IF(AND(Config!$B$13<=Tarifs!F1650,Config!$B$13>=Tarifs!E1650),1,0)","v":0},"2026-05-01","2026-05-31",115]
["09-0005","10","09-0005-100",{"$f":"IF(AND(Config!$B$13<=Tarifs!F1651,Config!$B$13>=Tarifs!E1651),1,0)","v":0},"2026-06-01","2026-06-30",115]
["09-0005","10","09-0005-100",{"$f":"IF(AND(Config!$B$13<=Tarifs!F1652,Config!$B$13>=Tarifs!E1652),1,0)","v":0},"2026-07-01","2026-07-31",115]
["09-0005","10","09-0005-100",{"$f":"IF(AND(Config!$B$13<=Tarifs!F1653,Config!$B$13>=Tarifs!E1653),1,0)","v":0},"2026-08-01","2026-08-31",115]
["09-0005","10","09-0005-100",{"$f":"IF(AND(Config!$B$13<=Tarifs!F1654,Config!$B$13>=Tarifs!E1654),1,0)","v":0},"2026-09-01","2026-09-30",115]
["09-0005","10","09-0005-100",{"$f":"IF(AND(Config!$B$13<=Tarifs!F1655,Config!$B$13>=Tarifs!E1655),1,0)","v":0},"2026-10-01","2026-10-31",115]
["09-0005","10","09-0005-100",{"$f":"IF(AND(Config!$B$13<=Tarifs!F1656,Config!$B$13>=Tarifs!E1656),1,0)","v":0},"2026-11-01","2026-11-30",115]
["09-0005","10","09-0005-100",{"$f":"IF(AND(Config!$B$13<=Tarifs!F1657,Config!$B$13>=Tarifs!E1657),1,0)","v":0},"2026-12-01","2026-12-31",115]
["09-0008","30","09-0008-300",{"$f":"IF(AND(Config!$B$13<=Tarifs!F1658,Config!$B$13>=Tarifs!E1658),1,0)","v":0},"2026-07-01","2026-07-31",5819.7]
["09-0008","30","09-0008-300",{"$f":"IF(AND(Config!$B$13<=Tarifs!F1659,Config!$B$13>=Tarifs!E1659),1,0)","v":0},"2026-08-01","2026-08-31",5819.7]
["09-0008","30","09-0008-300",{"$f":"IF(AND(Config!$B$13<=Tarifs!F1660,Config!$B$13>=Tarifs!E1660),1,0)","v":0},"2026-09-01","2026-09-30",5819.7]
["09-0008","30","09-0008-300",{"$f":"IF(AND(Config!$B$13<=Tarifs!F1661,Config!$B$13>=Tarifs!E1661),1,0)","v":0},"2026-05-01","2026-05-31",5399.7]
["09-0008","30","09-0008-300",{"$f":"IF(AND(Config!$B$13<=Tarifs!F1662,Config!$B$13>=Tarifs!E1662),1,0)","v":0},"2026-06-01","2026-06-30",5399.7]
["09-0008","30","09-0008-300",{"$f":"IF(AND(Config!$B$13<=Tarifs!F1663,Config!$B$13>=Tarifs!E1663),1,0)","v":0},"2026-10-01","2026-10-31",5399.7]
["09-0008","30","09-0008-301",{"$f":"IF(AND(Config!$B$13<=Tarifs!F1664,Config!$B$13>=Tarifs!E1664),1,0)","v":1},"2026-01-01","2026-01-31",5099.7]
["09-0008","30","09-0008-300",{"$f":"IF(AND(Config!$B$13<=Tarifs!F1665,Config!$B$13>=Tarifs!E1665),1,0)","v":0},"2026-02-01","2026-02-28",5099.7]
["09-0008","30","09-0008-300",{"$f":"IF(AND(Config!$B$13<=Tarifs!F1666,Config!$B$13>=Tarifs!E1666),1,0)","v":0},"2026-03-01","2026-03-31",5099.7]
["09-0008","30",{"$f":"A1667&\"-\"&B1667&D1667","v":"09-0008-300"},{"$f":"IF(AND(Config!$B$13<=Tarifs!F1667,Config!$B$13>=Tarifs!E1667),1,0)","v":0},"2026-04-01","2026-04-30",5099.7]
["09-0008","30","09-0008-300",{"$f":"IF(AND(Config!$B$13<=Tarifs!F1668,Config!$B$13>=Tarifs!E1668),1,0)","v":0},"2026-11-01","2026-11-30",5099.7]
["09-0008","30","09-0008-300",{"$f":"IF(AND(Config!$B$13<=Tarifs!F1669,Config!$B$13>=Tarifs!E1669),1,0)","v":0},"2026-12-01","2026-12-31",5099.7]
["09-0008","20","09-0008-200",{"$f":"IF(AND(Config!$B$13<=Tarifs!F1670,Config!$B$13>=Tarifs!E1670),1,0)","v":0},"2026-07-01","2026-07-31",1357.93]
["09-0008","20","09-0008-200",{"$f":"IF(AND(Config!$B$13<=Tarifs!F1671,Config!$B$13>=Tarifs!E1671),1,0)","v":0},"2026-08-01","2026-08-31",1357.93]
["09-0008","20","09-0008-200",{"$f":"IF(AND(Config!$B$13<=Tarifs!F1672,Config!$B$13>=Tarifs!E1672),1,0)","v":0},"2026-09-01","2026-09-30",1357.93]
["09-0008","20","09-0008-200",{"$f":"IF(AND(Config!$B$13<=Tarifs!F1673,Config!$B$13>=Tarifs!E1673),1,0)","v":0},"2026-05-01","2026-05-31",1259.93]
["09-0008","20","09-0008-200",{"$f":"IF(AND(Config!$B$13<=Tarifs!F1674,Config!$B$13>=Tarifs!E1674),1,0)","v":0},"2026-06-01","2026-06-30",1259.93]
["09-0008","20","09-0008-200",{"$f":"IF(AND(Config!$B$13<=Tarifs!F1675,Config!$B$13>=Tarifs!E1675),1,0)","v":0},"2026-10-01","2026-10-31",1259.93]
["09-0008","20","09-0008-201",{"$f":"IF(AND(Config!$B$13<=Tarifs!F1676,Config!$B$13>=Tarifs!E1676),1,0)","v":1},"2026-01-01","2026-01-31",1189.93]
["09-0008","20","09-0008-200",{"$f":"IF(AND(Config!$B$13<=Tarifs!F1677,Config!$B$13>=Tarifs!E1677),1,0)","v":0},"2026-02-01","2026-02-28",1189.93]
["09-0008","20","09-0008-200",{"$f":"IF(AND(Config!$B$13<=Tarifs!F1678,Config!$B$13>=Tarifs!E1678),1,0)","v":0},"2026-03-01","2026-03-31",1189.93]
["09-0008","20","09-0008-200",{"$f":"IF(AND(Config!$B$13<=Tarifs!F1679,Config!$B$13>=Tarifs!E1679),1,0)","v":0},"2026-04-01","2026-04-30",1189.93]
["09-0008","20","09-0008-200",{"$f":"IF(AND(Config!$B$13<=Tarifs!F1680,Config!$B$13>=Tarifs!E1680),1,0)","v":0},"2026-11-01","2026-11-30",1189.93]
["09-0008","20","09-0008-200",{"$f":"IF(AND(Config!$B$13<=Tarifs!F1681,Config!$B$13>=Tarifs!E1681),1,0)","v":0},"2026-12-01","2026-12-31",1189.93]
["09-0008","10","09-0008-100",{"$f":"IF(AND(Config!$B$13<=Tarifs!F1682,Config!$B$13>=Tarifs!E1682),1,0)","v":0},"2026-07-01","2026-07-31",193.99]
["09-0008","10","09-0008-100",{"$f":"IF(AND(Config!$B$13<=Tarifs!F1683,Config!$B$13>=Tarifs!E1683),1,0)","v":0},"2026-08-01","2026-08-31",193.99]
["09-0008","10","09-0008-100",{"$f":"IF(AND(Config!$B$13<=Tarifs!F1684,Config!$B$13>=Tarifs!E1684),1,0)","v":0},"2026-05-01","2026-05-31",179.99]
["09-0008","10","09-0008-100",{"$f":"IF(AND(Config!$B$13<=Tarifs!F1685,Config!$B$13>=Tarifs!E1685),1,0)","v":0},"2026-06-01","2026-06-30",179.99]
["09-0008","10","09-0008-100",{"$f":"IF(AND(Config!$B$13<=Tarifs!F1686,Config!$B$13>=Tarifs!E1686),1,0)","v":0},"2026-09-01","2026-09-30",179.99]
["09-0008","10","09-0008-100",{"$f":"IF(AND(Config!$B$13<=Tarifs!F1687,Config!$B$13>=Tarifs!E1687),1,0)","v":0},"2026-10-01","2026-10-31",179.99]
["09-0008","10","09-0008-101",{"$f":"IF(AND(Config!$B$13<=Tarifs!F1688,Config!$B$13>=Tarifs!E1688),1,0)","v":1},"2026-01-01","2026-01-31",169.99]
["09-0008","10","09-0008-100",{"$f":"IF(AND(Config!$B$13<=Tarifs!F1689,Config!$B$13>=Tarifs!E1689),1,0)","v":0},"2026-02-01","2026-02-28",169.99]
["09-0008","10","09-0008-100",{"$f":"IF(AND(Config!$B$13<=Tarifs!F1690,Config!$B$13>=Tarifs!E1690),1,0)","v":0},"2026-03-01","2026-03-31",169.99]
["09-0008","10","09-0008-100",{"$f":"IF(AND(Config!$B$13<=Tarifs!F1691,Config!$B$13>=Tarifs!E1691),1,0)","v":0},"2026-04-01","2026-04-30",169.99]
["09-0008","10","09-0008-100",{"$f":"IF(AND(Config!$B$13<=Tarifs!F1692,Config!$B$13>=Tarifs!E1692),1,0)","v":0},"2026-11-01","2026-11-30",169.99]
["09-0008","10","09-0008-100",{"$f":"IF(AND(Config!$B$13<=Tarifs!F1693,Config!$B$13>=Tarifs!E1693),1,0)","v":0},"2026-12-01","2026-12-31",169.99]
["09-0009","30","09-0009-300",{"$f":"IF(AND(Config!$B$13<=Tarifs!F1694,Config!$B$13>=Tarifs!E1694),1,0)","v":0},"2026-07-01","2026-07-31",5819.7]
["09-0009","30","09-0009-300",{"$f":"IF(AND(Config!$B$13<=Tarifs!F1695,Config!$B$13>=Tarifs!E1695),1,0)","v":0},"2026-08-01","2026-08-31",5819.7]
["09-0009","30","09-0009-300",{"$f":"IF(AND(Config!$B$13<=Tarifs!F1696,Config!$B$13>=Tarifs!E1696),1,0)","v":0},"2026-05-01","2026-05-31",5399.7]
["09-0009","30","09-0009-300",{"$f":"IF(AND(Config!$B$13<=Tarifs!F1697,Config!$B$13>=Tarifs!E1697),1,0)","v":0},"2026-06-01","2026-06-30",5399.7]
["09-0009","30","09-0009-300",{"$f":"IF(AND(Config!$B$13<=Tarifs!F1698,Config!$B$13>=Tarifs!E1698),1,0)","v":0},"2026-09-01","2026-09-30",5399.7]
["09-0009","30","09-0009-300",{"$f":"IF(AND(Config!$B$13<=Tarifs!F1699,Config!$B$13>=Tarifs!E1699),1,0)","v":0},"2026-10-01","2026-10-31",5399.7]
["09-0009","30","09-0009-301",{"$f":"IF(AND(Config!$B$13<=Tarifs!F1700,Config!$B$13>=Tarifs!E1700),1,0)","v":1},"2026-01-01","2026-01-31",5099.7]
["09-0009","30","09-0009-300",{"$f":"IF(AND(Config!$B$13<=Tarifs!F1701,Config!$B$13>=Tarifs!E1701),1,0)","v":0},"2026-02-01","2026-02-28",5099.7]
["09-0009","30","09-0009-300",{"$f":"IF(AND(Config!$B$13<=Tarifs!F1702,Config!$B$13>=Tarifs!E1702),1,0)","v":0},"2026-03-01","2026-03-31",5099.7]
["09-0009","30","09-0009-300",{"$f":"IF(AND(Config!$B$13<=Tarifs!F1703,Config!$B$13>=Tarifs!E1703),1,0)","v":0},"2026-04-01","2026-04-30",5099.7]
["09-0009","30","09-0009-300",{"$f":"IF(AND(Config!$B$13<=Tarifs!F1704,Config!$B$13>=Tarifs!E1704),1,0)","v":0},"2026-11-01","2026-11-30",5099.7]
["09-0009","30","09-0009-300",{"$f":"IF(AND(Config!$B$13<=Tarifs!F1705,Config!$B$13>=Tarifs!E1705),1,0)","v":0},"2026-12-01","2026-12-31",5099.7]
["09-0009","20","09-0009-200",{"$f":"IF(AND(Config!$B$13<=Tarifs!F1706,Config!$B$13>=Tarifs!E1706),1,0)","v":0},"2026-07-01","2026-07-31",1357.93]
["09-0009","20","09-0009-200",{"$f":"IF(AND(Config!$B$13<=Tarifs!F1707,Config!$B$13>=Tarifs!E1707),1,0)","v":0},"2026-08-01","2026-08-31",1357.93]
["09-0009","20","09-0009-200",{"$f":"IF(AND(Config!$B$13<=Tarifs!F1708,Config!$B$13>=Tarifs!E1708),1,0)","v":0},"2026-05-01","2026-05-31",1259.93]
["09-0009","20","09-0009-200",{"$f":"IF(AND(Config!$B$13<=Tarifs!F1709,Config!$B$13>=Tarifs!E1709),1,0)","v":0},"2026-06-01","2026-06-30",1259.93]
["09-0009","20","09-0009-200",{"$f":"IF(AND(Config!$B$13<=Tarifs!F1710,Config!$B$13>=Tarifs!E1710),1,0)","v":0},"2026-09-01","2026-09-30",1259.93]
["09-0009","20","09-0009-200",{"$f":"IF(AND(Config!$B$13<=Tarifs!F1711,Config!$B$13>=Tarifs!E1711),1,0)","v":0},"2026-10-01","2026-10-31",1259.93]
["09-0009","20","09-0009-201",{"$f":"IF(AND(Config!$B$13<=Tarifs!F1712,Config!$B$13>=Tarifs!E1712),1,0)","v":1},"2026-01-01","2026-01-31",1189.93]
["09-0009","20","09-0009-200",{"$f":"IF(AND(Config!$B$13<=Tarifs!F1713,Config!$B$13>=Tarifs!E1713),1,0)","v":0},"2026-02-01","2026-02-28",1189.93]
["09-0009","20","09-0009-200",{"$f":"IF(AND(Config!$B$13<=Tarifs!F1714,Config!$B$13>=Tarifs!E1714),1,0)","v":0},"2026-03-01","2026-03-31",1189.93]
["09-0009","20","09-0009-200",{"$f":"IF(AND(Config!$B$13<=Tarifs!F1715,Config!$B$13>=Tarifs!E1715),1,0)","v":0},"2026-04-01","2026-04-30",1189.93]
["09-0009","20","09-0009-200",{"$f":"IF(AND(Config!$B$13<=Tarifs!F1716,Config!$B$13>=Tarifs!E1716),1,0)","v":0},"2026-11-01","2026-11-30",1189.93]
["09-0009","20","09-0009-200",{"$f":"IF(AND(Config!$B$13<=Tarifs!F1717,Config!$B$13>=Tarifs!E1717),1,0)","v":0},"2026-12-01","2026-12-31",1189.93]
["09-0009","10","09-0009-100",{"$f":"IF(AND(Config!$B$13<=Tarifs!F1718,Config!$B$13>=Tarifs!E1718),1,0)","v":0},"2026-07-01","2026-07-31",193.99]
["09-0009","10","09-0009-100",{"$f":"IF(AND(Config!$B$13<=Tarifs!F1719,Config!$B$13>=Tarifs!E1719),1,0)","v":0},"2026-08-01","2026-08-31",193.99]
["09-0009","10","09-0009-100",{"$f":"IF(AND(Config!$B$13<=Tarifs!F1720,Config!$B$13>=Tarifs!E1720),1,0)","v":0},"2026-05-01","2026-05-31",179.99]
["09-0009","10","09-0009-100",{"$f":"IF(AND(Config!$B$13<=Tarifs!F1721,Config!$B$13>=Tarifs!E1721),1,0)","v":0},"2026-06-01","2026-06-30",179.99]
["09-0009","10","09-0009-100",{"$f":"IF(AND(Config!$B$13<=Tarifs!F1722,Config!$B$13>=Tarifs!E1722),1,0)","v":0},"2026-09-01","2026-09-30",179.99]
["09-0009","10","09-0009-100",{"$f":"IF(AND(Config!$B$13<=Tarifs!F1723,Config!$B$13>=Tarifs!E1723),1,0)","v":0},"2026-10-01","2026-10-31",179.99]
["09-0009","10","09-0009-101",{"$f":"IF(AND(Config!$B$13<=Tarifs!F1724,Config!$B$13>=Tarifs!E1724),1,0)","v":1},"2026-01-01","2026-01-31",169.99]
["09-0009","10","09-0009-100",{"$f":"IF(AND(Config!$B$13<=Tarifs!F1725,Config!$B$13>=Tarifs!E1725),1,0)","v":0},"2026-02-01","2026-02-28",169.99]
["09-0009","10","09-0009-100",{"$f":"IF(AND(Config!$B$13<=Tarifs!F1726,Config!$B$13>=Tarifs!E1726),1,0)","v":0},"2026-03-01","2026-03-31",169.99]
["09-0009","10","09-0009-100",{"$f":"IF(AND(Config!$B$13<=Tarifs!F1727,Config!$B$13>=Tarifs!E1727),1,0)","v":0},"2026-04-01","2026-04-30",169.99]
["09-0009","10","09-0009-100",{"$f":"IF(AND(Config!$B$13<=Tarifs!F1728,Config!$B$13>=Tarifs!E1728),1,0)","v":0},"2026-11-01","2026-11-30",169.99]
["09-0009","10","09-0009-100",{"$f":"IF(AND(Config!$B$13<=Tarifs!F1729,Config!$B$13>=Tarifs!E1729),1,0)","v":0},"2026-12-01","2026-12-31",169.99]
["09-0021","30","09-0021-300",{"$f":"IF(AND(Config!$B$13<=Tarifs!F1730,Config!$B$13>=Tarifs!E1730),1,0)","v":0},"2026-07-01","2026-07-31",5970]
["09-0021","30",{"$f":"A1731&\"-\"&B1731&D1731","v":"09-0021-300"},{"$f":"IF(AND(Config!$B$13<=Tarifs!F1731,Config!$B$13>=Tarifs!E1731),1,0)","v":0},"2026-08-01","2026-08-31",5970]
["09-0021","30","09-0021-300",{"$f":"IF(AND(Config!$B$13<=Tarifs!F1732,Config!$B$13>=Tarifs!E1732),1,0)","v":0},"2026-09-01","2026-09-30",5070]
["09-0021","30","09-0021-300",{"$f":"IF(AND(Config!$B$13<=Tarifs!F1733,Config!$B$13>=Tarifs!E1733),1,0)","v":0},"2026-10-01","2026-10-31",5070]
["09-0021","30","09-0021-300",{"$f":"IF(AND(Config!$B$13<=Tarifs!F1734,Config!$B$13>=Tarifs!E1734),1,0)","v":0},"2026-04-01","2026-04-30",4710]
["09-0021","30","09-0021-300",{"$f":"IF(AND(Config!$B$13<=Tarifs!F1735,Config!$B$13>=Tarifs!E1735),1,0)","v":0},"2026-05-01","2026-05-31",4710]
["09-0021","30","09-0021-300",{"$f":"IF(AND(Config!$B$13<=Tarifs!F1736,Config!$B$13>=Tarifs!E1736),1,0)","v":0},"2026-06-01","2026-06-30",4710]
["09-0021","30","09-0021-301",{"$f":"IF(AND(Config!$B$13<=Tarifs!F1737,Config!$B$13>=Tarifs!E1737),1,0)","v":1},"2026-01-01","2026-01-31",4410]
["09-0021","30","09-0021-300",{"$f":"IF(AND(Config!$B$13<=Tarifs!F1738,Config!$B$13>=Tarifs!E1738),1,0)","v":0},"2026-02-01","2026-02-28",4410]
["09-0021","30","09-0021-300",{"$f":"IF(AND(Config!$B$13<=Tarifs!F1739,Config!$B$13>=Tarifs!E1739),1,0)","v":0},"2026-03-01","2026-03-31",4410]
["09-0021","30","09-0021-300",{"$f":"IF(AND(Config!$B$13<=Tarifs!F1740,Config!$B$13>=Tarifs!E1740),1,0)","v":0},"2026-11-01","2026-11-30",4410]
["09-0021","30","09-0021-300",{"$f":"IF(AND(Config!$B$13<=Tarifs!F1741,Config!$B$13>=Tarifs!E1741),1,0)","v":0},"2026-12-01","2026-12-31",4410]
["09-0021","20","09-0021-200",{"$f":"IF(AND(Config!$B$13<=Tarifs!F1742,Config!$B$13>=Tarifs!E1742),1,0)","v":0},"2026-07-01","2026-07-31",1393]
["09-0021","20","09-0021-200",{"$f":"IF(AND(Config!$B$13<=Tarifs!F1743,Config!$B$13>=Tarifs!E1743),1,0)","v":0},"2026-08-01","2026-08-31",1393]
["09-0021","20","09-0021-200",{"$f":"IF(AND(Config!$B$13<=Tarifs!F1744,Config!$B$13>=Tarifs!E1744),1,0)","v":0},"2026-09-01","2026-09-30",1183]
["09-0021","20","09-0021-200",{"$f":"IF(AND(Config!$B$13<=Tarifs!F1745,Config!$B$13>=Tarifs!E1745),1,0)","v":0},"2026-10-01","2026-10-31",1183]
["09-0021","20","09-0021-200",{"$f":"IF(AND(Config!$B$13<=Tarifs!F1746,Config!$B$13>=Tarifs!E1746),1,0)","v":0},"2026-04-01","2026-04-30",1099]
["09-0021","20","09-0021-200",{"$f":"IF(AND(Config!$B$13<=Tarifs!F1747,Config!$B$13>=Tarifs!E1747),1,0)","v":0},"2026-05-01","2026-05-31",1099]
["09-0021","20","09-0021-200",{"$f":"IF(AND(Config!$B$13<=Tarifs!F1748,Config!$B$13>=Tarifs!E1748),1,0)","v":0},"2026-06-01","2026-06-30",1099]
["09-0021","20","09-0021-201",{"$f":"IF(AND(Config!$B$13<=Tarifs!F1749,Config!$B$13>=Tarifs!E1749),1,0)","v":1},"2026-01-01","2026-01-31",1029]
["09-0021","20","09-0021-200",{"$f":"IF(AND(Config!$B$13<=Tarifs!F1750,Config!$B$13>=Tarifs!E1750),1,0)","v":0},"2026-02-01","2026-02-28",1029]
["09-0021","20","09-0021-200",{"$f":"IF(AND(Config!$B$13<=Tarifs!F1751,Config!$B$13>=Tarifs!E1751),1,0)","v":0},"2026-03-01","2026-03-31",1029]
["09-0021","20","09-0021-200",{"$f":"IF(AND(Config!$B$13<=Tarifs!F1752,Config!$B$13>=Tarifs!E1752),1,0)","v":0},"2026-11-01","2026-11-30",1029]
["09-0021","20","09-0021-200",{"$f":"IF(AND(Config!$B$13<=Tarifs!F1753,Config!$B$13>=Tarifs!E1753),1,0)","v":0},"2026-12-01","2026-12-31",1029]
["09-0021","10","09-0021-100",{"$f":"IF(AND(Config!$B$13<=Tarifs!F1754,Config!$B$13>=Tarifs!E1754),1,0)","v":0},"2026-07-01","2026-07-31",199]
["09-0021","10","09-0021-100",{"$f":"IF(AND(Config!$B$13<=Tarifs!F1755,Config!$B$13>=Tarifs!E1755),1,0)","v":0},"2026-08-01","2026-08-31",199]
["09-0021","10","09-0021-100",{"$f":"IF(AND(Config!$B$13<=Tarifs!F1756,Config!$B$13>=Tarifs!E1756),1,0)","v":0},"2026-09-01","2026-09-30",169]
["09-0021","10","09-0021-100",{"$f":"IF(AND(Config!$B$13<=Tarifs!F1757,Config!$B$13>=Tarifs!E1757),1,0)","v":0},"2026-10-01","2026-10-31",169]
["09-0021","10","09-0021-100",{"$f":"IF(AND(Config!$B$13<=Tarifs!F1758,Config!$B$13>=Tarifs!E1758),1,0)","v":0},"2026-04-01","2026-04-30",157]
["09-0021","10","09-0021-100",{"$f":"IF(AND(Config!$B$13<=Tarifs!F1759,Config!$B$13>=Tarifs!E1759),1,0)","v":0},"2026-05-01","2026-05-31",157]
["09-0021","10","09-0021-100",{"$f":"IF(AND(Config!$B$13<=Tarifs!F1760,Config!$B$13>=Tarifs!E1760),1,0)","v":0},"2026-06-01","2026-06-30",157]
["09-0021","10","09-0021-101",{"$f":"IF(AND(Config!$B$13<=Tarifs!F1761,Config!$B$13>=Tarifs!E1761),1,0)","v":1},"2026-01-01","2026-01-31",147]
["09-0021","10","09-0021-100",{"$f":"IF(AND(Config!$B$13<=Tarifs!F1762,Config!$B$13>=Tarifs!E1762),1,0)","v":0},"2026-02-01","2026-02-28",147]
["09-0021","10","09-0021-100",{"$f":"IF(AND(Config!$B$13<=Tarifs!F1763,Config!$B$13>=Tarifs!E1763),1,0)","v":0},"2026-03-01","2026-03-31",147]
["09-0021","10","09-0021-100",{"$f":"IF(AND(Config!$B$13<=Tarifs!F1764,Config!$B$13>=Tarifs!E1764),1,0)","v":0},"2026-11-01","2026-11-30",147]
["09-0021","10","09-0021-100",{"$f":"IF(AND(Config!$B$13<=Tarifs!F1765,Config!$B$13>=Tarifs!E1765),1,0)","v":0},"2026-12-01","2026-12-31",147]
["09-0024","30","09-0024-300",{"$f":"IF(AND(Config!$B$13<=Tarifs!F1766,Config!$B$13>=Tarifs!E1766),1,0)","v":0},"2026-06-01","2026-06-30",5100]
["09-0024","30","09-0024-300",{"$f":"IF(AND(Config!$B$13<=Tarifs!F1767,Config!$B$13>=Tarifs!E1767),1,0)","v":0},"2026-07-01","2026-07-31",5100]
["09-0024","30","09-0024-300",{"$f":"IF(AND(Config!$B$13<=Tarifs!F1768,Config!$B$13>=Tarifs!E1768),1,0)","v":0},"2026-08-01","2026-08-31",5100]
["09-0024","30","09-0024-300",{"$f":"IF(AND(Config!$B$13<=Tarifs!F1769,Config!$B$13>=Tarifs!E1769),1,0)","v":0},"2026-09-01","2026-09-30",5100]
["09-0024","30","09-0024-301",{"$f":"IF(AND(Config!$B$13<=Tarifs!F1770,Config!$B$13>=Tarifs!E1770),1,0)","v":1},"2026-01-01","2026-01-31",3900]
["09-0024","30","09-0024-300",{"$f":"IF(AND(Config!$B$13<=Tarifs!F1771,Config!$B$13>=Tarifs!E1771),1,0)","v":0},"2026-02-01","2026-02-28",3900]
["09-0024","30","09-0024-300",{"$f":"IF(AND(Config!$B$13<=Tarifs!F1772,Config!$B$13>=Tarifs!E1772),1,0)","v":0},"2026-03-01","2026-03-31",3900]
["09-0024","30","09-0024-300",{"$f":"IF(AND(Config!$B$13<=Tarifs!F1773,Config!$B$13>=Tarifs!E1773),1,0)","v":0},"2026-04-01","2026-04-30",3900]
["09-0024","30","09-0024-300",{"$f":"IF(AND(Config!$B$13<=Tarifs!F1774,Config!$B$13>=Tarifs!E1774),1,0)","v":0},"2026-05-01","2026-05-31",3900]
["09-0024","30","09-0024-300",{"$f":"IF(AND(Config!$B$13<=Tarifs!F1775,Config!$B$13>=Tarifs!E1775),1,0)","v":0},"2026-10-01","2026-10-31",3900]
["09-0024","30","09-0024-300",{"$f":"IF(AND(Config!$B$13<=Tarifs!F1776,Config!$B$13>=Tarifs!E1776),1,0)","v":0},"2026-11-01","2026-11-30",3900]
["09-0024","30","09-0024-300",{"$f":"IF(AND(Config!$B$13<=Tarifs!F1777,Config!$B$13>=Tarifs!E1777),1,0)","v":0},"2026-12-01","2026-12-31",3900]
["09-0024","20","09-0024-200",{"$f":"IF(AND(Config!$B$13<=Tarifs!F1778,Config!$B$13>=Tarifs!E1778),1,0)","v":0},"2026-06-01","2026-06-30",1190]
["09-0024","20","09-0024-200",{"$f":"IF(AND(Config!$B$13<=Tarifs!F1779,Config!$B$13>=Tarifs!E1779),1,0)","v":0},"2026-07-01","2026-07-31",1190]
["09-0024","20","09-0024-200",{"$f":"IF(AND(Config!$B$13<=Tarifs!F1780,Config!$B$13>=Tarifs!E1780),1,0)","v":0},"2026-08-01","2026-08-31",1190]
["09-0024","20","09-0024-200",{"$f":"IF(AND(Config!$B$13<=Tarifs!F1781,Config!$B$13>=Tarifs!E1781),1,0)","v":0},"2026-09-01","2026-09-30",1190]
["09-0024","20","09-0024-201",{"$f":"IF(AND(Config!$B$13<=Tarifs!F1782,Config!$B$13>=Tarifs!E1782),1,0)","v":1},"2026-01-01","2026-01-31",910]
["09-0024","20","09-0024-200",{"$f":"IF(AND(Config!$B$13<=Tarifs!F1783,Config!$B$13>=Tarifs!E1783),1,0)","v":0},"2026-02-01","2026-02-28",910]
["09-0024","20","09-0024-200",{"$f":"IF(AND(Config!$B$13<=Tarifs!F1784,Config!$B$13>=Tarifs!E1784),1,0)","v":0},"2026-03-01","2026-03-31",910]
["09-0024","20","09-0024-200",{"$f":"IF(AND(Config!$B$13<=Tarifs!F1785,Config!$B$13>=Tarifs!E1785),1,0)","v":0},"2026-04-01","2026-04-30",910]
["09-0024","20","09-0024-200",{"$f":"IF(AND(Config!$B$13<=Tarifs!F1786,Config!$B$13>=Tarifs!E1786),1,0)","v":0},"2026-05-01","2026-05-31",910]
["09-0024","20","09-0024-200",{"$f":"IF(AND(Config!$B$13<=Tarifs!F1787,Config!$B$13>=Tarifs!E1787),1,0)","v":0},"2026-10-01","2026-10-31",910]
["09-0024","20","09-0024-200",{"$f":"IF(AND(Config!$B$13<=Tarifs!F1788,Config!$B$13>=Tarifs!E1788),1,0)","v":0},"2026-11-01","2026-11-30",910]
["09-0024","20","09-0024-200",{"$f":"IF(AND(Config!$B$13<=Tarifs!F1789,Config!$B$13>=Tarifs!E1789),1,0)","v":0},"2026-12-01","2026-12-31",910]
["09-0024","10","09-0024-100",{"$f":"IF(AND(Config!$B$13<=Tarifs!F1790,Config!$B$13>=Tarifs!E1790),1,0)","v":0},"2026-06-01","2026-06-30",170]
["09-0024","10","09-0024-100",{"$f":"IF(AND(Config!$B$13<=Tarifs!F1791,Config!$B$13>=Tarifs!E1791),1,0)","v":0},"2026-07-01","2026-07-31",170]
["09-0024","10","09-0024-100",{"$f":"IF(AND(Config!$B$13<=Tarifs!F1792,Config!$B$13>=Tarifs!E1792),1,0)","v":0},"2026-08-01","2026-08-31",170]
["09-0024","10","09-0024-100",{"$f":"IF(AND(Config!$B$13<=Tarifs!F1793,Config!$B$13>=Tarifs!E1793),1,0)","v":0},"2026-09-01","2026-09-30",170]
["09-0024","10","09-0024-101",{"$f":"IF(AND(Config!$B$13<=Tarifs!F1794,Config!$B$13>=Tarifs!E1794),1,0)","v":1},"2026-01-01","2026-01-31",130]
["09-0024","10",{"$f":"A1795&\"-\"&B1795&D1795","v":"09-0024-100"},{"$f":"IF(AND(Config!$B$13<=Tarifs!F1795,Config!$B$13>=Tarifs!E1795),1,0)","v":0},"2026-02-01","2026-02-28",130]
["09-0024","10","09-0024-100",{"$f":"IF(AND(Config!$B$13<=Tarifs!F1796,Config!$B$13>=Tarifs!E1796),1,0)","v":0},"2026-03-01","2026-03-31",130]
["09-0024","10","09-0024-100",{"$f":"IF(AND(Config!$B$13<=Tarifs!F1797,Config!$B$13>=Tarifs!E1797),1,0)","v":0},"2026-04-01","2026-04-30",130]
["09-0024","10","09-0024-100",{"$f":"IF(AND(Config!$B$13<=Tarifs!F1798,Config!$B$13>=Tarifs!E1798),1,0)","v":0},"2026-05-01","2026-05-31",130]
["09-0024","10","09-0024-100",{"$f":"IF(AND(Config!$B$13<=Tarifs!F1799,Config!$B$13>=Tarifs!E1799),1,0)","v":0},"2026-10-01","2026-10-31",130]
["09-0024","10","09-0024-100",{"$f":"IF(AND(Config!$B$13<=Tarifs!F1800,Config!$B$13>=Tarifs!E1800),1,0)","v":0},"2026-11-01","2026-11-30",130]
["09-0024","10","09-0024-100",{"$f":"IF(AND(Config!$B$13<=Tarifs!F1801,Config!$B$13>=Tarifs!E1801),1,0)","v":0},"2026-12-01","2026-12-31",130]
["09-0026","30","09-0026-300",{"$f":"IF(AND(Config!$B$13<=Tarifs!F1802,Config!$B$13>=Tarifs!E1802),1,0)","v":0},"2026-05-01","2026-05-31",5370]
["09-0026","30","09-0026-300",{"$f":"IF(AND(Config!$B$13<=Tarifs!F1803,Config!$B$13>=Tarifs!E1803),1,0)","v":0},"2026-06-01","2026-06-30",5370]
["09-0026","30","09-0026-300",{"$f":"IF(AND(Config!$B$13<=Tarifs!F1804,Config!$B$13>=Tarifs!E1804),1,0)","v":0},"2026-07-01","2026-07-31",5370]
["09-0026","30","09-0026-300",{"$f":"IF(AND(Config!$B$13<=Tarifs!F1805,Config!$B$13>=Tarifs!E1805),1,0)","v":0},"2026-08-01","2026-08-31",5370]
["09-0026","30","09-0026-300",{"$f":"IF(AND(Config!$B$13<=Tarifs!F1806,Config!$B$13>=Tarifs!E1806),1,0)","v":0},"2026-09-01","2026-09-30",5370]
["09-0026","30","09-0026-300",{"$f":"IF(AND(Config!$B$13<=Tarifs!F1807,Config!$B$13>=Tarifs!E1807),1,0)","v":0},"2026-10-01","2026-10-31",5370]
["09-0026","30","09-0026-300",{"$f":"IF(AND(Config!$B$13<=Tarifs!F1808,Config!$B$13>=Tarifs!E1808),1,0)","v":0},"2026-11-01","2026-11-30",5370]
["09-0026","30","09-0026-300",{"$f":"IF(AND(Config!$B$13<=Tarifs!F1809,Config!$B$13>=Tarifs!E1809),1,0)","v":0},"2026-12-01","2026-12-31",5370]
["09-0026","30","09-0026-301",{"$f":"IF(AND(Config!$B$13<=Tarifs!F1810,Config!$B$13>=Tarifs!E1810),1,0)","v":1},"2026-01-01","2026-01-31",5070]
["09-0026","30","09-0026-300",{"$f":"IF(AND(Config!$B$13<=Tarifs!F1811,Config!$B$13>=Tarifs!E1811),1,0)","v":0},"2026-02-01","2026-02-28",5070]
["09-0026","30","09-0026-300",{"$f":"IF(AND(Config!$B$13<=Tarifs!F1812,Config!$B$13>=Tarifs!E1812),1,0)","v":0},"2026-03-01","2026-03-31",5070]
["09-0026","30","09-0026-300",{"$f":"IF(AND(Config!$B$13<=Tarifs!F1813,Config!$B$13>=Tarifs!E1813),1,0)","v":0},"2026-04-01","2026-04-30",5070]
["09-0026","20","09-0026-200",{"$f":"IF(AND(Config!$B$13<=Tarifs!F1814,Config!$B$13>=Tarifs!E1814),1,0)","v":0},"2026-05-01","2026-05-31",1253]
["09-0026","20","09-0026-200",{"$f":"IF(AND(Config!$B$13<=Tarifs!F1815,Config!$B$13>=Tarifs!E1815),1,0)","v":0},"2026-06-01","2026-06-30",1253]
["09-0026","20","09-0026-200",{"$f":"IF(AND(Config!$B$13<=Tarifs!F1816,Config!$B$13>=Tarifs!E1816),1,0)","v":0},"2026-07-01","2026-07-31",1253]
["09-0026","20","09-0026-200",{"$f":"IF(AND(Config!$B$13<=Tarifs!F1817,Config!$B$13>=Tarifs!E1817),1,0)","v":0},"2026-08-01","2026-08-31",1253]
["09-0026","20","09-0026-200",{"$f":"IF(AND(Config!$B$13<=Tarifs!F1818,Config!$B$13>=Tarifs!E1818),1,0)","v":0},"2026-09-01","2026-09-30",1253]
["09-0026","20","09-0026-200",{"$f":"IF(AND(Config!$B$13<=Tarifs!F1819,Config!$B$13>=Tarifs!E1819),1,0)","v":0},"2026-10-01","2026-10-31",1253]
["09-0026","20","09-0026-200",{"$f":"IF(AND(Config!$B$13<=Tarifs!F1820,Config!$B$13>=Tarifs!E1820),1,0)","v":0},"2026-11-01","2026-11-30",1253]
["09-0026","20","09-0026-200",{"$f":"IF(AND(Config!$B$13<=Tarifs!F1821,Config!$B$13>=Tarifs!E1821),1,0)","v":0},"2026-12-01","2026-12-31",1253]
["09-0026","20","09-0026-201",{"$f":"IF(AND(Config!$B$13<=Tarifs!F1822,Config!$B$13>=Tarifs!E1822),1,0)","v":1},"2026-01-01","2026-01-31",1183]
["09-0026","20","09-0026-200",{"$f":"IF(AND(Config!$B$13<=Tarifs!F1823,Config!$B$13>=Tarifs!E1823),1,0)","v":0},"2026-02-01","2026-02-28",1183]
["09-0026","20","09-0026-200",{"$f":"IF(AND(Config!$B$13<=Tarifs!F1824,Config!$B$13>=Tarifs!E1824),1,0)","v":0},"2026-03-01","2026-03-31",1183]
["09-0026","20","09-0026-200",{"$f":"IF(AND(Config!$B$13<=Tarifs!F1825,Config!$B$13>=Tarifs!E1825),1,0)","v":0},"2026-04-01","2026-04-30",1183]
["09-0026","10","09-0026-100",{"$f":"IF(AND(Config!$B$13<=Tarifs!F1826,Config!$B$13>=Tarifs!E1826),1,0)","v":0},"2026-05-01","2026-05-31",179]
["09-0026","10","09-0026-100",{"$f":"IF(AND(Config!$B$13<=Tarifs!F1827,Config!$B$13>=Tarifs!E1827),1,0)","v":0},"2026-06-01","2026-06-30",179]
["09-0026","10","09-0026-100",{"$f":"IF(AND(Config!$B$13<=Tarifs!F1828,Config!$B$13>=Tarifs!E1828),1,0)","v":0},"2026-07-01","2026-07-31",179]
["09-0026","10","09-0026-100",{"$f":"IF(AND(Config!$B$13<=Tarifs!F1829,Config!$B$13>=Tarifs!E1829),1,0)","v":0},"2026-08-01","2026-08-31",179]
["09-0026","10","09-0026-100",{"$f":"IF(AND(Config!$B$13<=Tarifs!F1830,Config!$B$13>=Tarifs!E1830),1,0)","v":0},"2026-09-01","2026-09-30",179]
["09-0026","10","09-0026-100",{"$f":"IF(AND(Config!$B$13<=Tarifs!F1831,Config!$B$13>=Tarifs!E1831),1,0)","v":0},"2026-10-01","2026-10-31",179]
["09-0026","10","09-0026-100",{"$f":"IF(AND(Config!$B$13<=Tarifs!F1832,Config!$B$13>=Tarifs!E1832),1,0)","v":0},"2026-11-01","2026-11-30",179]
["09-0026","10","09-0026-100",{"$f":"IF(AND(Config!$B$13<=Tarifs!F1833,Config!$B$13>=Tarifs!E1833),1,0)","v":0},"2026-12-01","2026-12-31",179]
["09-0026","10","09-0026-101",{"$f":"IF(AND(Config!$B$13<=Tarifs!F1834,Config!$B$13>=Tarifs!E1834),1,0)","v":1},"2026-01-01","2026-01-31",169]
["09-0026","10","09-0026-100",{"$f":"IF(AND(Config!$B$13<=Tarifs!F1835,Config!$B$13>=Tarifs!E1835),1,0)","v":0},"2026-02-01","2026-02-28",169]
["09-0026","10","09-0026-100",{"$f":"IF(AND(Config!$B$13<=Tarifs!F1836,Config!$B$13>=Tarifs!E1836),1,0)","v":0},"2026-03-01","2026-03-31",169]
["09-0026","10","09-0026-100",{"$f":"IF(AND(Config!$B$13<=Tarifs!F1837,Config!$B$13>=Tarifs!E1837),1,0)","v":0},"2026-04-01","2026-04-30",169]
["09-0035","30","09-0035-300",{"$f":"IF(AND(Config!$B$13<=Tarifs!F1838,Config!$B$13>=Tarifs!E1838),1,0)","v":0},"2026-06-01","2026-06-30",5370]
["09-0035","30","09-0035-300",{"$f":"IF(AND(Config!$B$13<=Tarifs!F1839,Config!$B$13>=Tarifs!E1839),1,0)","v":0},"2026-07-01","2026-07-31",5370]
["09-0035","30","09-0035-300",{"$f":"IF(AND(Config!$B$13<=Tarifs!F1840,Config!$B$13>=Tarifs!E1840),1,0)","v":0},"2026-08-01","2026-08-31",5370]
["09-0035","30","09-0035-300",{"$f":"IF(AND(Config!$B$13<=Tarifs!F1841,Config!$B$13>=Tarifs!E1841),1,0)","v":0},"2026-09-01","2026-09-30",5370]
["09-0035","30","09-0035-301",{"$f":"IF(AND(Config!$B$13<=Tarifs!F1842,Config!$B$13>=Tarifs!E1842),1,0)","v":1},"2026-01-01","2026-01-31",4470]
["09-0035","30","09-0035-300",{"$f":"IF(AND(Config!$B$13<=Tarifs!F1843,Config!$B$13>=Tarifs!E1843),1,0)","v":0},"2026-02-01","2026-02-28",4470]
["09-0035","30","09-0035-300",{"$f":"IF(AND(Config!$B$13<=Tarifs!F1844,Config!$B$13>=Tarifs!E1844),1,0)","v":0},"2026-03-01","2026-03-31",4470]
["09-0035","30","09-0035-300",{"$f":"IF(AND(Config!$B$13<=Tarifs!F1845,Config!$B$13>=Tarifs!E1845),1,0)","v":0},"2026-04-01","2026-04-30",4470]
["09-0035","30","09-0035-300",{"$f":"IF(AND(Config!$B$13<=Tarifs!F1846,Config!$B$13>=Tarifs!E1846),1,0)","v":0},"2026-05-01","2026-05-31",4470]
["09-0035","30","09-0035-300",{"$f":"IF(AND(Config!$B$13<=Tarifs!F1847,Config!$B$13>=Tarifs!E1847),1,0)","v":0},"2026-10-01","2026-10-31",4470]
["09-0035","30","09-0035-300",{"$f":"IF(AND(Config!$B$13<=Tarifs!F1848,Config!$B$13>=Tarifs!E1848),1,0)","v":0},"2026-11-01","2026-11-30",4470]
["09-0035","30","09-0035-300",{"$f":"IF(AND(Config!$B$13<=Tarifs!F1849,Config!$B$13>=Tarifs!E1849),1,0)","v":0},"2026-12-01","2026-12-31",4470]
["09-0035","20","09-0035-200",{"$f":"IF(AND(Config!$B$13<=Tarifs!F1850,Config!$B$13>=Tarifs!E1850),1,0)","v":0},"2026-06-01","2026-06-30",1323]
["09-0035","20","09-0035-200",{"$f":"IF(AND(Config!$B$13<=Tarifs!F1851,Config!$B$13>=Tarifs!E1851),1,0)","v":0},"2026-07-01","2026-07-31",1323]
["09-0035","20","09-0035-200",{"$f":"IF(AND(Config!$B$13<=Tarifs!F1852,Config!$B$13>=Tarifs!E1852),1,0)","v":0},"2026-08-01","2026-08-31",1323]
["09-0035","20","09-0035-200",{"$f":"IF(AND(Config!$B$13<=Tarifs!F1853,Config!$B$13>=Tarifs!E1853),1,0)","v":0},"2026-09-01","2026-09-30",1323]
["09-0035","20","09-0035-201",{"$f":"IF(AND(Config!$B$13<=Tarifs!F1854,Config!$B$13>=Tarifs!E1854),1,0)","v":1},"2026-01-01","2026-01-31",1043]
["09-0035","20","09-0035-200",{"$f":"IF(AND(Config!$B$13<=Tarifs!F1855,Config!$B$13>=Tarifs!E1855),1,0)","v":0},"2026-02-01","2026-02-28",1043]
["09-0035","20","09-0035-200",{"$f":"IF(AND(Config!$B$13<=Tarifs!F1856,Config!$B$13>=Tarifs!E1856),1,0)","v":0},"2026-03-01","2026-03-31",1043]
["09-0035","20","09-0035-200",{"$f":"IF(AND(Config!$B$13<=Tarifs!F1857,Config!$B$13>=Tarifs!E1857),1,0)","v":0},"2026-04-01","2026-04-30",1043]
["09-0035","20","09-0035-200",{"$f":"IF(AND(Config!$B$13<=Tarifs!F1858,Config!$B$13>=Tarifs!E1858),1,0)","v":0},"2026-05-01","2026-05-31",1043]
["09-0035","20",{"$f":"A1859&\"-\"&B1859&D1859","v":"09-0035-200"},{"$f":"IF(AND(Config!$B$13<=Tarifs!F1859,Config!$B$13>=Tarifs!E1859),1,0)","v":0},"2026-10-01","2026-10-31",1043]
["09-0035","20","09-0035-200",{"$f":"IF(AND(Config!$B$13<=Tarifs!F1860,Config!$B$13>=Tarifs!E1860),1,0)","v":0},"2026-11-01","2026-11-30",1043]
["09-0035","20","09-0035-200",{"$f":"IF(AND(Config!$B$13<=Tarifs!F1861,Config!$B$13>=Tarifs!E1861),1,0)","v":0},"2026-12-01","2026-12-31",1043]
["09-0035","10","09-0035-100",{"$f":"IF(AND(Config!$B$13<=Tarifs!F1862,Config!$B$13>=Tarifs!E1862),1,0)","v":0},"2026-06-01","2026-06-30",189]
["09-0035","10","09-0035-100",{"$f":"IF(AND(Config!$B$13<=Tarifs!F1863,Config!$B$13>=Tarifs!E1863),1,0)","v":0},"2026-07-01","2026-07-31",189]
["09-0035","10","09-0035-100",{"$f":"IF(AND(Config!$B$13<=Tarifs!F1864,Config!$B$13>=Tarifs!E1864),1,0)","v":0},"2026-08-01","2026-08-31",189]
["09-0035","10","09-0035-100",{"$f":"IF(AND(Config!$B$13<=Tarifs!F1865,Config!$B$13>=Tarifs!E1865),1,0)","v":0},"2026-09-01","2026-09-30",189]
["09-0035","10","09-0035-101",{"$f":"IF(AND(Config!$B$13<=Tarifs!F1866,Config!$B$13>=Tarifs!E1866),1,0)","v":1},"2026-01-01","2026-01-31",149]
["09-0035","10","09-0035-100",{"$f":"IF(AND(Config!$B$13<=Tarifs!F1867,Config!$B$13>=Tarifs!E1867),1,0)","v":0},"2026-02-01","2026-02-28",149]
["09-0035","10","09-0035-100",{"$f":"IF(AND(Config!$B$13<=Tarifs!F1868,Config!$B$13>=Tarifs!E1868),1,0)","v":0},"2026-03-01","2026-03-31",149]
["09-0035","10","09-0035-100",{"$f":"IF(AND(Config!$B$13<=Tarifs!F1869,Config!$B$13>=Tarifs!E1869),1,0)","v":0},"2026-04-01","2026-04-30",149]
["09-0035","10","09-0035-100",{"$f":"IF(AND(Config!$B$13<=Tarifs!F1870,Config!$B$13>=Tarifs!E1870),1,0)","v":0},"2026-05-01","2026-05-31",149]
["09-0035","10","09-0035-100",{"$f":"IF(AND(Config!$B$13<=Tarifs!F1871,Config!$B$13>=Tarifs!E1871),1,0)","v":0},"2026-10-01","2026-10-31",149]
["09-0035","10","09-0035-100",{"$f":"IF(AND(Config!$B$13<=Tarifs!F1872,Config!$B$13>=Tarifs!E1872),1,0)","v":0},"2026-11-01","2026-11-30",149]
["09-0035","10","09-0035-100",{"$f":"IF(AND(Config!$B$13<=Tarifs!F1873,Config!$B$13>=Tarifs!E1873),1,0)","v":0},"2026-12-01","2026-12-31",149]
["10-0004","30","10-0004-300",{"$f":"IF(AND(Config!$B$13<=Tarifs!F1874,Config!$B$13>=Tarifs!E1874),1,0)","v":0},"2026-07-01","2026-07-31",5970]
["10-0004","30","10-0004-300",{"$f":"IF(AND(Config!$B$13<=Tarifs!F1875,Config!$B$13>=Tarifs!E1875),1,0)","v":0},"2026-08-01","2026-08-31",5970]
["10-0004","30","10-0004-301",{"$f":"IF(AND(Config!$B$13<=Tarifs!F1876,Config!$B$13>=Tarifs!E1876),1,0)","v":1},"2026-01-01","2026-01-31",4050]
["10-0004","30","10-0004-300",{"$f":"IF(AND(Config!$B$13<=Tarifs!F1877,Config!$B$13>=Tarifs!E1877),1,0)","v":0},"2026-02-01","2026-02-28",4050]
["10-0004","30","10-0004-300",{"$f":"IF(AND(Config!$B$13<=Tarifs!F1878,Config!$B$13>=Tarifs!E1878),1,0)","v":0},"2026-03-01","2026-03-31",4050]
["10-0004","30","10-0004-300",{"$f":"IF(AND(Config!$B$13<=Tarifs!F1879,Config!$B$13>=Tarifs!E1879),1,0)","v":0},"2026-04-01","2026-04-30",4050]
["10-0004","30","10-0004-300",{"$f":"IF(AND(Config!$B$13<=Tarifs!F1880,Config!$B$13>=Tarifs!E1880),1,0)","v":0},"2026-05-01","2026-05-31",4050]
["10-0004","30","10-0004-300",{"$f":"IF(AND(Config!$B$13<=Tarifs!F1881,Config!$B$13>=Tarifs!E1881),1,0)","v":0},"2026-06-01","2026-06-30",4050]
["10-0004","30","10-0004-300",{"$f":"IF(AND(Config!$B$13<=Tarifs!F1882,Config!$B$13>=Tarifs!E1882),1,0)","v":0},"2026-09-01","2026-09-30",4050]
["10-0004","30","10-0004-300",{"$f":"IF(AND(Config!$B$13<=Tarifs!F1883,Config!$B$13>=Tarifs!E1883),1,0)","v":0},"2026-10-01","2026-10-31",4050]
["10-0004","30","10-0004-300",{"$f":"IF(AND(Config!$B$13<=Tarifs!F1884,Config!$B$13>=Tarifs!E1884),1,0)","v":0},"2026-11-01","2026-11-30",4050]
["10-0004","30","10-0004-300",{"$f":"IF(AND(Config!$B$13<=Tarifs!F1885,Config!$B$13>=Tarifs!E1885),1,0)","v":0},"2026-12-01","2026-12-31",4050]
["10-0004","20","10-0004-200",{"$f":"IF(AND(Config!$B$13<=Tarifs!F1886,Config!$B$13>=Tarifs!E1886),1,0)","v":0},"2026-07-01","2026-07-31",1393]
["10-0004","20","10-0004-200",{"$f":"IF(AND(Config!$B$13<=Tarifs!F1887,Config!$B$13>=Tarifs!E1887),1,0)","v":0},"2026-08-01","2026-08-31",1393]
["10-0004","20","10-0004-201",{"$f":"IF(AND(Config!$B$13<=Tarifs!F1888,Config!$B$13>=Tarifs!E1888),1,0)","v":1},"2026-01-01","2026-01-31",945]
["10-0004","20","10-0004-200",{"$f":"IF(AND(Config!$B$13<=Tarifs!F1889,Config!$B$13>=Tarifs!E1889),1,0)","v":0},"2026-02-01","2026-02-28",945]
["10-0004","20","10-0004-200",{"$f":"IF(AND(Config!$B$13<=Tarifs!F1890,Config!$B$13>=Tarifs!E1890),1,0)","v":0},"2026-03-01","2026-03-31",945]
["10-0004","20","10-0004-200",{"$f":"IF(AND(Config!$B$13<=Tarifs!F1891,Config!$B$13>=Tarifs!E1891),1,0)","v":0},"2026-04-01","2026-04-30",945]
["10-0004","20","10-0004-200",{"$f":"IF(AND(Config!$B$13<=Tarifs!F1892,Config!$B$13>=Tarifs!E1892),1,0)","v":0},"2026-05-01","2026-05-31",945]
["10-0004","20","10-0004-200",{"$f":"IF(AND(Config!$B$13<=Tarifs!F1893,Config!$B$13>=Tarifs!E1893),1,0)","v":0},"2026-06-01","2026-06-30",945]
["10-0004","20","10-0004-200",{"$f":"IF(AND(Config!$B$13<=Tarifs!F1894,Config!$B$13>=Tarifs!E1894),1,0)","v":0},"2026-09-01","2026-09-30",945]
["10-0004","20","10-0004-200",{"$f":"IF(AND(Config!$B$13<=Tarifs!F1895,Config!$B$13>=Tarifs!E1895),1,0)","v":0},"2026-10-01","2026-10-31",945]
["10-0004","20","10-0004-200",{"$f":"IF(AND(Config!$B$13<=Tarifs!F1896,Config!$B$13>=Tarifs!E1896),1,0)","v":0},"2026-11-01","2026-11-30",945]
["10-0004","20","10-0004-200",{"$f":"IF(AND(Config!$B$13<=Tarifs!F1897,Config!$B$13>=Tarifs!E1897),1,0)","v":0},"2026-12-01","2026-12-31",945]
["10-0004","10","10-0004-100",{"$f":"IF(AND(Config!$B$13<=Tarifs!F1898,Config!$B$13>=Tarifs!E1898),1,0)","v":0},"2026-07-01","2026-07-31",199]
["10-0004","10","10-0004-100",{"$f":"IF(AND(Config!$B$13<=Tarifs!F1899,Config!$B$13>=Tarifs!E1899),1,0)","v":0},"2026-08-01","2026-08-31",199]
["10-0004","10","10-0004-101",{"$f":"IF(AND(Config!$B$13<=Tarifs!F1900,Config!$B$13>=Tarifs!E1900),1,0)","v":1},"2026-01-01","2026-01-31",135]
["10-0004","10","10-0004-100",{"$f":"IF(AND(Config!$B$13<=Tarifs!F1901,Config!$B$13>=Tarifs!E1901),1,0)","v":0},"2026-02-01","2026-02-28",135]
["10-0004","10","10-0004-100",{"$f":"IF(AND(Config!$B$13<=Tarifs!F1902,Config!$B$13>=Tarifs!E1902),1,0)","v":0},"2026-03-01","2026-03-31",135]
["10-0004","10","10-0004-100",{"$f":"IF(AND(Config!$B$13<=Tarifs!F1903,Config!$B$13>=Tarifs!E1903),1,0)","v":0},"2026-04-01","2026-04-30",135]
["10-0004","10","10-0004-100",{"$f":"IF(AND(Config!$B$13<=Tarifs!F1904,Config!$B$13>=Tarifs!E1904),1,0)","v":0},"2026-05-01","2026-05-31",135]
["10-0004","10","10-0004-100",{"$f":"IF(AND(Config!$B$13<=Tarifs!F1905,Config!$B$13>=Tarifs!E1905),1,0)","v":0},"2026-06-01","2026-06-30",135]
["10-0004","10","10-0004-100",{"$f":"IF(AND(Config!$B$13<=Tarifs!F1906,Config!$B$13>=Tarifs!E1906),1,0)","v":0},"2026-09-01","2026-09-30",135]
["10-0004","10","10-0004-100",{"$f":"IF(AND(Config!$B$13<=Tarifs!F1907,Config!$B$13>=Tarifs!E1907),1,0)","v":0},"2026-10-01","2026-10-31",135]
["10-0004","10","10-0004-100",{"$f":"IF(AND(Config!$B$13<=Tarifs!F1908,Config!$B$13>=Tarifs!E1908),1,0)","v":0},"2026-11-01","2026-11-30",135]
["10-0004","10","10-0004-100",{"$f":"IF(AND(Config!$B$13<=Tarifs!F1909,Config!$B$13>=Tarifs!E1909),1,0)","v":0},"2026-12-01","2026-12-31",135]
["10-0008","30","10-0008-300",{"$f":"IF(AND(Config!$B$13<=Tarifs!F1910,Config!$B$13>=Tarifs!E1910),1,0)","v":0},"2026-05-01","2026-05-31",4170]
["10-0008","30","10-0008-300",{"$f":"IF(AND(Config!$B$13<=Tarifs!F1911,Config!$B$13>=Tarifs!E1911),1,0)","v":0},"2026-06-01","2026-06-30",4170]
["10-0008","30","10-0008-300",{"$f":"IF(AND(Config!$B$13<=Tarifs!F1912,Config!$B$13>=Tarifs!E1912),1,0)","v":0},"2026-07-01","2026-07-31",4170]
["10-0008","30","10-0008-300",{"$f":"IF(AND(Config!$B$13<=Tarifs!F1913,Config!$B$13>=Tarifs!E1913),1,0)","v":0},"2026-08-01","2026-08-31",4170]
["10-0008","30","10-0008-300",{"$f":"IF(AND(Config!$B$13<=Tarifs!F1914,Config!$B$13>=Tarifs!E1914),1,0)","v":0},"2026-09-01","2026-09-30",4170]
["10-0008","30","10-0008-301",{"$f":"IF(AND(Config!$B$13<=Tarifs!F1915,Config!$B$13>=Tarifs!E1915),1,0)","v":1},"2026-01-01","2026-01-31",3570]
["10-0008","30","10-0008-300",{"$f":"IF(AND(Config!$B$13<=Tarifs!F1916,Config!$B$13>=Tarifs!E1916),1,0)","v":0},"2026-02-01","2026-02-28",3570]
["10-0008","30","10-0008-300",{"$f":"IF(AND(Config!$B$13<=Tarifs!F1917,Config!$B$13>=Tarifs!E1917),1,0)","v":0},"2026-03-01","2026-03-31",3570]
["10-0008","30","10-0008-300",{"$f":"IF(AND(Config!$B$13<=Tarifs!F1918,Config!$B$13>=Tarifs!E1918),1,0)","v":0},"2026-04-01","2026-04-30",3570]
["10-0008","30","10-0008-300",{"$f":"IF(AND(Config!$B$13<=Tarifs!F1919,Config!$B$13>=Tarifs!E1919),1,0)","v":0},"2026-10-01","2026-10-31",3570]
["10-0008","30","10-0008-300",{"$f":"IF(AND(Config!$B$13<=Tarifs!F1920,Config!$B$13>=Tarifs!E1920),1,0)","v":0},"2026-11-01","2026-11-30",3570]
["10-0008","30","10-0008-300",{"$f":"IF(AND(Config!$B$13<=Tarifs!F1921,Config!$B$13>=Tarifs!E1921),1,0)","v":0},"2026-12-01","2026-12-31",3570]
["10-0008","20","10-0008-200",{"$f":"IF(AND(Config!$B$13<=Tarifs!F1922,Config!$B$13>=Tarifs!E1922),1,0)","v":0},"2026-05-01","2026-05-31",973]
["10-0008","20",{"$f":"A1923&\"-\"&B1923&D1923","v":"10-0008-200"},{"$f":"IF(AND(Config!$B$13<=Tarifs!F1923,Config!$B$13>=Tarifs!E1923),1,0)","v":0},"2026-06-01","2026-06-30",973]
["10-0008","20","10-0008-200",{"$f":"IF(AND(Config!$B$13<=Tarifs!F1924,Config!$B$13>=Tarifs!E1924),1,0)","v":0},"2026-07-01","2026-07-31",973]
["10-0008","20","10-0008-200",{"$f":"IF(AND(Config!$B$13<=Tarifs!F1925,Config!$B$13>=Tarifs!E1925),1,0)","v":0},"2026-08-01","2026-08-31",973]
["10-0008","20","10-0008-200",{"$f":"IF(AND(Config!$B$13<=Tarifs!F1926,Config!$B$13>=Tarifs!E1926),1,0)","v":0},"2026-09-01","2026-09-30",973]
["10-0008","20","10-0008-201",{"$f":"IF(AND(Config!$B$13<=Tarifs!F1927,Config!$B$13>=Tarifs!E1927),1,0)","v":1},"2026-01-01","2026-01-31",833]
["10-0008","20","10-0008-200",{"$f":"IF(AND(Config!$B$13<=Tarifs!F1928,Config!$B$13>=Tarifs!E1928),1,0)","v":0},"2026-02-01","2026-02-28",833]
["10-0008","20","10-0008-200",{"$f":"IF(AND(Config!$B$13<=Tarifs!F1929,Config!$B$13>=Tarifs!E1929),1,0)","v":0},"2026-03-01","2026-03-31",833]
["10-0008","20","10-0008-200",{"$f":"IF(AND(Config!$B$13<=Tarifs!F1930,Config!$B$13>=Tarifs!E1930),1,0)","v":0},"2026-04-01","2026-04-30",833]
["10-0008","20","10-0008-200",{"$f":"IF(AND(Config!$B$13<=Tarifs!F1931,Config!$B$13>=Tarifs!E1931),1,0)","v":0},"2026-10-01","2026-10-31",833]
["10-0008","20","10-0008-200",{"$f":"IF(AND(Config!$B$13<=Tarifs!F1932,Config!$B$13>=Tarifs!E1932),1,0)","v":0},"2026-11-01","2026-11-30",833]
["10-0008","20","10-0008-200",{"$f":"IF(AND(Config!$B$13<=Tarifs!F1933,Config!$B$13>=Tarifs!E1933),1,0)","v":0},"2026-12-01","2026-12-31",833]
["10-0008","10","10-0008-100",{"$f":"IF(AND(Config!$B$13<=Tarifs!F1934,Config!$B$13>=Tarifs!E1934),1,0)","v":0},"2026-05-01","2026-05-31",139]
["10-0008","10","10-0008-100",{"$f":"IF(AND(Config!$B$13<=Tarifs!F1935,Config!$B$13>=Tarifs!E1935),1,0)","v":0},"2026-06-01","2026-06-30",139]
["10-0008","10","10-0008-100",{"$f":"IF(AND(Config!$B$13<=Tarifs!F1936,Config!$B$13>=Tarifs!E1936),1,0)","v":0},"2026-07-01","2026-07-31",139]
["10-0008","10","10-0008-100",{"$f":"IF(AND(Config!$B$13<=Tarifs!F1937,Config!$B$13>=Tarifs!E1937),1,0)","v":0},"2026-08-01","2026-08-31",139]
["10-0008","10","10-0008-100",{"$f":"IF(AND(Config!$B$13<=Tarifs!F1938,Config!$B$13>=Tarifs!E1938),1,0)","v":0},"2026-09-01","2026-09-30",139]
["10-0008","10","10-0008-101",{"$f":"IF(AND(Config!$B$13<=Tarifs!F1939,Config!$B$13>=Tarifs!E1939),1,0)","v":1},"2026-01-01","2026-01-31",119]
["10-0008","10","10-0008-100",{"$f":"IF(AND(Config!$B$13<=Tarifs!F1940,Config!$B$13>=Tarifs!E1940),1,0)","v":0},"2026-02-01","2026-02-28",119]
["10-0008","10","10-0008-100",{"$f":"IF(AND(Config!$B$13<=Tarifs!F1941,Config!$B$13>=Tarifs!E1941),1,0)","v":0},"2026-03-01","2026-03-31",119]
["10-0008","10","10-0008-100",{"$f":"IF(AND(Config!$B$13<=Tarifs!F1942,Config!$B$13>=Tarifs!E1942),1,0)","v":0},"2026-04-01","2026-04-30",119]
["10-0008","10","10-0008-100",{"$f":"IF(AND(Config!$B$13<=Tarifs!F1943,Config!$B$13>=Tarifs!E1943),1,0)","v":0},"2026-10-01","2026-10-31",119]
["10-0008","10","10-0008-100",{"$f":"IF(AND(Config!$B$13<=Tarifs!F1944,Config!$B$13>=Tarifs!E1944),1,0)","v":0},"2026-11-01","2026-11-30",119]
["10-0008","10","10-0008-100",{"$f":"IF(AND(Config!$B$13<=Tarifs!F1945,Config!$B$13>=Tarifs!E1945),1,0)","v":0},"2026-12-01","2026-12-31",119]
["10-0016","30","10-0016-300",{"$f":"IF(AND(Config!$B$13<=Tarifs!F1946,Config!$B$13>=Tarifs!E1946),1,0)","v":0},"2026-06-01","2026-06-30",5340]
["10-0016","30","10-0016-300",{"$f":"IF(AND(Config!$B$13<=Tarifs!F1947,Config!$B$13>=Tarifs!E1947),1,0)","v":0},"2026-07-01","2026-07-31",5340]
["10-0016","30","10-0016-300",{"$f":"IF(AND(Config!$B$13<=Tarifs!F1948,Config!$B$13>=Tarifs!E1948),1,0)","v":0},"2026-08-01","2026-08-31",5340]
["10-0016","30","10-0016-300",{"$f":"IF(AND(Config!$B$13<=Tarifs!F1949,Config!$B$13>=Tarifs!E1949),1,0)","v":0},"2026-09-01","2026-09-30",5010]
["10-0016","30","10-0016-300",{"$f":"IF(AND(Config!$B$13<=Tarifs!F1950,Config!$B$13>=Tarifs!E1950),1,0)","v":0},"2026-10-01","2026-10-31",5010]
["10-0016","30","10-0016-300",{"$f":"IF(AND(Config!$B$13<=Tarifs!F1951,Config!$B$13>=Tarifs!E1951),1,0)","v":0},"2026-11-01","2026-11-30",5010]
["10-0016","30","10-0016-300",{"$f":"IF(AND(Config!$B$13<=Tarifs!F1952,Config!$B$13>=Tarifs!E1952),1,0)","v":0},"2026-12-01","2026-12-31",5010]
["10-0016","30","10-0016-301",{"$f":"IF(AND(Config!$B$13<=Tarifs!F1953,Config!$B$13>=Tarifs!E1953),1,0)","v":1},"2026-01-01","2026-01-31",4920]
["10-0016","30","10-0016-300",{"$f":"IF(AND(Config!$B$13<=Tarifs!F1954,Config!$B$13>=Tarifs!E1954),1,0)","v":0},"2026-02-01","2026-02-28",4920]
["10-0016","30","10-0016-300",{"$f":"IF(AND(Config!$B$13<=Tarifs!F1955,Config!$B$13>=Tarifs!E1955),1,0)","v":0},"2026-03-01","2026-03-31",4920]
["10-0016","30","10-0016-300",{"$f":"IF(AND(Config!$B$13<=Tarifs!F1956,Config!$B$13>=Tarifs!E1956),1,0)","v":0},"2026-04-01","2026-04-30",4920]
["10-0016","30","10-0016-300",{"$f":"IF(AND(Config!$B$13<=Tarifs!F1957,Config!$B$13>=Tarifs!E1957),1,0)","v":0},"2026-05-01","2026-05-31",4920]
["10-0016","20","10-0016-200",{"$f":"IF(AND(Config!$B$13<=Tarifs!F1958,Config!$B$13>=Tarifs!E1958),1,0)","v":0},"2026-06-01","2026-06-30",1246]
["10-0016","20","10-0016-200",{"$f":"IF(AND(Config!$B$13<=Tarifs!F1959,Config!$B$13>=Tarifs!E1959),1,0)","v":0},"2026-07-01","2026-07-31",1246]
["10-0016","20","10-0016-200",{"$f":"IF(AND(Config!$B$13<=Tarifs!F1960,Config!$B$13>=Tarifs!E1960),1,0)","v":0},"2026-08-01","2026-08-31",1246]
["10-0016","20","10-0016-200",{"$f":"IF(AND(Config!$B$13<=Tarifs!F1961,Config!$B$13>=Tarifs!E1961),1,0)","v":0},"2026-09-01","2026-09-30",1169]
["10-0016","20","10-0016-200",{"$f":"IF(AND(Config!$B$13<=Tarifs!F1962,Config!$B$13>=Tarifs!E1962),1,0)","v":0},"2026-10-01","2026-10-31",1169]
["10-0016","20","10-0016-200",{"$f":"IF(AND(Config!$B$13<=Tarifs!F1963,Config!$B$13>=Tarifs!E1963),1,0)","v":0},"2026-11-01","2026-11-30",1169]
["10-0016","20","10-0016-200",{"$f":"IF(AND(Config!$B$13<=Tarifs!F1964,Config!$B$13>=Tarifs!E1964),1,0)","v":0},"2026-12-01","2026-12-31",1169]
["10-0016","20","10-0016-201",{"$f":"IF(AND(Config!$B$13<=Tarifs!F1965,Config!$B$13>=Tarifs!E1965),1,0)","v":1},"2026-01-01","2026-01-31",1148]
["10-0016","20","10-0016-200",{"$f":"IF(AND(Config!$B$13<=Tarifs!F1966,Config!$B$13>=Tarifs!E1966),1,0)","v":0},"2026-02-01","2026-02-28",1148]
["10-0016","20","10-0016-200",{"$f":"IF(AND(Config!$B$13<=Tarifs!F1967,Config!$B$13>=Tarifs!E1967),1,0)","v":0},"2026-03-01","2026-03-31",1148]
["10-0016","20","10-0016-200",{"$f":"IF(AND(Config!$B$13<=Tarifs!F1968,Config!$B$13>=Tarifs!E1968),1,0)","v":0},"2026-04-01","2026-04-30",1148]
["10-0016","20","10-0016-200",{"$f":"IF(AND(Config!$B$13<=Tarifs!F1969,Config!$B$13>=Tarifs!E1969),1,0)","v":0},"2026-05-01","2026-05-31",1148]
["10-0016","10","10-0016-100",{"$f":"IF(AND(Config!$B$13<=Tarifs!F1970,Config!$B$13>=Tarifs!E1970),1,0)","v":0},"2026-06-01","2026-06-30",178]
["10-0016","10","10-0016-100",{"$f":"IF(AND(Config!$B$13<=Tarifs!F1971,Config!$B$13>=Tarifs!E1971),1,0)","v":0},"2026-07-01","2026-07-31",178]
["10-0016","10","10-0016-100",{"$f":"IF(AND(Config!$B$13<=Tarifs!F1972,Config!$B$13>=Tarifs!E1972),1,0)","v":0},"2026-08-01","2026-08-31",178]
["10-0016","10","10-0016-100",{"$f":"IF(AND(Config!$B$13<=Tarifs!F1973,Config!$B$13>=Tarifs!E1973),1,0)","v":0},"2026-09-01","2026-09-30",167]
["10-0016","10","10-0016-100",{"$f":"IF(AND(Config!$B$13<=Tarifs!F1974,Config!$B$13>=Tarifs!E1974),1,0)","v":0},"2026-10-01","2026-10-31",167]
["10-0016","10","10-0016-100",{"$f":"IF(AND(Config!$B$13<=Tarifs!F1975,Config!$B$13>=Tarifs!E1975),1,0)","v":0},"2026-11-01","2026-11-30",167]
["10-0016","10","10-0016-100",{"$f":"IF(AND(Config!$B$13<=Tarifs!F1976,Config!$B$13>=Tarifs!E1976),1,0)","v":0},"2026-12-01","2026-12-31",167]
["10-0016","10","10-0016-101",{"$f":"IF(AND(Config!$B$13<=Tarifs!F1977,Config!$B$13>=Tarifs!E1977),1,0)","v":1},"2026-01-01","2026-01-31",164]
["10-0016","10","10-0016-100",{"$f":"IF(AND(Config!$B$13<=Tarifs!F1978,Config!$B$13>=Tarifs!E1978),1,0)","v":0},"2026-02-01","2026-02-28",164]
["10-0016","10","10-0016-100",{"$f":"IF(AND(Config!$B$13<=Tarifs!F1979,Config!$B$13>=Tarifs!E1979),1,0)","v":0},"2026-03-01","2026-03-31",164]
["10-0016","10","10-0016-100",{"$f":"IF(AND(Config!$B$13<=Tarifs!F1980,Config!$B$13>=Tarifs!E1980),1,0)","v":0},"2026-04-01","2026-04-30",164]
["10-0016","10","10-0016-100",{"$f":"IF(AND(Config!$B$13<=Tarifs!F1981,Config!$B$13>=Tarifs!E1981),1,0)","v":0},"2026-05-01","2026-05-31",164]
["10-0024","30","10-0024-300",{"$f":"IF(AND(Config!$B$13<=Tarifs!F1982,Config!$B$13>=Tarifs!E1982),1,0)","v":0},"2026-07-01","2026-07-31",7500]
["10-0024","30","10-0024-300",{"$f":"IF(AND(Config!$B$13<=Tarifs!F1983,Config!$B$13>=Tarifs!E1983),1,0)","v":0},"2026-08-01","2026-08-31",7500]
["10-0024","30","10-0024-300",{"$f":"IF(AND(Config!$B$13<=Tarifs!F1984,Config!$B$13>=Tarifs!E1984),1,0)","v":0},"2026-06-01","2026-06-30",5400]
["10-0024","30","10-0024-300",{"$f":"IF(AND(Config!$B$13<=Tarifs!F1985,Config!$B$13>=Tarifs!E1985),1,0)","v":0},"2026-09-01","2026-09-30",5400]
["10-0024","30","10-0024-301",{"$f":"IF(AND(Config!$B$13<=Tarifs!F1986,Config!$B$13>=Tarifs!E1986),1,0)","v":1},"2026-01-01","2026-01-31",4500]
["10-0024","30",{"$f":"A1987&\"-\"&B1987&D1987","v":"10-0024-300"},{"$f":"IF(AND(Config!$B$13<=Tarifs!F1987,Config!$B$13>=Tarifs!E1987),1,0)","v":0},"2026-02-01","2026-02-28",4500]
["10-0024","30","10-0024-300",{"$f":"IF(AND(Config!$B$13<=Tarifs!F1988,Config!$B$13>=Tarifs!E1988),1,0)","v":0},"2026-03-01","2026-03-31",4500]
["10-0024","30","10-0024-300",{"$f":"IF(AND(Config!$B$13<=Tarifs!F1989,Config!$B$13>=Tarifs!E1989),1,0)","v":0},"2026-04-01","2026-04-30",4500]
["10-0024","30","10-0024-300",{"$f":"IF(AND(Config!$B$13<=Tarifs!F1990,Config!$B$13>=Tarifs!E1990),1,0)","v":0},"2026-05-01","2026-05-31",4500]
["10-0024","30","10-0024-300",{"$f":"IF(AND(Config!$B$13<=Tarifs!F1991,Config!$B$13>=Tarifs!E1991),1,0)","v":0},"2026-10-01","2026-10-31",4500]
["10-0024","30","10-0024-300",{"$f":"IF(AND(Config!$B$13<=Tarifs!F1992,Config!$B$13>=Tarifs!E1992),1,0)","v":0},"2026-11-01","2026-11-30",4500]
["10-0024","30","10-0024-300",{"$f":"IF(AND(Config!$B$13<=Tarifs!F1993,Config!$B$13>=Tarifs!E1993),1,0)","v":0},"2026-12-01","2026-12-31",4500]
["10-0024","20","10-0024-200",{"$f":"IF(AND(Config!$B$13<=Tarifs!F1994,Config!$B$13>=Tarifs!E1994),1,0)","v":0},"2026-07-01","2026-07-31",1470]
["10-0024","20","10-0024-200",{"$f":"IF(AND(Config!$B$13<=Tarifs!F1995,Config!$B$13>=Tarifs!E1995),1,0)","v":0},"2026-08-01","2026-08-31",1470]
["10-0024","20","10-0024-200",{"$f":"IF(AND(Config!$B$13<=Tarifs!F1996,Config!$B$13>=Tarifs!E1996),1,0)","v":0},"2026-09-01","2026-09-30",1190]
["10-0024","20","10-0024-200",{"$f":"IF(AND(Config!$B$13<=Tarifs!F1997,Config!$B$13>=Tarifs!E1997),1,0)","v":0},"2026-06-01","2026-06-30",1050]
["10-0024","20","10-0024-201",{"$f":"IF(AND(Config!$B$13<=Tarifs!F1998,Config!$B$13>=Tarifs!E1998),1,0)","v":1},"2026-01-01","2026-01-31",770]
["10-0024","20","10-0024-200",{"$f":"IF(AND(Config!$B$13<=Tarifs!F1999,Config!$B$13>=Tarifs!E1999),1,0)","v":0},"2026-02-01","2026-02-28",770]
["10-0024","20","10-0024-200",{"$f":"IF(AND(Config!$B$13<=Tarifs!F2000,Config!$B$13>=Tarifs!E2000),1,0)","v":0},"2026-03-01","2026-03-31",770]
["10-0024","20","10-0024-200",{"$f":"IF(AND(Config!$B$13<=Tarifs!F2001,Config!$B$13>=Tarifs!E2001),1,0)","v":0},"2026-04-01","2026-04-30",770]
["10-0024","20","10-0024-200",{"$f":"IF(AND(Config!$B$13<=Tarifs!F2002,Config!$B$13>=Tarifs!E2002),1,0)","v":0},"2026-05-01","2026-05-31",770]
["10-0024","20","10-0024-200",{"$f":"IF(AND(Config!$B$13<=Tarifs!F2003,Config!$B$13>=Tarifs!E2003),1,0)","v":0},"2026-10-01","2026-10-31",770]
["10-0024","20","10-0024-200",{"$f":"IF(AND(Config!$B$13<=Tarifs!F2004,Config!$B$13>=Tarifs!E2004),1,0)","v":0},"2026-11-01","2026-11-30",770]
["10-0024","20","10-0024-200",{"$f":"IF(AND(Config!$B$13<=Tarifs!F2005,Config!$B$13>=Tarifs!E2005),1,0)","v":0},"2026-12-01","2026-12-31",770]
["10-0024","10","10-0024-100",{"$f":"IF(AND(Config!$B$13<=Tarifs!F2006,Config!$B$13>=Tarifs!E2006),1,0)","v":0},"2026-07-01","2026-07-31",220]
["10-0024","10","10-0024-100",{"$f":"IF(AND(Config!$B$13<=Tarifs!F2007,Config!$B$13>=Tarifs!E2007),1,0)","v":0},"2026-08-01","2026-08-31",220]
["10-0024","10","10-0024-100",{"$f":"IF(AND(Config!$B$13<=Tarifs!F2008,Config!$B$13>=Tarifs!E2008),1,0)","v":0},"2026-09-01","2026-09-30",180]
["10-0024","10","10-0024-100",{"$f":"IF(AND(Config!$B$13<=Tarifs!F2009,Config!$B$13>=Tarifs!E2009),1,0)","v":0},"2026-06-01","2026-06-30",160]
["10-0024","10","10-0024-101",{"$f":"IF(AND(Config!$B$13<=Tarifs!F2010,Config!$B$13>=Tarifs!E2010),1,0)","v":1},"2026-01-01","2026-01-31",120]
["10-0024","10","10-0024-100",{"$f":"IF(AND(Config!$B$13<=Tarifs!F2011,Config!$B$13>=Tarifs!E2011),1,0)","v":0},"2026-02-01","2026-02-28",120]
["10-0024","10","10-0024-100",{"$f":"IF(AND(Config!$B$13<=Tarifs!F2012,Config!$B$13>=Tarifs!E2012),1,0)","v":0},"2026-03-01","2026-03-31",120]
["10-0024","10","10-0024-100",{"$f":"IF(AND(Config!$B$13<=Tarifs!F2013,Config!$B$13>=Tarifs!E2013),1,0)","v":0},"2026-04-01","2026-04-30",120]
["10-0024","10","10-0024-100",{"$f":"IF(AND(Config!$B$13<=Tarifs!F2014,Config!$B$13>=Tarifs!E2014),1,0)","v":0},"2026-05-01","2026-05-31",120]
["10-0024","10","10-0024-100",{"$f":"IF(AND(Config!$B$13<=Tarifs!F2015,Config!$B$13>=Tarifs!E2015),1,0)","v":0},"2026-10-01","2026-10-31",120]
["10-0024","10","10-0024-100",{"$f":"IF(AND(Config!$B$13<=Tarifs!F2016,Config!$B$13>=Tarifs!E2016),1,0)","v":0},"2026-11-01","2026-11-30",120]
["10-0024","10","10-0024-100",{"$f":"IF(AND(Config!$B$13<=Tarifs!F2017,Config!$B$13>=Tarifs!E2017),1,0)","v":0},"2026-12-01","2026-12-31",120]
["10-0025","30","10-0025-300",{"$f":"IF(AND(Config!$B$13<=Tarifs!F2018,Config!$B$13>=Tarifs!E2018),1,0)","v":0},"2026-06-01","2026-06-30",4770]
["10-0025","30","10-0025-300",{"$f":"IF(AND(Config!$B$13<=Tarifs!F2019,Config!$B$13>=Tarifs!E2019),1,0)","v":0},"2026-07-01","2026-07-31",4770]
["10-0025","30","10-0025-300",{"$f":"IF(AND(Config!$B$13<=Tarifs!F2020,Config!$B$13>=Tarifs!E2020),1,0)","v":0},"2026-08-01","2026-08-31",4770]
["10-0025","30","10-0025-301",{"$f":"IF(AND(Config!$B$13<=Tarifs!F2021,Config!$B$13>=Tarifs!E2021),1,0)","v":1},"2026-01-01","2026-01-31",4170]
["10-0025","30","10-0025-300",{"$f":"IF(AND(Config!$B$13<=Tarifs!F2022,Config!$B$13>=Tarifs!E2022),1,0)","v":0},"2026-02-01","2026-02-28",4170]
["10-0025","30","10-0025-300",{"$f":"IF(AND(Config!$B$13<=Tarifs!F2023,Config!$B$13>=Tarifs!E2023),1,0)","v":0},"2026-03-01","2026-03-31",4170]
["10-0025","30","10-0025-300",{"$f":"IF(AND(Config!$B$13<=Tarifs!F2024,Config!$B$13>=Tarifs!E2024),1,0)","v":0},"2026-04-01","2026-04-30",4170]
["10-0025","30","10-0025-300",{"$f":"IF(AND(Config!$B$13<=Tarifs!F2025,Config!$B$13>=Tarifs!E2025),1,0)","v":0},"2026-05-01","2026-05-31",4170]
["10-0025","30","10-0025-300",{"$f":"IF(AND(Config!$B$13<=Tarifs!F2026,Config!$B$13>=Tarifs!E2026),1,0)","v":0},"2026-09-01","2026-09-30",4170]
["10-0025","30","10-0025-300",{"$f":"IF(AND(Config!$B$13<=Tarifs!F2027,Config!$B$13>=Tarifs!E2027),1,0)","v":0},"2026-10-01","2026-10-31",4170]
["10-0025","30","10-0025-300",{"$f":"IF(AND(Config!$B$13<=Tarifs!F2028,Config!$B$13>=Tarifs!E2028),1,0)","v":0},"2026-11-01","2026-11-30",4170]
["10-0025","30","10-0025-300",{"$f":"IF(AND(Config!$B$13<=Tarifs!F2029,Config!$B$13>=Tarifs!E2029),1,0)","v":0},"2026-12-01","2026-12-31",4170]
["10-0025","20","10-0025-200",{"$f":"IF(AND(Config!$B$13<=Tarifs!F2030,Config!$B$13>=Tarifs!E2030),1,0)","v":0},"2026-06-01","2026-06-30",1113]
["10-0025","20","10-0025-200",{"$f":"IF(AND(Config!$B$13<=Tarifs!F2031,Config!$B$13>=Tarifs!E2031),1,0)","v":0},"2026-07-01","2026-07-31",1113]
["10-0025","20","10-0025-200",{"$f":"IF(AND(Config!$B$13<=Tarifs!F2032,Config!$B$13>=Tarifs!E2032),1,0)","v":0},"2026-08-01","2026-08-31",1113]
["10-0025","20","10-0025-201",{"$f":"IF(AND(Config!$B$13<=Tarifs!F2033,Config!$B$13>=Tarifs!E2033),1,0)","v":1},"2026-01-01","2026-01-31",973]
["10-0025","20","10-0025-200",{"$f":"IF(AND(Config!$B$13<=Tarifs!F2034,Config!$B$13>=Tarifs!E2034),1,0)","v":0},"2026-02-01","2026-02-28",973]
["10-0025","20","10-0025-200",{"$f":"IF(AND(Config!$B$13<=Tarifs!F2035,Config!$B$13>=Tarifs!E2035),1,0)","v":0},"2026-03-01","2026-03-31",973]
["10-0025","20","10-0025-200",{"$f":"IF(AND(Config!$B$13<=Tarifs!F2036,Config!$B$13>=Tarifs!E2036),1,0)","v":0},"2026-04-01","2026-04-30",973]
["10-0025","20","10-0025-200",{"$f":"IF(AND(Config!$B$13<=Tarifs!F2037,Config!$B$13>=Tarifs!E2037),1,0)","v":0},"2026-05-01","2026-05-31",973]
["10-0025","20","10-0025-200",{"$f":"IF(AND(Config!$B$13<=Tarifs!F2038,Config!$B$13>=Tarifs!E2038),1,0)","v":0},"2026-09-01","2026-09-30",973]
["10-0025","20","10-0025-200",{"$f":"IF(AND(Config!$B$13<=Tarifs!F2039,Config!$B$13>=Tarifs!E2039),1,0)","v":0},"2026-10-01","2026-10-31",973]
["10-0025","20","10-0025-200",{"$f":"IF(AND(Config!$B$13<=Tarifs!F2040,Config!$B$13>=Tarifs!E2040),1,0)","v":0},"2026-11-01","2026-11-30",973]
["10-0025","20","10-0025-200",{"$f":"IF(AND(Config!$B$13<=Tarifs!F2041,Config!$B$13>=Tarifs!E2041),1,0)","v":0},"2026-12-01","2026-12-31",973]
["10-0025","10","10-0025-100",{"$f":"IF(AND(Config!$B$13<=Tarifs!F2042,Config!$B$13>=Tarifs!E2042),1,0)","v":0},"2026-06-01","2026-06-30",159]
["10-0025","10","10-0025-100",{"$f":"IF(AND(Config!$B$13<=Tarifs!F2043,Config!$B$13>=Tarifs!E2043),1,0)","v":0},"2026-07-01","2026-07-31",159]
["10-0025","10","10-0025-100",{"$f":"IF(AND(Config!$B$13<=Tarifs!F2044,Config!$B$13>=Tarifs!E2044),1,0)","v":0},"2026-08-01","2026-08-31",159]
["10-0025","10","10-0025-101",{"$f":"IF(AND(Config!$B$13<=Tarifs!F2045,Config!$B$13>=Tarifs!E2045),1,0)","v":1},"2026-01-01","2026-01-31",139]
["10-0025","10","10-0025-100",{"$f":"IF(AND(Config!$B$13<=Tarifs!F2046,Config!$B$13>=Tarifs!E2046),1,0)","v":0},"2026-02-01","2026-02-28",139]
["10-0025","10","10-0025-100",{"$f":"IF(AND(Config!$B$13<=Tarifs!F2047,Config!$B$13>=Tarifs!E2047),1,0)","v":0},"2026-03-01","2026-03-31",139]
["10-0025","10","10-0025-100",{"$f":"IF(AND(Config!$B$13<=Tarifs!F2048,Config!$B$13>=Tarifs!E2048),1,0)","v":0},"2026-04-01","2026-04-30",139]
["10-0025","10","10-0025-100",{"$f":"IF(AND(Config!$B$13<=Tarifs!F2049,Config!$B$13>=Tarifs!E2049),1,0)","v":0},"2026-05-01","2026-05-31",139]
["10-0025","10","10-0025-100",{"$f":"IF(AND(Config!$B$13<=Tarifs!F2050,Config!$B$13>=Tarifs!E2050),1,0)","v":0},"2026-09-01","2026-09-30",139]
["10-0025","10",{"$f":"A2051&\"-\"&B2051&D2051","v":"10-0025-100"},{"$f":"IF(AND(Config!$B$13<=Tarifs!F2051,Config!$B$13>=Tarifs!E2051),1,0)","v":0},"2026-10-01","2026-10-31",139]
["10-0025","10","10-0025-100",{"$f":"IF(AND(Config!$B$13<=Tarifs!F2052,Config!$B$13>=Tarifs!E2052),1,0)","v":0},"2026-11-01","2026-11-30",139]
["10-0025","10","10-0025-100",{"$f":"IF(AND(Config!$B$13<=Tarifs!F2053,Config!$B$13>=Tarifs!E2053),1,0)","v":0},"2026-12-01","2026-12-31",139]
["11-0005","30","11-0005-300",{"$f":"IF(AND(Config!$B$13<=Tarifs!F2054,Config!$B$13>=Tarifs!E2054),1,0)","v":0},"2026-05-01","2026-05-31",5370]
["11-0005","30","11-0005-300",{"$f":"IF(AND(Config!$B$13<=Tarifs!F2055,Config!$B$13>=Tarifs!E2055),1,0)","v":0},"2026-06-01","2026-06-30",5370]
["11-0005","30","11-0005-300",{"$f":"IF(AND(Config!$B$13<=Tarifs!F2056,Config!$B$13>=Tarifs!E2056),1,0)","v":0},"2026-07-01","2026-07-31",5370]
["11-0005","30","11-0005-300",{"$f":"IF(AND(Config!$B$13<=Tarifs!F2057,Config!$B$13>=Tarifs!E2057),1,0)","v":0},"2026-08-01","2026-08-31",5370]
["11-0005","30","11-0005-300",{"$f":"IF(AND(Config!$B$13<=Tarifs!F2058,Config!$B$13>=Tarifs!E2058),1,0)","v":0},"2026-09-01","2026-09-30",5370]
["11-0005","30","11-0005-300",{"$f":"IF(AND(Config!$B$13<=Tarifs!F2059,Config!$B$13>=Tarifs!E2059),1,0)","v":0},"2026-10-01","2026-10-31",5370]
["11-0005","30","11-0005-300",{"$f":"IF(AND(Config!$B$13<=Tarifs!F2060,Config!$B$13>=Tarifs!E2060),1,0)","v":0},"2026-04-01","2026-04-30",5070]
["11-0005","30","11-0005-300",{"$f":"IF(AND(Config!$B$13<=Tarifs!F2061,Config!$B$13>=Tarifs!E2061),1,0)","v":0},"2026-11-01","2026-11-30",5070]
["11-0005","30","11-0005-300",{"$f":"IF(AND(Config!$B$13<=Tarifs!F2062,Config!$B$13>=Tarifs!E2062),1,0)","v":0},"2026-12-01","2026-12-31",5070]
["11-0005","30","11-0005-301",{"$f":"IF(AND(Config!$B$13<=Tarifs!F2063,Config!$B$13>=Tarifs!E2063),1,0)","v":1},"2026-01-01","2026-01-31",5070]
["11-0005","30","11-0005-300",{"$f":"IF(AND(Config!$B$13<=Tarifs!F2064,Config!$B$13>=Tarifs!E2064),1,0)","v":0},"2026-02-01","2026-02-28",5070]
["11-0005","30","11-0005-300",{"$f":"IF(AND(Config!$B$13<=Tarifs!F2065,Config!$B$13>=Tarifs!E2065),1,0)","v":0},"2026-03-01","2026-03-31",5070]
["11-0005","20","11-0005-200",{"$f":"IF(AND(Config!$B$13<=Tarifs!F2066,Config!$B$13>=Tarifs!E2066),1,0)","v":0},"2026-05-01","2026-05-31",1253]
["11-0005","20","11-0005-200",{"$f":"IF(AND(Config!$B$13<=Tarifs!F2067,Config!$B$13>=Tarifs!E2067),1,0)","v":0},"2026-06-01","2026-06-30",1253]
["11-0005","20","11-0005-200",{"$f":"IF(AND(Config!$B$13<=Tarifs!F2068,Config!$B$13>=Tarifs!E2068),1,0)","v":0},"2026-07-01","2026-07-31",1253]
["11-0005","20","11-0005-200",{"$f":"IF(AND(Config!$B$13<=Tarifs!F2069,Config!$B$13>=Tarifs!E2069),1,0)","v":0},"2026-08-01","2026-08-31",1253]
["11-0005","20","11-0005-200",{"$f":"IF(AND(Config!$B$13<=Tarifs!F2070,Config!$B$13>=Tarifs!E2070),1,0)","v":0},"2026-09-01","2026-09-30",1253]
["11-0005","20","11-0005-200",{"$f":"IF(AND(Config!$B$13<=Tarifs!F2071,Config!$B$13>=Tarifs!E2071),1,0)","v":0},"2026-10-01","2026-10-31",1253]
["11-0005","20","11-0005-200",{"$f":"IF(AND(Config!$B$13<=Tarifs!F2072,Config!$B$13>=Tarifs!E2072),1,0)","v":0},"2026-11-01","2026-11-30",1183]
["11-0005","20","11-0005-200",{"$f":"IF(AND(Config!$B$13<=Tarifs!F2073,Config!$B$13>=Tarifs!E2073),1,0)","v":0},"2026-12-01","2026-12-31",1183]
["11-0005","20","11-0005-201",{"$f":"IF(AND(Config!$B$13<=Tarifs!F2074,Config!$B$13>=Tarifs!E2074),1,0)","v":1},"2026-01-01","2026-01-31",1183]
["11-0005","20","11-0005-200",{"$f":"IF(AND(Config!$B$13<=Tarifs!F2075,Config!$B$13>=Tarifs!E2075),1,0)","v":0},"2026-02-01","2026-02-28",1183]
["11-0005","20","11-0005-200",{"$f":"IF(AND(Config!$B$13<=Tarifs!F2076,Config!$B$13>=Tarifs!E2076),1,0)","v":0},"2026-03-01","2026-03-31",1183]
["11-0005","20","11-0005-200",{"$f":"IF(AND(Config!$B$13<=Tarifs!F2077,Config!$B$13>=Tarifs!E2077),1,0)","v":0},"2026-04-01","2026-04-30",1183]
["11-0005","10","11-0005-100",{"$f":"IF(AND(Config!$B$13<=Tarifs!F2078,Config!$B$13>=Tarifs!E2078),1,0)","v":0},"2026-05-01","2026-05-31",179]
["11-0005","10","11-0005-100",{"$f":"IF(AND(Config!$B$13<=Tarifs!F2079,Config!$B$13>=Tarifs!E2079),1,0)","v":0},"2026-06-01","2026-06-30",179]
["11-0005","10","11-0005-100",{"$f":"IF(AND(Config!$B$13<=Tarifs!F2080,Config!$B$13>=Tarifs!E2080),1,0)","v":0},"2026-07-01","2026-07-31",179]
["11-0005","10","11-0005-100",{"$f":"IF(AND(Config!$B$13<=Tarifs!F2081,Config!$B$13>=Tarifs!E2081),1,0)","v":0},"2026-08-01","2026-08-31",179]
["11-0005","10","11-0005-100",{"$f":"IF(AND(Config!$B$13<=Tarifs!F2082,Config!$B$13>=Tarifs!E2082),1,0)","v":0},"2026-09-01","2026-09-30",179]
["11-0005","10","11-0005-100",{"$f":"IF(AND(Config!$B$13<=Tarifs!F2083,Config!$B$13>=Tarifs!E2083),1,0)","v":0},"2026-10-01","2026-10-31",179]
["11-0005","10","11-0005-100",{"$f":"IF(AND(Config!$B$13<=Tarifs!F2084,Config!$B$13>=Tarifs!E2084),1,0)","v":0},"2026-11-01","2026-11-30",169]
["11-0005","10","11-0005-100",{"$f":"IF(AND(Config!$B$13<=Tarifs!F2085,Config!$B$13>=Tarifs!E2085),1,0)","v":0},"2026-12-01","2026-12-31",169]
["11-0005","10","11-0005-101",{"$f":"IF(AND(Config!$B$13<=Tarifs!F2086,Config!$B$13>=Tarifs!E2086),1,0)","v":1},"2026-01-01","2026-01-31",169]
["11-0005","10","11-0005-100",{"$f":"IF(AND(Config!$B$13<=Tarifs!F2087,Config!$B$13>=Tarifs!E2087),1,0)","v":0},"2026-02-01","2026-02-28",169]
["11-0005","10","11-0005-100",{"$f":"IF(AND(Config!$B$13<=Tarifs!F2088,Config!$B$13>=Tarifs!E2088),1,0)","v":0},"2026-03-01","2026-03-31",169]
["11-0005","10","11-0005-100",{"$f":"IF(AND(Config!$B$13<=Tarifs!F2089,Config!$B$13>=Tarifs!E2089),1,0)","v":0},"2026-04-01","2026-04-30",169]
["11-0006","30","11-0006-300",{"$f":"IF(AND(Config!$B$13<=Tarifs!F2090,Config!$B$13>=Tarifs!E2090),1,0)","v":0},"2026-05-01","2026-05-31",5370]
["11-0006","30","11-0006-300",{"$f":"IF(AND(Config!$B$13<=Tarifs!F2091,Config!$B$13>=Tarifs!E2091),1,0)","v":0},"2026-06-01","2026-06-30",5370]
["11-0006","30","11-0006-300",{"$f":"IF(AND(Config!$B$13<=Tarifs!F2092,Config!$B$13>=Tarifs!E2092),1,0)","v":0},"2026-07-01","2026-07-31",5370]
["11-0006","30","11-0006-300",{"$f":"IF(AND(Config!$B$13<=Tarifs!F2093,Config!$B$13>=Tarifs!E2093),1,0)","v":0},"2026-08-01","2026-08-31",5370]
["11-0006","30","11-0006-300",{"$f":"IF(AND(Config!$B$13<=Tarifs!F2094,Config!$B$13>=Tarifs!E2094),1,0)","v":0},"2026-09-01","2026-09-30",5370]
["11-0006","30","11-0006-300",{"$f":"IF(AND(Config!$B$13<=Tarifs!F2095,Config!$B$13>=Tarifs!E2095),1,0)","v":0},"2026-10-01","2026-10-31",5370]
["11-0006","30","11-0006-301",{"$f":"IF(AND(Config!$B$13<=Tarifs!F2096,Config!$B$13>=Tarifs!E2096),1,0)","v":1},"2026-01-01","2026-01-31",5070]
["11-0006","30","11-0006-300",{"$f":"IF(AND(Config!$B$13<=Tarifs!F2097,Config!$B$13>=Tarifs!E2097),1,0)","v":0},"2026-02-01","2026-02-28",5070]
["11-0006","30","11-0006-300",{"$f":"IF(AND(Config!$B$13<=Tarifs!F2098,Config!$B$13>=Tarifs!E2098),1,0)","v":0},"2026-03-01","2026-03-31",5070]
["11-0006","30","11-0006-300",{"$f":"IF(AND(Config!$B$13<=Tarifs!F2099,Config!$B$13>=Tarifs!E2099),1,0)","v":0},"2026-04-01","2026-04-30",5070]
["11-0006","30","11-0006-300",{"$f":"IF(AND(Config!$B$13<=Tarifs!F2100,Config!$B$13>=Tarifs!E2100),1,0)","v":0},"2026-11-01","2026-11-30",5070]
["11-0006","30","11-0006-300",{"$f":"IF(AND(Config!$B$13<=Tarifs!F2101,Config!$B$13>=Tarifs!E2101),1,0)","v":0},"2026-12-01","2026-12-31",5070]
["11-0006","20","11-0006-200",{"$f":"IF(AND(Config!$B$13<=Tarifs!F2102,Config!$B$13>=Tarifs!E2102),1,0)","v":0},"2026-04-01","2026-04-30",1253]
["11-0006","20","11-0006-200",{"$f":"IF(AND(Config!$B$13<=Tarifs!F2103,Config!$B$13>=Tarifs!E2103),1,0)","v":0},"2026-05-01","2026-05-31",1253]
["11-0006","20","11-0006-200",{"$f":"IF(AND(Config!$B$13<=Tarifs!F2104,Config!$B$13>=Tarifs!E2104),1,0)","v":0},"2026-06-01","2026-06-30",1253]
["11-0006","20","11-0006-200",{"$f":"IF(AND(Config!$B$13<=Tarifs!F2105,Config!$B$13>=Tarifs!E2105),1,0)","v":0},"2026-07-01","2026-07-31",1253]
["11-0006","20","11-0006-200",{"$f":"IF(AND(Config!$B$13<=Tarifs!F2106,Config!$B$13>=Tarifs!E2106),1,0)","v":0},"2026-08-01","2026-08-31",1253]
["11-0006","20","11-0006-200",{"$f":"IF(AND(Config!$B$13<=Tarifs!F2107,Config!$B$13>=Tarifs!E2107),1,0)","v":0},"2026-09-01","2026-09-30",1253]
["11-0006","20","11-0006-200",{"$f":"IF(AND(Config!$B$13<=Tarifs!F2108,Config!$B$13>=Tarifs!E2108),1,0)","v":0},"2026-10-01","2026-10-31",1253]
["11-0006","20","11-0006-201",{"$f":"IF(AND(Config!$B$13<=Tarifs!F2109,Config!$B$13>=Tarifs!E2109),1,0)","v":1},"2026-01-01","2026-01-31",1183]
["11-0006","20","11-0006-200",{"$f":"IF(AND(Config!$B$13<=Tarifs!F2110,Config!$B$13>=Tarifs!E2110),1,0)","v":0},"2026-02-01","2026-02-28",1183]
["11-0006","20","11-0006-200",{"$f":"IF(AND(Config!$B$13<=Tarifs!F2111,Config!$B$13>=Tarifs!E2111),1,0)","v":0},"2026-03-01","2026-03-31",1183]
["11-0006","20","11-0006-200",{"$f":"IF(AND(Config!$B$13<=Tarifs!F2112,Config!$B$13>=Tarifs!E2112),1,0)","v":0},"2026-11-01","2026-11-30",1183]
["11-0006","20","11-0006-200",{"$f":"IF(AND(Config!$B$13<=Tarifs!F2113,Config!$B$13>=Tarifs!E2113),1,0)","v":0},"2026-12-01","2026-12-31",1183]
["11-0006","10","11-0006-100",{"$f":"IF(AND(Config!$B$13<=Tarifs!F2114,Config!$B$13>=Tarifs!E2114),1,0)","v":0},"2026-05-01","2026-05-31",179]
["11-0006","10",{"$f":"A2115&\"-\"&B2115&D2115","v":"11-0006-100"},{"$f":"IF(AND(Config!$B$13<=Tarifs!F2115,Config!$B$13>=Tarifs!E2115),1,0)","v":0},"2026-06-01","2026-06-30",179]
["11-0006","10","11-0006-100",{"$f":"IF(AND(Config!$B$13<=Tarifs!F2116,Config!$B$13>=Tarifs!E2116),1,0)","v":0},"2026-07-01","2026-07-31",179]
["11-0006","10","11-0006-100",{"$f":"IF(AND(Config!$B$13<=Tarifs!F2117,Config!$B$13>=Tarifs!E2117),1,0)","v":0},"2026-08-01","2026-08-31",179]
["11-0006","10","11-0006-100",{"$f":"IF(AND(Config!$B$13<=Tarifs!F2118,Config!$B$13>=Tarifs!E2118),1,0)","v":0},"2026-09-01","2026-09-30",179]
["11-0006","10","11-0006-100",{"$f":"IF(AND(Config!$B$13<=Tarifs!F2119,Config!$B$13>=Tarifs!E2119),1,0)","v":0},"2026-10-01","2026-10-31",179]
["11-0006","10","11-0006-101",{"$f":"IF(AND(Config!$B$13<=Tarifs!F2120,Config!$B$13>=Tarifs!E2120),1,0)","v":1},"2026-01-01","2026-01-31",169]
["11-0006","10","11-0006-100",{"$f":"IF(AND(Config!$B$13<=Tarifs!F2121,Config!$B$13>=Tarifs!E2121),1,0)","v":0},"2026-02-01","2026-02-28",169]
["11-0006","10","11-0006-100",{"$f":"IF(AND(Config!$B$13<=Tarifs!F2122,Config!$B$13>=Tarifs!E2122),1,0)","v":0},"2026-03-01","2026-03-31",169]
["11-0006","10","11-0006-100",{"$f":"IF(AND(Config!$B$13<=Tarifs!F2123,Config!$B$13>=Tarifs!E2123),1,0)","v":0},"2026-04-01","2026-04-30",169]
["11-0006","10","11-0006-100",{"$f":"IF(AND(Config!$B$13<=Tarifs!F2124,Config!$B$13>=Tarifs!E2124),1,0)","v":0},"2026-11-01","2026-11-30",169]
["11-0006","10","11-0006-100",{"$f":"IF(AND(Config!$B$13<=Tarifs!F2125,Config!$B$13>=Tarifs!E2125),1,0)","v":0},"2026-12-01","2026-12-31",169]
["11-0009","30","11-0009-300",{"$f":"IF(AND(Config!$B$13<=Tarifs!F2126,Config!$B$13>=Tarifs!E2126),1,0)","v":0},"2026-08-01","2026-08-31",9150]
["11-0009","30","11-0009-300",{"$f":"IF(AND(Config!$B$13<=Tarifs!F2127,Config!$B$13>=Tarifs!E2127),1,0)","v":0},"2026-07-01","2026-07-31",9150]
["11-0009","30","11-0009-300",{"$f":"IF(AND(Config!$B$13<=Tarifs!F2128,Config!$B$13>=Tarifs!E2128),1,0)","v":0},"2026-09-01","2026-09-30",5010]
["11-0009","30","11-0009-300",{"$f":"IF(AND(Config!$B$13<=Tarifs!F2129,Config!$B$13>=Tarifs!E2129),1,0)","v":0},"2026-10-01","2026-10-31",5010]
["11-0009","30","11-0009-300",{"$f":"IF(AND(Config!$B$13<=Tarifs!F2130,Config!$B$13>=Tarifs!E2130),1,0)","v":0},"2026-05-01","2026-05-31",5010]
["11-0009","30","11-0009-300",{"$f":"IF(AND(Config!$B$13<=Tarifs!F2131,Config!$B$13>=Tarifs!E2131),1,0)","v":0},"2026-06-01","2026-06-30",5010]
["11-0009","30","11-0009-300",{"$f":"IF(AND(Config!$B$13<=Tarifs!F2132,Config!$B$13>=Tarifs!E2132),1,0)","v":0},"2026-11-01","2026-11-30",4470]
["11-0009","30","11-0009-300",{"$f":"IF(AND(Config!$B$13<=Tarifs!F2133,Config!$B$13>=Tarifs!E2133),1,0)","v":0},"2026-02-01","2026-02-28",4470]
["11-0009","30","11-0009-300",{"$f":"IF(AND(Config!$B$13<=Tarifs!F2134,Config!$B$13>=Tarifs!E2134),1,0)","v":0},"2026-03-01","2026-03-31",4470]
["11-0009","30","11-0009-300",{"$f":"IF(AND(Config!$B$13<=Tarifs!F2135,Config!$B$13>=Tarifs!E2135),1,0)","v":0},"2026-04-01","2026-04-30",4470]
["11-0009","30","11-0009-300",{"$f":"IF(AND(Config!$B$13<=Tarifs!F2136,Config!$B$13>=Tarifs!E2136),1,0)","v":0},"2026-12-01","2026-12-31",4170]
["11-0009","30","11-0009-301",{"$f":"IF(AND(Config!$B$13<=Tarifs!F2137,Config!$B$13>=Tarifs!E2137),1,0)","v":1},"2026-01-01","2026-01-31",4170]
["11-0009","20","11-0009-200",{"$f":"IF(AND(Config!$B$13<=Tarifs!F2138,Config!$B$13>=Tarifs!E2138),1,0)","v":0},"2026-08-01","2026-08-31",2135]
["11-0009","20","11-0009-200",{"$f":"IF(AND(Config!$B$13<=Tarifs!F2139,Config!$B$13>=Tarifs!E2139),1,0)","v":0},"2026-07-01","2026-07-31",2135]
["11-0009","20","11-0009-200",{"$f":"IF(AND(Config!$B$13<=Tarifs!F2140,Config!$B$13>=Tarifs!E2140),1,0)","v":0},"2026-09-01","2026-09-30",1169]
["11-0009","20","11-0009-200",{"$f":"IF(AND(Config!$B$13<=Tarifs!F2141,Config!$B$13>=Tarifs!E2141),1,0)","v":0},"2026-10-01","2026-10-31",1169]
["11-0009","20","11-0009-200",{"$f":"IF(AND(Config!$B$13<=Tarifs!F2142,Config!$B$13>=Tarifs!E2142),1,0)","v":0},"2026-05-01","2026-05-31",1169]
["11-0009","20","11-0009-200",{"$f":"IF(AND(Config!$B$13<=Tarifs!F2143,Config!$B$13>=Tarifs!E2143),1,0)","v":0},"2026-06-01","2026-06-30",1169]
["11-0009","20","11-0009-200",{"$f":"IF(AND(Config!$B$13<=Tarifs!F2144,Config!$B$13>=Tarifs!E2144),1,0)","v":0},"2026-11-01","2026-11-30",1043]
["11-0009","20","11-0009-200",{"$f":"IF(AND(Config!$B$13<=Tarifs!F2145,Config!$B$13>=Tarifs!E2145),1,0)","v":0},"2026-02-01","2026-02-28",1043]
["11-0009","20","11-0009-200",{"$f":"IF(AND(Config!$B$13<=Tarifs!F2146,Config!$B$13>=Tarifs!E2146),1,0)","v":0},"2026-03-01","2026-03-31",1043]
["11-0009","20","11-0009-200",{"$f":"IF(AND(Config!$B$13<=Tarifs!F2147,Config!$B$13>=Tarifs!E2147),1,0)","v":0},"2026-04-01","2026-04-30",1043]
["11-0009","20","11-0009-200",{"$f":"IF(AND(Config!$B$13<=Tarifs!F2148,Config!$B$13>=Tarifs!E2148),1,0)","v":0},"2026-12-01","2026-12-31",973]
["11-0009","20","11-0009-201",{"$f":"IF(AND(Config!$B$13<=Tarifs!F2149,Config!$B$13>=Tarifs!E2149),1,0)","v":1},"2026-01-01","2026-01-31",973]
["11-0009","10","11-0009-100",{"$f":"IF(AND(Config!$B$13<=Tarifs!F2150,Config!$B$13>=Tarifs!E2150),1,0)","v":0},"2026-07-01","2026-07-31",305]
["11-0009","10","11-0009-100",{"$f":"IF(AND(Config!$B$13<=Tarifs!F2151,Config!$B$13>=Tarifs!E2151),1,0)","v":0},"2026-08-01","2026-08-31",305]
["11-0009","10","11-0009-100",{"$f":"IF(AND(Config!$B$13<=Tarifs!F2152,Config!$B$13>=Tarifs!E2152),1,0)","v":0},"2026-09-01","2026-09-30",167]
["11-0009","10","11-0009-100",{"$f":"IF(AND(Config!$B$13<=Tarifs!F2153,Config!$B$13>=Tarifs!E2153),1,0)","v":0},"2026-10-01","2026-10-31",167]
["11-0009","10","11-0009-100",{"$f":"IF(AND(Config!$B$13<=Tarifs!F2154,Config!$B$13>=Tarifs!E2154),1,0)","v":0},"2026-05-01","2026-05-31",167]
["11-0009","10","11-0009-100",{"$f":"IF(AND(Config!$B$13<=Tarifs!F2155,Config!$B$13>=Tarifs!E2155),1,0)","v":0},"2026-06-01","2026-06-30",167]
["11-0009","10","11-0009-100",{"$f":"IF(AND(Config!$B$13<=Tarifs!F2156,Config!$B$13>=Tarifs!E2156),1,0)","v":0},"2026-11-01","2026-11-30",149]
["11-0009","10","11-0009-100",{"$f":"IF(AND(Config!$B$13<=Tarifs!F2157,Config!$B$13>=Tarifs!E2157),1,0)","v":0},"2026-02-01","2026-02-28",149]
["11-0009","10","11-0009-100",{"$f":"IF(AND(Config!$B$13<=Tarifs!F2158,Config!$B$13>=Tarifs!E2158),1,0)","v":0},"2026-03-01","2026-03-31",149]
["11-0009","10","11-0009-100",{"$f":"IF(AND(Config!$B$13<=Tarifs!F2159,Config!$B$13>=Tarifs!E2159),1,0)","v":0},"2026-04-01","2026-04-30",149]
["11-0009","10","11-0009-100",{"$f":"IF(AND(Config!$B$13<=Tarifs!F2160,Config!$B$13>=Tarifs!E2160),1,0)","v":0},"2026-12-01","2026-12-31",139]
["11-0009","10","11-0009-101",{"$f":"IF(AND(Config!$B$13<=Tarifs!F2161,Config!$B$13>=Tarifs!E2161),1,0)","v":1},"2026-01-01","2026-01-31",139]
["11-0015","30","11-0015-300",{"$f":"IF(AND(Config!$B$13<=Tarifs!F2162,Config!$B$13>=Tarifs!E2162),1,0)","v":0},"2026-05-01","2026-04-30",5700]
["11-0015","30","11-0015-300",{"$f":"IF(AND(Config!$B$13<=Tarifs!F2163,Config!$B$13>=Tarifs!E2163),1,0)","v":0},"2026-06-01","2026-05-31",5700]
["11-0015","30","11-0015-300",{"$f":"IF(AND(Config!$B$13<=Tarifs!F2164,Config!$B$13>=Tarifs!E2164),1,0)","v":0},"2026-07-01","2026-06-30",5700]
["11-0015","30","11-0015-300",{"$f":"IF(AND(Config!$B$13<=Tarifs!F2165,Config!$B$13>=Tarifs!E2165),1,0)","v":0},"2026-08-01","2026-07-31",5700]
["11-0015","30","11-0015-300",{"$f":"IF(AND(Config!$B$13<=Tarifs!F2166,Config!$B$13>=Tarifs!E2166),1,0)","v":0},"2026-09-01","2026-08-31",5700]
["11-0015","30","11-0015-300",{"$f":"IF(AND(Config!$B$13<=Tarifs!F2167,Config!$B$13>=Tarifs!E2167),1,0)","v":0},"2026-10-01","2026-09-30",5700]
["11-0015","30","11-0015-300",{"$f":"IF(AND(Config!$B$13<=Tarifs!F2168,Config!$B$13>=Tarifs!E2168),1,0)","v":0},"2026-04-01","2026-03-31",4350]
["11-0015","30","11-0015-300",{"$f":"IF(AND(Config!$B$13<=Tarifs!F2169,Config!$B$13>=Tarifs!E2169),1,0)","v":0},"2026-11-01","2026-10-31",4350]
["11-0015","30","11-0015-300",{"$f":"IF(AND(Config!$B$13<=Tarifs!F2170,Config!$B$13>=Tarifs!E2170),1,0)","v":0},"2026-12-01","2026-11-30",4350]
["11-0015","30","11-0015-300",{"$f":"IF(AND(Config!$B$13<=Tarifs!F2171,Config!$B$13>=Tarifs!E2171),1,0)","v":0},"2026-01-01","2025-12-31",3930]
["11-0015","30","11-0015-300",{"$f":"IF(AND(Config!$B$13<=Tarifs!F2172,Config!$B$13>=Tarifs!E2172),1,0)","v":0},"2026-02-01","2026-01-31",3930]
["11-0015","30","11-0015-300",{"$f":"IF(AND(Config!$B$13<=Tarifs!F2173,Config!$B$13>=Tarifs!E2173),1,0)","v":0},"2026-03-01","2026-02-28",3930]
["11-0015","20","11-0015-200",{"$f":"IF(AND(Config!$B$13<=Tarifs!F2174,Config!$B$13>=Tarifs!E2174),1,0)","v":0},"2026-05-01","2026-04-30",1330]
["11-0015","20","11-0015-200",{"$f":"IF(AND(Config!$B$13<=Tarifs!F2175,Config!$B$13>=Tarifs!E2175),1,0)","v":0},"2026-06-01","2026-05-31",1330]
["11-0015","20","11-0015-200",{"$f":"IF(AND(Config!$B$13<=Tarifs!F2176,Config!$B$13>=Tarifs!E2176),1,0)","v":0},"2026-07-01","2026-06-30",1330]
["11-0015","20","11-0015-200",{"$f":"IF(AND(Config!$B$13<=Tarifs!F2177,Config!$B$13>=Tarifs!E2177),1,0)","v":0},"2026-08-01","2026-07-31",1330]
["11-0015","20","11-0015-200",{"$f":"IF(AND(Config!$B$13<=Tarifs!F2178,Config!$B$13>=Tarifs!E2178),1,0)","v":0},"2026-09-01","2026-08-31",1330]
["11-0015","20",{"$f":"A2179&\"-\"&B2179&D2179","v":"11-0015-200"},{"$f":"IF(AND(Config!$B$13<=Tarifs!F2179,Config!$B$13>=Tarifs!E2179),1,0)","v":0},"2026-10-01","2026-09-30",1330]
["11-0015","20","11-0015-200",{"$f":"IF(AND(Config!$B$13<=Tarifs!F2180,Config!$B$13>=Tarifs!E2180),1,0)","v":0},"2026-04-01","2026-03-31",1015]
["11-0015","20","11-0015-200",{"$f":"IF(AND(Config!$B$13<=Tarifs!F2181,Config!$B$13>=Tarifs!E2181),1,0)","v":0},"2026-11-01","2026-10-31",1015]
["11-0015","20","11-0015-200",{"$f":"IF(AND(Config!$B$13<=Tarifs!F2182,Config!$B$13>=Tarifs!E2182),1,0)","v":0},"2026-12-01","2026-11-30",1015]
["11-0015","20","11-0015-200",{"$f":"IF(AND(Config!$B$13<=Tarifs!F2183,Config!$B$13>=Tarifs!E2183),1,0)","v":0},"2026-01-01","2025-12-31",917]
["11-0015","20","11-0015-200",{"$f":"IF(AND(Config!$B$13<=Tarifs!F2184,Config!$B$13>=Tarifs!E2184),1,0)","v":0},"2026-02-01","2026-01-31",917]
["11-0015","20","11-0015-200",{"$f":"IF(AND(Config!$B$13<=Tarifs!F2185,Config!$B$13>=Tarifs!E2185),1,0)","v":0},"2026-03-01","2026-02-28",917]
["11-0015","10","11-0015-100",{"$f":"IF(AND(Config!$B$13<=Tarifs!F2186,Config!$B$13>=Tarifs!E2186),1,0)","v":0},"2026-05-01","2026-04-30",190]
["11-0015","10","11-0015-100",{"$f":"IF(AND(Config!$B$13<=Tarifs!F2187,Config!$B$13>=Tarifs!E2187),1,0)","v":0},"2026-06-01","2026-05-31",190]
["11-0015","10","11-0015-100",{"$f":"IF(AND(Config!$B$13<=Tarifs!F2188,Config!$B$13>=Tarifs!E2188),1,0)","v":0},"2026-07-01","2026-06-30",190]
["11-0015","10","11-0015-100",{"$f":"IF(AND(Config!$B$13<=Tarifs!F2189,Config!$B$13>=Tarifs!E2189),1,0)","v":0},"2026-08-01","2026-07-31",190]
["11-0015","10","11-0015-100",{"$f":"IF(AND(Config!$B$13<=Tarifs!F2190,Config!$B$13>=Tarifs!E2190),1,0)","v":0},"2026-09-01","2026-08-31",190]
["11-0015","10","11-0015-100",{"$f":"IF(AND(Config!$B$13<=Tarifs!F2191,Config!$B$13>=Tarifs!E2191),1,0)","v":0},"2026-10-01","2026-09-30",190]
["11-0015","10","11-0015-100",{"$f":"IF(AND(Config!$B$13<=Tarifs!F2192,Config!$B$13>=Tarifs!E2192),1,0)","v":0},"2026-04-01","2026-03-31",145]
["11-0015","10","11-0015-100",{"$f":"IF(AND(Config!$B$13<=Tarifs!F2193,Config!$B$13>=Tarifs!E2193),1,0)","v":0},"2026-11-01","2026-10-31",145]
["11-0015","10","11-0015-100",{"$f":"IF(AND(Config!$B$13<=Tarifs!F2194,Config!$B$13>=Tarifs!E2194),1,0)","v":0},"2026-12-01","2026-11-30",145]
["11-0015","10","11-0015-100",{"$f":"IF(AND(Config!$B$13<=Tarifs!F2195,Config!$B$13>=Tarifs!E2195),1,0)","v":0},"2026-01-01","2025-12-31",131]
["11-0015","10","11-0015-100",{"$f":"IF(AND(Config!$B$13<=Tarifs!F2196,Config!$B$13>=Tarifs!E2196),1,0)","v":0},"2026-02-01","2026-01-31",131]
["11-0015","10","11-0015-100",{"$f":"IF(AND(Config!$B$13<=Tarifs!F2197,Config!$B$13>=Tarifs!E2197),1,0)","v":0},"2026-03-01","2026-02-28",131]
["12-0013","30","12-0013-301",{"$f":"IF(AND(Config!$B$13<=Tarifs!F2198,Config!$B$13>=Tarifs!E2198),1,0)","v":1},"2026-01-01","2026-01-31",4470]
["12-0013","30","12-0013-300",{"$f":"IF(AND(Config!$B$13<=Tarifs!F2199,Config!$B$13>=Tarifs!E2199),1,0)","v":0},"2026-02-01","2026-02-28",4470]
["12-0013","30","12-0013-300",{"$f":"IF(AND(Config!$B$13<=Tarifs!F2200,Config!$B$13>=Tarifs!E2200),1,0)","v":0},"2026-03-01","2026-03-31",4470]
["12-0013","30","12-0013-300",{"$f":"IF(AND(Config!$B$13<=Tarifs!F2201,Config!$B$13>=Tarifs!E2201),1,0)","v":0},"2026-04-01","2026-04-30",4470]
["12-0013","30","12-0013-300",{"$f":"IF(AND(Config!$B$13<=Tarifs!F2202,Config!$B$13>=Tarifs!E2202),1,0)","v":0},"2026-05-01","2026-05-31",4470]
["12-0013","30","12-0013-300",{"$f":"IF(AND(Config!$B$13<=Tarifs!F2203,Config!$B$13>=Tarifs!E2203),1,0)","v":0},"2026-06-01","2026-06-30",4470]
["12-0013","30","12-0013-300",{"$f":"IF(AND(Config!$B$13<=Tarifs!F2204,Config!$B$13>=Tarifs!E2204),1,0)","v":0},"2026-09-01","2026-09-30",4470]
["12-0013","30","12-0013-300",{"$f":"IF(AND(Config!$B$13<=Tarifs!F2205,Config!$B$13>=Tarifs!E2205),1,0)","v":0},"2026-10-01","2026-10-31",4470]
["12-0013","30","12-0013-300",{"$f":"IF(AND(Config!$B$13<=Tarifs!F2206,Config!$B$13>=Tarifs!E2206),1,0)","v":0},"2026-11-01","2026-11-30",4470]
["12-0013","30","12-0013-300",{"$f":"IF(AND(Config!$B$13<=Tarifs!F2207,Config!$B$13>=Tarifs!E2207),1,0)","v":0},"2026-12-01","2026-12-31",4470]
["12-0013","30","12-0013-300",{"$f":"IF(AND(Config!$B$13<=Tarifs!F2208,Config!$B$13>=Tarifs!E2208),1,0)","v":0},"2026-07-01","2026-07-31",4470]
["12-0013","30","12-0013-300",{"$f":"IF(AND(Config!$B$13<=Tarifs!F2209,Config!$B$13>=Tarifs!E2209),1,0)","v":0},"2026-08-01","2026-08-31",4470]
["12-0013","20","12-0013-201",{"$f":"IF(AND(Config!$B$13<=Tarifs!F2210,Config!$B$13>=Tarifs!E2210),1,0)","v":1},"2026-01-01","2026-01-31",1043]
["12-0013","20","12-0013-200",{"$f":"IF(AND(Config!$B$13<=Tarifs!F2211,Config!$B$13>=Tarifs!E2211),1,0)","v":0},"2026-02-01","2026-02-28",1043]
["12-0013","20","12-0013-200",{"$f":"IF(AND(Config!$B$13<=Tarifs!F2212,Config!$B$13>=Tarifs!E2212),1,0)","v":0},"2026-03-01","2026-03-31",1043]
["12-0013","20","12-0013-200",{"$f":"IF(AND(Config!$B$13<=Tarifs!F2213,Config!$B$13>=Tarifs!E2213),1,0)","v":0},"2026-04-01","2026-04-30",1043]
["12-0013","20","12-0013-200",{"$f":"IF(AND(Config!$B$13<=Tarifs!F2214,Config!$B$13>=Tarifs!E2214),1,0)","v":0},"2026-05-01","2026-05-31",1043]
["12-0013","20","12-0013-200",{"$f":"IF(AND(Config!$B$13<=Tarifs!F2215,Config!$B$13>=Tarifs!E2215),1,0)","v":0},"2026-06-01","2026-06-30",1043]
["12-0013","20","12-0013-200",{"$f":"IF(AND(Config!$B$13<=Tarifs!F2216,Config!$B$13>=Tarifs!E2216),1,0)","v":0},"2026-08-01","2026-08-31",1043]
["12-0013","20","12-0013-200",{"$f":"IF(AND(Config!$B$13<=Tarifs!F2217,Config!$B$13>=Tarifs!E2217),1,0)","v":0},"2026-09-01","2026-09-30",1043]
["12-0013","20","12-0013-200",{"$f":"IF(AND(Config!$B$13<=Tarifs!F2218,Config!$B$13>=Tarifs!E2218),1,0)","v":0},"2026-10-01","2026-10-31",1043]
["12-0013","20","12-0013-200",{"$f":"IF(AND(Config!$B$13<=Tarifs!F2219,Config!$B$13>=Tarifs!E2219),1,0)","v":0},"2026-11-01","2026-11-30",1043]
["12-0013","20","12-0013-200",{"$f":"IF(AND(Config!$B$13<=Tarifs!F2220,Config!$B$13>=Tarifs!E2220),1,0)","v":0},"2026-12-01","2026-12-31",1043]
["12-0013","20","12-0013-200",{"$f":"IF(AND(Config!$B$13<=Tarifs!F2221,Config!$B$13>=Tarifs!E2221),1,0)","v":0},"2026-07-01","2026-07-31",1043]
["12-0013","10","12-0013-101",{"$f":"IF(AND(Config!$B$13<=Tarifs!F2222,Config!$B$13>=Tarifs!E2222),1,0)","v":1},"2026-01-01","2026-01-31",149]
["12-0013","10","12-0013-100",{"$f":"IF(AND(Config!$B$13<=Tarifs!F2223,Config!$B$13>=Tarifs!E2223),1,0)","v":0},"2026-02-01","2026-02-28",149]
["12-0013","10","12-0013-100",{"$f":"IF(AND(Config!$B$13<=Tarifs!F2224,Config!$B$13>=Tarifs!E2224),1,0)","v":0},"2026-03-01","2026-03-31",149]
["12-0013","10","12-0013-100",{"$f":"IF(AND(Config!$B$13<=Tarifs!F2225,Config!$B$13>=Tarifs!E2225),1,0)","v":0},"2026-05-01","2026-05-31",149]
["12-0013","10","12-0013-100",{"$f":"IF(AND(Config!$B$13<=Tarifs!F2226,Config!$B$13>=Tarifs!E2226),1,0)","v":0},"2026-07-01","2026-07-31",149]
["12-0013","10","12-0013-100",{"$f":"IF(AND(Config!$B$13<=Tarifs!F2227,Config!$B$13>=Tarifs!E2227),1,0)","v":0},"2026-08-01","2026-08-31",149]
["12-0013","10","12-0013-100",{"$f":"IF(AND(Config!$B$13<=Tarifs!F2228,Config!$B$13>=Tarifs!E2228),1,0)","v":0},"2026-11-01","2026-11-30",149]
["12-0013","10","12-0013-100",{"$f":"IF(AND(Config!$B$13<=Tarifs!F2229,Config!$B$13>=Tarifs!E2229),1,0)","v":0},"2026-12-01","2026-12-31",149]
["12-0013","10","12-0013-100",{"$f":"IF(AND(Config!$B$13<=Tarifs!F2230,Config!$B$13>=Tarifs!E2230),1,0)","v":0},"2026-04-01","2026-04-30",149]
["12-0013","10","12-0013-100",{"$f":"IF(AND(Config!$B$13<=Tarifs!F2231,Config!$B$13>=Tarifs!E2231),1,0)","v":0},"2026-06-01","2026-06-30",149]
["12-0013","10","12-0013-100",{"$f":"IF(AND(Config!$B$13<=Tarifs!F2232,Config!$B$13>=Tarifs!E2232),1,0)","v":0},"2026-09-01","2026-09-30",149]
["12-0013","10","12-0013-100",{"$f":"IF(AND(Config!$B$13<=Tarifs!F2233,Config!$B$13>=Tarifs!E2233),1,0)","v":0},"2026-10-01","2026-10-31",149]
["12-0014","30","12-0014-300",{"$f":"IF(AND(Config!$B$13<=Tarifs!F2234,Config!$B$13>=Tarifs!E2234),1,0)","v":0},"2026-07-01","2026-07-31",3480]
["12-0014","30","12-0014-300",{"$f":"IF(AND(Config!$B$13<=Tarifs!F2235,Config!$B$13>=Tarifs!E2235),1,0)","v":0},"2026-08-01","2026-08-31",3480]
["12-0014","30","12-0014-300",{"$f":"IF(AND(Config!$B$13<=Tarifs!F2236,Config!$B$13>=Tarifs!E2236),1,0)","v":0},"2026-09-01","2026-09-30",3480]
["12-0014","30","12-0014-300",{"$f":"IF(AND(Config!$B$13<=Tarifs!F2237,Config!$B$13>=Tarifs!E2237),1,0)","v":0},"2026-10-01","2026-10-31",3480]
["12-0014","30","12-0014-301",{"$f":"IF(AND(Config!$B$13<=Tarifs!F2238,Config!$B$13>=Tarifs!E2238),1,0)","v":1},"2026-01-01","2026-01-31",3330]
["12-0014","30","12-0014-300",{"$f":"IF(AND(Config!$B$13<=Tarifs!F2239,Config!$B$13>=Tarifs!E2239),1,0)","v":0},"2026-02-01","2026-02-28",3330]
["12-0014","30","12-0014-300",{"$f":"IF(AND(Config!$B$13<=Tarifs!F2240,Config!$B$13>=Tarifs!E2240),1,0)","v":0},"2026-03-01","2026-03-31",3330]
["12-0014","30","12-0014-300",{"$f":"IF(AND(Config!$B$13<=Tarifs!F2241,Config!$B$13>=Tarifs!E2241),1,0)","v":0},"2026-04-01","2026-04-30",3330]
["12-0014","30","12-0014-300",{"$f":"IF(AND(Config!$B$13<=Tarifs!F2242,Config!$B$13>=Tarifs!E2242),1,0)","v":0},"2026-05-01","2026-05-31",3330]
["12-0014","30",{"$f":"A2243&\"-\"&B2243&D2243","v":"12-0014-300"},{"$f":"IF(AND(Config!$B$13<=Tarifs!F2243,Config!$B$13>=Tarifs!E2243),1,0)","v":0},"2026-06-01","2026-06-30",3330]
["12-0014","30","12-0014-300",{"$f":"IF(AND(Config!$B$13<=Tarifs!F2244,Config!$B$13>=Tarifs!E2244),1,0)","v":0},"2026-11-01","2026-11-30",3330]
["12-0014","30","12-0014-300",{"$f":"IF(AND(Config!$B$13<=Tarifs!F2245,Config!$B$13>=Tarifs!E2245),1,0)","v":0},"2026-12-01","2026-12-31",3330]
["12-0014","20","12-0014-200",{"$f":"IF(AND(Config!$B$13<=Tarifs!F2246,Config!$B$13>=Tarifs!E2246),1,0)","v":0},"2026-07-01","2026-07-31",812]
["12-0014","20","12-0014-200",{"$f":"IF(AND(Config!$B$13<=Tarifs!F2247,Config!$B$13>=Tarifs!E2247),1,0)","v":0},"2026-08-01","2026-08-31",812]
["12-0014","20","12-0014-200",{"$f":"IF(AND(Config!$B$13<=Tarifs!F2248,Config!$B$13>=Tarifs!E2248),1,0)","v":0},"2026-09-01","2026-09-30",812]
["12-0014","20","12-0014-200",{"$f":"IF(AND(Config!$B$13<=Tarifs!F2249,Config!$B$13>=Tarifs!E2249),1,0)","v":0},"2026-10-01","2026-10-31",812]
["12-0014","20","12-0014-201",{"$f":"IF(AND(Config!$B$13<=Tarifs!F2250,Config!$B$13>=Tarifs!E2250),1,0)","v":1},"2026-01-01","2026-01-31",777]
["12-0014","20","12-0014-200",{"$f":"IF(AND(Config!$B$13<=Tarifs!F2251,Config!$B$13>=Tarifs!E2251),1,0)","v":0},"2026-02-01","2026-02-28",777]
["12-0014","20","12-0014-200",{"$f":"IF(AND(Config!$B$13<=Tarifs!F2252,Config!$B$13>=Tarifs!E2252),1,0)","v":0},"2026-03-01","2026-03-31",777]
["12-0014","20","12-0014-200",{"$f":"IF(AND(Config!$B$13<=Tarifs!F2253,Config!$B$13>=Tarifs!E2253),1,0)","v":0},"2026-04-01","2026-04-30",777]
["12-0014","20","12-0014-200",{"$f":"IF(AND(Config!$B$13<=Tarifs!F2254,Config!$B$13>=Tarifs!E2254),1,0)","v":0},"2026-05-01","2026-05-31",777]
["12-0014","20","12-0014-200",{"$f":"IF(AND(Config!$B$13<=Tarifs!F2255,Config!$B$13>=Tarifs!E2255),1,0)","v":0},"2026-06-01","2026-06-30",777]
["12-0014","20","12-0014-200",{"$f":"IF(AND(Config!$B$13<=Tarifs!F2256,Config!$B$13>=Tarifs!E2256),1,0)","v":0},"2026-11-01","2026-11-30",777]
["12-0014","20","12-0014-200",{"$f":"IF(AND(Config!$B$13<=Tarifs!F2257,Config!$B$13>=Tarifs!E2257),1,0)","v":0},"2026-12-01","2026-12-31",777]
["12-0014","10","12-0014-100",{"$f":"IF(AND(Config!$B$13<=Tarifs!F2258,Config!$B$13>=Tarifs!E2258),1,0)","v":0},"2026-07-01","2026-07-31",116]
["12-0014","10","12-0014-100",{"$f":"IF(AND(Config!$B$13<=Tarifs!F2259,Config!$B$13>=Tarifs!E2259),1,0)","v":0},"2026-08-01","2026-08-31",116]
["12-0014","10","12-0014-100",{"$f":"IF(AND(Config!$B$13<=Tarifs!F2260,Config!$B$13>=Tarifs!E2260),1,0)","v":0},"2026-09-01","2026-09-30",116]
["12-0014","10","12-0014-100",{"$f":"IF(AND(Config!$B$13<=Tarifs!F2261,Config!$B$13>=Tarifs!E2261),1,0)","v":0},"2026-10-01","2026-10-31",116]
["12-0014","10","12-0014-101",{"$f":"IF(AND(Config!$B$13<=Tarifs!F2262,Config!$B$13>=Tarifs!E2262),1,0)","v":1},"2026-01-01","2026-01-31",111]
["12-0014","10","12-0014-100",{"$f":"IF(AND(Config!$B$13<=Tarifs!F2263,Config!$B$13>=Tarifs!E2263),1,0)","v":0},"2026-02-01","2026-02-28",111]
["12-0014","10","12-0014-100",{"$f":"IF(AND(Config!$B$13<=Tarifs!F2264,Config!$B$13>=Tarifs!E2264),1,0)","v":0},"2026-03-01","2026-03-31",111]
["12-0014","10","12-0014-100",{"$f":"IF(AND(Config!$B$13<=Tarifs!F2265,Config!$B$13>=Tarifs!E2265),1,0)","v":0},"2026-04-01","2026-04-30",111]
["12-0014","10","12-0014-100",{"$f":"IF(AND(Config!$B$13<=Tarifs!F2266,Config!$B$13>=Tarifs!E2266),1,0)","v":0},"2026-05-01","2026-05-31",111]
["12-0014","10","12-0014-100",{"$f":"IF(AND(Config!$B$13<=Tarifs!F2267,Config!$B$13>=Tarifs!E2267),1,0)","v":0},"2026-06-01","2026-06-30",111]
["12-0014","10","12-0014-100",{"$f":"IF(AND(Config!$B$13<=Tarifs!F2268,Config!$B$13>=Tarifs!E2268),1,0)","v":0},"2026-11-01","2026-11-30",111]
["12-0014","10","12-0014-100",{"$f":"IF(AND(Config!$B$13<=Tarifs!F2269,Config!$B$13>=Tarifs!E2269),1,0)","v":0},"2026-12-01","2026-12-31",111]
["12-0050","30","12-0050-300",{"$f":"IF(AND(Config!$B$13<=Tarifs!F2270,Config!$B$13>=Tarifs!E2270),1,0)","v":0},"2026-06-01","2026-06-30",6870]
["12-0050","30","12-0050-300",{"$f":"IF(AND(Config!$B$13<=Tarifs!F2271,Config!$B$13>=Tarifs!E2271),1,0)","v":0},"2026-07-01","2026-07-31",6870]
["12-0050","30","12-0050-300",{"$f":"IF(AND(Config!$B$13<=Tarifs!F2272,Config!$B$13>=Tarifs!E2272),1,0)","v":0},"2026-08-01","2026-08-31",6870]
["12-0050","30","12-0050-300",{"$f":"IF(AND(Config!$B$13<=Tarifs!F2273,Config!$B$13>=Tarifs!E2273),1,0)","v":0},"2026-09-01","2026-09-30",6870]
["12-0050","30","12-0050-300",{"$f":"IF(AND(Config!$B$13<=Tarifs!F2274,Config!$B$13>=Tarifs!E2274),1,0)","v":0},"2026-10-01","2026-10-31",6870]
["12-0050","30","12-0050-300",{"$f":"IF(AND(Config!$B$13<=Tarifs!F2275,Config!$B$13>=Tarifs!E2275),1,0)","v":0},"2026-12-01","2026-12-31",5070]
["12-0050","30","12-0050-301",{"$f":"IF(AND(Config!$B$13<=Tarifs!F2276,Config!$B$13>=Tarifs!E2276),1,0)","v":1},"2026-01-01","2026-01-31",5070]
["12-0050","30","12-0050-300",{"$f":"IF(AND(Config!$B$13<=Tarifs!F2277,Config!$B$13>=Tarifs!E2277),1,0)","v":0},"2026-02-01","2026-02-28",5070]
["12-0050","30","12-0050-300",{"$f":"IF(AND(Config!$B$13<=Tarifs!F2278,Config!$B$13>=Tarifs!E2278),1,0)","v":0},"2026-03-01","2026-03-31",5070]
["12-0050","30","12-0050-300",{"$f":"IF(AND(Config!$B$13<=Tarifs!F2279,Config!$B$13>=Tarifs!E2279),1,0)","v":0},"2026-04-01","2026-04-30",5070]
["12-0050","30","12-0050-300",{"$f":"IF(AND(Config!$B$13<=Tarifs!F2280,Config!$B$13>=Tarifs!E2280),1,0)","v":0},"2026-05-01","2026-05-31",5070]
["12-0050","30","12-0050-300",{"$f":"IF(AND(Config!$B$13<=Tarifs!F2281,Config!$B$13>=Tarifs!E2281),1,0)","v":0},"2026-11-01","2026-11-30",5070]
["12-0050","20","12-0050-200",{"$f":"IF(AND(Config!$B$13<=Tarifs!F2282,Config!$B$13>=Tarifs!E2282),1,0)","v":0},"2026-06-01","2026-06-30",1603]
["12-0050","20","12-0050-200",{"$f":"IF(AND(Config!$B$13<=Tarifs!F2283,Config!$B$13>=Tarifs!E2283),1,0)","v":0},"2026-07-01","2026-07-31",1603]
["12-0050","20","12-0050-200",{"$f":"IF(AND(Config!$B$13<=Tarifs!F2284,Config!$B$13>=Tarifs!E2284),1,0)","v":0},"2026-08-01","2026-08-31",1603]
["12-0050","20","12-0050-200",{"$f":"IF(AND(Config!$B$13<=Tarifs!F2285,Config!$B$13>=Tarifs!E2285),1,0)","v":0},"2026-09-01","2026-09-30",1603]
["12-0050","20","12-0050-200",{"$f":"IF(AND(Config!$B$13<=Tarifs!F2286,Config!$B$13>=Tarifs!E2286),1,0)","v":0},"2026-10-01","2026-10-31",1603]
["12-0050","20","12-0050-201",{"$f":"IF(AND(Config!$B$13<=Tarifs!F2287,Config!$B$13>=Tarifs!E2287),1,0)","v":1},"2026-01-01","2026-01-31",1183]
["12-0050","20","12-0050-200",{"$f":"IF(AND(Config!$B$13<=Tarifs!F2288,Config!$B$13>=Tarifs!E2288),1,0)","v":0},"2026-02-01","2026-02-28",1183]
["12-0050","20","12-0050-200",{"$f":"IF(AND(Config!$B$13<=Tarifs!F2289,Config!$B$13>=Tarifs!E2289),1,0)","v":0},"2026-03-01","2026-03-31",1183]
["12-0050","20","12-0050-200",{"$f":"IF(AND(Config!$B$13<=Tarifs!F2290,Config!$B$13>=Tarifs!E2290),1,0)","v":0},"2026-04-01","2026-04-30",1183]
["12-0050","20","12-0050-200",{"$f":"IF(AND(Config!$B$13<=Tarifs!F2291,Config!$B$13>=Tarifs!E2291),1,0)","v":0},"2026-05-01","2026-05-31",1183]
["12-0050","20","12-0050-200",{"$f":"IF(AND(Config!$B$13<=Tarifs!F2292,Config!$B$13>=Tarifs!E2292),1,0)","v":0},"2026-11-01","2026-11-30",1183]
["12-0050","20","12-0050-200",{"$f":"IF(AND(Config!$B$13<=Tarifs!F2293,Config!$B$13>=Tarifs!E2293),1,0)","v":0},"2026-12-01","2026-12-31",1183]
["12-0050","10","12-0050-100",{"$f":"IF(AND(Config!$B$13<=Tarifs!F2294,Config!$B$13>=Tarifs!E2294),1,0)","v":0},"2026-06-01","2026-06-30",229]
["12-0050","10","12-0050-100",{"$f":"IF(AND(Config!$B$13<=Tarifs!F2295,Config!$B$13>=Tarifs!E2295),1,0)","v":0},"2026-07-01","2026-07-31",229]
["12-0050","10","12-0050-100",{"$f":"IF(AND(Config!$B$13<=Tarifs!F2296,Config!$B$13>=Tarifs!E2296),1,0)","v":0},"2026-08-01","2026-08-31",229]
["12-0050","10","12-0050-100",{"$f":"IF(AND(Config!$B$13<=Tarifs!F2297,Config!$B$13>=Tarifs!E2297),1,0)","v":0},"2026-09-01","2026-09-30",229]
["12-0050","10","12-0050-100",{"$f":"IF(AND(Config!$B$13<=Tarifs!F2298,Config!$B$13>=Tarifs!E2298),1,0)","v":0},"2026-10-01","2026-10-31",229]
["12-0050","10","12-0050-101",{"$f":"IF(AND(Config!$B$13<=Tarifs!F2299,Config!$B$13>=Tarifs!E2299),1,0)","v":1},"2026-01-01","2026-01-31",169]
["12-0050","10","12-0050-100",{"$f":"IF(AND(Config!$B$13<=Tarifs!F2300,Config!$B$13>=Tarifs!E2300),1,0)","v":0},"2026-02-01","2026-02-28",169]
["12-0050","10","12-0050-100",{"$f":"IF(AND(Config!$B$13<=Tarifs!F2301,Config!$B$13>=Tarifs!E2301),1,0)","v":0},"2026-03-01","2026-03-31",169]
["12-0050","10","12-0050-100",{"$f":"IF(AND(Config!$B$13<=Tarifs!F2302,Config!$B$13>=Tarifs!E2302),1,0)","v":0},"2026-04-01","2026-04-30",169]
["12-0050","10","12-0050-100",{"$f":"IF(AND(Config!$B$13<=Tarifs!F2303,Config!$B$13>=Tarifs!E2303),1,0)","v":0},"2026-05-01","2026-05-31",169]
["12-0050","10","12-0050-100",{"$f":"IF(AND(Config!$B$13<=Tarifs!F2304,Config!$B$13>=Tarifs!E2304),1,0)","v":0},"2026-11-01","2026-11-30",169]
["12-0050","10","12-0050-100",{"$f":"IF(AND(Config!$B$13<=Tarifs!F2305,Config!$B$13>=Tarifs!E2305),1,0)","v":0},"2026-12-01","2026-12-31",169]
["12-0052","30","12-0052-300",{"$f":"IF(AND(Config!$B$13<=Tarifs!F2306,Config!$B$13>=Tarifs!E2306),1,0)","v":0},"2026-07-01","2026-07-31",4800]
["12-0052","30",{"$f":"A2307&\"-\"&B2307&D2307","v":"12-0052-300"},{"$f":"IF(AND(Config!$B$13<=Tarifs!F2307,Config!$B$13>=Tarifs!E2307),1,0)","v":0},"2026-08-01","2026-08-31",4800]
["12-0052","30","12-0052-300",{"$f":"IF(AND(Config!$B$13<=Tarifs!F2308,Config!$B$13>=Tarifs!E2308),1,0)","v":0},"2026-05-01","2026-05-31",4650]
["12-0052","30","12-0052-300",{"$f":"IF(AND(Config!$B$13<=Tarifs!F2309,Config!$B$13>=Tarifs!E2309),1,0)","v":0},"2026-06-01","2026-06-30",4650]
["12-0052","30","12-0052-300",{"$f":"IF(AND(Config!$B$13<=Tarifs!F2310,Config!$B$13>=Tarifs!E2310),1,0)","v":0},"2026-09-01","2026-09-30",4650]
["12-0052","30","12-0052-300",{"$f":"IF(AND(Config!$B$13<=Tarifs!F2311,Config!$B$13>=Tarifs!E2311),1,0)","v":0},"2026-10-01","2026-10-31",4650]
["12-0052","30","12-0052-300",{"$f":"IF(AND(Config!$B$13<=Tarifs!F2312,Config!$B$13>=Tarifs!E2312),1,0)","v":0},"2026-03-01","2026-03-31",4470]
["12-0052","30","12-0052-300",{"$f":"IF(AND(Config!$B$13<=Tarifs!F2313,Config!$B$13>=Tarifs!E2313),1,0)","v":0},"2026-04-01","2026-04-30",4470]
["12-0052","30","12-0052-300",{"$f":"IF(AND(Config!$B$13<=Tarifs!F2314,Config!$B$13>=Tarifs!E2314),1,0)","v":0},"2026-11-01","2026-11-30",4470]
["12-0052","30","12-0052-300",{"$f":"IF(AND(Config!$B$13<=Tarifs!F2315,Config!$B$13>=Tarifs!E2315),1,0)","v":0},"2026-12-01","2026-12-31",4470]
["12-0052","30","12-0052-300",{"$f":"IF(AND(Config!$B$13<=Tarifs!F2316,Config!$B$13>=Tarifs!E2316),1,0)","v":0},"2026-02-01","2026-02-28",4170]
["12-0052","30","12-0052-301",{"$f":"IF(AND(Config!$B$13<=Tarifs!F2317,Config!$B$13>=Tarifs!E2317),1,0)","v":1},"2026-01-01","2026-01-31",3900]
["12-0052","20","12-0052-200",{"$f":"IF(AND(Config!$B$13<=Tarifs!F2318,Config!$B$13>=Tarifs!E2318),1,0)","v":0},"2026-07-01","2026-07-31",1120]
["12-0052","20","12-0052-200",{"$f":"IF(AND(Config!$B$13<=Tarifs!F2319,Config!$B$13>=Tarifs!E2319),1,0)","v":0},"2026-08-01","2026-08-31",1120]
["12-0052","20","12-0052-200",{"$f":"IF(AND(Config!$B$13<=Tarifs!F2320,Config!$B$13>=Tarifs!E2320),1,0)","v":0},"2026-05-01","2026-05-31",1085]
["12-0052","20","12-0052-200",{"$f":"IF(AND(Config!$B$13<=Tarifs!F2321,Config!$B$13>=Tarifs!E2321),1,0)","v":0},"2026-06-01","2026-06-30",1085]
["12-0052","20","12-0052-200",{"$f":"IF(AND(Config!$B$13<=Tarifs!F2322,Config!$B$13>=Tarifs!E2322),1,0)","v":0},"2026-09-01","2026-09-30",1085]
["12-0052","20","12-0052-200",{"$f":"IF(AND(Config!$B$13<=Tarifs!F2323,Config!$B$13>=Tarifs!E2323),1,0)","v":0},"2026-10-01","2026-10-31",1085]
["12-0052","20","12-0052-200",{"$f":"IF(AND(Config!$B$13<=Tarifs!F2324,Config!$B$13>=Tarifs!E2324),1,0)","v":0},"2026-03-01","2026-03-31",1043]
["12-0052","20","12-0052-200",{"$f":"IF(AND(Config!$B$13<=Tarifs!F2325,Config!$B$13>=Tarifs!E2325),1,0)","v":0},"2026-04-01","2026-04-30",1043]
["12-0052","20","12-0052-200",{"$f":"IF(AND(Config!$B$13<=Tarifs!F2326,Config!$B$13>=Tarifs!E2326),1,0)","v":0},"2026-11-01","2026-11-30",1043]
["12-0052","20","12-0052-200",{"$f":"IF(AND(Config!$B$13<=Tarifs!F2327,Config!$B$13>=Tarifs!E2327),1,0)","v":0},"2026-12-01","2026-12-31",1043]
["12-0052","20","12-0052-200",{"$f":"IF(AND(Config!$B$13<=Tarifs!F2328,Config!$B$13>=Tarifs!E2328),1,0)","v":0},"2026-02-01","2026-02-28",973]
["12-0052","20","12-0052-201",{"$f":"IF(AND(Config!$B$13<=Tarifs!F2329,Config!$B$13>=Tarifs!E2329),1,0)","v":1},"2026-01-01","2026-01-31",910]
["12-0052","10","12-0052-100",{"$f":"IF(AND(Config!$B$13<=Tarifs!F2330,Config!$B$13>=Tarifs!E2330),1,0)","v":0},"2026-07-01","2026-07-31",160]
["12-0052","10","12-0052-100",{"$f":"IF(AND(Config!$B$13<=Tarifs!F2331,Config!$B$13>=Tarifs!E2331),1,0)","v":0},"2026-08-01","2026-08-31",160]
["12-0052","10","12-0052-100",{"$f":"IF(AND(Config!$B$13<=Tarifs!F2332,Config!$B$13>=Tarifs!E2332),1,0)","v":0},"2026-05-01","2026-05-31",155]
["12-0052","10","12-0052-100",{"$f":"IF(AND(Config!$B$13<=Tarifs!F2333,Config!$B$13>=Tarifs!E2333),1,0)","v":0},"2026-06-01","2026-06-30",155]
["12-0052","10","12-0052-100",{"$f":"IF(AND(Config!$B$13<=Tarifs!F2334,Config!$B$13>=Tarifs!E2334),1,0)","v":0},"2026-09-01","2026-09-30",155]
["12-0052","10","12-0052-100",{"$f":"IF(AND(Config!$B$13<=Tarifs!F2335,Config!$B$13>=Tarifs!E2335),1,0)","v":0},"2026-10-01","2026-10-31",155]
["12-0052","10","12-0052-100",{"$f":"IF(AND(Config!$B$13<=Tarifs!F2336,Config!$B$13>=Tarifs!E2336),1,0)","v":0},"2026-03-01","2026-03-31",149]
["12-0052","10","12-0052-100",{"$f":"IF(AND(Config!$B$13<=Tarifs!F2337,Config!$B$13>=Tarifs!E2337),1,0)","v":0},"2026-04-01","2026-04-30",149]
["12-0052","10","12-0052-100",{"$f":"IF(AND(Config!$B$13<=Tarifs!F2338,Config!$B$13>=Tarifs!E2338),1,0)","v":0},"2026-11-01","2026-11-30",149]
["12-0052","10","12-0052-100",{"$f":"IF(AND(Config!$B$13<=Tarifs!F2339,Config!$B$13>=Tarifs!E2339),1,0)","v":0},"2026-12-01","2026-12-31",149]
["12-0052","10","12-0052-100",{"$f":"IF(AND(Config!$B$13<=Tarifs!F2340,Config!$B$13>=Tarifs!E2340),1,0)","v":0},"2026-02-01","2026-02-28",139]
["12-0052","10","12-0052-101",{"$f":"IF(AND(Config!$B$13<=Tarifs!F2341,Config!$B$13>=Tarifs!E2341),1,0)","v":1},"2026-01-01","2026-01-31",130]
["13-0003","30","13-0003-300",{"$f":"IF(AND(Config!$B$13<=Tarifs!F2342,Config!$B$13>=Tarifs!E2342),1,0)","v":0},"2026-06-01","2026-05-31",4560]
["13-0003","30","13-0003-300",{"$f":"IF(AND(Config!$B$13<=Tarifs!F2343,Config!$B$13>=Tarifs!E2343),1,0)","v":0},"2026-07-01","2026-06-30",4560]
["13-0003","30","13-0003-300",{"$f":"IF(AND(Config!$B$13<=Tarifs!F2344,Config!$B$13>=Tarifs!E2344),1,0)","v":0},"2026-08-01","2026-07-31",4560]
["13-0003","30","13-0003-300",{"$f":"IF(AND(Config!$B$13<=Tarifs!F2345,Config!$B$13>=Tarifs!E2345),1,0)","v":0},"2026-09-01","2026-08-31",4560]
["13-0003","30","13-0003-300",{"$f":"IF(AND(Config!$B$13<=Tarifs!F2346,Config!$B$13>=Tarifs!E2346),1,0)","v":0},"2026-10-01","2026-09-30",4560]
["13-0003","30","13-0003-300",{"$f":"IF(AND(Config!$B$13<=Tarifs!F2347,Config!$B$13>=Tarifs!E2347),1,0)","v":0},"2026-11-01","2026-10-31",4560]
["13-0003","30","13-0003-300",{"$f":"IF(AND(Config!$B$13<=Tarifs!F2348,Config!$B$13>=Tarifs!E2348),1,0)","v":0},"2026-12-01","2026-11-30",4560]
["13-0003","30","13-0003-300",{"$f":"IF(AND(Config!$B$13<=Tarifs!F2349,Config!$B$13>=Tarifs!E2349),1,0)","v":0},"2026-05-01","2026-04-30",4560]
["13-0003","30","13-0003-300",{"$f":"IF(AND(Config!$B$13<=Tarifs!F2350,Config!$B$13>=Tarifs!E2350),1,0)","v":0},"2026-01-01","2025-12-31",4350]
["13-0003","30","13-0003-300",{"$f":"IF(AND(Config!$B$13<=Tarifs!F2351,Config!$B$13>=Tarifs!E2351),1,0)","v":0},"2026-02-01","2026-01-31",4350]
["13-0003","30","13-0003-300",{"$f":"IF(AND(Config!$B$13<=Tarifs!F2352,Config!$B$13>=Tarifs!E2352),1,0)","v":0},"2026-03-01","2026-02-28",4350]
["13-0003","30","13-0003-300",{"$f":"IF(AND(Config!$B$13<=Tarifs!F2353,Config!$B$13>=Tarifs!E2353),1,0)","v":0},"2026-04-01","2026-03-31",4350]
["13-0003","20","13-0003-200",{"$f":"IF(AND(Config!$B$13<=Tarifs!F2354,Config!$B$13>=Tarifs!E2354),1,0)","v":0},"2026-07-01","2026-06-30",1064]
["13-0003","20","13-0003-200",{"$f":"IF(AND(Config!$B$13<=Tarifs!F2355,Config!$B$13>=Tarifs!E2355),1,0)","v":0},"2026-08-01","2026-07-31",1064]
["13-0003","20","13-0003-200",{"$f":"IF(AND(Config!$B$13<=Tarifs!F2356,Config!$B$13>=Tarifs!E2356),1,0)","v":0},"2026-09-01","2026-08-31",1064]
["13-0003","20","13-0003-200",{"$f":"IF(AND(Config!$B$13<=Tarifs!F2357,Config!$B$13>=Tarifs!E2357),1,0)","v":0},"2026-10-01","2026-09-30",1064]
["13-0003","20","13-0003-200",{"$f":"IF(AND(Config!$B$13<=Tarifs!F2358,Config!$B$13>=Tarifs!E2358),1,0)","v":0},"2026-11-01","2026-10-31",1064]
["13-0003","20","13-0003-200",{"$f":"IF(AND(Config!$B$13<=Tarifs!F2359,Config!$B$13>=Tarifs!E2359),1,0)","v":0},"2026-12-01","2026-11-30",1064]
["13-0003","20","13-0003-200",{"$f":"IF(AND(Config!$B$13<=Tarifs!F2360,Config!$B$13>=Tarifs!E2360),1,0)","v":0},"2026-05-01","2026-04-30",1064]
["13-0003","20","13-0003-200",{"$f":"IF(AND(Config!$B$13<=Tarifs!F2361,Config!$B$13>=Tarifs!E2361),1,0)","v":0},"2026-06-01","2026-05-31",1064]
["13-0003","20","13-0003-200",{"$f":"IF(AND(Config!$B$13<=Tarifs!F2362,Config!$B$13>=Tarifs!E2362),1,0)","v":0},"2026-01-01","2025-12-31",1015]
["13-0003","20","13-0003-200",{"$f":"IF(AND(Config!$B$13<=Tarifs!F2363,Config!$B$13>=Tarifs!E2363),1,0)","v":0},"2026-02-01","2026-01-31",1015]
["13-0003","20","13-0003-200",{"$f":"IF(AND(Config!$B$13<=Tarifs!F2364,Config!$B$13>=Tarifs!E2364),1,0)","v":0},"2026-03-01","2026-02-28",1015]
["13-0003","20","13-0003-200",{"$f":"IF(AND(Config!$B$13<=Tarifs!F2365,Config!$B$13>=Tarifs!E2365),1,0)","v":0},"2026-04-01","2026-03-31",1015]
["13-0003","10","13-0003-100",{"$f":"IF(AND(Config!$B$13<=Tarifs!F2366,Config!$B$13>=Tarifs!E2366),1,0)","v":0},"2026-07-01","2026-06-30",152]
["13-0003","10","13-0003-100",{"$f":"IF(AND(Config!$B$13<=Tarifs!F2367,Config!$B$13>=Tarifs!E2367),1,0)","v":0},"2026-08-01","2026-07-31",152]
["13-0003","10","13-0003-100",{"$f":"IF(AND(Config!$B$13<=Tarifs!F2368,Config!$B$13>=Tarifs!E2368),1,0)","v":0},"2026-09-01","2026-08-31",152]
["13-0003","10","13-0003-100",{"$f":"IF(AND(Config!$B$13<=Tarifs!F2369,Config!$B$13>=Tarifs!E2369),1,0)","v":0},"2026-10-01","2026-09-30",152]
["13-0003","10","13-0003-100",{"$f":"IF(AND(Config!$B$13<=Tarifs!F2370,Config!$B$13>=Tarifs!E2370),1,0)","v":0},"2026-11-01","2026-10-31",152]
["13-0003","10",{"$f":"A2371&\"-\"&B2371&D2371","v":"13-0003-100"},{"$f":"IF(AND(Config!$B$13<=Tarifs!F2371,Config!$B$13>=Tarifs!E2371),1,0)","v":0},"2026-12-01","2026-11-30",152]
["13-0003","10","13-0003-100",{"$f":"IF(AND(Config!$B$13<=Tarifs!F2372,Config!$B$13>=Tarifs!E2372),1,0)","v":0},"2026-05-01","2026-04-30",152]
["13-0003","10","13-0003-100",{"$f":"IF(AND(Config!$B$13<=Tarifs!F2373,Config!$B$13>=Tarifs!E2373),1,0)","v":0},"2026-06-01","2026-05-31",152]
["13-0003","10","13-0003-100",{"$f":"IF(AND(Config!$B$13<=Tarifs!F2374,Config!$B$13>=Tarifs!E2374),1,0)","v":0},"2026-01-01","2025-12-31",145]
["13-0003","10","13-0003-100",{"$f":"IF(AND(Config!$B$13<=Tarifs!F2375,Config!$B$13>=Tarifs!E2375),1,0)","v":0},"2026-02-01","2026-01-31",145]
["13-0003","10","13-0003-100",{"$f":"IF(AND(Config!$B$13<=Tarifs!F2376,Config!$B$13>=Tarifs!E2376),1,0)","v":0},"2026-03-01","2026-02-28",145]
["13-0003","10","13-0003-100",{"$f":"IF(AND(Config!$B$13<=Tarifs!F2377,Config!$B$13>=Tarifs!E2377),1,0)","v":0},"2026-04-01","2026-03-31",145]
["14-0005","30","14-0005-300",{"$f":"IF(AND(Config!$B$13<=Tarifs!F2378,Config!$B$13>=Tarifs!E2378),1,0)","v":0},"2026-06-01","2026-06-30",4800]
["14-0005","30","14-0005-300",{"$f":"IF(AND(Config!$B$13<=Tarifs!F2379,Config!$B$13>=Tarifs!E2379),1,0)","v":0},"2026-07-01","2026-07-31",4800]
["14-0005","30","14-0005-300",{"$f":"IF(AND(Config!$B$13<=Tarifs!F2380,Config!$B$13>=Tarifs!E2380),1,0)","v":0},"2026-08-01","2026-08-31",4800]
["14-0005","30","14-0005-300",{"$f":"IF(AND(Config!$B$13<=Tarifs!F2381,Config!$B$13>=Tarifs!E2381),1,0)","v":0},"2026-09-01","2026-09-30",4800]
["14-0005","30","14-0005-300",{"$f":"IF(AND(Config!$B$13<=Tarifs!F2382,Config!$B$13>=Tarifs!E2382),1,0)","v":0},"2026-05-01","2026-05-31",4500]
["14-0005","30","14-0005-300",{"$f":"IF(AND(Config!$B$13<=Tarifs!F2383,Config!$B$13>=Tarifs!E2383),1,0)","v":0},"2026-10-01","2026-10-31",4500]
["14-0005","30","14-0005-301",{"$f":"IF(AND(Config!$B$13<=Tarifs!F2384,Config!$B$13>=Tarifs!E2384),1,0)","v":1},"2026-01-01","2026-01-31",4200]
["14-0005","30","14-0005-300",{"$f":"IF(AND(Config!$B$13<=Tarifs!F2385,Config!$B$13>=Tarifs!E2385),1,0)","v":0},"2026-02-01","2026-02-28",4200]
["14-0005","30","14-0005-300",{"$f":"IF(AND(Config!$B$13<=Tarifs!F2386,Config!$B$13>=Tarifs!E2386),1,0)","v":0},"2026-03-01","2026-03-31",4200]
["14-0005","30","14-0005-300",{"$f":"IF(AND(Config!$B$13<=Tarifs!F2387,Config!$B$13>=Tarifs!E2387),1,0)","v":0},"2026-04-01","2026-04-30",4200]
["14-0005","30","14-0005-300",{"$f":"IF(AND(Config!$B$13<=Tarifs!F2388,Config!$B$13>=Tarifs!E2388),1,0)","v":0},"2026-11-01","2026-11-30",4200]
["14-0005","30","14-0005-300",{"$f":"IF(AND(Config!$B$13<=Tarifs!F2389,Config!$B$13>=Tarifs!E2389),1,0)","v":0},"2026-12-01","2026-12-31",4200]
["14-0005","20","14-0005-200",{"$f":"IF(AND(Config!$B$13<=Tarifs!F2390,Config!$B$13>=Tarifs!E2390),1,0)","v":0},"2026-06-01","2026-06-30",1120]
["14-0005","20","14-0005-200",{"$f":"IF(AND(Config!$B$13<=Tarifs!F2391,Config!$B$13>=Tarifs!E2391),1,0)","v":0},"2026-07-01","2026-07-31",1120]
["14-0005","20","14-0005-200",{"$f":"IF(AND(Config!$B$13<=Tarifs!F2392,Config!$B$13>=Tarifs!E2392),1,0)","v":0},"2026-08-01","2026-08-31",1120]
["14-0005","20","14-0005-200",{"$f":"IF(AND(Config!$B$13<=Tarifs!F2393,Config!$B$13>=Tarifs!E2393),1,0)","v":0},"2026-09-01","2026-09-30",1120]
["14-0005","20","14-0005-200",{"$f":"IF(AND(Config!$B$13<=Tarifs!F2394,Config!$B$13>=Tarifs!E2394),1,0)","v":0},"2026-05-01","2026-05-31",1050]
["14-0005","20","14-0005-200",{"$f":"IF(AND(Config!$B$13<=Tarifs!F2395,Config!$B$13>=Tarifs!E2395),1,0)","v":0},"2026-10-01","2026-10-31",1050]
["14-0005","20","14-0005-201",{"$f":"IF(AND(Config!$B$13<=Tarifs!F2396,Config!$B$13>=Tarifs!E2396),1,0)","v":1},"2026-01-01","2026-01-31",980]
["14-0005","20","14-0005-200",{"$f":"IF(AND(Config!$B$13<=Tarifs!F2397,Config!$B$13>=Tarifs!E2397),1,0)","v":0},"2026-02-01","2026-02-28",980]
["14-0005","20","14-0005-200",{"$f":"IF(AND(Config!$B$13<=Tarifs!F2398,Config!$B$13>=Tarifs!E2398),1,0)","v":0},"2026-03-01","2026-03-31",980]
["14-0005","20","14-0005-200",{"$f":"IF(AND(Config!$B$13<=Tarifs!F2399,Config!$B$13>=Tarifs!E2399),1,0)","v":0},"2026-04-01","2026-04-30",980]
["14-0005","20","14-0005-200",{"$f":"IF(AND(Config!$B$13<=Tarifs!F2400,Config!$B$13>=Tarifs!E2400),1,0)","v":0},"2026-11-01","2026-11-30",980]
["14-0005","20","14-0005-200",{"$f":"IF(AND(Config!$B$13<=Tarifs!F2401,Config!$B$13>=Tarifs!E2401),1,0)","v":0},"2026-12-01","2026-12-31",980]
["14-0005","10","14-0005-100",{"$f":"IF(AND(Config!$B$13<=Tarifs!F2402,Config!$B$13>=Tarifs!E2402),1,0)","v":0},"2026-06-01","2026-06-30",160]
["14-0005","10","14-0005-100",{"$f":"IF(AND(Config!$B$13<=Tarifs!F2403,Config!$B$13>=Tarifs!E2403),1,0)","v":0},"2026-07-01","2026-07-31",160]
["14-0005","10","14-0005-100",{"$f":"IF(AND(Config!$B$13<=Tarifs!F2404,Config!$B$13>=Tarifs!E2404),1,0)","v":0},"2026-08-01","2026-08-31",160]
["14-0005","10","14-0005-100",{"$f":"IF(AND(Config!$B$13<=Tarifs!F2405,Config!$B$13>=Tarifs!E2405),1,0)","v":0},"2026-09-01","2026-09-30",160]
["14-0005","10","14-0005-100",{"$f":"IF(AND(Config!$B$13<=Tarifs!F2406,Config!$B$13>=Tarifs!E2406),1,0)","v":0},"2026-05-01","2026-05-31",150]
["14-0005","10","14-0005-100",{"$f":"IF(AND(Config!$B$13<=Tarifs!F2407,Config!$B$13>=Tarifs!E2407),1,0)","v":0},"2026-10-01","2026-10-31",150]
["14-0005","10","14-0005-101",{"$f":"IF(AND(Config!$B$13<=Tarifs!F2408,Config!$B$13>=Tarifs!E2408),1,0)","v":1},"2026-01-01","2026-01-31",140]
["14-0005","10","14-0005-100",{"$f":"IF(AND(Config!$B$13<=Tarifs!F2409,Config!$B$13>=Tarifs!E2409),1,0)","v":0},"2026-02-01","2026-02-28",140]
["14-0005","10","14-0005-100",{"$f":"IF(AND(Config!$B$13<=Tarifs!F2410,Config!$B$13>=Tarifs!E2410),1,0)","v":0},"2026-03-01","2026-03-31",140]
["14-0005","10","14-0005-100",{"$f":"IF(AND(Config!$B$13<=Tarifs!F2411,Config!$B$13>=Tarifs!E2411),1,0)","v":0},"2026-04-01","2026-04-30",140]
["14-0005","10","14-0005-100",{"$f":"IF(AND(Config!$B$13<=Tarifs!F2412,Config!$B$13>=Tarifs!E2412),1,0)","v":0},"2026-11-01","2026-11-30",140]
["14-0005","10","14-0005-100",{"$f":"IF(AND(Config!$B$13<=Tarifs!F2413,Config!$B$13>=Tarifs!E2413),1,0)","v":0},"2026-12-01","2026-12-31",140]
["14-0015","30","14-0015-300",{"$f":"IF(AND(Config!$B$13<=Tarifs!F2414,Config!$B$13>=Tarifs!E2414),1,0)","v":0},"2026-07-01","2026-07-31",7660]
["14-0015","30","14-0015-300",{"$f":"IF(AND(Config!$B$13<=Tarifs!F2415,Config!$B$13>=Tarifs!E2415),1,0)","v":0},"2026-08-01","2026-08-31",5950]
["14-0015","30","14-0015-300",{"$f":"IF(AND(Config!$B$13<=Tarifs!F2416,Config!$B$13>=Tarifs!E2416),1,0)","v":0},"2026-06-01","2026-06-30",5100]
["14-0015","30","14-0015-300",{"$f":"IF(AND(Config!$B$13<=Tarifs!F2417,Config!$B$13>=Tarifs!E2417),1,0)","v":0},"2026-09-01","2026-09-30",5100]
["14-0015","30","14-0015-300",{"$f":"IF(AND(Config!$B$13<=Tarifs!F2418,Config!$B$13>=Tarifs!E2418),1,0)","v":0},"2026-10-01","2026-10-31",4700]
["14-0015","30","14-0015-300",{"$f":"IF(AND(Config!$B$13<=Tarifs!F2419,Config!$B$13>=Tarifs!E2419),1,0)","v":0},"2026-05-01","2026-05-31",4560]
["14-0015","30","14-0015-300",{"$f":"IF(AND(Config!$B$13<=Tarifs!F2420,Config!$B$13>=Tarifs!E2420),1,0)","v":0},"2026-04-01","2026-04-30",3900]
["14-0015","30","14-0015-301",{"$f":"IF(AND(Config!$B$13<=Tarifs!F2421,Config!$B$13>=Tarifs!E2421),1,0)","v":1},"2026-01-01","2026-01-31",3600]
["14-0015","30","14-0015-300",{"$f":"IF(AND(Config!$B$13<=Tarifs!F2422,Config!$B$13>=Tarifs!E2422),1,0)","v":0},"2026-02-01","2026-02-28",3600]
["14-0015","30","14-0015-300",{"$f":"IF(AND(Config!$B$13<=Tarifs!F2423,Config!$B$13>=Tarifs!E2423),1,0)","v":0},"2026-03-01","2026-03-31",3600]
["14-0015","30","14-0015-300",{"$f":"IF(AND(Config!$B$13<=Tarifs!F2424,Config!$B$13>=Tarifs!E2424),1,0)","v":0},"2026-11-01","2026-11-30",3600]
["14-0015","30","14-0015-300",{"$f":"IF(AND(Config!$B$13<=Tarifs!F2425,Config!$B$13>=Tarifs!E2425),1,0)","v":0},"2026-12-01","2026-12-31",3600]
["14-0015","20","14-0015-200",{"$f":"IF(AND(Config!$B$13<=Tarifs!F2426,Config!$B$13>=Tarifs!E2426),1,0)","v":0},"2026-07-01","2026-07-31",1883]
["14-0015","20","14-0015-200",{"$f":"IF(AND(Config!$B$13<=Tarifs!F2427,Config!$B$13>=Tarifs!E2427),1,0)","v":0},"2026-08-01","2026-08-31",1463]
["14-0015","20","14-0015-200",{"$f":"IF(AND(Config!$B$13<=Tarifs!F2428,Config!$B$13>=Tarifs!E2428),1,0)","v":0},"2026-06-01","2026-06-30",1253]
["14-0015","20","14-0015-200",{"$f":"IF(AND(Config!$B$13<=Tarifs!F2429,Config!$B$13>=Tarifs!E2429),1,0)","v":0},"2026-09-01","2026-09-30",1253]
["14-0015","20","14-0015-200",{"$f":"IF(AND(Config!$B$13<=Tarifs!F2430,Config!$B$13>=Tarifs!E2430),1,0)","v":0},"2026-10-01","2026-10-31",1155]
["14-0015","20","14-0015-200",{"$f":"IF(AND(Config!$B$13<=Tarifs!F2431,Config!$B$13>=Tarifs!E2431),1,0)","v":0},"2026-05-01","2026-05-31",1120]
["14-0015","20","14-0015-200",{"$f":"IF(AND(Config!$B$13<=Tarifs!F2432,Config!$B$13>=Tarifs!E2432),1,0)","v":0},"2026-04-01","2026-04-30",945]
["14-0015","20","14-0015-201",{"$f":"IF(AND(Config!$B$13<=Tarifs!F2433,Config!$B$13>=Tarifs!E2433),1,0)","v":1},"2026-01-01","2026-01-31",875]
["14-0015","20","14-0015-200",{"$f":"IF(AND(Config!$B$13<=Tarifs!F2434,Config!$B$13>=Tarifs!E2434),1,0)","v":0},"2026-02-01","2026-02-28",875]
["14-0015","20",{"$f":"A2435&\"-\"&B2435&D2435","v":"14-0015-200"},{"$f":"IF(AND(Config!$B$13<=Tarifs!F2435,Config!$B$13>=Tarifs!E2435),1,0)","v":0},"2026-03-01","2026-03-31",875]
["14-0015","20","14-0015-200",{"$f":"IF(AND(Config!$B$13<=Tarifs!F2436,Config!$B$13>=Tarifs!E2436),1,0)","v":0},"2026-11-01","2026-11-30",875]
["14-0015","20","14-0015-200",{"$f":"IF(AND(Config!$B$13<=Tarifs!F2437,Config!$B$13>=Tarifs!E2437),1,0)","v":0},"2026-12-01","2026-12-31",875]
["14-0015","10","14-0015-100",{"$f":"IF(AND(Config!$B$13<=Tarifs!F2438,Config!$B$13>=Tarifs!E2438),1,0)","v":0},"2026-07-01","2026-07-31",269]
["14-0015","10","14-0015-100",{"$f":"IF(AND(Config!$B$13<=Tarifs!F2439,Config!$B$13>=Tarifs!E2439),1,0)","v":0},"2026-08-01","2026-08-31",209]
["14-0015","10","14-0015-100",{"$f":"IF(AND(Config!$B$13<=Tarifs!F2440,Config!$B$13>=Tarifs!E2440),1,0)","v":0},"2026-06-01","2026-06-30",179]
["14-0015","10","14-0015-100",{"$f":"IF(AND(Config!$B$13<=Tarifs!F2441,Config!$B$13>=Tarifs!E2441),1,0)","v":0},"2026-09-01","2026-09-30",179]
["14-0015","10","14-0015-100",{"$f":"IF(AND(Config!$B$13<=Tarifs!F2442,Config!$B$13>=Tarifs!E2442),1,0)","v":0},"2026-10-01","2026-10-31",165]
["14-0015","10","14-0015-100",{"$f":"IF(AND(Config!$B$13<=Tarifs!F2443,Config!$B$13>=Tarifs!E2443),1,0)","v":0},"2026-05-01","2026-05-31",160]
["14-0015","10","14-0015-100",{"$f":"IF(AND(Config!$B$13<=Tarifs!F2444,Config!$B$13>=Tarifs!E2444),1,0)","v":0},"2026-04-01","2026-04-30",135]
["14-0015","10","14-0015-101",{"$f":"IF(AND(Config!$B$13<=Tarifs!F2445,Config!$B$13>=Tarifs!E2445),1,0)","v":1},"2026-01-01","2026-01-31",125]
["14-0015","10","14-0015-100",{"$f":"IF(AND(Config!$B$13<=Tarifs!F2446,Config!$B$13>=Tarifs!E2446),1,0)","v":0},"2026-02-01","2026-02-28",125]
["14-0015","10","14-0015-100",{"$f":"IF(AND(Config!$B$13<=Tarifs!F2447,Config!$B$13>=Tarifs!E2447),1,0)","v":0},"2026-03-01","2026-03-31",125]
["14-0015","10","14-0015-100",{"$f":"IF(AND(Config!$B$13<=Tarifs!F2448,Config!$B$13>=Tarifs!E2448),1,0)","v":0},"2026-11-01","2026-11-30",125]
["14-0015","10","14-0015-100",{"$f":"IF(AND(Config!$B$13<=Tarifs!F2449,Config!$B$13>=Tarifs!E2449),1,0)","v":0},"2026-12-01","2026-12-31",125]
["14-0016","30","14-0016-300",{"$f":"IF(AND(Config!$B$13<=Tarifs!F2450,Config!$B$13>=Tarifs!E2450),1,0)","v":0},"2026-05-01","2026-05-31",5310]
["14-0016","30","14-0016-300",{"$f":"IF(AND(Config!$B$13<=Tarifs!F2451,Config!$B$13>=Tarifs!E2451),1,0)","v":0},"2026-06-01","2026-06-30",5310]
["14-0016","30","14-0016-300",{"$f":"IF(AND(Config!$B$13<=Tarifs!F2452,Config!$B$13>=Tarifs!E2452),1,0)","v":0},"2026-07-01","2026-07-31",5310]
["14-0016","30","14-0016-300",{"$f":"IF(AND(Config!$B$13<=Tarifs!F2453,Config!$B$13>=Tarifs!E2453),1,0)","v":0},"2026-08-01","2026-08-31",5310]
["14-0016","30","14-0016-300",{"$f":"IF(AND(Config!$B$13<=Tarifs!F2454,Config!$B$13>=Tarifs!E2454),1,0)","v":0},"2026-09-01","2026-09-30",5310]
["14-0016","30","14-0016-300",{"$f":"IF(AND(Config!$B$13<=Tarifs!F2455,Config!$B$13>=Tarifs!E2455),1,0)","v":0},"2026-10-01","2026-10-31",5310]
["14-0016","30","14-0016-301",{"$f":"IF(AND(Config!$B$13<=Tarifs!F2456,Config!$B$13>=Tarifs!E2456),1,0)","v":1},"2026-01-01","2026-01-31",4830]
["14-0016","30","14-0016-300",{"$f":"IF(AND(Config!$B$13<=Tarifs!F2457,Config!$B$13>=Tarifs!E2457),1,0)","v":0},"2026-02-01","2026-02-28",4830]
["14-0016","30","14-0016-300",{"$f":"IF(AND(Config!$B$13<=Tarifs!F2458,Config!$B$13>=Tarifs!E2458),1,0)","v":0},"2026-03-01","2026-03-31",4830]
["14-0016","30","14-0016-300",{"$f":"IF(AND(Config!$B$13<=Tarifs!F2459,Config!$B$13>=Tarifs!E2459),1,0)","v":0},"2026-04-01","2026-04-30",4830]
["14-0016","30","14-0016-300",{"$f":"IF(AND(Config!$B$13<=Tarifs!F2460,Config!$B$13>=Tarifs!E2460),1,0)","v":0},"2026-11-01","2026-11-30",4830]
["14-0016","30","14-0016-300",{"$f":"IF(AND(Config!$B$13<=Tarifs!F2461,Config!$B$13>=Tarifs!E2461),1,0)","v":0},"2026-12-01","2026-12-31",4830]
["14-0016","20","14-0016-200",{"$f":"IF(AND(Config!$B$13<=Tarifs!F2462,Config!$B$13>=Tarifs!E2462),1,0)","v":0},"2026-05-01","2026-05-31",1239]
["14-0016","20","14-0016-200",{"$f":"IF(AND(Config!$B$13<=Tarifs!F2463,Config!$B$13>=Tarifs!E2463),1,0)","v":0},"2026-06-01","2026-06-30",1239]
["14-0016","20","14-0016-200",{"$f":"IF(AND(Config!$B$13<=Tarifs!F2464,Config!$B$13>=Tarifs!E2464),1,0)","v":0},"2026-07-01","2026-07-31",1239]
["14-0016","20","14-0016-200",{"$f":"IF(AND(Config!$B$13<=Tarifs!F2465,Config!$B$13>=Tarifs!E2465),1,0)","v":0},"2026-08-01","2026-08-31",1239]
["14-0016","20","14-0016-200",{"$f":"IF(AND(Config!$B$13<=Tarifs!F2466,Config!$B$13>=Tarifs!E2466),1,0)","v":0},"2026-09-01","2026-09-30",1239]
["14-0016","20","14-0016-200",{"$f":"IF(AND(Config!$B$13<=Tarifs!F2467,Config!$B$13>=Tarifs!E2467),1,0)","v":0},"2026-10-01","2026-10-31",1239]
["14-0016","20","14-0016-201",{"$f":"IF(AND(Config!$B$13<=Tarifs!F2468,Config!$B$13>=Tarifs!E2468),1,0)","v":1},"2026-01-01","2026-01-31",1127]
["14-0016","20","14-0016-200",{"$f":"IF(AND(Config!$B$13<=Tarifs!F2469,Config!$B$13>=Tarifs!E2469),1,0)","v":0},"2026-02-01","2026-02-28",1127]
["14-0016","20","14-0016-200",{"$f":"IF(AND(Config!$B$13<=Tarifs!F2470,Config!$B$13>=Tarifs!E2470),1,0)","v":0},"2026-03-01","2026-03-31",1127]
["14-0016","20","14-0016-200",{"$f":"IF(AND(Config!$B$13<=Tarifs!F2471,Config!$B$13>=Tarifs!E2471),1,0)","v":0},"2026-04-01","2026-04-30",1127]
["14-0016","20","14-0016-200",{"$f":"IF(AND(Config!$B$13<=Tarifs!F2472,Config!$B$13>=Tarifs!E2472),1,0)","v":0},"2026-11-01","2026-11-30",1127]
["14-0016","20","14-0016-200",{"$f":"IF(AND(Config!$B$13<=Tarifs!F2473,Config!$B$13>=Tarifs!E2473),1,0)","v":0},"2026-12-01","2026-12-31",1127]
["14-0016","10","14-0016-100",{"$f":"IF(AND(Config!$B$13<=Tarifs!F2474,Config!$B$13>=Tarifs!E2474),1,0)","v":0},"2026-05-01","2026-05-31",177]
["14-0016","10","14-0016-100",{"$f":"IF(AND(Config!$B$13<=Tarifs!F2475,Config!$B$13>=Tarifs!E2475),1,0)","v":0},"2026-06-01","2026-06-30",177]
["14-0016","10","14-0016-100",{"$f":"IF(AND(Config!$B$13<=Tarifs!F2476,Config!$B$13>=Tarifs!E2476),1,0)","v":0},"2026-07-01","2026-07-31",177]
["14-0016","10","14-0016-100",{"$f":"IF(AND(Config!$B$13<=Tarifs!F2477,Config!$B$13>=Tarifs!E2477),1,0)","v":0},"2026-08-01","2026-08-31",177]
["14-0016","10","14-0016-100",{"$f":"IF(AND(Config!$B$13<=Tarifs!F2478,Config!$B$13>=Tarifs!E2478),1,0)","v":0},"2026-09-01","2026-09-30",177]
["14-0016","10","14-0016-100",{"$f":"IF(AND(Config!$B$13<=Tarifs!F2479,Config!$B$13>=Tarifs!E2479),1,0)","v":0},"2026-10-01","2026-10-31",177]
["14-0016","10","14-0016-101",{"$f":"IF(AND(Config!$B$13<=Tarifs!F2480,Config!$B$13>=Tarifs!E2480),1,0)","v":1},"2026-01-01","2026-01-31",161]
["14-0016","10","14-0016-100",{"$f":"IF(AND(Config!$B$13<=Tarifs!F2481,Config!$B$13>=Tarifs!E2481),1,0)","v":0},"2026-02-01","2026-02-28",161]
["14-0016","10","14-0016-100",{"$f":"IF(AND(Config!$B$13<=Tarifs!F2482,Config!$B$13>=Tarifs!E2482),1,0)","v":0},"2026-03-01","2026-03-31",161]
["14-0016","10","14-0016-100",{"$f":"IF(AND(Config!$B$13<=Tarifs!F2483,Config!$B$13>=Tarifs!E2483),1,0)","v":0},"2026-04-01","2026-04-30",161]
["14-0016","10","14-0016-100",{"$f":"IF(AND(Config!$B$13<=Tarifs!F2484,Config!$B$13>=Tarifs!E2484),1,0)","v":0},"2026-11-01","2026-11-30",161]
["14-0016","10","14-0016-100",{"$f":"IF(AND(Config!$B$13<=Tarifs!F2485,Config!$B$13>=Tarifs!E2485),1,0)","v":0},"2026-12-01","2026-12-31",161]
["16-0001","30","16-0001-300",{"$f":"IF(AND(Config!$B$13<=Tarifs!F2486,Config!$B$13>=Tarifs!E2486),1,0)","v":0},"2026-07-01","2026-07-31",7200]
["16-0001","30","16-0001-300",{"$f":"IF(AND(Config!$B$13<=Tarifs!F2487,Config!$B$13>=Tarifs!E2487),1,0)","v":0},"2026-08-01","2026-08-31",7200]
["16-0001","30","16-0001-300",{"$f":"IF(AND(Config!$B$13<=Tarifs!F2488,Config!$B$13>=Tarifs!E2488),1,0)","v":0},"2026-09-01","2026-09-30",7200]
["16-0001","30","16-0001-300",{"$f":"IF(AND(Config!$B$13<=Tarifs!F2489,Config!$B$13>=Tarifs!E2489),1,0)","v":0},"2026-10-01","2026-10-31",7200]
["16-0001","30","16-0001-301",{"$f":"IF(AND(Config!$B$13<=Tarifs!F2490,Config!$B$13>=Tarifs!E2490),1,0)","v":1},"2026-01-01","2026-01-31",7200]
["16-0001","30","16-0001-300",{"$f":"IF(AND(Config!$B$13<=Tarifs!F2491,Config!$B$13>=Tarifs!E2491),1,0)","v":0},"2026-02-01","2026-02-28",7200]
["16-0001","30","16-0001-300",{"$f":"IF(AND(Config!$B$13<=Tarifs!F2492,Config!$B$13>=Tarifs!E2492),1,0)","v":0},"2026-03-01","2026-03-31",7200]
["16-0001","30","16-0001-300",{"$f":"IF(AND(Config!$B$13<=Tarifs!F2493,Config!$B$13>=Tarifs!E2493),1,0)","v":0},"2026-04-01","2026-04-30",4950]
["16-0001","30","16-0001-300",{"$f":"IF(AND(Config!$B$13<=Tarifs!F2494,Config!$B$13>=Tarifs!E2494),1,0)","v":0},"2026-05-01","2026-05-31",4950]
["16-0001","30","16-0001-300",{"$f":"IF(AND(Config!$B$13<=Tarifs!F2495,Config!$B$13>=Tarifs!E2495),1,0)","v":0},"2026-06-01","2026-06-30",4950]
["16-0001","30","16-0001-300",{"$f":"IF(AND(Config!$B$13<=Tarifs!F2496,Config!$B$13>=Tarifs!E2496),1,0)","v":0},"2026-11-01","2026-11-30",4950]
["16-0001","30","16-0001-300",{"$f":"IF(AND(Config!$B$13<=Tarifs!F2497,Config!$B$13>=Tarifs!E2497),1,0)","v":0},"2026-12-01","2026-12-31",4950]
["16-0001","20","16-0001-200",{"$f":"IF(AND(Config!$B$13<=Tarifs!F2498,Config!$B$13>=Tarifs!E2498),1,0)","v":0},"2026-07-01","2026-07-31",1680]
["16-0001","20",{"$f":"A2499&\"-\"&B2499&D2499","v":"16-0001-200"},{"$f":"IF(AND(Config!$B$13<=Tarifs!F2499,Config!$B$13>=Tarifs!E2499),1,0)","v":0},"2026-08-01","2026-08-31",1680]
["16-0001","20","16-0001-200",{"$f":"IF(AND(Config!$B$13<=Tarifs!F2500,Config!$B$13>=Tarifs!E2500),1,0)","v":0},"2026-09-01","2026-09-30",1680]
["16-0001","20","16-0001-200",{"$f":"IF(AND(Config!$B$13<=Tarifs!F2501,Config!$B$13>=Tarifs!E2501),1,0)","v":0},"2026-10-01","2026-10-31",1680]
["16-0001","20","16-0001-201",{"$f":"IF(AND(Config!$B$13<=Tarifs!F2502,Config!$B$13>=Tarifs!E2502),1,0)","v":1},"2026-01-01","2026-01-31",1680]
["16-0001","20","16-0001-200",{"$f":"IF(AND(Config!$B$13<=Tarifs!F2503,Config!$B$13>=Tarifs!E2503),1,0)","v":0},"2026-02-01","2026-02-28",1680]
["16-0001","20","16-0001-200",{"$f":"IF(AND(Config!$B$13<=Tarifs!F2504,Config!$B$13>=Tarifs!E2504),1,0)","v":0},"2026-03-01","2026-03-31",1680]
["16-0001","20","16-0001-200",{"$f":"IF(AND(Config!$B$13<=Tarifs!F2505,Config!$B$13>=Tarifs!E2505),1,0)","v":0},"2026-04-01","2026-04-30",1155]
["16-0001","20","16-0001-200",{"$f":"IF(AND(Config!$B$13<=Tarifs!F2506,Config!$B$13>=Tarifs!E2506),1,0)","v":0},"2026-05-01","2026-05-31",1155]
["16-0001","20","16-0001-200",{"$f":"IF(AND(Config!$B$13<=Tarifs!F2507,Config!$B$13>=Tarifs!E2507),1,0)","v":0},"2026-06-01","2026-06-30",1155]
["16-0001","20","16-0001-200",{"$f":"IF(AND(Config!$B$13<=Tarifs!F2508,Config!$B$13>=Tarifs!E2508),1,0)","v":0},"2026-11-01","2026-11-30",1155]
["16-0001","20","16-0001-200",{"$f":"IF(AND(Config!$B$13<=Tarifs!F2509,Config!$B$13>=Tarifs!E2509),1,0)","v":0},"2026-12-01","2026-12-31",1155]
["16-0001","10","16-0001-100",{"$f":"IF(AND(Config!$B$13<=Tarifs!F2510,Config!$B$13>=Tarifs!E2510),1,0)","v":0},"2026-07-01","2026-07-31",240]
["16-0001","10","16-0001-100",{"$f":"IF(AND(Config!$B$13<=Tarifs!F2511,Config!$B$13>=Tarifs!E2511),1,0)","v":0},"2026-08-01","2026-08-31",240]
["16-0001","10","16-0001-100",{"$f":"IF(AND(Config!$B$13<=Tarifs!F2512,Config!$B$13>=Tarifs!E2512),1,0)","v":0},"2026-09-01","2026-09-30",240]
["16-0001","10","16-0001-100",{"$f":"IF(AND(Config!$B$13<=Tarifs!F2513,Config!$B$13>=Tarifs!E2513),1,0)","v":0},"2026-10-01","2026-10-31",240]
["16-0001","10","16-0001-101",{"$f":"IF(AND(Config!$B$13<=Tarifs!F2514,Config!$B$13>=Tarifs!E2514),1,0)","v":1},"2026-01-01","2026-01-31",240]
["16-0001","10","16-0001-100",{"$f":"IF(AND(Config!$B$13<=Tarifs!F2515,Config!$B$13>=Tarifs!E2515),1,0)","v":0},"2026-02-01","2026-02-28",240]
["16-0001","10","16-0001-100",{"$f":"IF(AND(Config!$B$13<=Tarifs!F2516,Config!$B$13>=Tarifs!E2516),1,0)","v":0},"2026-03-01","2026-03-31",240]
["16-0001","10","16-0001-100",{"$f":"IF(AND(Config!$B$13<=Tarifs!F2517,Config!$B$13>=Tarifs!E2517),1,0)","v":0},"2026-05-01","2026-05-31",165]
["16-0001","10","16-0001-100",{"$f":"IF(AND(Config!$B$13<=Tarifs!F2518,Config!$B$13>=Tarifs!E2518),1,0)","v":0},"2026-06-01","2026-06-30",165]
["16-0001","10","16-0001-100",{"$f":"IF(AND(Config!$B$13<=Tarifs!F2519,Config!$B$13>=Tarifs!E2519),1,0)","v":0},"2026-11-01","2026-11-30",165]
["16-0001","10","16-0001-100",{"$f":"IF(AND(Config!$B$13<=Tarifs!F2520,Config!$B$13>=Tarifs!E2520),1,0)","v":0},"2026-12-01","2026-12-31",165]
["16-0001","10","16-0001-100",{"$f":"IF(AND(Config!$B$13<=Tarifs!F2521,Config!$B$13>=Tarifs!E2521),1,0)","v":0},"2026-04-01","2026-04-30",165]
["16-0002","30","16-0002-301",{"$f":"IF(AND(Config!$B$13<=Tarifs!F2522,Config!$B$13>=Tarifs!E2522),1,0)","v":1},"2026-01-01","2026-01-31",5699.7]
["16-0002","30","16-0002-300",{"$f":"IF(AND(Config!$B$13<=Tarifs!F2523,Config!$B$13>=Tarifs!E2523),1,0)","v":0},"2026-02-01","2026-02-28",5699.7]
["16-0002","30","16-0002-300",{"$f":"IF(AND(Config!$B$13<=Tarifs!F2524,Config!$B$13>=Tarifs!E2524),1,0)","v":0},"2026-03-01","2026-03-31",5699.7]
["16-0002","30","16-0002-300",{"$f":"IF(AND(Config!$B$13<=Tarifs!F2525,Config!$B$13>=Tarifs!E2525),1,0)","v":0},"2026-04-01","2026-04-30",5699.7]
["16-0002","30","16-0002-300",{"$f":"IF(AND(Config!$B$13<=Tarifs!F2526,Config!$B$13>=Tarifs!E2526),1,0)","v":0},"2026-05-01","2026-05-31",5699.7]
["16-0002","30","16-0002-300",{"$f":"IF(AND(Config!$B$13<=Tarifs!F2527,Config!$B$13>=Tarifs!E2527),1,0)","v":0},"2026-06-01","2026-06-30",5699.7]
["16-0002","30","16-0002-300",{"$f":"IF(AND(Config!$B$13<=Tarifs!F2528,Config!$B$13>=Tarifs!E2528),1,0)","v":0},"2026-07-01","2026-07-31",5699.7]
["16-0002","30","16-0002-300",{"$f":"IF(AND(Config!$B$13<=Tarifs!F2529,Config!$B$13>=Tarifs!E2529),1,0)","v":0},"2026-08-01","2026-08-31",5699.7]
["16-0002","30","16-0002-300",{"$f":"IF(AND(Config!$B$13<=Tarifs!F2530,Config!$B$13>=Tarifs!E2530),1,0)","v":0},"2026-09-01","2026-09-30",5699.7]
["16-0002","30","16-0002-300",{"$f":"IF(AND(Config!$B$13<=Tarifs!F2531,Config!$B$13>=Tarifs!E2531),1,0)","v":0},"2026-10-01","2026-10-31",5699.7]
["16-0002","30","16-0002-300",{"$f":"IF(AND(Config!$B$13<=Tarifs!F2532,Config!$B$13>=Tarifs!E2532),1,0)","v":0},"2026-11-01","2026-11-30",5699.7]
["16-0002","30","16-0002-300",{"$f":"IF(AND(Config!$B$13<=Tarifs!F2533,Config!$B$13>=Tarifs!E2533),1,0)","v":0},"2026-12-01","2026-12-31",5699.7]
["16-0002","20","16-0002-201",{"$f":"IF(AND(Config!$B$13<=Tarifs!F2534,Config!$B$13>=Tarifs!E2534),1,0)","v":1},"2026-01-01","2026-01-31",1329.93]
["16-0002","20","16-0002-200",{"$f":"IF(AND(Config!$B$13<=Tarifs!F2535,Config!$B$13>=Tarifs!E2535),1,0)","v":0},"2026-02-01","2026-02-28",1329.93]
["16-0002","20","16-0002-200",{"$f":"IF(AND(Config!$B$13<=Tarifs!F2536,Config!$B$13>=Tarifs!E2536),1,0)","v":0},"2026-03-01","2026-03-31",1329.93]
["16-0002","20","16-0002-200",{"$f":"IF(AND(Config!$B$13<=Tarifs!F2537,Config!$B$13>=Tarifs!E2537),1,0)","v":0},"2026-04-01","2026-04-30",1329.93]
["16-0002","20","16-0002-200",{"$f":"IF(AND(Config!$B$13<=Tarifs!F2538,Config!$B$13>=Tarifs!E2538),1,0)","v":0},"2026-05-01","2026-05-31",1329.93]
["16-0002","20","16-0002-200",{"$f":"IF(AND(Config!$B$13<=Tarifs!F2539,Config!$B$13>=Tarifs!E2539),1,0)","v":0},"2026-06-01","2026-06-30",1329.93]
["16-0002","20","16-0002-200",{"$f":"IF(AND(Config!$B$13<=Tarifs!F2540,Config!$B$13>=Tarifs!E2540),1,0)","v":0},"2026-07-01","2026-07-31",1329.93]
["16-0002","20","16-0002-200",{"$f":"IF(AND(Config!$B$13<=Tarifs!F2541,Config!$B$13>=Tarifs!E2541),1,0)","v":0},"2026-08-01","2026-08-31",1329.93]
["16-0002","20","16-0002-200",{"$f":"IF(AND(Config!$B$13<=Tarifs!F2542,Config!$B$13>=Tarifs!E2542),1,0)","v":0},"2026-09-01","2026-09-30",1329.93]
["16-0002","20","16-0002-200",{"$f":"IF(AND(Config!$B$13<=Tarifs!F2543,Config!$B$13>=Tarifs!E2543),1,0)","v":0},"2026-10-01","2026-10-31",1329.93]
["16-0002","20","16-0002-200",{"$f":"IF(AND(Config!$B$13<=Tarifs!F2544,Config!$B$13>=Tarifs!E2544),1,0)","v":0},"2026-11-01","2026-11-30",1329.93]
["16-0002","20","16-0002-200",{"$f":"IF(AND(Config!$B$13<=Tarifs!F2545,Config!$B$13>=Tarifs!E2545),1,0)","v":0},"2026-12-01","2026-12-31",1329.93]
["16-0002","10","16-0002-101",{"$f":"IF(AND(Config!$B$13<=Tarifs!F2546,Config!$B$13>=Tarifs!E2546),1,0)","v":1},"2026-01-01","2026-01-31",189.99]
["16-0002","10","16-0002-100",{"$f":"IF(AND(Config!$B$13<=Tarifs!F2547,Config!$B$13>=Tarifs!E2547),1,0)","v":0},"2026-02-01","2026-02-28",189.99]
["16-0002","10","16-0002-100",{"$f":"IF(AND(Config!$B$13<=Tarifs!F2548,Config!$B$13>=Tarifs!E2548),1,0)","v":0},"2026-03-01","2026-03-31",189.99]
["16-0002","10","16-0002-100",{"$f":"IF(AND(Config!$B$13<=Tarifs!F2549,Config!$B$13>=Tarifs!E2549),1,0)","v":0},"2026-04-01","2026-04-30",189.99]
["16-0002","10","16-0002-100",{"$f":"IF(AND(Config!$B$13<=Tarifs!F2550,Config!$B$13>=Tarifs!E2550),1,0)","v":0},"2026-05-01","2026-05-31",189.99]
["16-0002","10","16-0002-100",{"$f":"IF(AND(Config!$B$13<=Tarifs!F2551,Config!$B$13>=Tarifs!E2551),1,0)","v":0},"2026-06-01","2026-06-30",189.99]
["16-0002","10","16-0002-100",{"$f":"IF(AND(Config!$B$13<=Tarifs!F2552,Config!$B$13>=Tarifs!E2552),1,0)","v":0},"2026-07-01","2026-07-31",189.99]
["16-0002","10","16-0002-100",{"$f":"IF(AND(Config!$B$13<=Tarifs!F2553,Config!$B$13>=Tarifs!E2553),1,0)","v":0},"2026-08-01","2026-08-31",189.99]
["16-0002","10","16-0002-100",{"$f":"IF(AND(Config!$B$13<=Tarifs!F2554,Config!$B$13>=Tarifs!E2554),1,0)","v":0},"2026-09-01","2026-09-30",189.99]
["16-0002","10","16-0002-100",{"$f":"IF(AND(Config!$B$13<=Tarifs!F2555,Config!$B$13>=Tarifs!E2555),1,0)","v":0},"2026-10-01","2026-10-31",189.99]
["16-0002","10","16-0002-100",{"$f":"IF(AND(Config!$B$13<=Tarifs!F2556,Config!$B$13>=Tarifs!E2556),1,0)","v":0},"2026-11-01","2026-11-30",189.99]
["16-0002","10","16-0002-100",{"$f":"IF(AND(Config!$B$13<=Tarifs!F2557,Config!$B$13>=Tarifs!E2557),1,0)","v":0},"2026-12-01","2026-12-31",189.99]
["16-0004","30","16-0004-301",{"$f":"IF(AND(Config!$B$13<=Tarifs!F2558,Config!$B$13>=Tarifs!E2558),1,0)","v":1},"2026-01-01","2026-01-31",4380]
["16-0004","30","16-0004-300",{"$f":"IF(AND(Config!$B$13<=Tarifs!F2559,Config!$B$13>=Tarifs!E2559),1,0)","v":0},"2026-02-01","2026-02-28",4380]
["16-0004","30","16-0004-300",{"$f":"IF(AND(Config!$B$13<=Tarifs!F2560,Config!$B$13>=Tarifs!E2560),1,0)","v":0},"2026-03-01","2026-03-31",4380]
["16-0004","30","16-0004-300",{"$f":"IF(AND(Config!$B$13<=Tarifs!F2561,Config!$B$13>=Tarifs!E2561),1,0)","v":0},"2026-04-01","2026-04-30",4380]
["16-0004","30","16-0004-300",{"$f":"IF(AND(Config!$B$13<=Tarifs!F2562,Config!$B$13>=Tarifs!E2562),1,0)","v":0},"2026-05-01","2026-05-31",4380]
["16-0004","30",{"$f":"A2563&\"-\"&B2563&D2563","v":"16-0004-300"},{"$f":"IF(AND(Config!$B$13<=Tarifs!F2563,Config!$B$13>=Tarifs!E2563),1,0)","v":0},"2026-06-01","2026-06-30",4380]
["16-0004","30","16-0004-300",{"$f":"IF(AND(Config!$B$13<=Tarifs!F2564,Config!$B$13>=Tarifs!E2564),1,0)","v":0},"2026-07-01","2026-07-31",4380]
["16-0004","30","16-0004-300",{"$f":"IF(AND(Config!$B$13<=Tarifs!F2565,Config!$B$13>=Tarifs!E2565),1,0)","v":0},"2026-08-01","2026-08-31",4380]
["16-0004","30","16-0004-300",{"$f":"IF(AND(Config!$B$13<=Tarifs!F2566,Config!$B$13>=Tarifs!E2566),1,0)","v":0},"2026-09-01","2026-09-30",4380]
["16-0004","30","16-0004-300",{"$f":"IF(AND(Config!$B$13<=Tarifs!F2567,Config!$B$13>=Tarifs!E2567),1,0)","v":0},"2026-10-01","2026-10-31",4380]
["16-0004","30","16-0004-300",{"$f":"IF(AND(Config!$B$13<=Tarifs!F2568,Config!$B$13>=Tarifs!E2568),1,0)","v":0},"2026-11-01","2026-11-30",4380]
["16-0004","30","16-0004-300",{"$f":"IF(AND(Config!$B$13<=Tarifs!F2569,Config!$B$13>=Tarifs!E2569),1,0)","v":0},"2026-12-01","2026-12-31",4380]
["16-0004","20","16-0004-201",{"$f":"IF(AND(Config!$B$13<=Tarifs!F2570,Config!$B$13>=Tarifs!E2570),1,0)","v":1},"2026-01-01","2026-01-31",1022]
["16-0004","20","16-0004-200",{"$f":"IF(AND(Config!$B$13<=Tarifs!F2571,Config!$B$13>=Tarifs!E2571),1,0)","v":0},"2026-02-01","2026-02-28",1022]
["16-0004","20","16-0004-200",{"$f":"IF(AND(Config!$B$13<=Tarifs!F2572,Config!$B$13>=Tarifs!E2572),1,0)","v":0},"2026-03-01","2026-03-31",1022]
["16-0004","20","16-0004-200",{"$f":"IF(AND(Config!$B$13<=Tarifs!F2573,Config!$B$13>=Tarifs!E2573),1,0)","v":0},"2026-04-01","2026-04-30",1022]
["16-0004","20","16-0004-200",{"$f":"IF(AND(Config!$B$13<=Tarifs!F2574,Config!$B$13>=Tarifs!E2574),1,0)","v":0},"2026-05-01","2026-05-31",1022]
["16-0004","20","16-0004-200",{"$f":"IF(AND(Config!$B$13<=Tarifs!F2575,Config!$B$13>=Tarifs!E2575),1,0)","v":0},"2026-06-01","2026-06-30",1022]
["16-0004","20","16-0004-200",{"$f":"IF(AND(Config!$B$13<=Tarifs!F2576,Config!$B$13>=Tarifs!E2576),1,0)","v":0},"2026-07-01","2026-07-31",1022]
["16-0004","20","16-0004-200",{"$f":"IF(AND(Config!$B$13<=Tarifs!F2577,Config!$B$13>=Tarifs!E2577),1,0)","v":0},"2026-08-01","2026-08-31",1022]
["16-0004","20","16-0004-200",{"$f":"IF(AND(Config!$B$13<=Tarifs!F2578,Config!$B$13>=Tarifs!E2578),1,0)","v":0},"2026-09-01","2026-09-30",1022]
["16-0004","20","16-0004-200",{"$f":"IF(AND(Config!$B$13<=Tarifs!F2579,Config!$B$13>=Tarifs!E2579),1,0)","v":0},"2026-10-01","2026-10-31",1022]
["16-0004","20","16-0004-200",{"$f":"IF(AND(Config!$B$13<=Tarifs!F2580,Config!$B$13>=Tarifs!E2580),1,0)","v":0},"2026-11-01","2026-11-30",1022]
["16-0004","20","16-0004-200",{"$f":"IF(AND(Config!$B$13<=Tarifs!F2581,Config!$B$13>=Tarifs!E2581),1,0)","v":0},"2026-12-01","2026-12-31",1022]
["16-0004","10","16-0004-101",{"$f":"IF(AND(Config!$B$13<=Tarifs!F2582,Config!$B$13>=Tarifs!E2582),1,0)","v":1},"2026-01-01","2026-01-31",146]
["16-0004","10","16-0004-100",{"$f":"IF(AND(Config!$B$13<=Tarifs!F2583,Config!$B$13>=Tarifs!E2583),1,0)","v":0},"2026-02-01","2026-02-28",146]
["16-0004","10","16-0004-100",{"$f":"IF(AND(Config!$B$13<=Tarifs!F2584,Config!$B$13>=Tarifs!E2584),1,0)","v":0},"2026-03-01","2026-03-31",146]
["16-0004","10","16-0004-100",{"$f":"IF(AND(Config!$B$13<=Tarifs!F2585,Config!$B$13>=Tarifs!E2585),1,0)","v":0},"2026-04-01","2026-04-30",146]
["16-0004","10","16-0004-100",{"$f":"IF(AND(Config!$B$13<=Tarifs!F2586,Config!$B$13>=Tarifs!E2586),1,0)","v":0},"2026-05-01","2026-05-31",146]
["16-0004","10","16-0004-100",{"$f":"IF(AND(Config!$B$13<=Tarifs!F2587,Config!$B$13>=Tarifs!E2587),1,0)","v":0},"2026-06-01","2026-06-30",146]
["16-0004","10","16-0004-100",{"$f":"IF(AND(Config!$B$13<=Tarifs!F2588,Config!$B$13>=Tarifs!E2588),1,0)","v":0},"2026-07-01","2026-07-31",146]
["16-0004","10","16-0004-100",{"$f":"IF(AND(Config!$B$13<=Tarifs!F2589,Config!$B$13>=Tarifs!E2589),1,0)","v":0},"2026-08-01","2026-08-31",146]
["16-0004","10","16-0004-100",{"$f":"IF(AND(Config!$B$13<=Tarifs!F2590,Config!$B$13>=Tarifs!E2590),1,0)","v":0},"2026-09-01","2026-09-30",146]
["16-0004","10","16-0004-100",{"$f":"IF(AND(Config!$B$13<=Tarifs!F2591,Config!$B$13>=Tarifs!E2591),1,0)","v":0},"2026-10-01","2026-10-31",146]
["16-0004","10","16-0004-100",{"$f":"IF(AND(Config!$B$13<=Tarifs!F2592,Config!$B$13>=Tarifs!E2592),1,0)","v":0},"2026-11-01","2026-11-30",146]
["16-0004","10","16-0004-100",{"$f":"IF(AND(Config!$B$13<=Tarifs!F2593,Config!$B$13>=Tarifs!E2593),1,0)","v":0},"2026-12-01","2026-12-31",146]
["16-0005","30","16-0005-300",{"$f":"IF(AND(Config!$B$13<=Tarifs!F2594,Config!$B$13>=Tarifs!E2594),1,0)","v":0},"2026-06-01","2026-06-30",5370]
["16-0005","30","16-0005-300",{"$f":"IF(AND(Config!$B$13<=Tarifs!F2595,Config!$B$13>=Tarifs!E2595),1,0)","v":0},"2026-07-01","2026-07-31",5370]
["16-0005","30","16-0005-300",{"$f":"IF(AND(Config!$B$13<=Tarifs!F2596,Config!$B$13>=Tarifs!E2596),1,0)","v":0},"2026-08-01","2026-08-31",5370]
["16-0005","30","16-0005-301",{"$f":"IF(AND(Config!$B$13<=Tarifs!F2597,Config!$B$13>=Tarifs!E2597),1,0)","v":1},"2026-01-01","2026-01-31",4920]
["16-0005","30","16-0005-300",{"$f":"IF(AND(Config!$B$13<=Tarifs!F2598,Config!$B$13>=Tarifs!E2598),1,0)","v":0},"2026-02-01","2026-02-28",4920]
["16-0005","30","16-0005-300",{"$f":"IF(AND(Config!$B$13<=Tarifs!F2599,Config!$B$13>=Tarifs!E2599),1,0)","v":0},"2026-03-01","2026-03-31",4920]
["16-0005","30","16-0005-300",{"$f":"IF(AND(Config!$B$13<=Tarifs!F2600,Config!$B$13>=Tarifs!E2600),1,0)","v":0},"2026-04-01","2026-04-30",4920]
["16-0005","30","16-0005-300",{"$f":"IF(AND(Config!$B$13<=Tarifs!F2601,Config!$B$13>=Tarifs!E2601),1,0)","v":0},"2026-05-01","2026-05-31",4920]
["16-0005","30","16-0005-300",{"$f":"IF(AND(Config!$B$13<=Tarifs!F2602,Config!$B$13>=Tarifs!E2602),1,0)","v":0},"2026-09-01","2026-09-30",4920]
["16-0005","30","16-0005-300",{"$f":"IF(AND(Config!$B$13<=Tarifs!F2603,Config!$B$13>=Tarifs!E2603),1,0)","v":0},"2026-10-01","2026-10-31",4920]
["16-0005","30","16-0005-300",{"$f":"IF(AND(Config!$B$13<=Tarifs!F2604,Config!$B$13>=Tarifs!E2604),1,0)","v":0},"2026-11-01","2026-11-30",4920]
["16-0005","30","16-0005-300",{"$f":"IF(AND(Config!$B$13<=Tarifs!F2605,Config!$B$13>=Tarifs!E2605),1,0)","v":0},"2026-12-01","2026-12-31",4920]
["16-0005","20","16-0005-200",{"$f":"IF(AND(Config!$B$13<=Tarifs!F2606,Config!$B$13>=Tarifs!E2606),1,0)","v":0},"2026-06-01","2026-06-30",1253]
["16-0005","20","16-0005-200",{"$f":"IF(AND(Config!$B$13<=Tarifs!F2607,Config!$B$13>=Tarifs!E2607),1,0)","v":0},"2026-07-01","2026-07-31",1253]
["16-0005","20","16-0005-200",{"$f":"IF(AND(Config!$B$13<=Tarifs!F2608,Config!$B$13>=Tarifs!E2608),1,0)","v":0},"2026-08-01","2026-08-31",1253]
["16-0005","20","16-0005-201",{"$f":"IF(AND(Config!$B$13<=Tarifs!F2609,Config!$B$13>=Tarifs!E2609),1,0)","v":1},"2026-01-01","2026-01-31",1148]
["16-0005","20","16-0005-200",{"$f":"IF(AND(Config!$B$13<=Tarifs!F2610,Config!$B$13>=Tarifs!E2610),1,0)","v":0},"2026-02-01","2026-02-28",1148]
["16-0005","20","16-0005-200",{"$f":"IF(AND(Config!$B$13<=Tarifs!F2611,Config!$B$13>=Tarifs!E2611),1,0)","v":0},"2026-03-01","2026-03-31",1148]
["16-0005","20","16-0005-200",{"$f":"IF(AND(Config!$B$13<=Tarifs!F2612,Config!$B$13>=Tarifs!E2612),1,0)","v":0},"2026-04-01","2026-04-30",1148]
["16-0005","20","16-0005-200",{"$f":"IF(AND(Config!$B$13<=Tarifs!F2613,Config!$B$13>=Tarifs!E2613),1,0)","v":0},"2026-05-01","2026-05-31",1148]
["16-0005","20","16-0005-200",{"$f":"IF(AND(Config!$B$13<=Tarifs!F2614,Config!$B$13>=Tarifs!E2614),1,0)","v":0},"2026-09-01","2026-09-30",1148]
["16-0005","20","16-0005-200",{"$f":"IF(AND(Config!$B$13<=Tarifs!F2615,Config!$B$13>=Tarifs!E2615),1,0)","v":0},"2026-10-01","2026-10-31",1148]
["16-0005","20","16-0005-200",{"$f":"IF(AND(Config!$B$13<=Tarifs!F2616,Config!$B$13>=Tarifs!E2616),1,0)","v":0},"2026-11-01","2026-11-30",1148]
["16-0005","20","16-0005-200",{"$f":"IF(AND(Config!$B$13<=Tarifs!F2617,Config!$B$13>=Tarifs!E2617),1,0)","v":0},"2026-12-01","2026-12-31",1148]
["16-0005","10","16-0005-100",{"$f":"IF(AND(Config!$B$13<=Tarifs!F2618,Config!$B$13>=Tarifs!E2618),1,0)","v":0},"2026-06-01","2026-06-30",179]
["16-0005","10","16-0005-100",{"$f":"IF(AND(Config!$B$13<=Tarifs!F2619,Config!$B$13>=Tarifs!E2619),1,0)","v":0},"2026-07-01","2026-07-31",179]
["16-0005","10","16-0005-100",{"$f":"IF(AND(Config!$B$13<=Tarifs!F2620,Config!$B$13>=Tarifs!E2620),1,0)","v":0},"2026-08-01","2026-08-31",179]
["16-0005","10","16-0005-101",{"$f":"IF(AND(Config!$B$13<=Tarifs!F2621,Config!$B$13>=Tarifs!E2621),1,0)","v":1},"2026-01-01","2026-01-31",164]
["16-0005","10","16-0005-100",{"$f":"IF(AND(Config!$B$13<=Tarifs!F2622,Config!$B$13>=Tarifs!E2622),1,0)","v":0},"2026-02-01","2026-02-28",164]
["16-0005","10","16-0005-100",{"$f":"IF(AND(Config!$B$13<=Tarifs!F2623,Config!$B$13>=Tarifs!E2623),1,0)","v":0},"2026-03-01","2026-03-31",164]
["16-0005","10","16-0005-100",{"$f":"IF(AND(Config!$B$13<=Tarifs!F2624,Config!$B$13>=Tarifs!E2624),1,0)","v":0},"2026-04-01","2026-04-30",164]
["16-0005","10","16-0005-100",{"$f":"IF(AND(Config!$B$13<=Tarifs!F2625,Config!$B$13>=Tarifs!E2625),1,0)","v":0},"2026-05-01","2026-05-31",164]
["16-0005","10","16-0005-100",{"$f":"IF(AND(Config!$B$13<=Tarifs!F2626,Config!$B$13>=Tarifs!E2626),1,0)","v":0},"2026-09-01","2026-09-30",164]
["16-0005","10",{"$f":"A2627&\"-\"&B2627&D2627","v":"16-0005-100"},{"$f":"IF(AND(Config!$B$13<=Tarifs!F2627,Config!$B$13>=Tarifs!E2627),1,0)","v":0},"2026-10-01","2026-10-31",164]
["16-0005","10","16-0005-100",{"$f":"IF(AND(Config!$B$13<=Tarifs!F2628,Config!$B$13>=Tarifs!E2628),1,0)","v":0},"2026-11-01","2026-11-30",164]
["16-0005","10","16-0005-100",{"$f":"IF(AND(Config!$B$13<=Tarifs!F2629,Config!$B$13>=Tarifs!E2629),1,0)","v":0},"2026-12-01","2026-12-31",164]
["17-0001","30","17-0001-300",{"$f":"IF(AND(Config!$B$13<=Tarifs!F2630,Config!$B$13>=Tarifs!E2630),1,0)","v":0},"2026-08-01","2026-08-31",4560]
["17-0001","30","17-0001-300",{"$f":"IF(AND(Config!$B$13<=Tarifs!F2631,Config!$B$13>=Tarifs!E2631),1,0)","v":0},"2026-09-01","2026-09-30",4560]
["17-0001","30","17-0001-300",{"$f":"IF(AND(Config!$B$13<=Tarifs!F2632,Config!$B$13>=Tarifs!E2632),1,0)","v":0},"2026-10-01","2026-10-31",4560]
["17-0001","30","17-0001-300",{"$f":"IF(AND(Config!$B$13<=Tarifs!F2633,Config!$B$13>=Tarifs!E2633),1,0)","v":0},"2026-11-01","2026-11-30",4560]
["17-0001","30","17-0001-300",{"$f":"IF(AND(Config!$B$13<=Tarifs!F2634,Config!$B$13>=Tarifs!E2634),1,0)","v":0},"2026-12-01","2026-12-31",4560]
["17-0001","30","17-0001-301",{"$f":"IF(AND(Config!$B$13<=Tarifs!F2635,Config!$B$13>=Tarifs!E2635),1,0)","v":1},"2026-01-01","2026-01-31",4560]
["17-0001","30","17-0001-300",{"$f":"IF(AND(Config!$B$13<=Tarifs!F2636,Config!$B$13>=Tarifs!E2636),1,0)","v":0},"2026-02-01","2026-02-28",4560]
["17-0001","30","17-0001-300",{"$f":"IF(AND(Config!$B$13<=Tarifs!F2637,Config!$B$13>=Tarifs!E2637),1,0)","v":0},"2026-03-01","2026-03-31",4560]
["17-0001","30","17-0001-300",{"$f":"IF(AND(Config!$B$13<=Tarifs!F2638,Config!$B$13>=Tarifs!E2638),1,0)","v":0},"2026-04-01","2026-04-30",4560]
["17-0001","30","17-0001-300",{"$f":"IF(AND(Config!$B$13<=Tarifs!F2639,Config!$B$13>=Tarifs!E2639),1,0)","v":0},"2026-05-01","2026-05-31",4560]
["17-0001","30","17-0001-300",{"$f":"IF(AND(Config!$B$13<=Tarifs!F2640,Config!$B$13>=Tarifs!E2640),1,0)","v":0},"2026-06-01","2026-06-30",4560]
["17-0001","30","17-0001-300",{"$f":"IF(AND(Config!$B$13<=Tarifs!F2641,Config!$B$13>=Tarifs!E2641),1,0)","v":0},"2026-07-01","2026-07-31",4560]
["17-0001","20","17-0001-200",{"$f":"IF(AND(Config!$B$13<=Tarifs!F2642,Config!$B$13>=Tarifs!E2642),1,0)","v":0},"2026-08-01","2026-08-31",1064]
["17-0001","20","17-0001-200",{"$f":"IF(AND(Config!$B$13<=Tarifs!F2643,Config!$B$13>=Tarifs!E2643),1,0)","v":0},"2026-09-01","2026-09-30",1064]
["17-0001","20","17-0001-200",{"$f":"IF(AND(Config!$B$13<=Tarifs!F2644,Config!$B$13>=Tarifs!E2644),1,0)","v":0},"2026-10-01","2026-10-31",1064]
["17-0001","20","17-0001-200",{"$f":"IF(AND(Config!$B$13<=Tarifs!F2645,Config!$B$13>=Tarifs!E2645),1,0)","v":0},"2026-11-01","2026-11-30",1064]
["17-0001","20","17-0001-200",{"$f":"IF(AND(Config!$B$13<=Tarifs!F2646,Config!$B$13>=Tarifs!E2646),1,0)","v":0},"2026-12-01","2026-12-31",1064]
["17-0001","20","17-0001-201",{"$f":"IF(AND(Config!$B$13<=Tarifs!F2647,Config!$B$13>=Tarifs!E2647),1,0)","v":1},"2026-01-01","2026-01-31",1064]
["17-0001","20","17-0001-200",{"$f":"IF(AND(Config!$B$13<=Tarifs!F2648,Config!$B$13>=Tarifs!E2648),1,0)","v":0},"2026-02-01","2026-02-28",1064]
["17-0001","20","17-0001-200",{"$f":"IF(AND(Config!$B$13<=Tarifs!F2649,Config!$B$13>=Tarifs!E2649),1,0)","v":0},"2026-03-01","2026-03-31",1064]
["17-0001","20","17-0001-200",{"$f":"IF(AND(Config!$B$13<=Tarifs!F2650,Config!$B$13>=Tarifs!E2650),1,0)","v":0},"2026-04-01","2026-04-30",1064]
["17-0001","20","17-0001-200",{"$f":"IF(AND(Config!$B$13<=Tarifs!F2651,Config!$B$13>=Tarifs!E2651),1,0)","v":0},"2026-05-01","2026-05-31",1064]
["17-0001","20","17-0001-200",{"$f":"IF(AND(Config!$B$13<=Tarifs!F2652,Config!$B$13>=Tarifs!E2652),1,0)","v":0},"2026-06-01","2026-06-30",1064]
["17-0001","20","17-0001-200",{"$f":"IF(AND(Config!$B$13<=Tarifs!F2653,Config!$B$13>=Tarifs!E2653),1,0)","v":0},"2026-07-01","2026-07-31",1064]
["17-0001","10","17-0001-100",{"$f":"IF(AND(Config!$B$13<=Tarifs!F2654,Config!$B$13>=Tarifs!E2654),1,0)","v":0},"2026-09-01","2026-09-30",152]
["17-0001","10","17-0001-100",{"$f":"IF(AND(Config!$B$13<=Tarifs!F2655,Config!$B$13>=Tarifs!E2655),1,0)","v":0},"2026-10-01","2026-10-31",152]
["17-0001","10","17-0001-100",{"$f":"IF(AND(Config!$B$13<=Tarifs!F2656,Config!$B$13>=Tarifs!E2656),1,0)","v":0},"2026-11-01","2026-11-30",152]
["17-0001","10","17-0001-100",{"$f":"IF(AND(Config!$B$13<=Tarifs!F2657,Config!$B$13>=Tarifs!E2657),1,0)","v":0},"2026-12-01","2026-12-31",152]
["17-0001","10","17-0001-101",{"$f":"IF(AND(Config!$B$13<=Tarifs!F2658,Config!$B$13>=Tarifs!E2658),1,0)","v":1},"2026-01-01","2026-01-31",152]
["17-0001","10","17-0001-100",{"$f":"IF(AND(Config!$B$13<=Tarifs!F2659,Config!$B$13>=Tarifs!E2659),1,0)","v":0},"2026-02-01","2026-02-28",152]
["17-0001","10","17-0001-100",{"$f":"IF(AND(Config!$B$13<=Tarifs!F2660,Config!$B$13>=Tarifs!E2660),1,0)","v":0},"2026-03-01","2026-03-31",152]
["17-0001","10","17-0001-100",{"$f":"IF(AND(Config!$B$13<=Tarifs!F2661,Config!$B$13>=Tarifs!E2661),1,0)","v":0},"2026-04-01","2026-04-30",152]
["17-0001","10","17-0001-100",{"$f":"IF(AND(Config!$B$13<=Tarifs!F2662,Config!$B$13>=Tarifs!E2662),1,0)","v":0},"2026-05-01","2026-05-31",152]
["17-0001","10","17-0001-100",{"$f":"IF(AND(Config!$B$13<=Tarifs!F2663,Config!$B$13>=Tarifs!E2663),1,0)","v":0},"2026-06-01","2026-06-30",152]
["17-0001","10","17-0001-100",{"$f":"IF(AND(Config!$B$13<=Tarifs!F2664,Config!$B$13>=Tarifs!E2664),1,0)","v":0},"2026-07-01","2026-07-31",152]
["17-0001","10","17-0001-100",{"$f":"IF(AND(Config!$B$13<=Tarifs!F2665,Config!$B$13>=Tarifs!E2665),1,0)","v":0},"2026-08-01","2026-08-31",152]
["17-0003","30","17-0003-300",{"$f":"IF(AND(Config!$B$13<=Tarifs!F2666,Config!$B$13>=Tarifs!E2666),1,0)","v":0},"2026-06-01","2026-06-30",6420]
["17-0003","30","17-0003-300",{"$f":"IF(AND(Config!$B$13<=Tarifs!F2667,Config!$B$13>=Tarifs!E2667),1,0)","v":0},"2026-07-01","2026-07-31",6420]
["17-0003","30","17-0003-300",{"$f":"IF(AND(Config!$B$13<=Tarifs!F2668,Config!$B$13>=Tarifs!E2668),1,0)","v":0},"2026-08-01","2026-08-31",6420]
["17-0003","30","17-0003-301",{"$f":"IF(AND(Config!$B$13<=Tarifs!F2669,Config!$B$13>=Tarifs!E2669),1,0)","v":1},"2026-01-01","2026-01-31",5370]
["17-0003","30","17-0003-300",{"$f":"IF(AND(Config!$B$13<=Tarifs!F2670,Config!$B$13>=Tarifs!E2670),1,0)","v":0},"2026-02-01","2026-02-28",5370]
["17-0003","30","17-0003-300",{"$f":"IF(AND(Config!$B$13<=Tarifs!F2671,Config!$B$13>=Tarifs!E2671),1,0)","v":0},"2026-03-01","2026-03-31",5370]
["17-0003","30","17-0003-300",{"$f":"IF(AND(Config!$B$13<=Tarifs!F2672,Config!$B$13>=Tarifs!E2672),1,0)","v":0},"2026-04-01","2026-04-30",5370]
["17-0003","30","17-0003-300",{"$f":"IF(AND(Config!$B$13<=Tarifs!F2673,Config!$B$13>=Tarifs!E2673),1,0)","v":0},"2026-05-01","2026-05-31",5370]
["17-0003","30","17-0003-300",{"$f":"IF(AND(Config!$B$13<=Tarifs!F2674,Config!$B$13>=Tarifs!E2674),1,0)","v":0},"2026-09-01","2026-09-30",5370]
["17-0003","30","17-0003-300",{"$f":"IF(AND(Config!$B$13<=Tarifs!F2675,Config!$B$13>=Tarifs!E2675),1,0)","v":0},"2026-10-01","2026-10-31",5370]
["17-0003","30","17-0003-300",{"$f":"IF(AND(Config!$B$13<=Tarifs!F2676,Config!$B$13>=Tarifs!E2676),1,0)","v":0},"2026-11-01","2026-11-30",5370]
["17-0003","30","17-0003-300",{"$f":"IF(AND(Config!$B$13<=Tarifs!F2677,Config!$B$13>=Tarifs!E2677),1,0)","v":0},"2026-12-01","2026-12-31",5370]
["17-0003","20","17-0003-200",{"$f":"IF(AND(Config!$B$13<=Tarifs!F2678,Config!$B$13>=Tarifs!E2678),1,0)","v":0},"2026-06-01","2026-06-30",1498]
["17-0003","20","17-0003-200",{"$f":"IF(AND(Config!$B$13<=Tarifs!F2679,Config!$B$13>=Tarifs!E2679),1,0)","v":0},"2026-07-01","2026-07-31",1498]
["17-0003","20","17-0003-200",{"$f":"IF(AND(Config!$B$13<=Tarifs!F2680,Config!$B$13>=Tarifs!E2680),1,0)","v":0},"2026-08-01","2026-08-31",1498]
["17-0003","20","17-0003-200",{"$f":"IF(AND(Config!$B$13<=Tarifs!F2681,Config!$B$13>=Tarifs!E2681),1,0)","v":0},"2026-09-01","2026-09-30",1498]
["17-0003","20","17-0003-200",{"$f":"IF(AND(Config!$B$13<=Tarifs!F2682,Config!$B$13>=Tarifs!E2682),1,0)","v":0},"2026-10-01","2026-10-31",1498]
["17-0003","20","17-0003-201",{"$f":"IF(AND(Config!$B$13<=Tarifs!F2683,Config!$B$13>=Tarifs!E2683),1,0)","v":1},"2026-01-01","2026-01-31",1253]
["17-0003","20","17-0003-200",{"$f":"IF(AND(Config!$B$13<=Tarifs!F2684,Config!$B$13>=Tarifs!E2684),1,0)","v":0},"2026-02-01","2026-02-28",1253]
["17-0003","20","17-0003-200",{"$f":"IF(AND(Config!$B$13<=Tarifs!F2685,Config!$B$13>=Tarifs!E2685),1,0)","v":0},"2026-03-01","2026-03-31",1253]
["17-0003","20","17-0003-200",{"$f":"IF(AND(Config!$B$13<=Tarifs!F2686,Config!$B$13>=Tarifs!E2686),1,0)","v":0},"2026-04-01","2026-04-30",1253]
["17-0003","20","17-0003-200",{"$f":"IF(AND(Config!$B$13<=Tarifs!F2687,Config!$B$13>=Tarifs!E2687),1,0)","v":0},"2026-05-01","2026-05-31",1253]
["17-0003","20","17-0003-200",{"$f":"IF(AND(Config!$B$13<=Tarifs!F2688,Config!$B$13>=Tarifs!E2688),1,0)","v":0},"2026-11-01","2026-11-30",1253]
["17-0003","20","17-0003-200",{"$f":"IF(AND(Config!$B$13<=Tarifs!F2689,Config!$B$13>=Tarifs!E2689),1,0)","v":0},"2026-12-01","2026-12-31",1253]
["17-0003","10","17-0003-100",{"$f":"IF(AND(Config!$B$13<=Tarifs!F2690,Config!$B$13>=Tarifs!E2690),1,0)","v":0},"2026-06-01","2026-06-30",214]
["17-0003","10",{"$f":"A2691&\"-\"&B2691&D2691","v":"17-0003-100"},{"$f":"IF(AND(Config!$B$13<=Tarifs!F2691,Config!$B$13>=Tarifs!E2691),1,0)","v":0},"2026-07-01","2026-07-31",214]
["17-0003","10","17-0003-100",{"$f":"IF(AND(Config!$B$13<=Tarifs!F2692,Config!$B$13>=Tarifs!E2692),1,0)","v":0},"2026-08-01","2026-08-31",214]
["17-0003","10","17-0003-100",{"$f":"IF(AND(Config!$B$13<=Tarifs!F2693,Config!$B$13>=Tarifs!E2693),1,0)","v":0},"2026-09-01","2026-09-30",214]
["17-0003","10","17-0003-100",{"$f":"IF(AND(Config!$B$13<=Tarifs!F2694,Config!$B$13>=Tarifs!E2694),1,0)","v":0},"2026-10-01","2026-10-31",214]
["17-0003","10","17-0003-101",{"$f":"IF(AND(Config!$B$13<=Tarifs!F2695,Config!$B$13>=Tarifs!E2695),1,0)","v":1},"2026-01-01","2026-01-31",179]
["17-0003","10","17-0003-100",{"$f":"IF(AND(Config!$B$13<=Tarifs!F2696,Config!$B$13>=Tarifs!E2696),1,0)","v":0},"2026-02-01","2026-02-28",179]
["17-0003","10","17-0003-100",{"$f":"IF(AND(Config!$B$13<=Tarifs!F2697,Config!$B$13>=Tarifs!E2697),1,0)","v":0},"2026-03-01","2026-03-31",179]
["17-0003","10","17-0003-100",{"$f":"IF(AND(Config!$B$13<=Tarifs!F2698,Config!$B$13>=Tarifs!E2698),1,0)","v":0},"2026-04-01","2026-04-30",179]
["17-0003","10","17-0003-100",{"$f":"IF(AND(Config!$B$13<=Tarifs!F2699,Config!$B$13>=Tarifs!E2699),1,0)","v":0},"2026-05-01","2026-05-31",179]
["17-0003","10","17-0003-100",{"$f":"IF(AND(Config!$B$13<=Tarifs!F2700,Config!$B$13>=Tarifs!E2700),1,0)","v":0},"2026-11-01","2026-11-30",179]
["17-0003","10","17-0003-100",{"$f":"IF(AND(Config!$B$13<=Tarifs!F2701,Config!$B$13>=Tarifs!E2701),1,0)","v":0},"2026-12-01","2026-12-31",179]
["17-0009","30","17-0009-300",{"$f":"IF(AND(Config!$B$13<=Tarifs!F2702,Config!$B$13>=Tarifs!E2702),1,0)","v":0},"2026-06-01","2026-06-30",4350]
["17-0009","30","17-0009-300",{"$f":"IF(AND(Config!$B$13<=Tarifs!F2703,Config!$B$13>=Tarifs!E2703),1,0)","v":0},"2026-07-01","2026-07-31",4350]
["17-0009","30","17-0009-300",{"$f":"IF(AND(Config!$B$13<=Tarifs!F2704,Config!$B$13>=Tarifs!E2704),1,0)","v":0},"2026-08-01","2026-08-31",4350]
["17-0009","30","17-0009-300",{"$f":"IF(AND(Config!$B$13<=Tarifs!F2705,Config!$B$13>=Tarifs!E2705),1,0)","v":0},"2026-09-01","2026-09-30",4350]
["17-0009","30","17-0009-300",{"$f":"IF(AND(Config!$B$13<=Tarifs!F2706,Config!$B$13>=Tarifs!E2706),1,0)","v":0},"2026-10-01","2026-10-31",4350]
["17-0009","30","17-0009-300",{"$f":"IF(AND(Config!$B$13<=Tarifs!F2707,Config!$B$13>=Tarifs!E2707),1,0)","v":0},"2026-11-01","2026-11-30",4350]
["17-0009","30","17-0009-300",{"$f":"IF(AND(Config!$B$13<=Tarifs!F2708,Config!$B$13>=Tarifs!E2708),1,0)","v":0},"2026-12-01","2026-12-31",4350]
["17-0009","30","17-0009-301",{"$f":"IF(AND(Config!$B$13<=Tarifs!F2709,Config!$B$13>=Tarifs!E2709),1,0)","v":1},"2026-01-01","2026-01-31",4350]
["17-0009","30","17-0009-300",{"$f":"IF(AND(Config!$B$13<=Tarifs!F2710,Config!$B$13>=Tarifs!E2710),1,0)","v":0},"2026-02-01","2026-02-28",4350]
["17-0009","30","17-0009-300",{"$f":"IF(AND(Config!$B$13<=Tarifs!F2711,Config!$B$13>=Tarifs!E2711),1,0)","v":0},"2026-03-01","2026-03-31",4350]
["17-0009","30","17-0009-300",{"$f":"IF(AND(Config!$B$13<=Tarifs!F2712,Config!$B$13>=Tarifs!E2712),1,0)","v":0},"2026-04-01","2026-04-30",4350]
["17-0009","30","17-0009-300",{"$f":"IF(AND(Config!$B$13<=Tarifs!F2713,Config!$B$13>=Tarifs!E2713),1,0)","v":0},"2026-05-01","2026-05-31",4350]
["17-0009","20","17-0009-200",{"$f":"IF(AND(Config!$B$13<=Tarifs!F2714,Config!$B$13>=Tarifs!E2714),1,0)","v":0},"2026-07-01","2026-07-31",1015]
["17-0009","20","17-0009-200",{"$f":"IF(AND(Config!$B$13<=Tarifs!F2715,Config!$B$13>=Tarifs!E2715),1,0)","v":0},"2026-08-01","2026-08-31",1015]
["17-0009","20","17-0009-200",{"$f":"IF(AND(Config!$B$13<=Tarifs!F2716,Config!$B$13>=Tarifs!E2716),1,0)","v":0},"2026-09-01","2026-09-30",1015]
["17-0009","20","17-0009-200",{"$f":"IF(AND(Config!$B$13<=Tarifs!F2717,Config!$B$13>=Tarifs!E2717),1,0)","v":0},"2026-10-01","2026-10-31",1015]
["17-0009","20","17-0009-200",{"$f":"IF(AND(Config!$B$13<=Tarifs!F2718,Config!$B$13>=Tarifs!E2718),1,0)","v":0},"2026-11-01","2026-11-30",1015]
["17-0009","20","17-0009-200",{"$f":"IF(AND(Config!$B$13<=Tarifs!F2719,Config!$B$13>=Tarifs!E2719),1,0)","v":0},"2026-12-01","2026-12-31",1015]
["17-0009","20","17-0009-201",{"$f":"IF(AND(Config!$B$13<=Tarifs!F2720,Config!$B$13>=Tarifs!E2720),1,0)","v":1},"2026-01-01","2026-01-31",1015]
["17-0009","20","17-0009-200",{"$f":"IF(AND(Config!$B$13<=Tarifs!F2721,Config!$B$13>=Tarifs!E2721),1,0)","v":0},"2026-02-01","2026-02-28",1015]
["17-0009","20","17-0009-200",{"$f":"IF(AND(Config!$B$13<=Tarifs!F2722,Config!$B$13>=Tarifs!E2722),1,0)","v":0},"2026-03-01","2026-03-31",1015]
["17-0009","20","17-0009-200",{"$f":"IF(AND(Config!$B$13<=Tarifs!F2723,Config!$B$13>=Tarifs!E2723),1,0)","v":0},"2026-04-01","2026-04-30",1015]
["17-0009","20","17-0009-200",{"$f":"IF(AND(Config!$B$13<=Tarifs!F2724,Config!$B$13>=Tarifs!E2724),1,0)","v":0},"2026-05-01","2026-05-31",1015]
["17-0009","20","17-0009-200",{"$f":"IF(AND(Config!$B$13<=Tarifs!F2725,Config!$B$13>=Tarifs!E2725),1,0)","v":0},"2026-06-01","2026-06-30",1015]
["17-0009","10","17-0009-100",{"$f":"IF(AND(Config!$B$13<=Tarifs!F2726,Config!$B$13>=Tarifs!E2726),1,0)","v":0},"2026-07-01","2026-07-31",145]
["17-0009","10","17-0009-100",{"$f":"IF(AND(Config!$B$13<=Tarifs!F2727,Config!$B$13>=Tarifs!E2727),1,0)","v":0},"2026-08-01","2026-08-31",145]
["17-0009","10","17-0009-100",{"$f":"IF(AND(Config!$B$13<=Tarifs!F2728,Config!$B$13>=Tarifs!E2728),1,0)","v":0},"2026-09-01","2026-09-30",145]
["17-0009","10","17-0009-100",{"$f":"IF(AND(Config!$B$13<=Tarifs!F2729,Config!$B$13>=Tarifs!E2729),1,0)","v":0},"2026-10-01","2026-10-31",145]
["17-0009","10","17-0009-100",{"$f":"IF(AND(Config!$B$13<=Tarifs!F2730,Config!$B$13>=Tarifs!E2730),1,0)","v":0},"2026-11-01","2026-11-30",145]
["17-0009","10","17-0009-100",{"$f":"IF(AND(Config!$B$13<=Tarifs!F2731,Config!$B$13>=Tarifs!E2731),1,0)","v":0},"2026-12-01","2026-12-31",145]
["17-0009","10","17-0009-101",{"$f":"IF(AND(Config!$B$13<=Tarifs!F2732,Config!$B$13>=Tarifs!E2732),1,0)","v":1},"2026-01-01","2026-01-31",145]
["17-0009","10","17-0009-100",{"$f":"IF(AND(Config!$B$13<=Tarifs!F2733,Config!$B$13>=Tarifs!E2733),1,0)","v":0},"2026-02-01","2026-02-28",145]
["17-0009","10","17-0009-100",{"$f":"IF(AND(Config!$B$13<=Tarifs!F2734,Config!$B$13>=Tarifs!E2734),1,0)","v":0},"2026-03-01","2026-03-31",145]
["17-0009","10","17-0009-100",{"$f":"IF(AND(Config!$B$13<=Tarifs!F2735,Config!$B$13>=Tarifs!E2735),1,0)","v":0},"2026-04-01","2026-04-30",145]
["17-0009","10","17-0009-100",{"$f":"IF(AND(Config!$B$13<=Tarifs!F2736,Config!$B$13>=Tarifs!E2736),1,0)","v":0},"2026-05-01","2026-05-31",145]
["17-0009","10","17-0009-100",{"$f":"IF(AND(Config!$B$13<=Tarifs!F2737,Config!$B$13>=Tarifs!E2737),1,0)","v":0},"2026-06-01","2026-06-30",145]
["17-0012","30","17-0012-300",{"$f":"IF(AND(Config!$B$13<=Tarifs!F2738,Config!$B$13>=Tarifs!E2738),1,0)","v":0},"2026-05-01","2026-05-31",8550]
["17-0012","30","17-0012-300",{"$f":"IF(AND(Config!$B$13<=Tarifs!F2739,Config!$B$13>=Tarifs!E2739),1,0)","v":0},"2026-06-01","2026-06-30",8550]
["17-0012","30","17-0012-300",{"$f":"IF(AND(Config!$B$13<=Tarifs!F2740,Config!$B$13>=Tarifs!E2740),1,0)","v":0},"2026-09-01","2026-09-30",8550]
["17-0012","30","17-0012-300",{"$f":"IF(AND(Config!$B$13<=Tarifs!F2741,Config!$B$13>=Tarifs!E2741),1,0)","v":0},"2026-10-01","2026-10-31",8550]
["17-0012","30","17-0012-300",{"$f":"IF(AND(Config!$B$13<=Tarifs!F2742,Config!$B$13>=Tarifs!E2742),1,0)","v":0},"2026-07-01","2026-07-31",8100]
["17-0012","30","17-0012-300",{"$f":"IF(AND(Config!$B$13<=Tarifs!F2743,Config!$B$13>=Tarifs!E2743),1,0)","v":0},"2026-08-01","2026-08-31",8100]
["17-0012","30","17-0012-300",{"$f":"IF(AND(Config!$B$13<=Tarifs!F2744,Config!$B$13>=Tarifs!E2744),1,0)","v":0},"2026-04-01","2026-04-30",6870]
["17-0012","30","17-0012-300",{"$f":"IF(AND(Config!$B$13<=Tarifs!F2745,Config!$B$13>=Tarifs!E2745),1,0)","v":0},"2026-11-01","2026-11-30",6870]
["17-0012","30","17-0012-300",{"$f":"IF(AND(Config!$B$13<=Tarifs!F2746,Config!$B$13>=Tarifs!E2746),1,0)","v":0},"2026-12-01","2026-12-31",6870]
["17-0012","30","17-0012-301",{"$f":"IF(AND(Config!$B$13<=Tarifs!F2747,Config!$B$13>=Tarifs!E2747),1,0)","v":1},"2026-01-01","2026-01-31",6870]
["17-0012","30","17-0012-300",{"$f":"IF(AND(Config!$B$13<=Tarifs!F2748,Config!$B$13>=Tarifs!E2748),1,0)","v":0},"2026-02-01","2026-02-28",6870]
["17-0012","30","17-0012-300",{"$f":"IF(AND(Config!$B$13<=Tarifs!F2749,Config!$B$13>=Tarifs!E2749),1,0)","v":0},"2026-03-01","2026-03-31",6870]
["17-0012","20","17-0012-200",{"$f":"IF(AND(Config!$B$13<=Tarifs!F2750,Config!$B$13>=Tarifs!E2750),1,0)","v":0},"2026-05-01","2026-05-31",1995]
["17-0012","20","17-0012-200",{"$f":"IF(AND(Config!$B$13<=Tarifs!F2751,Config!$B$13>=Tarifs!E2751),1,0)","v":0},"2026-06-01","2026-06-30",1995]
["17-0012","20","17-0012-200",{"$f":"IF(AND(Config!$B$13<=Tarifs!F2752,Config!$B$13>=Tarifs!E2752),1,0)","v":0},"2026-09-01","2026-09-30",1995]
["17-0012","20","17-0012-200",{"$f":"IF(AND(Config!$B$13<=Tarifs!F2753,Config!$B$13>=Tarifs!E2753),1,0)","v":0},"2026-10-01","2026-10-31",1995]
["17-0012","20","17-0012-200",{"$f":"IF(AND(Config!$B$13<=Tarifs!F2754,Config!$B$13>=Tarifs!E2754),1,0)","v":0},"2026-07-01","2026-07-31",1890]
["17-0012","20",{"$f":"A2755&\"-\"&B2755&D2755","v":"17-0012-200"},{"$f":"IF(AND(Config!$B$13<=Tarifs!F2755,Config!$B$13>=Tarifs!E2755),1,0)","v":0},"2026-08-01","2026-08-31",1890]
["17-0012","20","17-0012-200",{"$f":"IF(AND(Config!$B$13<=Tarifs!F2756,Config!$B$13>=Tarifs!E2756),1,0)","v":0},"2026-04-01","2026-04-30",1603]
["17-0012","20","17-0012-200",{"$f":"IF(AND(Config!$B$13<=Tarifs!F2757,Config!$B$13>=Tarifs!E2757),1,0)","v":0},"2026-11-01","2026-11-30",1603]
["17-0012","20","17-0012-200",{"$f":"IF(AND(Config!$B$13<=Tarifs!F2758,Config!$B$13>=Tarifs!E2758),1,0)","v":0},"2026-12-01","2026-12-31",1603]
["17-0012","20","17-0012-201",{"$f":"IF(AND(Config!$B$13<=Tarifs!F2759,Config!$B$13>=Tarifs!E2759),1,0)","v":1},"2026-01-01","2026-01-31",1603]
["17-0012","20","17-0012-200",{"$f":"IF(AND(Config!$B$13<=Tarifs!F2760,Config!$B$13>=Tarifs!E2760),1,0)","v":0},"2026-02-01","2026-02-28",1603]
["17-0012","20","17-0012-200",{"$f":"IF(AND(Config!$B$13<=Tarifs!F2761,Config!$B$13>=Tarifs!E2761),1,0)","v":0},"2026-03-01","2026-03-31",1603]
["17-0012","10","17-0012-100",{"$f":"IF(AND(Config!$B$13<=Tarifs!F2762,Config!$B$13>=Tarifs!E2762),1,0)","v":0},"2026-05-01","2026-05-31",285]
["17-0012","10","17-0012-100",{"$f":"IF(AND(Config!$B$13<=Tarifs!F2763,Config!$B$13>=Tarifs!E2763),1,0)","v":0},"2026-06-01","2026-06-30",285]
["17-0012","10","17-0012-100",{"$f":"IF(AND(Config!$B$13<=Tarifs!F2764,Config!$B$13>=Tarifs!E2764),1,0)","v":0},"2026-09-01","2026-09-30",285]
["17-0012","10","17-0012-100",{"$f":"IF(AND(Config!$B$13<=Tarifs!F2765,Config!$B$13>=Tarifs!E2765),1,0)","v":0},"2026-10-01","2026-10-31",285]
["17-0012","10","17-0012-100",{"$f":"IF(AND(Config!$B$13<=Tarifs!F2766,Config!$B$13>=Tarifs!E2766),1,0)","v":0},"2026-07-01","2026-07-31",270]
["17-0012","10","17-0012-100",{"$f":"IF(AND(Config!$B$13<=Tarifs!F2767,Config!$B$13>=Tarifs!E2767),1,0)","v":0},"2026-08-01","2026-08-31",270]
["17-0012","10","17-0012-100",{"$f":"IF(AND(Config!$B$13<=Tarifs!F2768,Config!$B$13>=Tarifs!E2768),1,0)","v":0},"2026-11-01","2026-11-30",229]
["17-0012","10","17-0012-100",{"$f":"IF(AND(Config!$B$13<=Tarifs!F2769,Config!$B$13>=Tarifs!E2769),1,0)","v":0},"2026-12-01","2026-12-31",229]
["17-0012","10","17-0012-101",{"$f":"IF(AND(Config!$B$13<=Tarifs!F2770,Config!$B$13>=Tarifs!E2770),1,0)","v":1},"2026-01-01","2026-01-31",229]
["17-0012","10","17-0012-100",{"$f":"IF(AND(Config!$B$13<=Tarifs!F2771,Config!$B$13>=Tarifs!E2771),1,0)","v":0},"2026-02-01","2026-02-28",229]
["17-0012","10","17-0012-100",{"$f":"IF(AND(Config!$B$13<=Tarifs!F2772,Config!$B$13>=Tarifs!E2772),1,0)","v":0},"2026-03-01","2026-03-31",229]
["17-0012","10","17-0012-100",{"$f":"IF(AND(Config!$B$13<=Tarifs!F2773,Config!$B$13>=Tarifs!E2773),1,0)","v":0},"2026-04-01","2026-04-30",229]
["19-0009","30","19-0009-300",{"$f":"IF(AND(Config!$B$13<=Tarifs!F2774,Config!$B$13>=Tarifs!E2774),1,0)","v":0},"2026-05-01","2026-05-31",4830]
["19-0009","30","19-0009-300",{"$f":"IF(AND(Config!$B$13<=Tarifs!F2775,Config!$B$13>=Tarifs!E2775),1,0)","v":0},"2026-06-01","2026-06-30",4830]
["19-0009","30","19-0009-300",{"$f":"IF(AND(Config!$B$13<=Tarifs!F2776,Config!$B$13>=Tarifs!E2776),1,0)","v":0},"2026-07-01","2026-07-31",4830]
["19-0009","30","19-0009-300",{"$f":"IF(AND(Config!$B$13<=Tarifs!F2777,Config!$B$13>=Tarifs!E2777),1,0)","v":0},"2026-08-01","2026-08-31",4830]
["19-0009","30","19-0009-300",{"$f":"IF(AND(Config!$B$13<=Tarifs!F2778,Config!$B$13>=Tarifs!E2778),1,0)","v":0},"2026-09-01","2026-09-30",4830]
["19-0009","30","19-0009-300",{"$f":"IF(AND(Config!$B$13<=Tarifs!F2779,Config!$B$13>=Tarifs!E2779),1,0)","v":0},"2026-03-01","2026-03-31",4620]
["19-0009","30","19-0009-300",{"$f":"IF(AND(Config!$B$13<=Tarifs!F2780,Config!$B$13>=Tarifs!E2780),1,0)","v":0},"2026-04-01","2026-04-30",4620]
["19-0009","30","19-0009-300",{"$f":"IF(AND(Config!$B$13<=Tarifs!F2781,Config!$B$13>=Tarifs!E2781),1,0)","v":0},"2026-10-01","2026-10-31",4620]
["19-0009","30","19-0009-301",{"$f":"IF(AND(Config!$B$13<=Tarifs!F2782,Config!$B$13>=Tarifs!E2782),1,0)","v":1},"2026-01-01","2026-01-31",4470]
["19-0009","30","19-0009-300",{"$f":"IF(AND(Config!$B$13<=Tarifs!F2783,Config!$B$13>=Tarifs!E2783),1,0)","v":0},"2026-02-01","2026-02-28",4470]
["19-0009","30","19-0009-300",{"$f":"IF(AND(Config!$B$13<=Tarifs!F2784,Config!$B$13>=Tarifs!E2784),1,0)","v":0},"2026-11-01","2026-11-30",4470]
["19-0009","30","19-0009-300",{"$f":"IF(AND(Config!$B$13<=Tarifs!F2785,Config!$B$13>=Tarifs!E2785),1,0)","v":0},"2026-12-01","2026-12-31",4470]
["19-0009","20","19-0009-200",{"$f":"IF(AND(Config!$B$13<=Tarifs!F2786,Config!$B$13>=Tarifs!E2786),1,0)","v":0},"2026-05-01","2026-05-31",1127]
["19-0009","20","19-0009-200",{"$f":"IF(AND(Config!$B$13<=Tarifs!F2787,Config!$B$13>=Tarifs!E2787),1,0)","v":0},"2026-06-01","2026-06-30",1127]
["19-0009","20","19-0009-200",{"$f":"IF(AND(Config!$B$13<=Tarifs!F2788,Config!$B$13>=Tarifs!E2788),1,0)","v":0},"2026-07-01","2026-07-31",1127]
["19-0009","20","19-0009-200",{"$f":"IF(AND(Config!$B$13<=Tarifs!F2789,Config!$B$13>=Tarifs!E2789),1,0)","v":0},"2026-08-01","2026-08-31",1127]
["19-0009","20","19-0009-200",{"$f":"IF(AND(Config!$B$13<=Tarifs!F2790,Config!$B$13>=Tarifs!E2790),1,0)","v":0},"2026-09-01","2026-09-30",1127]
["19-0009","20","19-0009-200",{"$f":"IF(AND(Config!$B$13<=Tarifs!F2791,Config!$B$13>=Tarifs!E2791),1,0)","v":0},"2026-03-01","2026-03-31",1078]
["19-0009","20","19-0009-200",{"$f":"IF(AND(Config!$B$13<=Tarifs!F2792,Config!$B$13>=Tarifs!E2792),1,0)","v":0},"2026-04-01","2026-04-30",1078]
["19-0009","20","19-0009-200",{"$f":"IF(AND(Config!$B$13<=Tarifs!F2793,Config!$B$13>=Tarifs!E2793),1,0)","v":0},"2026-10-01","2026-10-31",1078]
["19-0009","20","19-0009-201",{"$f":"IF(AND(Config!$B$13<=Tarifs!F2794,Config!$B$13>=Tarifs!E2794),1,0)","v":1},"2026-01-01","2026-01-31",1043]
["19-0009","20","19-0009-200",{"$f":"IF(AND(Config!$B$13<=Tarifs!F2795,Config!$B$13>=Tarifs!E2795),1,0)","v":0},"2026-02-01","2026-02-28",1043]
["19-0009","20","19-0009-200",{"$f":"IF(AND(Config!$B$13<=Tarifs!F2796,Config!$B$13>=Tarifs!E2796),1,0)","v":0},"2026-11-01","2026-11-30",1043]
["19-0009","20","19-0009-200",{"$f":"IF(AND(Config!$B$13<=Tarifs!F2797,Config!$B$13>=Tarifs!E2797),1,0)","v":0},"2026-12-01","2026-12-31",1043]
["19-0009","10","19-0009-100",{"$f":"IF(AND(Config!$B$13<=Tarifs!F2798,Config!$B$13>=Tarifs!E2798),1,0)","v":0},"2026-05-01","2026-05-31",161]
["19-0009","10","19-0009-100",{"$f":"IF(AND(Config!$B$13<=Tarifs!F2799,Config!$B$13>=Tarifs!E2799),1,0)","v":0},"2026-06-01","2026-06-30",161]
["19-0009","10","19-0009-100",{"$f":"IF(AND(Config!$B$13<=Tarifs!F2800,Config!$B$13>=Tarifs!E2800),1,0)","v":0},"2026-07-01","2026-07-31",161]
["19-0009","10","19-0009-100",{"$f":"IF(AND(Config!$B$13<=Tarifs!F2801,Config!$B$13>=Tarifs!E2801),1,0)","v":0},"2026-08-01","2026-08-31",161]
["19-0009","10","19-0009-100",{"$f":"IF(AND(Config!$B$13<=Tarifs!F2802,Config!$B$13>=Tarifs!E2802),1,0)","v":0},"2026-09-01","2026-09-30",161]
["19-0009","10","19-0009-100",{"$f":"IF(AND(Config!$B$13<=Tarifs!F2803,Config!$B$13>=Tarifs!E2803),1,0)","v":0},"2026-03-01","2026-03-31",154]
["19-0009","10","19-0009-100",{"$f":"IF(AND(Config!$B$13<=Tarifs!F2804,Config!$B$13>=Tarifs!E2804),1,0)","v":0},"2026-04-01","2026-04-30",154]
["19-0009","10","19-0009-100",{"$f":"IF(AND(Config!$B$13<=Tarifs!F2805,Config!$B$13>=Tarifs!E2805),1,0)","v":0},"2026-10-01","2026-10-31",154]
["19-0009","10","19-0009-101",{"$f":"IF(AND(Config!$B$13<=Tarifs!F2806,Config!$B$13>=Tarifs!E2806),1,0)","v":1},"2026-01-01","2026-01-31",149]
["19-0009","10","19-0009-100",{"$f":"IF(AND(Config!$B$13<=Tarifs!F2807,Config!$B$13>=Tarifs!E2807),1,0)","v":0},"2026-02-01","2026-02-28",149]
["19-0009","10","19-0009-100",{"$f":"IF(AND(Config!$B$13<=Tarifs!F2808,Config!$B$13>=Tarifs!E2808),1,0)","v":0},"2026-11-01","2026-11-30",149]
["19-0009","10","19-0009-100",{"$f":"IF(AND(Config!$B$13<=Tarifs!F2809,Config!$B$13>=Tarifs!E2809),1,0)","v":0},"2026-12-01","2026-12-31",149]
["19-0012","30","19-0012-300",{"$f":"IF(AND(Config!$B$13<=Tarifs!F2810,Config!$B$13>=Tarifs!E2810),1,0)","v":0},"2026-06-01","2026-06-30",5100]
["19-0012","30","19-0012-300",{"$f":"IF(AND(Config!$B$13<=Tarifs!F2811,Config!$B$13>=Tarifs!E2811),1,0)","v":0},"2026-07-01","2026-07-31",5100]
["19-0012","30","19-0012-300",{"$f":"IF(AND(Config!$B$13<=Tarifs!F2812,Config!$B$13>=Tarifs!E2812),1,0)","v":0},"2026-08-01","2026-08-31",5100]
["19-0012","30","19-0012-301",{"$f":"IF(AND(Config!$B$13<=Tarifs!F2813,Config!$B$13>=Tarifs!E2813),1,0)","v":1},"2026-01-01","2026-01-31",4950]
["19-0012","30","19-0012-300",{"$f":"IF(AND(Config!$B$13<=Tarifs!F2814,Config!$B$13>=Tarifs!E2814),1,0)","v":0},"2026-02-01","2026-02-28",4950]
["19-0012","30","19-0012-300",{"$f":"IF(AND(Config!$B$13<=Tarifs!F2815,Config!$B$13>=Tarifs!E2815),1,0)","v":0},"2026-03-01","2026-03-31",4950]
["19-0012","30","19-0012-300",{"$f":"IF(AND(Config!$B$13<=Tarifs!F2816,Config!$B$13>=Tarifs!E2816),1,0)","v":0},"2026-04-01","2026-04-30",4950]
["19-0012","30","19-0012-300",{"$f":"IF(AND(Config!$B$13<=Tarifs!F2817,Config!$B$13>=Tarifs!E2817),1,0)","v":0},"2026-05-01","2026-05-31",4950]
["19-0012","30","19-0012-300",{"$f":"IF(AND(Config!$B$13<=Tarifs!F2818,Config!$B$13>=Tarifs!E2818),1,0)","v":0},"2026-09-01","2026-09-30",4950]
["19-0012","30",{"$f":"A2819&\"-\"&B2819&D2819","v":"19-0012-300"},{"$f":"IF(AND(Config!$B$13<=Tarifs!F2819,Config!$B$13>=Tarifs!E2819),1,0)","v":0},"2026-10-01","2026-10-31",4950]
["19-0012","30","19-0012-300",{"$f":"IF(AND(Config!$B$13<=Tarifs!F2820,Config!$B$13>=Tarifs!E2820),1,0)","v":0},"2026-11-01","2026-11-30",4950]
["19-0012","30","19-0012-300",{"$f":"IF(AND(Config!$B$13<=Tarifs!F2821,Config!$B$13>=Tarifs!E2821),1,0)","v":0},"2026-12-01","2026-12-31",4950]
["19-0012","20","19-0012-200",{"$f":"IF(AND(Config!$B$13<=Tarifs!F2822,Config!$B$13>=Tarifs!E2822),1,0)","v":0},"2026-06-01","2026-06-30",1190]
["19-0012","20","19-0012-200",{"$f":"IF(AND(Config!$B$13<=Tarifs!F2823,Config!$B$13>=Tarifs!E2823),1,0)","v":0},"2026-07-01","2026-07-31",1190]
["19-0012","20","19-0012-200",{"$f":"IF(AND(Config!$B$13<=Tarifs!F2824,Config!$B$13>=Tarifs!E2824),1,0)","v":0},"2026-08-01","2026-08-31",1190]
["19-0012","20","19-0012-201",{"$f":"IF(AND(Config!$B$13<=Tarifs!F2825,Config!$B$13>=Tarifs!E2825),1,0)","v":1},"2026-01-01","2026-01-31",1155]
["19-0012","20","19-0012-200",{"$f":"IF(AND(Config!$B$13<=Tarifs!F2826,Config!$B$13>=Tarifs!E2826),1,0)","v":0},"2026-02-01","2026-02-28",1155]
["19-0012","20","19-0012-200",{"$f":"IF(AND(Config!$B$13<=Tarifs!F2827,Config!$B$13>=Tarifs!E2827),1,0)","v":0},"2026-03-01","2026-03-31",1155]
["19-0012","20","19-0012-200",{"$f":"IF(AND(Config!$B$13<=Tarifs!F2828,Config!$B$13>=Tarifs!E2828),1,0)","v":0},"2026-04-01","2026-04-30",1155]
["19-0012","20","19-0012-200",{"$f":"IF(AND(Config!$B$13<=Tarifs!F2829,Config!$B$13>=Tarifs!E2829),1,0)","v":0},"2026-05-01","2026-05-31",1155]
["19-0012","20","19-0012-200",{"$f":"IF(AND(Config!$B$13<=Tarifs!F2830,Config!$B$13>=Tarifs!E2830),1,0)","v":0},"2026-09-01","2026-09-30",1155]
["19-0012","20","19-0012-200",{"$f":"IF(AND(Config!$B$13<=Tarifs!F2831,Config!$B$13>=Tarifs!E2831),1,0)","v":0},"2026-10-01","2026-10-31",1155]
["19-0012","20","19-0012-200",{"$f":"IF(AND(Config!$B$13<=Tarifs!F2832,Config!$B$13>=Tarifs!E2832),1,0)","v":0},"2026-11-01","2026-11-30",1155]
["19-0012","20","19-0012-200",{"$f":"IF(AND(Config!$B$13<=Tarifs!F2833,Config!$B$13>=Tarifs!E2833),1,0)","v":0},"2026-12-01","2026-12-31",1155]
["19-0012","10","19-0012-100",{"$f":"IF(AND(Config!$B$13<=Tarifs!F2834,Config!$B$13>=Tarifs!E2834),1,0)","v":0},"2026-06-01","2026-06-30",170]
["19-0012","10","19-0012-100",{"$f":"IF(AND(Config!$B$13<=Tarifs!F2835,Config!$B$13>=Tarifs!E2835),1,0)","v":0},"2026-07-01","2026-07-31",170]
["19-0012","10","19-0012-100",{"$f":"IF(AND(Config!$B$13<=Tarifs!F2836,Config!$B$13>=Tarifs!E2836),1,0)","v":0},"2026-08-01","2026-08-31",170]
["19-0012","10","19-0012-101",{"$f":"IF(AND(Config!$B$13<=Tarifs!F2837,Config!$B$13>=Tarifs!E2837),1,0)","v":1},"2026-01-01","2026-01-31",165]
["19-0012","10","19-0012-100",{"$f":"IF(AND(Config!$B$13<=Tarifs!F2838,Config!$B$13>=Tarifs!E2838),1,0)","v":0},"2026-02-01","2026-02-28",165]
["19-0012","10","19-0012-100",{"$f":"IF(AND(Config!$B$13<=Tarifs!F2839,Config!$B$13>=Tarifs!E2839),1,0)","v":0},"2026-03-01","2026-03-31",165]
["19-0012","10","19-0012-100",{"$f":"IF(AND(Config!$B$13<=Tarifs!F2840,Config!$B$13>=Tarifs!E2840),1,0)","v":0},"2026-04-01","2026-04-30",165]
["19-0012","10","19-0012-100",{"$f":"IF(AND(Config!$B$13<=Tarifs!F2841,Config!$B$13>=Tarifs!E2841),1,0)","v":0},"2026-05-01","2026-05-31",165]
["19-0012","10","19-0012-100",{"$f":"IF(AND(Config!$B$13<=Tarifs!F2842,Config!$B$13>=Tarifs!E2842),1,0)","v":0},"2026-09-01","2026-09-30",165]
["19-0012","10","19-0012-100",{"$f":"IF(AND(Config!$B$13<=Tarifs!F2843,Config!$B$13>=Tarifs!E2843),1,0)","v":0},"2026-10-01","2026-10-31",165]
["19-0012","10","19-0012-100",{"$f":"IF(AND(Config!$B$13<=Tarifs!F2844,Config!$B$13>=Tarifs!E2844),1,0)","v":0},"2026-11-01","2026-11-30",165]
["19-0012","10","19-0012-100",{"$f":"IF(AND(Config!$B$13<=Tarifs!F2845,Config!$B$13>=Tarifs!E2845),1,0)","v":0},"2026-12-01","2026-12-31",165]
["19-0017","30","19-0017-300",{"$f":"IF(AND(Config!$B$13<=Tarifs!F2846,Config!$B$13>=Tarifs!E2846),1,0)","v":0},"2026-05-01","2026-05-31",5670]
["19-0017","30","19-0017-300",{"$f":"IF(AND(Config!$B$13<=Tarifs!F2847,Config!$B$13>=Tarifs!E2847),1,0)","v":0},"2026-06-01","2026-06-30",5670]
["19-0017","30","19-0017-300",{"$f":"IF(AND(Config!$B$13<=Tarifs!F2848,Config!$B$13>=Tarifs!E2848),1,0)","v":0},"2026-07-01","2026-07-31",5670]
["19-0017","30","19-0017-300",{"$f":"IF(AND(Config!$B$13<=Tarifs!F2849,Config!$B$13>=Tarifs!E2849),1,0)","v":0},"2026-08-01","2026-08-31",5670]
["19-0017","30","19-0017-300",{"$f":"IF(AND(Config!$B$13<=Tarifs!F2850,Config!$B$13>=Tarifs!E2850),1,0)","v":0},"2026-09-01","2026-09-30",5670]
["19-0017","30","19-0017-301",{"$f":"IF(AND(Config!$B$13<=Tarifs!F2851,Config!$B$13>=Tarifs!E2851),1,0)","v":1},"2026-01-01","2026-01-31",5370]
["19-0017","30","19-0017-300",{"$f":"IF(AND(Config!$B$13<=Tarifs!F2852,Config!$B$13>=Tarifs!E2852),1,0)","v":0},"2026-02-01","2026-02-28",5370]
["19-0017","30","19-0017-300",{"$f":"IF(AND(Config!$B$13<=Tarifs!F2853,Config!$B$13>=Tarifs!E2853),1,0)","v":0},"2026-03-01","2026-03-31",5370]
["19-0017","30","19-0017-300",{"$f":"IF(AND(Config!$B$13<=Tarifs!F2854,Config!$B$13>=Tarifs!E2854),1,0)","v":0},"2026-04-01","2026-04-30",5370]
["19-0017","30","19-0017-300",{"$f":"IF(AND(Config!$B$13<=Tarifs!F2855,Config!$B$13>=Tarifs!E2855),1,0)","v":0},"2026-10-01","2026-10-31",5370]
["19-0017","30","19-0017-300",{"$f":"IF(AND(Config!$B$13<=Tarifs!F2856,Config!$B$13>=Tarifs!E2856),1,0)","v":0},"2026-11-01","2026-11-30",5370]
["19-0017","30","19-0017-300",{"$f":"IF(AND(Config!$B$13<=Tarifs!F2857,Config!$B$13>=Tarifs!E2857),1,0)","v":0},"2026-12-01","2026-12-31",5370]
["19-0017","20","19-0017-200",{"$f":"IF(AND(Config!$B$13<=Tarifs!F2858,Config!$B$13>=Tarifs!E2858),1,0)","v":0},"2026-05-01","2026-05-31",1323]
["19-0017","20","19-0017-200",{"$f":"IF(AND(Config!$B$13<=Tarifs!F2859,Config!$B$13>=Tarifs!E2859),1,0)","v":0},"2026-06-01","2026-06-30",1323]
["19-0017","20","19-0017-200",{"$f":"IF(AND(Config!$B$13<=Tarifs!F2860,Config!$B$13>=Tarifs!E2860),1,0)","v":0},"2026-07-01","2026-07-31",1323]
["19-0017","20","19-0017-200",{"$f":"IF(AND(Config!$B$13<=Tarifs!F2861,Config!$B$13>=Tarifs!E2861),1,0)","v":0},"2026-08-01","2026-08-31",1323]
["19-0017","20","19-0017-200",{"$f":"IF(AND(Config!$B$13<=Tarifs!F2862,Config!$B$13>=Tarifs!E2862),1,0)","v":0},"2026-09-01","2026-09-30",1323]
["19-0017","20","19-0017-201",{"$f":"IF(AND(Config!$B$13<=Tarifs!F2863,Config!$B$13>=Tarifs!E2863),1,0)","v":1},"2026-01-01","2026-01-31",1253]
["19-0017","20","19-0017-200",{"$f":"IF(AND(Config!$B$13<=Tarifs!F2864,Config!$B$13>=Tarifs!E2864),1,0)","v":0},"2026-02-01","2026-02-28",1253]
["19-0017","20","19-0017-200",{"$f":"IF(AND(Config!$B$13<=Tarifs!F2865,Config!$B$13>=Tarifs!E2865),1,0)","v":0},"2026-03-01","2026-03-31",1253]
["19-0017","20","19-0017-200",{"$f":"IF(AND(Config!$B$13<=Tarifs!F2866,Config!$B$13>=Tarifs!E2866),1,0)","v":0},"2026-04-01","2026-04-30",1253]
["19-0017","20","19-0017-200",{"$f":"IF(AND(Config!$B$13<=Tarifs!F2867,Config!$B$13>=Tarifs!E2867),1,0)","v":0},"2026-10-01","2026-10-31",1253]
["19-0017","20","19-0017-200",{"$f":"IF(AND(Config!$B$13<=Tarifs!F2868,Config!$B$13>=Tarifs!E2868),1,0)","v":0},"2026-11-01","2026-11-30",1253]
["19-0017","20","19-0017-200",{"$f":"IF(AND(Config!$B$13<=Tarifs!F2869,Config!$B$13>=Tarifs!E2869),1,0)","v":0},"2026-12-01","2026-12-31",1253]
["19-0017","10","19-0017-100",{"$f":"IF(AND(Config!$B$13<=Tarifs!F2870,Config!$B$13>=Tarifs!E2870),1,0)","v":0},"2026-05-01","2026-05-31",189]
["19-0017","10","19-0017-100",{"$f":"IF(AND(Config!$B$13<=Tarifs!F2871,Config!$B$13>=Tarifs!E2871),1,0)","v":0},"2026-06-01","2026-06-30",189]
["19-0017","10","19-0017-100",{"$f":"IF(AND(Config!$B$13<=Tarifs!F2872,Config!$B$13>=Tarifs!E2872),1,0)","v":0},"2026-07-01","2026-07-31",189]
["19-0017","10","19-0017-100",{"$f":"IF(AND(Config!$B$13<=Tarifs!F2873,Config!$B$13>=Tarifs!E2873),1,0)","v":0},"2026-08-01","2026-08-31",189]
["19-0017","10","19-0017-100",{"$f":"IF(AND(Config!$B$13<=Tarifs!F2874,Config!$B$13>=Tarifs!E2874),1,0)","v":0},"2026-09-01","2026-09-30",189]
["19-0017","10","19-0017-101",{"$f":"IF(AND(Config!$B$13<=Tarifs!F2875,Config!$B$13>=Tarifs!E2875),1,0)","v":1},"2026-01-01","2026-01-31",179]
["19-0017","10","19-0017-100",{"$f":"IF(AND(Config!$B$13<=Tarifs!F2876,Config!$B$13>=Tarifs!E2876),1,0)","v":0},"2026-02-01","2026-02-28",179]
["19-0017","10","19-0017-100",{"$f":"IF(AND(Config!$B$13<=Tarifs!F2877,Config!$B$13>=Tarifs!E2877),1,0)","v":0},"2026-03-01","2026-03-31",179]
["19-0017","10","19-0017-100",{"$f":"IF(AND(Config!$B$13<=Tarifs!F2878,Config!$B$13>=Tarifs!E2878),1,0)","v":0},"2026-04-01","2026-04-30",179]
["19-0017","10","19-0017-100",{"$f":"IF(AND(Config!$B$13<=Tarifs!F2879,Config!$B$13>=Tarifs!E2879),1,0)","v":0},"2026-10-01","2026-10-31",179]
["19-0017","10","19-0017-100",{"$f":"IF(AND(Config!$B$13<=Tarifs!F2880,Config!$B$13>=Tarifs!E2880),1,0)","v":0},"2026-11-01","2026-11-30",179]
["19-0017","10","19-0017-100",{"$f":"IF(AND(Config!$B$13<=Tarifs!F2881,Config!$B$13>=Tarifs!E2881),1,0)","v":0},"2026-12-01","2026-12-31",179]
["19-0018","30","19-0018-300",{"$f":"IF(AND(Config!$B$13<=Tarifs!F2882,Config!$B$13>=Tarifs!E2882),1,0)","v":0},"2026-05-01","2026-05-31",3735]
["19-0018","30",{"$f":"A2883&\"-\"&B2883&D2883","v":"19-0018-300"},{"$f":"IF(AND(Config!$B$13<=Tarifs!F2883,Config!$B$13>=Tarifs!E2883),1,0)","v":0},"2026-06-01","2026-06-30",3735]
["19-0018","30","19-0018-300",{"$f":"IF(AND(Config!$B$13<=Tarifs!F2884,Config!$B$13>=Tarifs!E2884),1,0)","v":0},"2026-07-01","2026-07-31",3735]
["19-0018","30","19-0018-300",{"$f":"IF(AND(Config!$B$13<=Tarifs!F2885,Config!$B$13>=Tarifs!E2885),1,0)","v":0},"2026-08-01","2026-08-31",3735]
["19-0018","30","19-0018-300",{"$f":"IF(AND(Config!$B$13<=Tarifs!F2886,Config!$B$13>=Tarifs!E2886),1,0)","v":0},"2026-09-01","2026-09-30",3735]
["19-0018","30","19-0018-300",{"$f":"IF(AND(Config!$B$13<=Tarifs!F2887,Config!$B$13>=Tarifs!E2887),1,0)","v":0},"2026-10-01","2026-10-31",3735]
["19-0018","30","19-0018-301",{"$f":"IF(AND(Config!$B$13<=Tarifs!F2888,Config!$B$13>=Tarifs!E2888),1,0)","v":1},"2026-01-01","2026-01-31",3285]
["19-0018","30","19-0018-300",{"$f":"IF(AND(Config!$B$13<=Tarifs!F2889,Config!$B$13>=Tarifs!E2889),1,0)","v":0},"2026-02-01","2026-02-28",3285]
["19-0018","30","19-0018-300",{"$f":"IF(AND(Config!$B$13<=Tarifs!F2890,Config!$B$13>=Tarifs!E2890),1,0)","v":0},"2026-03-01","2026-03-31",3285]
["19-0018","30","19-0018-300",{"$f":"IF(AND(Config!$B$13<=Tarifs!F2891,Config!$B$13>=Tarifs!E2891),1,0)","v":0},"2026-04-01","2026-04-30",3285]
["19-0018","30","19-0018-300",{"$f":"IF(AND(Config!$B$13<=Tarifs!F2892,Config!$B$13>=Tarifs!E2892),1,0)","v":0},"2026-11-01","2026-11-30",3285]
["19-0018","30","19-0018-300",{"$f":"IF(AND(Config!$B$13<=Tarifs!F2893,Config!$B$13>=Tarifs!E2893),1,0)","v":0},"2026-12-01","2026-12-31",3285]
["19-0018","20","19-0018-200",{"$f":"IF(AND(Config!$B$13<=Tarifs!F2894,Config!$B$13>=Tarifs!E2894),1,0)","v":0},"2026-05-01","2026-05-31",871.5]
["19-0018","20","19-0018-200",{"$f":"IF(AND(Config!$B$13<=Tarifs!F2895,Config!$B$13>=Tarifs!E2895),1,0)","v":0},"2026-06-01","2026-06-30",871.5]
["19-0018","20","19-0018-200",{"$f":"IF(AND(Config!$B$13<=Tarifs!F2896,Config!$B$13>=Tarifs!E2896),1,0)","v":0},"2026-07-01","2026-07-31",871.5]
["19-0018","20","19-0018-200",{"$f":"IF(AND(Config!$B$13<=Tarifs!F2897,Config!$B$13>=Tarifs!E2897),1,0)","v":0},"2026-08-01","2026-08-31",871.5]
["19-0018","20","19-0018-200",{"$f":"IF(AND(Config!$B$13<=Tarifs!F2898,Config!$B$13>=Tarifs!E2898),1,0)","v":0},"2026-09-01","2026-09-30",871.5]
["19-0018","20","19-0018-200",{"$f":"IF(AND(Config!$B$13<=Tarifs!F2899,Config!$B$13>=Tarifs!E2899),1,0)","v":0},"2026-10-01","2026-10-31",871.5]
["19-0018","20","19-0018-201",{"$f":"IF(AND(Config!$B$13<=Tarifs!F2900,Config!$B$13>=Tarifs!E2900),1,0)","v":1},"2026-01-01","2026-01-31",766.5]
["19-0018","20","19-0018-200",{"$f":"IF(AND(Config!$B$13<=Tarifs!F2901,Config!$B$13>=Tarifs!E2901),1,0)","v":0},"2026-02-01","2026-02-28",766.5]
["19-0018","20","19-0018-200",{"$f":"IF(AND(Config!$B$13<=Tarifs!F2902,Config!$B$13>=Tarifs!E2902),1,0)","v":0},"2026-03-01","2026-03-31",766.5]
["19-0018","20","19-0018-200",{"$f":"IF(AND(Config!$B$13<=Tarifs!F2903,Config!$B$13>=Tarifs!E2903),1,0)","v":0},"2026-04-01","2026-04-30",766.5]
["19-0018","20","19-0018-200",{"$f":"IF(AND(Config!$B$13<=Tarifs!F2904,Config!$B$13>=Tarifs!E2904),1,0)","v":0},"2026-11-01","2026-11-30",766.5]
["19-0018","20","19-0018-200",{"$f":"IF(AND(Config!$B$13<=Tarifs!F2905,Config!$B$13>=Tarifs!E2905),1,0)","v":0},"2026-12-01","2026-12-31",766.5]
["19-0018","10","19-0018-100",{"$f":"IF(AND(Config!$B$13<=Tarifs!F2906,Config!$B$13>=Tarifs!E2906),1,0)","v":0},"2026-05-01","2026-05-31",124.5]
["19-0018","10","19-0018-100",{"$f":"IF(AND(Config!$B$13<=Tarifs!F2907,Config!$B$13>=Tarifs!E2907),1,0)","v":0},"2026-06-01","2026-06-30",124.5]
["19-0018","10","19-0018-100",{"$f":"IF(AND(Config!$B$13<=Tarifs!F2908,Config!$B$13>=Tarifs!E2908),1,0)","v":0},"2026-07-01","2026-07-31",124.5]
["19-0018","10","19-0018-100",{"$f":"IF(AND(Config!$B$13<=Tarifs!F2909,Config!$B$13>=Tarifs!E2909),1,0)","v":0},"2026-08-01","2026-08-31",124.5]
["19-0018","10","19-0018-100",{"$f":"IF(AND(Config!$B$13<=Tarifs!F2910,Config!$B$13>=Tarifs!E2910),1,0)","v":0},"2026-09-01","2026-09-30",124.5]
["19-0018","10","19-0018-100",{"$f":"IF(AND(Config!$B$13<=Tarifs!F2911,Config!$B$13>=Tarifs!E2911),1,0)","v":0},"2026-10-01","2026-10-31",124.5]
["19-0018","10","19-0018-101",{"$f":"IF(AND(Config!$B$13<=Tarifs!F2912,Config!$B$13>=Tarifs!E2912),1,0)","v":1},"2026-01-01","2026-01-31",109.5]
["19-0018","10","19-0018-100",{"$f":"IF(AND(Config!$B$13<=Tarifs!F2913,Config!$B$13>=Tarifs!E2913),1,0)","v":0},"2026-02-01","2026-02-28",109.5]
["19-0018","10","19-0018-100",{"$f":"IF(AND(Config!$B$13<=Tarifs!F2914,Config!$B$13>=Tarifs!E2914),1,0)","v":0},"2026-03-01","2026-03-31",109.5]
["19-0018","10","19-0018-100",{"$f":"IF(AND(Config!$B$13<=Tarifs!F2915,Config!$B$13>=Tarifs!E2915),1,0)","v":0},"2026-04-01","2026-04-30",109.5]
["19-0018","10","19-0018-100",{"$f":"IF(AND(Config!$B$13<=Tarifs!F2916,Config!$B$13>=Tarifs!E2916),1,0)","v":0},"2026-11-01","2026-11-30",109.5]
["19-0018","10","19-0018-100",{"$f":"IF(AND(Config!$B$13<=Tarifs!F2917,Config!$B$13>=Tarifs!E2917),1,0)","v":0},"2026-12-01","2026-12-31",109.5]
["19-0023","30","19-0023-300",{"$f":"IF(AND(Config!$B$13<=Tarifs!F2918,Config!$B$13>=Tarifs!E2918),1,0)","v":0},"2026-06-01","2026-06-30",5500]
["19-0023","30","19-0023-300",{"$f":"IF(AND(Config!$B$13<=Tarifs!F2919,Config!$B$13>=Tarifs!E2919),1,0)","v":0},"2026-07-01","2026-07-31",5500]
["19-0023","30","19-0023-300",{"$f":"IF(AND(Config!$B$13<=Tarifs!F2920,Config!$B$13>=Tarifs!E2920),1,0)","v":0},"2026-08-01","2026-08-31",5500]
["19-0023","30","19-0023-300",{"$f":"IF(AND(Config!$B$13<=Tarifs!F2921,Config!$B$13>=Tarifs!E2921),1,0)","v":0},"2026-09-01","2026-09-30",5500]
["19-0023","30","19-0023-301",{"$f":"IF(AND(Config!$B$13<=Tarifs!F2922,Config!$B$13>=Tarifs!E2922),1,0)","v":1},"2026-01-01","2026-01-31",4500]
["19-0023","30","19-0023-300",{"$f":"IF(AND(Config!$B$13<=Tarifs!F2923,Config!$B$13>=Tarifs!E2923),1,0)","v":0},"2026-02-01","2026-02-28",4500]
["19-0023","30","19-0023-300",{"$f":"IF(AND(Config!$B$13<=Tarifs!F2924,Config!$B$13>=Tarifs!E2924),1,0)","v":0},"2026-03-01","2026-03-31",4500]
["19-0023","30","19-0023-300",{"$f":"IF(AND(Config!$B$13<=Tarifs!F2925,Config!$B$13>=Tarifs!E2925),1,0)","v":0},"2026-04-01","2026-04-30",4500]
["19-0023","30","19-0023-300",{"$f":"IF(AND(Config!$B$13<=Tarifs!F2926,Config!$B$13>=Tarifs!E2926),1,0)","v":0},"2026-05-01","2026-05-31",4500]
["19-0023","30","19-0023-300",{"$f":"IF(AND(Config!$B$13<=Tarifs!F2927,Config!$B$13>=Tarifs!E2927),1,0)","v":0},"2026-10-01","2026-10-31",4500]
["19-0023","30","19-0023-300",{"$f":"IF(AND(Config!$B$13<=Tarifs!F2928,Config!$B$13>=Tarifs!E2928),1,0)","v":0},"2026-11-01","2026-11-30",4500]
["19-0023","30","19-0023-300",{"$f":"IF(AND(Config!$B$13<=Tarifs!F2929,Config!$B$13>=Tarifs!E2929),1,0)","v":0},"2026-12-01","2026-12-31",4500]
["19-0023","20","19-0023-200",{"$f":"IF(AND(Config!$B$13<=Tarifs!F2930,Config!$B$13>=Tarifs!E2930),1,0)","v":0},"2026-06-01","2026-06-30",1330]
["19-0023","20","19-0023-200",{"$f":"IF(AND(Config!$B$13<=Tarifs!F2931,Config!$B$13>=Tarifs!E2931),1,0)","v":0},"2026-07-01","2026-07-31",1330]
["19-0023","20","19-0023-200",{"$f":"IF(AND(Config!$B$13<=Tarifs!F2932,Config!$B$13>=Tarifs!E2932),1,0)","v":0},"2026-08-01","2026-08-31",1330]
["19-0023","20","19-0023-200",{"$f":"IF(AND(Config!$B$13<=Tarifs!F2933,Config!$B$13>=Tarifs!E2933),1,0)","v":0},"2026-09-01","2026-09-30",1330]
["19-0023","20","19-0023-201",{"$f":"IF(AND(Config!$B$13<=Tarifs!F2934,Config!$B$13>=Tarifs!E2934),1,0)","v":1},"2026-01-01","2026-01-31",1085]
["19-0023","20","19-0023-200",{"$f":"IF(AND(Config!$B$13<=Tarifs!F2935,Config!$B$13>=Tarifs!E2935),1,0)","v":0},"2026-02-01","2026-02-28",1085]
["19-0023","20","19-0023-200",{"$f":"IF(AND(Config!$B$13<=Tarifs!F2936,Config!$B$13>=Tarifs!E2936),1,0)","v":0},"2026-03-01","2026-03-31",1085]
["19-0023","20","19-0023-200",{"$f":"IF(AND(Config!$B$13<=Tarifs!F2937,Config!$B$13>=Tarifs!E2937),1,0)","v":0},"2026-04-01","2026-04-30",1085]
["19-0023","20","19-0023-200",{"$f":"IF(AND(Config!$B$13<=Tarifs!F2938,Config!$B$13>=Tarifs!E2938),1,0)","v":0},"2026-05-01","2026-05-31",1085]
["19-0023","20","19-0023-200",{"$f":"IF(AND(Config!$B$13<=Tarifs!F2939,Config!$B$13>=Tarifs!E2939),1,0)","v":0},"2026-10-01","2026-10-31",1085]
["19-0023","20","19-0023-200",{"$f":"IF(AND(Config!$B$13<=Tarifs!F2940,Config!$B$13>=Tarifs!E2940),1,0)","v":0},"2026-11-01","2026-11-30",1085]
["19-0023","20","19-0023-200",{"$f":"IF(AND(Config!$B$13<=Tarifs!F2941,Config!$B$13>=Tarifs!E2941),1,0)","v":0},"2026-12-01","2026-12-31",1085]
["19-0023","10","19-0023-100",{"$f":"IF(AND(Config!$B$13<=Tarifs!F2942,Config!$B$13>=Tarifs!E2942),1,0)","v":0},"2026-06-01","2026-06-30",190]
["19-0023","10","19-0023-100",{"$f":"IF(AND(Config!$B$13<=Tarifs!F2943,Config!$B$13>=Tarifs!E2943),1,0)","v":0},"2026-07-01","2026-07-31",190]
["19-0023","10","19-0023-100",{"$f":"IF(AND(Config!$B$13<=Tarifs!F2944,Config!$B$13>=Tarifs!E2944),1,0)","v":0},"2026-08-01","2026-08-31",190]
["19-0023","10","19-0023-100",{"$f":"IF(AND(Config!$B$13<=Tarifs!F2945,Config!$B$13>=Tarifs!E2945),1,0)","v":0},"2026-09-01","2026-09-30",190]
["19-0023","10","19-0023-101",{"$f":"IF(AND(Config!$B$13<=Tarifs!F2946,Config!$B$13>=Tarifs!E2946),1,0)","v":1},"2026-01-01","2026-01-31",155]
["19-0023","10",{"$f":"A2947&\"-\"&B2947&D2947","v":"19-0023-100"},{"$f":"IF(AND(Config!$B$13<=Tarifs!F2947,Config!$B$13>=Tarifs!E2947),1,0)","v":0},"2026-02-01","2026-02-28",155]
["19-0023","10","19-0023-100",{"$f":"IF(AND(Config!$B$13<=Tarifs!F2948,Config!$B$13>=Tarifs!E2948),1,0)","v":0},"2026-03-01","2026-03-31",155]
["19-0023","10","19-0023-100",{"$f":"IF(AND(Config!$B$13<=Tarifs!F2949,Config!$B$13>=Tarifs!E2949),1,0)","v":0},"2026-04-01","2026-04-30",155]
["19-0023","10","19-0023-100",{"$f":"IF(AND(Config!$B$13<=Tarifs!F2950,Config!$B$13>=Tarifs!E2950),1,0)","v":0},"2026-05-01","2026-05-31",155]
["19-0023","10","19-0023-100",{"$f":"IF(AND(Config!$B$13<=Tarifs!F2951,Config!$B$13>=Tarifs!E2951),1,0)","v":0},"2026-10-01","2026-10-31",155]
["19-0023","10","19-0023-100",{"$f":"IF(AND(Config!$B$13<=Tarifs!F2952,Config!$B$13>=Tarifs!E2952),1,0)","v":0},"2026-11-01","2026-11-30",155]
["19-0023","10","19-0023-100",{"$f":"IF(AND(Config!$B$13<=Tarifs!F2953,Config!$B$13>=Tarifs!E2953),1,0)","v":0},"2026-12-01","2026-12-31",155]
["19-0027","30","19-0027-300",{"$f":"IF(AND(Config!$B$13<=Tarifs!F2954,Config!$B$13>=Tarifs!E2954),1,0)","v":0},"2026-07-01","2026-07-31",6450]
["19-0027","30","19-0027-300",{"$f":"IF(AND(Config!$B$13<=Tarifs!F2955,Config!$B$13>=Tarifs!E2955),1,0)","v":0},"2026-08-01","2026-08-31",6450]
["19-0027","30","19-0027-300",{"$f":"IF(AND(Config!$B$13<=Tarifs!F2956,Config!$B$13>=Tarifs!E2956),1,0)","v":0},"2026-06-01","2026-06-30",6150]
["19-0027","30","19-0027-300",{"$f":"IF(AND(Config!$B$13<=Tarifs!F2957,Config!$B$13>=Tarifs!E2957),1,0)","v":0},"2026-09-01","2026-09-30",5850]
["19-0027","30","19-0027-300",{"$f":"IF(AND(Config!$B$13<=Tarifs!F2958,Config!$B$13>=Tarifs!E2958),1,0)","v":0},"2026-10-01","2026-10-31",5850]
["19-0027","30","19-0027-300",{"$f":"IF(AND(Config!$B$13<=Tarifs!F2959,Config!$B$13>=Tarifs!E2959),1,0)","v":0},"2026-05-01","2026-05-31",5550]
["19-0027","30","19-0027-300",{"$f":"IF(AND(Config!$B$13<=Tarifs!F2960,Config!$B$13>=Tarifs!E2960),1,0)","v":0},"2026-12-01","2026-12-31",5250]
["19-0027","30","19-0027-300",{"$f":"IF(AND(Config!$B$13<=Tarifs!F2961,Config!$B$13>=Tarifs!E2961),1,0)","v":0},"2026-11-01","2026-11-30",5250]
["19-0027","30","19-0027-301",{"$f":"IF(AND(Config!$B$13<=Tarifs!F2962,Config!$B$13>=Tarifs!E2962),1,0)","v":1},"2026-01-01","2026-01-31",5100]
["19-0027","30","19-0027-300",{"$f":"IF(AND(Config!$B$13<=Tarifs!F2963,Config!$B$13>=Tarifs!E2963),1,0)","v":0},"2026-02-01","2026-02-28",5100]
["19-0027","30","19-0027-300",{"$f":"IF(AND(Config!$B$13<=Tarifs!F2964,Config!$B$13>=Tarifs!E2964),1,0)","v":0},"2026-03-01","2026-03-31",5100]
["19-0027","30","19-0027-300",{"$f":"IF(AND(Config!$B$13<=Tarifs!F2965,Config!$B$13>=Tarifs!E2965),1,0)","v":0},"2026-04-01","2026-04-30",5100]
["19-0027","20","19-0027-200",{"$f":"IF(AND(Config!$B$13<=Tarifs!F2966,Config!$B$13>=Tarifs!E2966),1,0)","v":0},"2026-07-01","2026-07-31",1505]
["19-0027","20","19-0027-200",{"$f":"IF(AND(Config!$B$13<=Tarifs!F2967,Config!$B$13>=Tarifs!E2967),1,0)","v":0},"2026-08-01","2026-08-31",1505]
["19-0027","20","19-0027-200",{"$f":"IF(AND(Config!$B$13<=Tarifs!F2968,Config!$B$13>=Tarifs!E2968),1,0)","v":0},"2026-06-01","2026-06-30",1435]
["19-0027","20","19-0027-200",{"$f":"IF(AND(Config!$B$13<=Tarifs!F2969,Config!$B$13>=Tarifs!E2969),1,0)","v":0},"2026-09-01","2026-09-30",1365]
["19-0027","20","19-0027-200",{"$f":"IF(AND(Config!$B$13<=Tarifs!F2970,Config!$B$13>=Tarifs!E2970),1,0)","v":0},"2026-10-01","2026-10-31",1365]
["19-0027","20","19-0027-200",{"$f":"IF(AND(Config!$B$13<=Tarifs!F2971,Config!$B$13>=Tarifs!E2971),1,0)","v":0},"2026-05-01","2026-05-31",1295]
["19-0027","20","19-0027-200",{"$f":"IF(AND(Config!$B$13<=Tarifs!F2972,Config!$B$13>=Tarifs!E2972),1,0)","v":0},"2026-11-01","2026-11-30",1225]
["19-0027","20","19-0027-200",{"$f":"IF(AND(Config!$B$13<=Tarifs!F2973,Config!$B$13>=Tarifs!E2973),1,0)","v":0},"2026-12-01","2026-12-31",1225]
["19-0027","20","19-0027-201",{"$f":"IF(AND(Config!$B$13<=Tarifs!F2974,Config!$B$13>=Tarifs!E2974),1,0)","v":1},"2026-01-01","2026-01-31",1190]
["19-0027","20","19-0027-200",{"$f":"IF(AND(Config!$B$13<=Tarifs!F2975,Config!$B$13>=Tarifs!E2975),1,0)","v":0},"2026-02-01","2026-02-28",1190]
["19-0027","20","19-0027-200",{"$f":"IF(AND(Config!$B$13<=Tarifs!F2976,Config!$B$13>=Tarifs!E2976),1,0)","v":0},"2026-03-01","2026-03-31",1190]
["19-0027","20","19-0027-200",{"$f":"IF(AND(Config!$B$13<=Tarifs!F2977,Config!$B$13>=Tarifs!E2977),1,0)","v":0},"2026-04-01","2026-04-30",1190]
["19-0027","10","19-0027-100",{"$f":"IF(AND(Config!$B$13<=Tarifs!F2978,Config!$B$13>=Tarifs!E2978),1,0)","v":0},"2026-07-01","2026-07-31",215]
["19-0027","10","19-0027-100",{"$f":"IF(AND(Config!$B$13<=Tarifs!F2979,Config!$B$13>=Tarifs!E2979),1,0)","v":0},"2026-08-01","2026-08-31",215]
["19-0027","10","19-0027-100",{"$f":"IF(AND(Config!$B$13<=Tarifs!F2980,Config!$B$13>=Tarifs!E2980),1,0)","v":0},"2026-06-01","2026-06-30",205]
["19-0027","10","19-0027-100",{"$f":"IF(AND(Config!$B$13<=Tarifs!F2981,Config!$B$13>=Tarifs!E2981),1,0)","v":0},"2026-09-01","2026-09-30",195]
["19-0027","10","19-0027-100",{"$f":"IF(AND(Config!$B$13<=Tarifs!F2982,Config!$B$13>=Tarifs!E2982),1,0)","v":0},"2026-10-01","2026-10-31",195]
["19-0027","10","19-0027-100",{"$f":"IF(AND(Config!$B$13<=Tarifs!F2983,Config!$B$13>=Tarifs!E2983),1,0)","v":0},"2026-05-01","2026-05-31",185]
["19-0027","10","19-0027-100",{"$f":"IF(AND(Config!$B$13<=Tarifs!F2984,Config!$B$13>=Tarifs!E2984),1,0)","v":0},"2026-11-01","2026-11-30",175]
["19-0027","10","19-0027-100",{"$f":"IF(AND(Config!$B$13<=Tarifs!F2985,Config!$B$13>=Tarifs!E2985),1,0)","v":0},"2026-12-01","2026-12-31",175]
["19-0027","10","19-0027-101",{"$f":"IF(AND(Config!$B$13<=Tarifs!F2986,Config!$B$13>=Tarifs!E2986),1,0)","v":1},"2026-01-01","2026-01-31",170]
["19-0027","10","19-0027-100",{"$f":"IF(AND(Config!$B$13<=Tarifs!F2987,Config!$B$13>=Tarifs!E2987),1,0)","v":0},"2026-02-01","2026-02-28",170]
["19-0027","10","19-0027-100",{"$f":"IF(AND(Config!$B$13<=Tarifs!F2988,Config!$B$13>=Tarifs!E2988),1,0)","v":0},"2026-03-01","2026-03-31",170]
["19-0027","10","19-0027-100",{"$f":"IF(AND(Config!$B$13<=Tarifs!F2989,Config!$B$13>=Tarifs!E2989),1,0)","v":0},"2026-04-01","2026-04-30",170]
["19-0035","30","19-0035-300",{"$f":"IF(AND(Config!$B$13<=Tarifs!F2990,Config!$B$13>=Tarifs!E2990),1,0)","v":0},"2026-06-01","2026-06-30",5970]
["19-0035","30","19-0035-300",{"$f":"IF(AND(Config!$B$13<=Tarifs!F2991,Config!$B$13>=Tarifs!E2991),1,0)","v":0},"2026-07-01","2026-07-31",5970]
["19-0035","30","19-0035-300",{"$f":"IF(AND(Config!$B$13<=Tarifs!F2992,Config!$B$13>=Tarifs!E2992),1,0)","v":0},"2026-08-01","2026-08-31",5970]
["19-0035","30","19-0035-300",{"$f":"IF(AND(Config!$B$13<=Tarifs!F2993,Config!$B$13>=Tarifs!E2993),1,0)","v":0},"2026-09-01","2026-09-30",4950]
["19-0035","30","19-0035-300",{"$f":"IF(AND(Config!$B$13<=Tarifs!F2994,Config!$B$13>=Tarifs!E2994),1,0)","v":0},"2026-10-01","2026-10-31",4950]
["19-0035","30","19-0035-300",{"$f":"IF(AND(Config!$B$13<=Tarifs!F2995,Config!$B$13>=Tarifs!E2995),1,0)","v":0},"2026-11-01","2026-11-30",4950]
["19-0035","30","19-0035-300",{"$f":"IF(AND(Config!$B$13<=Tarifs!F2996,Config!$B$13>=Tarifs!E2996),1,0)","v":0},"2026-12-01","2026-12-31",4950]
["19-0035","30","19-0035-301",{"$f":"IF(AND(Config!$B$13<=Tarifs!F2997,Config!$B$13>=Tarifs!E2997),1,0)","v":1},"2026-01-01","2026-01-31",4920]
["19-0035","30","19-0035-300",{"$f":"IF(AND(Config!$B$13<=Tarifs!F2998,Config!$B$13>=Tarifs!E2998),1,0)","v":0},"2026-02-01","2026-02-28",4920]
["19-0035","30","19-0035-300",{"$f":"IF(AND(Config!$B$13<=Tarifs!F2999,Config!$B$13>=Tarifs!E2999),1,0)","v":0},"2026-03-01","2026-03-31",4920]
["19-0035","30","19-0035-300",{"$f":"IF(AND(Config!$B$13<=Tarifs!F3000,Config!$B$13>=Tarifs!E3000),1,0)","v":0},"2026-04-01","2026-04-30",4920]
["19-0035","30","19-0035-300",{"$f":"IF(AND(Config!$B$13<=Tarifs!F3001,Config!$B$13>=Tarifs!E3001),1,0)","v":0},"2026-05-01","2026-05-31",4920]
["19-0035","20","19-0035-200",{"$f":"IF(AND(Config!$B$13<=Tarifs!F3002,Config!$B$13>=Tarifs!E3002),1,0)","v":0},"2026-06-01","2026-06-30",1393]
["19-0035","20","19-0035-200",{"$f":"IF(AND(Config!$B$13<=Tarifs!F3003,Config!$B$13>=Tarifs!E3003),1,0)","v":0},"2026-07-01","2026-07-31",1393]
["19-0035","20","19-0035-200",{"$f":"IF(AND(Config!$B$13<=Tarifs!F3004,Config!$B$13>=Tarifs!E3004),1,0)","v":0},"2026-08-01","2026-08-31",1393]
["19-0035","20","19-0035-200",{"$f":"IF(AND(Config!$B$13<=Tarifs!F3005,Config!$B$13>=Tarifs!E3005),1,0)","v":0},"2026-09-01","2026-09-30",1155]
["19-0035","20","19-0035-200",{"$f":"IF(AND(Config!$B$13<=Tarifs!F3006,Config!$B$13>=Tarifs!E3006),1,0)","v":0},"2026-10-01","2026-10-31",1155]
["19-0035","20","19-0035-200",{"$f":"IF(AND(Config!$B$13<=Tarifs!F3007,Config!$B$13>=Tarifs!E3007),1,0)","v":0},"2026-11-01","2026-11-30",1155]
["19-0035","20","19-0035-200",{"$f":"IF(AND(Config!$B$13<=Tarifs!F3008,Config!$B$13>=Tarifs!E3008),1,0)","v":0},"2026-12-01","2026-12-31",1155]
["19-0035","20","19-0035-201",{"$f":"IF(AND(Config!$B$13<=Tarifs!F3009,Config!$B$13>=Tarifs!E3009),1,0)","v":1},"2026-01-01","2026-01-31",1148]
["19-0035","20","19-0035-200",{"$f":"IF(AND(Config!$B$13<=Tarifs!F3010,Config!$B$13>=Tarifs!E3010),1,0)","v":0},"2026-02-01","2026-02-28",1148]
["19-0035","20",{"$f":"A3011&\"-\"&B3011&D3011","v":"19-0035-200"},{"$f":"IF(AND(Config!$B$13<=Tarifs!F3011,Config!$B$13>=Tarifs!E3011),1,0)","v":0},"2026-03-01","2026-03-31",1148]
["19-0035","20","19-0035-200",{"$f":"IF(AND(Config!$B$13<=Tarifs!F3012,Config!$B$13>=Tarifs!E3012),1,0)","v":0},"2026-04-01","2026-04-30",1148]
["19-0035","20","19-0035-200",{"$f":"IF(AND(Config!$B$13<=Tarifs!F3013,Config!$B$13>=Tarifs!E3013),1,0)","v":0},"2026-05-01","2026-05-31",1148]
["19-0035","10","19-0035-100",{"$f":"IF(AND(Config!$B$13<=Tarifs!F3014,Config!$B$13>=Tarifs!E3014),1,0)","v":0},"2026-06-01","2026-06-30",199]
["19-0035","10","19-0035-100",{"$f":"IF(AND(Config!$B$13<=Tarifs!F3015,Config!$B$13>=Tarifs!E3015),1,0)","v":0},"2026-07-01","2026-07-31",199]
["19-0035","10","19-0035-100",{"$f":"IF(AND(Config!$B$13<=Tarifs!F3016,Config!$B$13>=Tarifs!E3016),1,0)","v":0},"2026-08-01","2026-08-31",199]
["19-0035","10","19-0035-100",{"$f":"IF(AND(Config!$B$13<=Tarifs!F3017,Config!$B$13>=Tarifs!E3017),1,0)","v":0},"2026-09-01","2026-09-30",165]
["19-0035","10","19-0035-100",{"$f":"IF(AND(Config!$B$13<=Tarifs!F3018,Config!$B$13>=Tarifs!E3018),1,0)","v":0},"2026-10-01","2026-10-31",165]
["19-0035","10","19-0035-100",{"$f":"IF(AND(Config!$B$13<=Tarifs!F3019,Config!$B$13>=Tarifs!E3019),1,0)","v":0},"2026-11-01","2026-11-30",165]
["19-0035","10","19-0035-100",{"$f":"IF(AND(Config!$B$13<=Tarifs!F3020,Config!$B$13>=Tarifs!E3020),1,0)","v":0},"2026-12-01","2026-12-31",165]
["19-0035","10","19-0035-101",{"$f":"IF(AND(Config!$B$13<=Tarifs!F3021,Config!$B$13>=Tarifs!E3021),1,0)","v":1},"2026-01-01","2026-01-31",164]
["19-0035","10","19-0035-100",{"$f":"IF(AND(Config!$B$13<=Tarifs!F3022,Config!$B$13>=Tarifs!E3022),1,0)","v":0},"2026-02-01","2026-02-28",164]
["19-0035","10","19-0035-100",{"$f":"IF(AND(Config!$B$13<=Tarifs!F3023,Config!$B$13>=Tarifs!E3023),1,0)","v":0},"2026-03-01","2026-03-31",164]
["19-0035","10","19-0035-100",{"$f":"IF(AND(Config!$B$13<=Tarifs!F3024,Config!$B$13>=Tarifs!E3024),1,0)","v":0},"2026-04-01","2026-04-30",164]
["19-0035","10","19-0035-100",{"$f":"IF(AND(Config!$B$13<=Tarifs!F3025,Config!$B$13>=Tarifs!E3025),1,0)","v":0},"2026-05-01","2026-05-31",164]
["21-0002","30","21-0002-300",{"$f":"IF(AND(Config!$B$13<=Tarifs!F3026,Config!$B$13>=Tarifs!E3026),1,0)","v":0},"2026-04-01","2026-04-30",6599]
["21-0002","30","21-0002-300",{"$f":"IF(AND(Config!$B$13<=Tarifs!F3027,Config!$B$13>=Tarifs!E3027),1,0)","v":0},"2026-05-01","2026-05-31",6599]
["21-0002","30","21-0002-300",{"$f":"IF(AND(Config!$B$13<=Tarifs!F3028,Config!$B$13>=Tarifs!E3028),1,0)","v":0},"2026-06-01","2026-06-30",6599]
["21-0002","30","21-0002-300",{"$f":"IF(AND(Config!$B$13<=Tarifs!F3029,Config!$B$13>=Tarifs!E3029),1,0)","v":0},"2026-07-01","2026-07-31",6599]
["21-0002","30","21-0002-300",{"$f":"IF(AND(Config!$B$13<=Tarifs!F3030,Config!$B$13>=Tarifs!E3030),1,0)","v":0},"2026-08-01","2026-08-31",6599]
["21-0002","30","21-0002-300",{"$f":"IF(AND(Config!$B$13<=Tarifs!F3031,Config!$B$13>=Tarifs!E3031),1,0)","v":0},"2026-09-01","2026-09-30",6599]
["21-0002","30","21-0002-300",{"$f":"IF(AND(Config!$B$13<=Tarifs!F3032,Config!$B$13>=Tarifs!E3032),1,0)","v":0},"2026-10-01","2026-10-31",6599]
["21-0002","30","21-0002-300",{"$f":"IF(AND(Config!$B$13<=Tarifs!F3033,Config!$B$13>=Tarifs!E3033),1,0)","v":0},"2026-11-01","2026-11-30",6599]
["21-0002","30","21-0002-300",{"$f":"IF(AND(Config!$B$13<=Tarifs!F3034,Config!$B$13>=Tarifs!E3034),1,0)","v":0},"2026-12-01","2026-12-31",6599]
["21-0002","30","21-0002-301",{"$f":"IF(AND(Config!$B$13<=Tarifs!F3035,Config!$B$13>=Tarifs!E3035),1,0)","v":1},"2026-01-01","2026-01-31",6599]
["21-0002","30","21-0002-300",{"$f":"IF(AND(Config!$B$13<=Tarifs!F3036,Config!$B$13>=Tarifs!E3036),1,0)","v":0},"2026-02-01","2026-02-28",6599]
["21-0002","30","21-0002-300",{"$f":"IF(AND(Config!$B$13<=Tarifs!F3037,Config!$B$13>=Tarifs!E3037),1,0)","v":0},"2026-03-01","2026-03-31",6599]
["21-0002","20","21-0002-200",{"$f":"IF(AND(Config!$B$13<=Tarifs!F3038,Config!$B$13>=Tarifs!E3038),1,0)","v":0},"2026-05-01","2026-05-31",1539]
["21-0002","20","21-0002-200",{"$f":"IF(AND(Config!$B$13<=Tarifs!F3039,Config!$B$13>=Tarifs!E3039),1,0)","v":0},"2026-06-01","2026-06-30",1539]
["21-0002","20","21-0002-200",{"$f":"IF(AND(Config!$B$13<=Tarifs!F3040,Config!$B$13>=Tarifs!E3040),1,0)","v":0},"2026-07-01","2026-07-31",1539]
["21-0002","20","21-0002-200",{"$f":"IF(AND(Config!$B$13<=Tarifs!F3041,Config!$B$13>=Tarifs!E3041),1,0)","v":0},"2026-08-01","2026-08-31",1539]
["21-0002","20","21-0002-200",{"$f":"IF(AND(Config!$B$13<=Tarifs!F3042,Config!$B$13>=Tarifs!E3042),1,0)","v":0},"2026-09-01","2026-09-30",1539]
["21-0002","20","21-0002-200",{"$f":"IF(AND(Config!$B$13<=Tarifs!F3043,Config!$B$13>=Tarifs!E3043),1,0)","v":0},"2026-10-01","2026-10-31",1539]
["21-0002","20","21-0002-200",{"$f":"IF(AND(Config!$B$13<=Tarifs!F3044,Config!$B$13>=Tarifs!E3044),1,0)","v":0},"2026-11-01","2026-11-30",1539]
["21-0002","20","21-0002-200",{"$f":"IF(AND(Config!$B$13<=Tarifs!F3045,Config!$B$13>=Tarifs!E3045),1,0)","v":0},"2026-12-01","2026-12-31",1539]
["21-0002","20","21-0002-201",{"$f":"IF(AND(Config!$B$13<=Tarifs!F3046,Config!$B$13>=Tarifs!E3046),1,0)","v":1},"2026-01-01","2026-01-31",1539]
["21-0002","20","21-0002-200",{"$f":"IF(AND(Config!$B$13<=Tarifs!F3047,Config!$B$13>=Tarifs!E3047),1,0)","v":0},"2026-02-01","2026-02-28",1539]
["21-0002","20","21-0002-200",{"$f":"IF(AND(Config!$B$13<=Tarifs!F3048,Config!$B$13>=Tarifs!E3048),1,0)","v":0},"2026-03-01","2026-03-31",1539]
["21-0002","20","21-0002-200",{"$f":"IF(AND(Config!$B$13<=Tarifs!F3049,Config!$B$13>=Tarifs!E3049),1,0)","v":0},"2026-04-01","2026-04-30",1539]
["21-0002","10","21-0002-100",{"$f":"IF(AND(Config!$B$13<=Tarifs!F3050,Config!$B$13>=Tarifs!E3050),1,0)","v":0},"2026-05-01","2026-05-31",219]
["21-0002","10","21-0002-100",{"$f":"IF(AND(Config!$B$13<=Tarifs!F3051,Config!$B$13>=Tarifs!E3051),1,0)","v":0},"2026-06-01","2026-06-30",219]
["21-0002","10","21-0002-100",{"$f":"IF(AND(Config!$B$13<=Tarifs!F3052,Config!$B$13>=Tarifs!E3052),1,0)","v":0},"2026-07-01","2026-07-31",219]
["21-0002","10","21-0002-100",{"$f":"IF(AND(Config!$B$13<=Tarifs!F3053,Config!$B$13>=Tarifs!E3053),1,0)","v":0},"2026-08-01","2026-08-31",219]
["21-0002","10","21-0002-100",{"$f":"IF(AND(Config!$B$13<=Tarifs!F3054,Config!$B$13>=Tarifs!E3054),1,0)","v":0},"2026-09-01","2026-09-30",219]
["21-0002","10","21-0002-100",{"$f":"IF(AND(Config!$B$13<=Tarifs!F3055,Config!$B$13>=Tarifs!E3055),1,0)","v":0},"2026-10-01","2026-10-31",219]
["21-0002","10","21-0002-100",{"$f":"IF(AND(Config!$B$13<=Tarifs!F3056,Config!$B$13>=Tarifs!E3056),1,0)","v":0},"2026-11-01","2026-11-30",219]
["21-0002","10","21-0002-100",{"$f":"IF(AND(Config!$B$13<=Tarifs!F3057,Config!$B$13>=Tarifs!E3057),1,0)","v":0},"2026-12-01","2026-12-31",219]
["21-0002","10","21-0002-101",{"$f":"IF(AND(Config!$B$13<=Tarifs!F3058,Config!$B$13>=Tarifs!E3058),1,0)","v":1},"2026-01-01","2026-01-31",219]
["21-0002","10","21-0002-100",{"$f":"IF(AND(Config!$B$13<=Tarifs!F3059,Config!$B$13>=Tarifs!E3059),1,0)","v":0},"2026-02-01","2026-02-28",219]
["21-0002","10","21-0002-100",{"$f":"IF(AND(Config!$B$13<=Tarifs!F3060,Config!$B$13>=Tarifs!E3060),1,0)","v":0},"2026-03-01","2026-03-31",219]
["21-0002","10","21-0002-100",{"$f":"IF(AND(Config!$B$13<=Tarifs!F3061,Config!$B$13>=Tarifs!E3061),1,0)","v":0},"2026-04-01","2026-04-30",219]
["21-0003","30","21-0003-300",{"$f":"IF(AND(Config!$B$13<=Tarifs!F3062,Config!$B$13>=Tarifs!E3062),1,0)","v":0},"2026-02-01","2026-02-28",6299.7]
["21-0003","30","21-0003-300",{"$f":"IF(AND(Config!$B$13<=Tarifs!F3063,Config!$B$13>=Tarifs!E3063),1,0)","v":0},"2026-03-01","2026-03-31",6299.7]
["21-0003","30","21-0003-300",{"$f":"IF(AND(Config!$B$13<=Tarifs!F3064,Config!$B$13>=Tarifs!E3064),1,0)","v":0},"2026-04-01","2026-04-30",6299.7]
["21-0003","30","21-0003-300",{"$f":"IF(AND(Config!$B$13<=Tarifs!F3065,Config!$B$13>=Tarifs!E3065),1,0)","v":0},"2026-05-01","2026-05-31",6299.7]
["21-0003","30","21-0003-301",{"$f":"IF(AND(Config!$B$13<=Tarifs!F3066,Config!$B$13>=Tarifs!E3066),1,0)","v":1},"2026-01-01","2026-01-31",6299.7]
["21-0003","30","21-0003-300",{"$f":"IF(AND(Config!$B$13<=Tarifs!F3067,Config!$B$13>=Tarifs!E3067),1,0)","v":0},"2026-07-01","2026-07-31",6299.7]
["21-0003","30","21-0003-300",{"$f":"IF(AND(Config!$B$13<=Tarifs!F3068,Config!$B$13>=Tarifs!E3068),1,0)","v":0},"2026-08-01","2026-08-31",6299.7]
["21-0003","30","21-0003-300",{"$f":"IF(AND(Config!$B$13<=Tarifs!F3069,Config!$B$13>=Tarifs!E3069),1,0)","v":0},"2026-09-01","2026-09-30",6299.7]
["21-0003","30","21-0003-300",{"$f":"IF(AND(Config!$B$13<=Tarifs!F3070,Config!$B$13>=Tarifs!E3070),1,0)","v":0},"2026-10-01","2026-10-31",6299.7]
["21-0003","30","21-0003-300",{"$f":"IF(AND(Config!$B$13<=Tarifs!F3071,Config!$B$13>=Tarifs!E3071),1,0)","v":0},"2026-11-01","2026-11-30",6299.7]
["21-0003","30","21-0003-300",{"$f":"IF(AND(Config!$B$13<=Tarifs!F3072,Config!$B$13>=Tarifs!E3072),1,0)","v":0},"2026-12-01","2026-12-31",6299.7]
["21-0003","30","21-0003-300",{"$f":"IF(AND(Config!$B$13<=Tarifs!F3073,Config!$B$13>=Tarifs!E3073),1,0)","v":0},"2026-06-01","2026-06-30",6299.7]
["21-0003","20","21-0003-200",{"$f":"IF(AND(Config!$B$13<=Tarifs!F3074,Config!$B$13>=Tarifs!E3074),1,0)","v":0},"2026-02-01","2026-02-28",1469.9]
["21-0003","20",{"$f":"A3075&\"-\"&B3075&D3075","v":"21-0003-200"},{"$f":"IF(AND(Config!$B$13<=Tarifs!F3075,Config!$B$13>=Tarifs!E3075),1,0)","v":0},"2026-03-01","2026-03-31",1469.9]
["21-0003","20","21-0003-200",{"$f":"IF(AND(Config!$B$13<=Tarifs!F3076,Config!$B$13>=Tarifs!E3076),1,0)","v":0},"2026-04-01","2026-04-30",1469.9]
["21-0003","20","21-0003-200",{"$f":"IF(AND(Config!$B$13<=Tarifs!F3077,Config!$B$13>=Tarifs!E3077),1,0)","v":0},"2026-05-01","2026-05-31",1469.9]
["21-0003","20","21-0003-201",{"$f":"IF(AND(Config!$B$13<=Tarifs!F3078,Config!$B$13>=Tarifs!E3078),1,0)","v":1},"2026-01-01","2026-01-31",1469.9]
["21-0003","20","21-0003-200",{"$f":"IF(AND(Config!$B$13<=Tarifs!F3079,Config!$B$13>=Tarifs!E3079),1,0)","v":0},"2026-06-01","2026-06-30",1469.9]
["21-0003","20","21-0003-200",{"$f":"IF(AND(Config!$B$13<=Tarifs!F3080,Config!$B$13>=Tarifs!E3080),1,0)","v":0},"2026-07-01","2026-07-31",1469.9]
["21-0003","20","21-0003-200",{"$f":"IF(AND(Config!$B$13<=Tarifs!F3081,Config!$B$13>=Tarifs!E3081),1,0)","v":0},"2026-08-01","2026-08-31",1469.9]
["21-0003","20","21-0003-200",{"$f":"IF(AND(Config!$B$13<=Tarifs!F3082,Config!$B$13>=Tarifs!E3082),1,0)","v":0},"2026-09-01","2026-09-30",1469.9]
["21-0003","20","21-0003-200",{"$f":"IF(AND(Config!$B$13<=Tarifs!F3083,Config!$B$13>=Tarifs!E3083),1,0)","v":0},"2026-10-01","2026-10-31",1469.9]
["21-0003","20","21-0003-200",{"$f":"IF(AND(Config!$B$13<=Tarifs!F3084,Config!$B$13>=Tarifs!E3084),1,0)","v":0},"2026-11-01","2026-11-30",1469.9]
["21-0003","20","21-0003-200",{"$f":"IF(AND(Config!$B$13<=Tarifs!F3085,Config!$B$13>=Tarifs!E3085),1,0)","v":0},"2026-12-01","2026-12-31",1469.9]
["21-0003","10","21-0003-100",{"$f":"IF(AND(Config!$B$13<=Tarifs!F3086,Config!$B$13>=Tarifs!E3086),1,0)","v":0},"2026-02-01","2026-02-28",209.99]
["21-0003","10","21-0003-100",{"$f":"IF(AND(Config!$B$13<=Tarifs!F3087,Config!$B$13>=Tarifs!E3087),1,0)","v":0},"2026-03-01","2026-03-31",209.99]
["21-0003","10","21-0003-100",{"$f":"IF(AND(Config!$B$13<=Tarifs!F3088,Config!$B$13>=Tarifs!E3088),1,0)","v":0},"2026-04-01","2026-04-30",209.99]
["21-0003","10","21-0003-100",{"$f":"IF(AND(Config!$B$13<=Tarifs!F3089,Config!$B$13>=Tarifs!E3089),1,0)","v":0},"2026-05-01","2026-05-31",209.99]
["21-0003","10","21-0003-101",{"$f":"IF(AND(Config!$B$13<=Tarifs!F3090,Config!$B$13>=Tarifs!E3090),1,0)","v":1},"2026-01-01","2026-01-31",209.99]
["21-0003","10","21-0003-100",{"$f":"IF(AND(Config!$B$13<=Tarifs!F3091,Config!$B$13>=Tarifs!E3091),1,0)","v":0},"2026-07-01","2026-07-31",209.99]
["21-0003","10","21-0003-100",{"$f":"IF(AND(Config!$B$13<=Tarifs!F3092,Config!$B$13>=Tarifs!E3092),1,0)","v":0},"2026-08-01","2026-08-31",209.99]
["21-0003","10","21-0003-100",{"$f":"IF(AND(Config!$B$13<=Tarifs!F3093,Config!$B$13>=Tarifs!E3093),1,0)","v":0},"2026-09-01","2026-09-30",209.99]
["21-0003","10","21-0003-100",{"$f":"IF(AND(Config!$B$13<=Tarifs!F3094,Config!$B$13>=Tarifs!E3094),1,0)","v":0},"2026-10-01","2026-10-31",209.99]
["21-0003","10","21-0003-100",{"$f":"IF(AND(Config!$B$13<=Tarifs!F3095,Config!$B$13>=Tarifs!E3095),1,0)","v":0},"2026-11-01","2026-11-30",209.99]
["21-0003","10","21-0003-100",{"$f":"IF(AND(Config!$B$13<=Tarifs!F3096,Config!$B$13>=Tarifs!E3096),1,0)","v":0},"2026-12-01","2026-12-31",209.99]
["21-0003","10","21-0003-100",{"$f":"IF(AND(Config!$B$13<=Tarifs!F3097,Config!$B$13>=Tarifs!E3097),1,0)","v":0},"2026-06-01","2026-06-30",209.99]
["21-0006","30","21-0006-300",{"$f":"IF(AND(Config!$B$13<=Tarifs!F3098,Config!$B$13>=Tarifs!E3098),1,0)","v":0},"2026-05-01","2026-05-31",5850]
["21-0006","30","21-0006-300",{"$f":"IF(AND(Config!$B$13<=Tarifs!F3099,Config!$B$13>=Tarifs!E3099),1,0)","v":0},"2026-06-01","2026-06-30",5850]
["21-0006","30","21-0006-300",{"$f":"IF(AND(Config!$B$13<=Tarifs!F3100,Config!$B$13>=Tarifs!E3100),1,0)","v":0},"2026-07-01","2026-07-31",5850]
["21-0006","30","21-0006-300",{"$f":"IF(AND(Config!$B$13<=Tarifs!F3101,Config!$B$13>=Tarifs!E3101),1,0)","v":0},"2026-08-01","2026-08-31",5850]
["21-0006","30","21-0006-300",{"$f":"IF(AND(Config!$B$13<=Tarifs!F3102,Config!$B$13>=Tarifs!E3102),1,0)","v":0},"2026-09-01","2026-09-30",5850]
["21-0006","30","21-0006-300",{"$f":"IF(AND(Config!$B$13<=Tarifs!F3103,Config!$B$13>=Tarifs!E3103),1,0)","v":0},"2026-10-01","2026-10-31",5850]
["21-0006","30","21-0006-300",{"$f":"IF(AND(Config!$B$13<=Tarifs!F3104,Config!$B$13>=Tarifs!E3104),1,0)","v":0},"2026-11-01","2026-11-30",5850]
["21-0006","30","21-0006-300",{"$f":"IF(AND(Config!$B$13<=Tarifs!F3105,Config!$B$13>=Tarifs!E3105),1,0)","v":0},"2026-12-01","2026-12-31",5850]
["21-0006","30","21-0006-301",{"$f":"IF(AND(Config!$B$13<=Tarifs!F3106,Config!$B$13>=Tarifs!E3106),1,0)","v":1},"2026-01-01","2026-01-31",5070]
["21-0006","30","21-0006-300",{"$f":"IF(AND(Config!$B$13<=Tarifs!F3107,Config!$B$13>=Tarifs!E3107),1,0)","v":0},"2026-02-01","2026-02-28",5070]
["21-0006","30","21-0006-300",{"$f":"IF(AND(Config!$B$13<=Tarifs!F3108,Config!$B$13>=Tarifs!E3108),1,0)","v":0},"2026-03-01","2026-03-31",5070]
["21-0006","30","21-0006-300",{"$f":"IF(AND(Config!$B$13<=Tarifs!F3109,Config!$B$13>=Tarifs!E3109),1,0)","v":0},"2026-04-01","2026-04-30",5070]
["21-0006","20","21-0006-200",{"$f":"IF(AND(Config!$B$13<=Tarifs!F3110,Config!$B$13>=Tarifs!E3110),1,0)","v":0},"2026-05-01","2026-05-31",1365]
["21-0006","20","21-0006-200",{"$f":"IF(AND(Config!$B$13<=Tarifs!F3111,Config!$B$13>=Tarifs!E3111),1,0)","v":0},"2026-06-01","2026-06-30",1365]
["21-0006","20","21-0006-200",{"$f":"IF(AND(Config!$B$13<=Tarifs!F3112,Config!$B$13>=Tarifs!E3112),1,0)","v":0},"2026-07-01","2026-07-31",1365]
["21-0006","20","21-0006-200",{"$f":"IF(AND(Config!$B$13<=Tarifs!F3113,Config!$B$13>=Tarifs!E3113),1,0)","v":0},"2026-08-01","2026-08-31",1365]
["21-0006","20","21-0006-200",{"$f":"IF(AND(Config!$B$13<=Tarifs!F3114,Config!$B$13>=Tarifs!E3114),1,0)","v":0},"2026-09-01","2026-09-30",1365]
["21-0006","20","21-0006-200",{"$f":"IF(AND(Config!$B$13<=Tarifs!F3115,Config!$B$13>=Tarifs!E3115),1,0)","v":0},"2026-10-01","2026-10-31",1365]
["21-0006","20","21-0006-200",{"$f":"IF(AND(Config!$B$13<=Tarifs!F3116,Config!$B$13>=Tarifs!E3116),1,0)","v":0},"2026-11-01","2026-11-30",1365]
["21-0006","20","21-0006-200",{"$f":"IF(AND(Config!$B$13<=Tarifs!F3117,Config!$B$13>=Tarifs!E3117),1,0)","v":0},"2026-12-01","2026-12-31",1365]
["21-0006","20","21-0006-201",{"$f":"IF(AND(Config!$B$13<=Tarifs!F3118,Config!$B$13>=Tarifs!E3118),1,0)","v":1},"2026-01-01","2026-01-31",1183]
["21-0006","20","21-0006-200",{"$f":"IF(AND(Config!$B$13<=Tarifs!F3119,Config!$B$13>=Tarifs!E3119),1,0)","v":0},"2026-02-01","2026-02-28",1183]
["21-0006","20","21-0006-200",{"$f":"IF(AND(Config!$B$13<=Tarifs!F3120,Config!$B$13>=Tarifs!E3120),1,0)","v":0},"2026-03-01","2026-03-31",1183]
["21-0006","20","21-0006-200",{"$f":"IF(AND(Config!$B$13<=Tarifs!F3121,Config!$B$13>=Tarifs!E3121),1,0)","v":0},"2026-04-01","2026-04-30",1183]
["21-0006","10","21-0006-100",{"$f":"IF(AND(Config!$B$13<=Tarifs!F3122,Config!$B$13>=Tarifs!E3122),1,0)","v":0},"2026-05-01","2026-05-31",195]
["21-0006","10","21-0006-100",{"$f":"IF(AND(Config!$B$13<=Tarifs!F3123,Config!$B$13>=Tarifs!E3123),1,0)","v":0},"2026-06-01","2026-06-30",195]
["21-0006","10","21-0006-100",{"$f":"IF(AND(Config!$B$13<=Tarifs!F3124,Config!$B$13>=Tarifs!E3124),1,0)","v":0},"2026-07-01","2026-07-31",195]
["21-0006","10","21-0006-100",{"$f":"IF(AND(Config!$B$13<=Tarifs!F3125,Config!$B$13>=Tarifs!E3125),1,0)","v":0},"2026-08-01","2026-08-31",195]
["21-0006","10","21-0006-100",{"$f":"IF(AND(Config!$B$13<=Tarifs!F3126,Config!$B$13>=Tarifs!E3126),1,0)","v":0},"2026-09-01","2026-09-30",195]
["21-0006","10","21-0006-100",{"$f":"IF(AND(Config!$B$13<=Tarifs!F3127,Config!$B$13>=Tarifs!E3127),1,0)","v":0},"2026-10-01","2026-10-31",195]
["21-0006","10","21-0006-100",{"$f":"IF(AND(Config!$B$13<=Tarifs!F3128,Config!$B$13>=Tarifs!E3128),1,0)","v":0},"2026-11-01","2026-11-30",195]
["21-0006","10","21-0006-100",{"$f":"IF(AND(Config!$B$13<=Tarifs!F3129,Config!$B$13>=Tarifs!E3129),1,0)","v":0},"2026-12-01","2026-12-31",195]
["21-0006","10","21-0006-101",{"$f":"IF(AND(Config!$B$13<=Tarifs!F3130,Config!$B$13>=Tarifs!E3130),1,0)","v":1},"2026-01-01","2026-01-31",169]
["21-0006","10","21-0006-100",{"$f":"IF(AND(Config!$B$13<=Tarifs!F3131,Config!$B$13>=Tarifs!E3131),1,0)","v":0},"2026-02-01","2026-02-28",169]
["21-0006","10","21-0006-100",{"$f":"IF(AND(Config!$B$13<=Tarifs!F3132,Config!$B$13>=Tarifs!E3132),1,0)","v":0},"2026-03-01","2026-03-31",169]
["21-0006","10","21-0006-100",{"$f":"IF(AND(Config!$B$13<=Tarifs!F3133,Config!$B$13>=Tarifs!E3133),1,0)","v":0},"2026-04-01","2026-04-30",169]
["21-0008","30","21-0008-300",{"$f":"IF(AND(Config!$B$13<=Tarifs!F3134,Config!$B$13>=Tarifs!E3134),1,0)","v":0},"2026-05-01","2026-05-31",5670]
["21-0008","30","21-0008-300",{"$f":"IF(AND(Config!$B$13<=Tarifs!F3135,Config!$B$13>=Tarifs!E3135),1,0)","v":0},"2026-06-01","2026-06-30",5670]
["21-0008","30","21-0008-300",{"$f":"IF(AND(Config!$B$13<=Tarifs!F3136,Config!$B$13>=Tarifs!E3136),1,0)","v":0},"2026-07-01","2026-07-31",5670]
["21-0008","30","21-0008-300",{"$f":"IF(AND(Config!$B$13<=Tarifs!F3137,Config!$B$13>=Tarifs!E3137),1,0)","v":0},"2026-08-01","2026-08-31",5670]
["21-0008","30","21-0008-300",{"$f":"IF(AND(Config!$B$13<=Tarifs!F3138,Config!$B$13>=Tarifs!E3138),1,0)","v":0},"2026-09-01","2026-09-30",5670]
["21-0008","30",{"$f":"A3139&\"-\"&B3139&D3139","v":"21-0008-300"},{"$f":"IF(AND(Config!$B$13<=Tarifs!F3139,Config!$B$13>=Tarifs!E3139),1,0)","v":0},"2026-10-01","2026-10-31",5670]
["21-0008","30","21-0008-300",{"$f":"IF(AND(Config!$B$13<=Tarifs!F3140,Config!$B$13>=Tarifs!E3140),1,0)","v":0},"2026-11-01","2026-11-30",5670]
["21-0008","30","21-0008-300",{"$f":"IF(AND(Config!$B$13<=Tarifs!F3141,Config!$B$13>=Tarifs!E3141),1,0)","v":0},"2026-12-01","2026-12-31",5670]
["21-0008","30","21-0008-301",{"$f":"IF(AND(Config!$B$13<=Tarifs!F3142,Config!$B$13>=Tarifs!E3142),1,0)","v":1},"2026-01-01","2026-01-31",5370]
["21-0008","30","21-0008-300",{"$f":"IF(AND(Config!$B$13<=Tarifs!F3143,Config!$B$13>=Tarifs!E3143),1,0)","v":0},"2026-02-01","2026-02-28",5370]
["21-0008","30","21-0008-300",{"$f":"IF(AND(Config!$B$13<=Tarifs!F3144,Config!$B$13>=Tarifs!E3144),1,0)","v":0},"2026-03-01","2026-03-31",5370]
["21-0008","30","21-0008-300",{"$f":"IF(AND(Config!$B$13<=Tarifs!F3145,Config!$B$13>=Tarifs!E3145),1,0)","v":0},"2026-04-01","2026-04-30",5370]
["21-0008","20","21-0008-200",{"$f":"IF(AND(Config!$B$13<=Tarifs!F3146,Config!$B$13>=Tarifs!E3146),1,0)","v":0},"2026-05-01","2026-05-31",1323]
["21-0008","20","21-0008-200",{"$f":"IF(AND(Config!$B$13<=Tarifs!F3147,Config!$B$13>=Tarifs!E3147),1,0)","v":0},"2026-06-01","2026-06-30",1323]
["21-0008","20","21-0008-200",{"$f":"IF(AND(Config!$B$13<=Tarifs!F3148,Config!$B$13>=Tarifs!E3148),1,0)","v":0},"2026-07-01","2026-07-31",1323]
["21-0008","20","21-0008-200",{"$f":"IF(AND(Config!$B$13<=Tarifs!F3149,Config!$B$13>=Tarifs!E3149),1,0)","v":0},"2026-08-01","2026-08-31",1323]
["21-0008","20","21-0008-200",{"$f":"IF(AND(Config!$B$13<=Tarifs!F3150,Config!$B$13>=Tarifs!E3150),1,0)","v":0},"2026-09-01","2026-09-30",1323]
["21-0008","20","21-0008-200",{"$f":"IF(AND(Config!$B$13<=Tarifs!F3151,Config!$B$13>=Tarifs!E3151),1,0)","v":0},"2026-10-01","2026-10-31",1323]
["21-0008","20","21-0008-200",{"$f":"IF(AND(Config!$B$13<=Tarifs!F3152,Config!$B$13>=Tarifs!E3152),1,0)","v":0},"2026-11-01","2026-11-30",1323]
["21-0008","20","21-0008-200",{"$f":"IF(AND(Config!$B$13<=Tarifs!F3153,Config!$B$13>=Tarifs!E3153),1,0)","v":0},"2026-12-01","2026-12-31",1323]
["21-0008","20","21-0008-201",{"$f":"IF(AND(Config!$B$13<=Tarifs!F3154,Config!$B$13>=Tarifs!E3154),1,0)","v":1},"2026-01-01","2026-01-31",1253]
["21-0008","20","21-0008-200",{"$f":"IF(AND(Config!$B$13<=Tarifs!F3155,Config!$B$13>=Tarifs!E3155),1,0)","v":0},"2026-02-01","2026-02-28",1253]
["21-0008","20","21-0008-200",{"$f":"IF(AND(Config!$B$13<=Tarifs!F3156,Config!$B$13>=Tarifs!E3156),1,0)","v":0},"2026-03-01","2026-03-31",1253]
["21-0008","20","21-0008-200",{"$f":"IF(AND(Config!$B$13<=Tarifs!F3157,Config!$B$13>=Tarifs!E3157),1,0)","v":0},"2026-04-01","2026-04-30",1253]
["21-0008","10","21-0008-100",{"$f":"IF(AND(Config!$B$13<=Tarifs!F3158,Config!$B$13>=Tarifs!E3158),1,0)","v":0},"2026-05-01","2026-05-31",189]
["21-0008","10","21-0008-100",{"$f":"IF(AND(Config!$B$13<=Tarifs!F3159,Config!$B$13>=Tarifs!E3159),1,0)","v":0},"2026-06-01","2026-06-30",189]
["21-0008","10","21-0008-100",{"$f":"IF(AND(Config!$B$13<=Tarifs!F3160,Config!$B$13>=Tarifs!E3160),1,0)","v":0},"2026-07-01","2026-07-31",189]
["21-0008","10","21-0008-100",{"$f":"IF(AND(Config!$B$13<=Tarifs!F3161,Config!$B$13>=Tarifs!E3161),1,0)","v":0},"2026-08-01","2026-08-31",189]
["21-0008","10","21-0008-100",{"$f":"IF(AND(Config!$B$13<=Tarifs!F3162,Config!$B$13>=Tarifs!E3162),1,0)","v":0},"2026-09-01","2026-09-30",189]
["21-0008","10","21-0008-100",{"$f":"IF(AND(Config!$B$13<=Tarifs!F3163,Config!$B$13>=Tarifs!E3163),1,0)","v":0},"2026-10-01","2026-10-31",189]
["21-0008","10","21-0008-100",{"$f":"IF(AND(Config!$B$13<=Tarifs!F3164,Config!$B$13>=Tarifs!E3164),1,0)","v":0},"2026-11-01","2026-11-30",189]
["21-0008","10","21-0008-100",{"$f":"IF(AND(Config!$B$13<=Tarifs!F3165,Config!$B$13>=Tarifs!E3165),1,0)","v":0},"2026-12-01","2026-12-31",189]
["21-0008","10","21-0008-101",{"$f":"IF(AND(Config!$B$13<=Tarifs!F3166,Config!$B$13>=Tarifs!E3166),1,0)","v":1},"2026-01-01","2026-01-31",179]
["21-0008","10","21-0008-100",{"$f":"IF(AND(Config!$B$13<=Tarifs!F3167,Config!$B$13>=Tarifs!E3167),1,0)","v":0},"2026-02-01","2026-02-28",179]
["21-0008","10","21-0008-100",{"$f":"IF(AND(Config!$B$13<=Tarifs!F3168,Config!$B$13>=Tarifs!E3168),1,0)","v":0},"2026-03-01","2026-03-31",179]
["21-0008","10","21-0008-100",{"$f":"IF(AND(Config!$B$13<=Tarifs!F3169,Config!$B$13>=Tarifs!E3169),1,0)","v":0},"2026-04-01","2026-04-30",179]
["21-0010","30","21-0010-300",{"$f":"IF(AND(Config!$B$13<=Tarifs!F3170,Config!$B$13>=Tarifs!E3170),1,0)","v":0},"2026-07-01","2026-07-31",7170]
["21-0010","30","21-0010-300",{"$f":"IF(AND(Config!$B$13<=Tarifs!F3171,Config!$B$13>=Tarifs!E3171),1,0)","v":0},"2026-08-01","2026-08-31",7170]
["21-0010","30","21-0010-300",{"$f":"IF(AND(Config!$B$13<=Tarifs!F3172,Config!$B$13>=Tarifs!E3172),1,0)","v":0},"2026-06-01","2026-06-30",5400]
["21-0010","30","21-0010-300",{"$f":"IF(AND(Config!$B$13<=Tarifs!F3173,Config!$B$13>=Tarifs!E3173),1,0)","v":0},"2026-09-01","2026-09-30",5400]
["21-0010","30","21-0010-301",{"$f":"IF(AND(Config!$B$13<=Tarifs!F3174,Config!$B$13>=Tarifs!E3174),1,0)","v":1},"2026-01-01","2026-01-31",4770]
["21-0010","30","21-0010-300",{"$f":"IF(AND(Config!$B$13<=Tarifs!F3175,Config!$B$13>=Tarifs!E3175),1,0)","v":0},"2026-02-01","2026-02-28",4770]
["21-0010","30","21-0010-300",{"$f":"IF(AND(Config!$B$13<=Tarifs!F3176,Config!$B$13>=Tarifs!E3176),1,0)","v":0},"2026-03-01","2026-03-31",4770]
["21-0010","30","21-0010-300",{"$f":"IF(AND(Config!$B$13<=Tarifs!F3177,Config!$B$13>=Tarifs!E3177),1,0)","v":0},"2026-04-01","2026-04-30",4770]
["21-0010","30","21-0010-300",{"$f":"IF(AND(Config!$B$13<=Tarifs!F3178,Config!$B$13>=Tarifs!E3178),1,0)","v":0},"2026-05-01","2026-05-31",4770]
["21-0010","30","21-0010-300",{"$f":"IF(AND(Config!$B$13<=Tarifs!F3179,Config!$B$13>=Tarifs!E3179),1,0)","v":0},"2026-10-01","2026-10-31",4770]
["21-0010","30","21-0010-300",{"$f":"IF(AND(Config!$B$13<=Tarifs!F3180,Config!$B$13>=Tarifs!E3180),1,0)","v":0},"2026-11-01","2026-11-30",4770]
["21-0010","30","21-0010-300",{"$f":"IF(AND(Config!$B$13<=Tarifs!F3181,Config!$B$13>=Tarifs!E3181),1,0)","v":0},"2026-12-01","2026-12-31",4770]
["21-0010","20","21-0010-200",{"$f":"IF(AND(Config!$B$13<=Tarifs!F3182,Config!$B$13>=Tarifs!E3182),1,0)","v":0},"2026-07-01","2026-07-31",2000]
["21-0010","20","21-0010-200",{"$f":"IF(AND(Config!$B$13<=Tarifs!F3183,Config!$B$13>=Tarifs!E3183),1,0)","v":0},"2026-08-01","2026-08-31",2000]
["21-0010","20","21-0010-200",{"$f":"IF(AND(Config!$B$13<=Tarifs!F3184,Config!$B$13>=Tarifs!E3184),1,0)","v":0},"2026-06-01","2026-06-30",1400]
["21-0010","20","21-0010-200",{"$f":"IF(AND(Config!$B$13<=Tarifs!F3185,Config!$B$13>=Tarifs!E3185),1,0)","v":0},"2026-09-01","2026-09-30",1300]
["21-0010","20","21-0010-201",{"$f":"IF(AND(Config!$B$13<=Tarifs!F3186,Config!$B$13>=Tarifs!E3186),1,0)","v":1},"2026-01-01","2026-01-31",1113]
["21-0010","20","21-0010-200",{"$f":"IF(AND(Config!$B$13<=Tarifs!F3187,Config!$B$13>=Tarifs!E3187),1,0)","v":0},"2026-02-01","2026-02-28",1113]
["21-0010","20","21-0010-200",{"$f":"IF(AND(Config!$B$13<=Tarifs!F3188,Config!$B$13>=Tarifs!E3188),1,0)","v":0},"2026-03-01","2026-03-31",1113]
["21-0010","20","21-0010-200",{"$f":"IF(AND(Config!$B$13<=Tarifs!F3189,Config!$B$13>=Tarifs!E3189),1,0)","v":0},"2026-04-01","2026-04-30",1113]
["21-0010","20","21-0010-200",{"$f":"IF(AND(Config!$B$13<=Tarifs!F3190,Config!$B$13>=Tarifs!E3190),1,0)","v":0},"2026-05-01","2026-05-31",1113]
["21-0010","20","21-0010-200",{"$f":"IF(AND(Config!$B$13<=Tarifs!F3191,Config!$B$13>=Tarifs!E3191),1,0)","v":0},"2026-10-01","2026-10-31",1113]
["21-0010","20","21-0010-200",{"$f":"IF(AND(Config!$B$13<=Tarifs!F3192,Config!$B$13>=Tarifs!E3192),1,0)","v":0},"2026-11-01","2026-11-30",1113]
["21-0010","20","21-0010-200",{"$f":"IF(AND(Config!$B$13<=Tarifs!F3193,Config!$B$13>=Tarifs!E3193),1,0)","v":0},"2026-12-01","2026-12-31",1113]
["21-0010","10","21-0010-100",{"$f":"IF(AND(Config!$B$13<=Tarifs!F3194,Config!$B$13>=Tarifs!E3194),1,0)","v":0},"2026-07-01","2026-07-31",239]
["21-0010","10","21-0010-100",{"$f":"IF(AND(Config!$B$13<=Tarifs!F3195,Config!$B$13>=Tarifs!E3195),1,0)","v":0},"2026-08-01","2026-08-31",239]
["21-0010","10","21-0010-100",{"$f":"IF(AND(Config!$B$13<=Tarifs!F3196,Config!$B$13>=Tarifs!E3196),1,0)","v":0},"2026-06-01","2026-06-30",189]
["21-0010","10","21-0010-100",{"$f":"IF(AND(Config!$B$13<=Tarifs!F3197,Config!$B$13>=Tarifs!E3197),1,0)","v":0},"2026-09-01","2026-09-30",179]
["21-0010","10","21-0010-100",{"$f":"IF(AND(Config!$B$13<=Tarifs!F3198,Config!$B$13>=Tarifs!E3198),1,0)","v":0},"2026-05-01","2026-05-31",169]
["21-0010","10","21-0010-100",{"$f":"IF(AND(Config!$B$13<=Tarifs!F3199,Config!$B$13>=Tarifs!E3199),1,0)","v":0},"2026-10-01","2026-10-31",164]
["21-0010","10","21-0010-101",{"$f":"IF(AND(Config!$B$13<=Tarifs!F3200,Config!$B$13>=Tarifs!E3200),1,0)","v":1},"2026-01-01","2026-01-31",159]
["21-0010","10","21-0010-100",{"$f":"IF(AND(Config!$B$13<=Tarifs!F3201,Config!$B$13>=Tarifs!E3201),1,0)","v":0},"2026-02-01","2026-02-28",159]
["21-0010","10","21-0010-100",{"$f":"IF(AND(Config!$B$13<=Tarifs!F3202,Config!$B$13>=Tarifs!E3202),1,0)","v":0},"2026-03-01","2026-03-31",159]
["21-0010","10",{"$f":"A3203&\"-\"&B3203&D3203","v":"21-0010-100"},{"$f":"IF(AND(Config!$B$13<=Tarifs!F3203,Config!$B$13>=Tarifs!E3203),1,0)","v":0},"2026-04-01","2026-04-30",159]
["21-0010","10","21-0010-100",{"$f":"IF(AND(Config!$B$13<=Tarifs!F3204,Config!$B$13>=Tarifs!E3204),1,0)","v":0},"2026-11-01","2026-11-30",159]
["21-0010","10","21-0010-100",{"$f":"IF(AND(Config!$B$13<=Tarifs!F3205,Config!$B$13>=Tarifs!E3205),1,0)","v":0},"2026-12-01","2026-12-31",159]
["21-0011","30","21-0011-300",{"$f":"IF(AND(Config!$B$13<=Tarifs!F3206,Config!$B$13>=Tarifs!E3206),1,0)","v":0},"2026-04-01","2026-04-30",14970]
["21-0011","30","21-0011-300",{"$f":"IF(AND(Config!$B$13<=Tarifs!F3207,Config!$B$13>=Tarifs!E3207),1,0)","v":0},"2026-05-01","2026-05-31",14970]
["21-0011","30","21-0011-300",{"$f":"IF(AND(Config!$B$13<=Tarifs!F3208,Config!$B$13>=Tarifs!E3208),1,0)","v":0},"2026-06-01","2026-06-30",14970]
["21-0011","30","21-0011-300",{"$f":"IF(AND(Config!$B$13<=Tarifs!F3209,Config!$B$13>=Tarifs!E3209),1,0)","v":0},"2026-07-01","2026-07-31",14970]
["21-0011","30","21-0011-300",{"$f":"IF(AND(Config!$B$13<=Tarifs!F3210,Config!$B$13>=Tarifs!E3210),1,0)","v":0},"2026-08-01","2026-08-31",14970]
["21-0011","30","21-0011-300",{"$f":"IF(AND(Config!$B$13<=Tarifs!F3211,Config!$B$13>=Tarifs!E3211),1,0)","v":0},"2026-09-01","2026-09-30",14970]
["21-0011","30","21-0011-300",{"$f":"IF(AND(Config!$B$13<=Tarifs!F3212,Config!$B$13>=Tarifs!E3212),1,0)","v":0},"2026-10-01","2026-10-31",14970]
["21-0011","30","21-0011-300",{"$f":"IF(AND(Config!$B$13<=Tarifs!F3213,Config!$B$13>=Tarifs!E3213),1,0)","v":0},"2026-11-01","2026-11-30",14970]
["21-0011","30","21-0011-301",{"$f":"IF(AND(Config!$B$13<=Tarifs!F3214,Config!$B$13>=Tarifs!E3214),1,0)","v":1},"2026-01-01","2026-01-31",7170]
["21-0011","30","21-0011-300",{"$f":"IF(AND(Config!$B$13<=Tarifs!F3215,Config!$B$13>=Tarifs!E3215),1,0)","v":0},"2026-02-01","2026-02-28",7170]
["21-0011","30","21-0011-300",{"$f":"IF(AND(Config!$B$13<=Tarifs!F3216,Config!$B$13>=Tarifs!E3216),1,0)","v":0},"2026-03-01","2026-03-31",7170]
["21-0011","30","21-0011-300",{"$f":"IF(AND(Config!$B$13<=Tarifs!F3217,Config!$B$13>=Tarifs!E3217),1,0)","v":0},"2026-12-01","2026-12-31",7170]
["21-0011","20","21-0011-200",{"$f":"IF(AND(Config!$B$13<=Tarifs!F3218,Config!$B$13>=Tarifs!E3218),1,0)","v":0},"2026-04-01","2026-04-30",3493]
["21-0011","20","21-0011-200",{"$f":"IF(AND(Config!$B$13<=Tarifs!F3219,Config!$B$13>=Tarifs!E3219),1,0)","v":0},"2026-05-01","2026-05-31",3493]
["21-0011","20","21-0011-200",{"$f":"IF(AND(Config!$B$13<=Tarifs!F3220,Config!$B$13>=Tarifs!E3220),1,0)","v":0},"2026-07-01","2026-07-31",3493]
["21-0011","20","21-0011-200",{"$f":"IF(AND(Config!$B$13<=Tarifs!F3221,Config!$B$13>=Tarifs!E3221),1,0)","v":0},"2026-08-01","2026-08-31",3493]
["21-0011","20","21-0011-200",{"$f":"IF(AND(Config!$B$13<=Tarifs!F3222,Config!$B$13>=Tarifs!E3222),1,0)","v":0},"2026-09-01","2026-09-30",3493]
["21-0011","20","21-0011-200",{"$f":"IF(AND(Config!$B$13<=Tarifs!F3223,Config!$B$13>=Tarifs!E3223),1,0)","v":0},"2026-10-01","2026-10-31",3493]
["21-0011","20","21-0011-200",{"$f":"IF(AND(Config!$B$13<=Tarifs!F3224,Config!$B$13>=Tarifs!E3224),1,0)","v":0},"2026-11-01","2026-11-30",3493]
["21-0011","20","21-0011-200",{"$f":"IF(AND(Config!$B$13<=Tarifs!F3225,Config!$B$13>=Tarifs!E3225),1,0)","v":0},"2026-06-01","2026-06-30",3293]
["21-0011","20","21-0011-201",{"$f":"IF(AND(Config!$B$13<=Tarifs!F3226,Config!$B$13>=Tarifs!E3226),1,0)","v":1},"2026-01-01","2026-01-31",1673]
["21-0011","20","21-0011-200",{"$f":"IF(AND(Config!$B$13<=Tarifs!F3227,Config!$B$13>=Tarifs!E3227),1,0)","v":0},"2026-02-01","2026-02-28",1673]
["21-0011","20","21-0011-200",{"$f":"IF(AND(Config!$B$13<=Tarifs!F3228,Config!$B$13>=Tarifs!E3228),1,0)","v":0},"2026-03-01","2026-03-31",1673]
["21-0011","20","21-0011-200",{"$f":"IF(AND(Config!$B$13<=Tarifs!F3229,Config!$B$13>=Tarifs!E3229),1,0)","v":0},"2026-12-01","2026-12-31",1673]
["21-0011","10","21-0011-100",{"$f":"IF(AND(Config!$B$13<=Tarifs!F3230,Config!$B$13>=Tarifs!E3230),1,0)","v":0},"2026-04-01","2026-04-30",499]
["21-0011","10","21-0011-100",{"$f":"IF(AND(Config!$B$13<=Tarifs!F3231,Config!$B$13>=Tarifs!E3231),1,0)","v":0},"2026-05-01","2026-05-31",499]
["21-0011","10","21-0011-100",{"$f":"IF(AND(Config!$B$13<=Tarifs!F3232,Config!$B$13>=Tarifs!E3232),1,0)","v":0},"2026-06-01","2026-06-30",499]
["21-0011","10","21-0011-100",{"$f":"IF(AND(Config!$B$13<=Tarifs!F3233,Config!$B$13>=Tarifs!E3233),1,0)","v":0},"2026-07-01","2026-07-31",499]
["21-0011","10","21-0011-100",{"$f":"IF(AND(Config!$B$13<=Tarifs!F3234,Config!$B$13>=Tarifs!E3234),1,0)","v":0},"2026-08-01","2026-08-31",499]
["21-0011","10","21-0011-100",{"$f":"IF(AND(Config!$B$13<=Tarifs!F3235,Config!$B$13>=Tarifs!E3235),1,0)","v":0},"2026-09-01","2026-09-30",499]
["21-0011","10","21-0011-100",{"$f":"IF(AND(Config!$B$13<=Tarifs!F3236,Config!$B$13>=Tarifs!E3236),1,0)","v":0},"2026-10-01","2026-10-31",499]
["21-0011","10","21-0011-100",{"$f":"IF(AND(Config!$B$13<=Tarifs!F3237,Config!$B$13>=Tarifs!E3237),1,0)","v":0},"2026-11-01","2026-11-30",499]
["21-0011","10","21-0011-101",{"$f":"IF(AND(Config!$B$13<=Tarifs!F3238,Config!$B$13>=Tarifs!E3238),1,0)","v":1},"2026-01-01","2026-01-31",239]
["21-0011","10","21-0011-100",{"$f":"IF(AND(Config!$B$13<=Tarifs!F3239,Config!$B$13>=Tarifs!E3239),1,0)","v":0},"2026-02-01","2026-02-28",239]
["21-0011","10","21-0011-100",{"$f":"IF(AND(Config!$B$13<=Tarifs!F3240,Config!$B$13>=Tarifs!E3240),1,0)","v":0},"2026-03-01","2026-03-31",239]
["21-0011","10","21-0011-100",{"$f":"IF(AND(Config!$B$13<=Tarifs!F3241,Config!$B$13>=Tarifs!E3241),1,0)","v":0},"2026-12-01","2026-12-31",239]
["21-0012","30","21-0012-300",{"$f":"IF(AND(Config!$B$13<=Tarifs!F3242,Config!$B$13>=Tarifs!E3242),1,0)","v":0},"2026-06-01","2026-06-30",4950]
["21-0012","30","21-0012-300",{"$f":"IF(AND(Config!$B$13<=Tarifs!F3243,Config!$B$13>=Tarifs!E3243),1,0)","v":0},"2026-07-01","2026-07-31",4950]
["21-0012","30","21-0012-300",{"$f":"IF(AND(Config!$B$13<=Tarifs!F3244,Config!$B$13>=Tarifs!E3244),1,0)","v":0},"2026-08-01","2026-08-31",4950]
["21-0012","30","21-0012-300",{"$f":"IF(AND(Config!$B$13<=Tarifs!F3245,Config!$B$13>=Tarifs!E3245),1,0)","v":0},"2026-09-01","2026-09-30",4950]
["21-0012","30","21-0012-300",{"$f":"IF(AND(Config!$B$13<=Tarifs!F3246,Config!$B$13>=Tarifs!E3246),1,0)","v":0},"2026-10-01","2026-10-31",4950]
["21-0012","30","21-0012-300",{"$f":"IF(AND(Config!$B$13<=Tarifs!F3247,Config!$B$13>=Tarifs!E3247),1,0)","v":0},"2026-11-01","2026-11-30",4350]
["21-0012","30","21-0012-300",{"$f":"IF(AND(Config!$B$13<=Tarifs!F3248,Config!$B$13>=Tarifs!E3248),1,0)","v":0},"2026-12-01","2026-12-31",4350]
["21-0012","30","21-0012-301",{"$f":"IF(AND(Config!$B$13<=Tarifs!F3249,Config!$B$13>=Tarifs!E3249),1,0)","v":1},"2026-01-01","2026-01-31",3780]
["21-0012","30","21-0012-300",{"$f":"IF(AND(Config!$B$13<=Tarifs!F3250,Config!$B$13>=Tarifs!E3250),1,0)","v":0},"2026-02-01","2026-02-28",3780]
["21-0012","30","21-0012-300",{"$f":"IF(AND(Config!$B$13<=Tarifs!F3251,Config!$B$13>=Tarifs!E3251),1,0)","v":0},"2026-03-01","2026-03-31",3780]
["21-0012","30","21-0012-300",{"$f":"IF(AND(Config!$B$13<=Tarifs!F3252,Config!$B$13>=Tarifs!E3252),1,0)","v":0},"2026-04-01","2026-04-30",3780]
["21-0012","30","21-0012-300",{"$f":"IF(AND(Config!$B$13<=Tarifs!F3253,Config!$B$13>=Tarifs!E3253),1,0)","v":0},"2026-05-01","2026-05-31",3780]
["21-0012","20","21-0012-200",{"$f":"IF(AND(Config!$B$13<=Tarifs!F3254,Config!$B$13>=Tarifs!E3254),1,0)","v":0},"2026-06-01","2026-06-30",1155]
["21-0012","20","21-0012-200",{"$f":"IF(AND(Config!$B$13<=Tarifs!F3255,Config!$B$13>=Tarifs!E3255),1,0)","v":0},"2026-07-01","2026-07-31",1155]
["21-0012","20","21-0012-200",{"$f":"IF(AND(Config!$B$13<=Tarifs!F3256,Config!$B$13>=Tarifs!E3256),1,0)","v":0},"2026-08-01","2026-08-31",1155]
["21-0012","20","21-0012-200",{"$f":"IF(AND(Config!$B$13<=Tarifs!F3257,Config!$B$13>=Tarifs!E3257),1,0)","v":0},"2026-09-01","2026-09-30",1155]
["21-0012","20","21-0012-200",{"$f":"IF(AND(Config!$B$13<=Tarifs!F3258,Config!$B$13>=Tarifs!E3258),1,0)","v":0},"2026-10-01","2026-10-31",1155]
["21-0012","20","21-0012-200",{"$f":"IF(AND(Config!$B$13<=Tarifs!F3259,Config!$B$13>=Tarifs!E3259),1,0)","v":0},"2026-11-01","2026-11-30",1015]
["21-0012","20","21-0012-200",{"$f":"IF(AND(Config!$B$13<=Tarifs!F3260,Config!$B$13>=Tarifs!E3260),1,0)","v":0},"2026-12-01","2026-12-31",1015]
["21-0012","20","21-0012-201",{"$f":"IF(AND(Config!$B$13<=Tarifs!F3261,Config!$B$13>=Tarifs!E3261),1,0)","v":1},"2026-01-01","2026-01-31",882]
["21-0012","20","21-0012-200",{"$f":"IF(AND(Config!$B$13<=Tarifs!F3262,Config!$B$13>=Tarifs!E3262),1,0)","v":0},"2026-02-01","2026-02-28",882]
["21-0012","20","21-0012-200",{"$f":"IF(AND(Config!$B$13<=Tarifs!F3263,Config!$B$13>=Tarifs!E3263),1,0)","v":0},"2026-03-01","2026-03-31",882]
["21-0012","20","21-0012-200",{"$f":"IF(AND(Config!$B$13<=Tarifs!F3264,Config!$B$13>=Tarifs!E3264),1,0)","v":0},"2026-04-01","2026-04-30",882]
["21-0012","20","21-0012-200",{"$f":"IF(AND(Config!$B$13<=Tarifs!F3265,Config!$B$13>=Tarifs!E3265),1,0)","v":0},"2026-05-01","2026-05-31",882]
["21-0012","10","21-0012-100",{"$f":"IF(AND(Config!$B$13<=Tarifs!F3266,Config!$B$13>=Tarifs!E3266),1,0)","v":0},"2026-06-01","2026-06-30",165]
["21-0012","10",{"$f":"A3267&\"-\"&B3267&D3267","v":"21-0012-100"},{"$f":"IF(AND(Config!$B$13<=Tarifs!F3267,Config!$B$13>=Tarifs!E3267),1,0)","v":0},"2026-07-01","2026-07-31",165]
["21-0012","10","21-0012-100",{"$f":"IF(AND(Config!$B$13<=Tarifs!F3268,Config!$B$13>=Tarifs!E3268),1,0)","v":0},"2026-08-01","2026-08-31",165]
["21-0012","10","21-0012-100",{"$f":"IF(AND(Config!$B$13<=Tarifs!F3269,Config!$B$13>=Tarifs!E3269),1,0)","v":0},"2026-09-01","2026-09-30",165]
["21-0012","10","21-0012-100",{"$f":"IF(AND(Config!$B$13<=Tarifs!F3270,Config!$B$13>=Tarifs!E3270),1,0)","v":0},"2026-10-01","2026-10-31",165]
["21-0012","10","21-0012-100",{"$f":"IF(AND(Config!$B$13<=Tarifs!F3271,Config!$B$13>=Tarifs!E3271),1,0)","v":0},"2026-11-01","2026-11-30",145]
["21-0012","10","21-0012-100",{"$f":"IF(AND(Config!$B$13<=Tarifs!F3272,Config!$B$13>=Tarifs!E3272),1,0)","v":0},"2026-12-01","2026-12-31",145]
["21-0012","10","21-0012-101",{"$f":"IF(AND(Config!$B$13<=Tarifs!F3273,Config!$B$13>=Tarifs!E3273),1,0)","v":1},"2026-01-01","2026-01-31",126]
["21-0012","10","21-0012-100",{"$f":"IF(AND(Config!$B$13<=Tarifs!F3274,Config!$B$13>=Tarifs!E3274),1,0)","v":0},"2026-02-01","2026-02-28",126]
["21-0012","10","21-0012-100",{"$f":"IF(AND(Config!$B$13<=Tarifs!F3275,Config!$B$13>=Tarifs!E3275),1,0)","v":0},"2026-03-01","2026-03-31",126]
["21-0012","10","21-0012-100",{"$f":"IF(AND(Config!$B$13<=Tarifs!F3276,Config!$B$13>=Tarifs!E3276),1,0)","v":0},"2026-04-01","2026-04-30",126]
["21-0012","10","21-0012-100",{"$f":"IF(AND(Config!$B$13<=Tarifs!F3277,Config!$B$13>=Tarifs!E3277),1,0)","v":0},"2026-05-01","2026-05-31",126]
["21-0014","30","21-0014-300",{"$f":"IF(AND(Config!$B$13<=Tarifs!F3278,Config!$B$13>=Tarifs!E3278),1,0)","v":0},"2026-05-01","2026-05-31",6750]
["21-0014","30","21-0014-300",{"$f":"IF(AND(Config!$B$13<=Tarifs!F3279,Config!$B$13>=Tarifs!E3279),1,0)","v":0},"2026-06-01","2026-06-30",6750]
["21-0014","30","21-0014-300",{"$f":"IF(AND(Config!$B$13<=Tarifs!F3280,Config!$B$13>=Tarifs!E3280),1,0)","v":0},"2026-07-01","2026-07-31",6750]
["21-0014","30","21-0014-300",{"$f":"IF(AND(Config!$B$13<=Tarifs!F3281,Config!$B$13>=Tarifs!E3281),1,0)","v":0},"2026-08-01","2026-08-31",6750]
["21-0014","30","21-0014-300",{"$f":"IF(AND(Config!$B$13<=Tarifs!F3282,Config!$B$13>=Tarifs!E3282),1,0)","v":0},"2026-09-01","2026-09-30",6750]
["21-0014","30","21-0014-300",{"$f":"IF(AND(Config!$B$13<=Tarifs!F3283,Config!$B$13>=Tarifs!E3283),1,0)","v":0},"2026-10-01","2026-10-31",6750]
["21-0014","30","21-0014-300",{"$f":"IF(AND(Config!$B$13<=Tarifs!F3284,Config!$B$13>=Tarifs!E3284),1,0)","v":0},"2026-04-01","2026-04-30",5520]
["21-0014","30","21-0014-300",{"$f":"IF(AND(Config!$B$13<=Tarifs!F3285,Config!$B$13>=Tarifs!E3285),1,0)","v":0},"2026-11-01","2026-11-30",5520]
["21-0014","30","21-0014-301",{"$f":"IF(AND(Config!$B$13<=Tarifs!F3286,Config!$B$13>=Tarifs!E3286),1,0)","v":1},"2026-01-01","2026-01-31",4950]
["21-0014","30","21-0014-300",{"$f":"IF(AND(Config!$B$13<=Tarifs!F3287,Config!$B$13>=Tarifs!E3287),1,0)","v":0},"2026-02-01","2026-02-28",4950]
["21-0014","30","21-0014-300",{"$f":"IF(AND(Config!$B$13<=Tarifs!F3288,Config!$B$13>=Tarifs!E3288),1,0)","v":0},"2026-03-01","2026-03-31",4950]
["21-0014","30","21-0014-300",{"$f":"IF(AND(Config!$B$13<=Tarifs!F3289,Config!$B$13>=Tarifs!E3289),1,0)","v":0},"2026-12-01","2026-12-31",4950]
["21-0014","20","21-0014-200",{"$f":"IF(AND(Config!$B$13<=Tarifs!F3290,Config!$B$13>=Tarifs!E3290),1,0)","v":0},"2026-05-01","2026-05-31",1575]
["21-0014","20","21-0014-200",{"$f":"IF(AND(Config!$B$13<=Tarifs!F3291,Config!$B$13>=Tarifs!E3291),1,0)","v":0},"2026-06-01","2026-06-30",1575]
["21-0014","20","21-0014-200",{"$f":"IF(AND(Config!$B$13<=Tarifs!F3292,Config!$B$13>=Tarifs!E3292),1,0)","v":0},"2026-07-01","2026-07-31",1575]
["21-0014","20","21-0014-200",{"$f":"IF(AND(Config!$B$13<=Tarifs!F3293,Config!$B$13>=Tarifs!E3293),1,0)","v":0},"2026-08-01","2026-08-31",1575]
["21-0014","20","21-0014-200",{"$f":"IF(AND(Config!$B$13<=Tarifs!F3294,Config!$B$13>=Tarifs!E3294),1,0)","v":0},"2026-09-01","2026-09-30",1575]
["21-0014","20","21-0014-200",{"$f":"IF(AND(Config!$B$13<=Tarifs!F3295,Config!$B$13>=Tarifs!E3295),1,0)","v":0},"2026-10-01","2026-10-31",1575]
["21-0014","20","21-0014-200",{"$f":"IF(AND(Config!$B$13<=Tarifs!F3296,Config!$B$13>=Tarifs!E3296),1,0)","v":0},"2026-04-01","2026-04-30",1288]
["21-0014","20","21-0014-200",{"$f":"IF(AND(Config!$B$13<=Tarifs!F3297,Config!$B$13>=Tarifs!E3297),1,0)","v":0},"2026-11-01","2026-11-30",1288]
["21-0014","20","21-0014-201",{"$f":"IF(AND(Config!$B$13<=Tarifs!F3298,Config!$B$13>=Tarifs!E3298),1,0)","v":1},"2026-01-01","2026-01-31",1155]
["21-0014","20","21-0014-200",{"$f":"IF(AND(Config!$B$13<=Tarifs!F3299,Config!$B$13>=Tarifs!E3299),1,0)","v":0},"2026-02-01","2026-02-28",1155]
["21-0014","20","21-0014-200",{"$f":"IF(AND(Config!$B$13<=Tarifs!F3300,Config!$B$13>=Tarifs!E3300),1,0)","v":0},"2026-03-01","2026-03-31",1155]
["21-0014","20","21-0014-200",{"$f":"IF(AND(Config!$B$13<=Tarifs!F3301,Config!$B$13>=Tarifs!E3301),1,0)","v":0},"2026-12-01","2026-12-31",1155]
["21-0014","10","21-0014-100",{"$f":"IF(AND(Config!$B$13<=Tarifs!F3302,Config!$B$13>=Tarifs!E3302),1,0)","v":0},"2026-05-01","2026-05-31",225]
["21-0014","10","21-0014-100",{"$f":"IF(AND(Config!$B$13<=Tarifs!F3303,Config!$B$13>=Tarifs!E3303),1,0)","v":0},"2026-06-01","2026-06-30",225]
["21-0014","10","21-0014-100",{"$f":"IF(AND(Config!$B$13<=Tarifs!F3304,Config!$B$13>=Tarifs!E3304),1,0)","v":0},"2026-07-01","2026-07-31",225]
["21-0014","10","21-0014-100",{"$f":"IF(AND(Config!$B$13<=Tarifs!F3305,Config!$B$13>=Tarifs!E3305),1,0)","v":0},"2026-08-01","2026-08-31",225]
["21-0014","10","21-0014-100",{"$f":"IF(AND(Config!$B$13<=Tarifs!F3306,Config!$B$13>=Tarifs!E3306),1,0)","v":0},"2026-09-01","2026-09-30",225]
["21-0014","10","21-0014-100",{"$f":"IF(AND(Config!$B$13<=Tarifs!F3307,Config!$B$13>=Tarifs!E3307),1,0)","v":0},"2026-10-01","2026-10-31",225]
["21-0014","10","21-0014-100",{"$f":"IF(AND(Config!$B$13<=Tarifs!F3308,Config!$B$13>=Tarifs!E3308),1,0)","v":0},"2026-04-01","2026-04-30",184]
["21-0014","10","21-0014-100",{"$f":"IF(AND(Config!$B$13<=Tarifs!F3309,Config!$B$13>=Tarifs!E3309),1,0)","v":0},"2026-11-01","2026-11-30",184]
["21-0014","10","21-0014-101",{"$f":"IF(AND(Config!$B$13<=Tarifs!F3310,Config!$B$13>=Tarifs!E3310),1,0)","v":1},"2026-01-01","2026-01-31",165]
["21-0014","10","21-0014-100",{"$f":"IF(AND(Config!$B$13<=Tarifs!F3311,Config!$B$13>=Tarifs!E3311),1,0)","v":0},"2026-02-01","2026-02-28",165]
["21-0014","10","21-0014-100",{"$f":"IF(AND(Config!$B$13<=Tarifs!F3312,Config!$B$13>=Tarifs!E3312),1,0)","v":0},"2026-03-01","2026-03-31",165]
["21-0014","10","21-0014-100",{"$f":"IF(AND(Config!$B$13<=Tarifs!F3313,Config!$B$13>=Tarifs!E3313),1,0)","v":0},"2026-12-01","2026-12-31",165]
["21-0015","30","21-0015-300",{"$f":"IF(AND(Config!$B$13<=Tarifs!F3314,Config!$B$13>=Tarifs!E3314),1,0)","v":0},"2026-07-01","2026-07-31",5670]
["21-0015","30","21-0015-300",{"$f":"IF(AND(Config!$B$13<=Tarifs!F3315,Config!$B$13>=Tarifs!E3315),1,0)","v":0},"2026-08-01","2026-08-31",5670]
["21-0015","30","21-0015-300",{"$f":"IF(AND(Config!$B$13<=Tarifs!F3316,Config!$B$13>=Tarifs!E3316),1,0)","v":0},"2026-06-01","2026-06-30",4170]
["21-0015","30","21-0015-300",{"$f":"IF(AND(Config!$B$13<=Tarifs!F3317,Config!$B$13>=Tarifs!E3317),1,0)","v":0},"2026-09-01","2026-09-30",4170]
["21-0015","30","21-0015-301",{"$f":"IF(AND(Config!$B$13<=Tarifs!F3318,Config!$B$13>=Tarifs!E3318),1,0)","v":1},"2026-01-01","2026-01-31",3870]
["21-0015","30","21-0015-300",{"$f":"IF(AND(Config!$B$13<=Tarifs!F3319,Config!$B$13>=Tarifs!E3319),1,0)","v":0},"2026-02-01","2026-02-28",3870]
["21-0015","30","21-0015-300",{"$f":"IF(AND(Config!$B$13<=Tarifs!F3320,Config!$B$13>=Tarifs!E3320),1,0)","v":0},"2026-03-01","2026-03-31",3870]
["21-0015","30","21-0015-300",{"$f":"IF(AND(Config!$B$13<=Tarifs!F3321,Config!$B$13>=Tarifs!E3321),1,0)","v":0},"2026-04-01","2026-04-30",3870]
["21-0015","30","21-0015-300",{"$f":"IF(AND(Config!$B$13<=Tarifs!F3322,Config!$B$13>=Tarifs!E3322),1,0)","v":0},"2026-05-01","2026-05-31",3870]
["21-0015","30","21-0015-300",{"$f":"IF(AND(Config!$B$13<=Tarifs!F3323,Config!$B$13>=Tarifs!E3323),1,0)","v":0},"2026-10-01","2026-10-31",3870]
["21-0015","30","21-0015-300",{"$f":"IF(AND(Config!$B$13<=Tarifs!F3324,Config!$B$13>=Tarifs!E3324),1,0)","v":0},"2026-11-01","2026-11-30",3870]
["21-0015","30","21-0015-300",{"$f":"IF(AND(Config!$B$13<=Tarifs!F3325,Config!$B$13>=Tarifs!E3325),1,0)","v":0},"2026-12-01","2026-12-31",3870]
["21-0015","20","21-0015-200",{"$f":"IF(AND(Config!$B$13<=Tarifs!F3326,Config!$B$13>=Tarifs!E3326),1,0)","v":0},"2026-07-01","2026-07-31",1323]
["21-0015","20","21-0015-200",{"$f":"IF(AND(Config!$B$13<=Tarifs!F3327,Config!$B$13>=Tarifs!E3327),1,0)","v":0},"2026-08-01","2026-08-31",1323]
["21-0015","20","21-0015-200",{"$f":"IF(AND(Config!$B$13<=Tarifs!F3328,Config!$B$13>=Tarifs!E3328),1,0)","v":0},"2026-06-01","2026-06-30",973]
["21-0015","20","21-0015-200",{"$f":"IF(AND(Config!$B$13<=Tarifs!F3329,Config!$B$13>=Tarifs!E3329),1,0)","v":0},"2026-09-01","2026-09-30",973]
["21-0015","20","21-0015-201",{"$f":"IF(AND(Config!$B$13<=Tarifs!F3330,Config!$B$13>=Tarifs!E3330),1,0)","v":1},"2026-01-01","2026-01-31",903]
["21-0015","20",{"$f":"A3331&\"-\"&B3331&D3331","v":"21-0015-200"},{"$f":"IF(AND(Config!$B$13<=Tarifs!F3331,Config!$B$13>=Tarifs!E3331),1,0)","v":0},"2026-02-01","2026-02-28",903]
["21-0015","20","21-0015-200",{"$f":"IF(AND(Config!$B$13<=Tarifs!F3332,Config!$B$13>=Tarifs!E3332),1,0)","v":0},"2026-03-01","2026-03-31",903]
["21-0015","20","21-0015-200",{"$f":"IF(AND(Config!$B$13<=Tarifs!F3333,Config!$B$13>=Tarifs!E3333),1,0)","v":0},"2026-04-01","2026-04-30",903]
["21-0015","20","21-0015-200",{"$f":"IF(AND(Config!$B$13<=Tarifs!F3334,Config!$B$13>=Tarifs!E3334),1,0)","v":0},"2026-05-01","2026-05-31",903]
["21-0015","20","21-0015-200",{"$f":"IF(AND(Config!$B$13<=Tarifs!F3335,Config!$B$13>=Tarifs!E3335),1,0)","v":0},"2026-10-01","2026-10-31",903]
["21-0015","20","21-0015-200",{"$f":"IF(AND(Config!$B$13<=Tarifs!F3336,Config!$B$13>=Tarifs!E3336),1,0)","v":0},"2026-11-01","2026-11-30",903]
["21-0015","20","21-0015-200",{"$f":"IF(AND(Config!$B$13<=Tarifs!F3337,Config!$B$13>=Tarifs!E3337),1,0)","v":0},"2026-12-01","2026-12-31",903]
["21-0015","10","21-0015-100",{"$f":"IF(AND(Config!$B$13<=Tarifs!F3338,Config!$B$13>=Tarifs!E3338),1,0)","v":0},"2026-07-01","2026-07-31",189]
["21-0015","10","21-0015-100",{"$f":"IF(AND(Config!$B$13<=Tarifs!F3339,Config!$B$13>=Tarifs!E3339),1,0)","v":0},"2026-08-01","2026-08-31",189]
["21-0015","10","21-0015-100",{"$f":"IF(AND(Config!$B$13<=Tarifs!F3340,Config!$B$13>=Tarifs!E3340),1,0)","v":0},"2026-06-01","2026-06-30",139]
["21-0015","10","21-0015-100",{"$f":"IF(AND(Config!$B$13<=Tarifs!F3341,Config!$B$13>=Tarifs!E3341),1,0)","v":0},"2026-09-01","2026-09-30",139]
["21-0015","10","21-0015-101",{"$f":"IF(AND(Config!$B$13<=Tarifs!F3342,Config!$B$13>=Tarifs!E3342),1,0)","v":1},"2026-01-01","2026-01-31",129]
["21-0015","10","21-0015-100",{"$f":"IF(AND(Config!$B$13<=Tarifs!F3343,Config!$B$13>=Tarifs!E3343),1,0)","v":0},"2026-02-01","2026-02-28",129]
["21-0015","10","21-0015-100",{"$f":"IF(AND(Config!$B$13<=Tarifs!F3344,Config!$B$13>=Tarifs!E3344),1,0)","v":0},"2026-03-01","2026-03-31",129]
["21-0015","10","21-0015-100",{"$f":"IF(AND(Config!$B$13<=Tarifs!F3345,Config!$B$13>=Tarifs!E3345),1,0)","v":0},"2026-04-01","2026-04-30",129]
["21-0015","10","21-0015-100",{"$f":"IF(AND(Config!$B$13<=Tarifs!F3346,Config!$B$13>=Tarifs!E3346),1,0)","v":0},"2026-05-01","2026-05-31",129]
["21-0015","10","21-0015-100",{"$f":"IF(AND(Config!$B$13<=Tarifs!F3347,Config!$B$13>=Tarifs!E3347),1,0)","v":0},"2026-10-01","2026-10-31",129]
["21-0015","10","21-0015-100",{"$f":"IF(AND(Config!$B$13<=Tarifs!F3348,Config!$B$13>=Tarifs!E3348),1,0)","v":0},"2026-11-01","2026-11-30",129]
["21-0015","10","21-0015-100",{"$f":"IF(AND(Config!$B$13<=Tarifs!F3349,Config!$B$13>=Tarifs!E3349),1,0)","v":0},"2026-12-01","2026-12-31",129]
["21-0016","30","21-0016-300",{"$f":"IF(AND(Config!$B$13<=Tarifs!F3350,Config!$B$13>=Tarifs!E3350),1,0)","v":0},"2026-05-01","2026-05-31",5310]
["21-0016","30","21-0016-300",{"$f":"IF(AND(Config!$B$13<=Tarifs!F3351,Config!$B$13>=Tarifs!E3351),1,0)","v":0},"2026-06-01","2026-06-30",5310]
["21-0016","30","21-0016-300",{"$f":"IF(AND(Config!$B$13<=Tarifs!F3352,Config!$B$13>=Tarifs!E3352),1,0)","v":0},"2026-07-01","2026-07-31",5310]
["21-0016","30","21-0016-300",{"$f":"IF(AND(Config!$B$13<=Tarifs!F3353,Config!$B$13>=Tarifs!E3353),1,0)","v":0},"2026-08-01","2026-08-31",5310]
["21-0016","30","21-0016-300",{"$f":"IF(AND(Config!$B$13<=Tarifs!F3354,Config!$B$13>=Tarifs!E3354),1,0)","v":0},"2026-09-01","2026-09-30",5310]
["21-0016","30","21-0016-300",{"$f":"IF(AND(Config!$B$13<=Tarifs!F3355,Config!$B$13>=Tarifs!E3355),1,0)","v":0},"2026-10-01","2026-10-31",5310]
["21-0016","30","21-0016-300",{"$f":"IF(AND(Config!$B$13<=Tarifs!F3356,Config!$B$13>=Tarifs!E3356),1,0)","v":0},"2026-12-01","2026-12-31",4830]
["21-0016","30","21-0016-301",{"$f":"IF(AND(Config!$B$13<=Tarifs!F3357,Config!$B$13>=Tarifs!E3357),1,0)","v":1},"2026-01-01","2026-01-31",4830]
["21-0016","30","21-0016-300",{"$f":"IF(AND(Config!$B$13<=Tarifs!F3358,Config!$B$13>=Tarifs!E3358),1,0)","v":0},"2026-02-01","2026-02-28",4830]
["21-0016","30","21-0016-300",{"$f":"IF(AND(Config!$B$13<=Tarifs!F3359,Config!$B$13>=Tarifs!E3359),1,0)","v":0},"2026-03-01","2026-03-31",4830]
["21-0016","30","21-0016-300",{"$f":"IF(AND(Config!$B$13<=Tarifs!F3360,Config!$B$13>=Tarifs!E3360),1,0)","v":0},"2026-04-01","2026-04-30",4830]
["21-0016","30","21-0016-300",{"$f":"IF(AND(Config!$B$13<=Tarifs!F3361,Config!$B$13>=Tarifs!E3361),1,0)","v":0},"2026-11-01","2026-11-30",4830]
["21-0016","20","21-0016-200",{"$f":"IF(AND(Config!$B$13<=Tarifs!F3362,Config!$B$13>=Tarifs!E3362),1,0)","v":0},"2026-05-01","2026-05-31",1239]
["21-0016","20","21-0016-200",{"$f":"IF(AND(Config!$B$13<=Tarifs!F3363,Config!$B$13>=Tarifs!E3363),1,0)","v":0},"2026-06-01","2026-06-30",1239]
["21-0016","20","21-0016-200",{"$f":"IF(AND(Config!$B$13<=Tarifs!F3364,Config!$B$13>=Tarifs!E3364),1,0)","v":0},"2026-07-01","2026-07-31",1239]
["21-0016","20","21-0016-200",{"$f":"IF(AND(Config!$B$13<=Tarifs!F3365,Config!$B$13>=Tarifs!E3365),1,0)","v":0},"2026-08-01","2026-08-31",1239]
["21-0016","20","21-0016-200",{"$f":"IF(AND(Config!$B$13<=Tarifs!F3366,Config!$B$13>=Tarifs!E3366),1,0)","v":0},"2026-09-01","2026-09-30",1239]
["21-0016","20","21-0016-200",{"$f":"IF(AND(Config!$B$13<=Tarifs!F3367,Config!$B$13>=Tarifs!E3367),1,0)","v":0},"2026-10-01","2026-10-31",1239]
["21-0016","20","21-0016-201",{"$f":"IF(AND(Config!$B$13<=Tarifs!F3368,Config!$B$13>=Tarifs!E3368),1,0)","v":1},"2026-01-01","2026-01-31",1127]
["21-0016","20","21-0016-200",{"$f":"IF(AND(Config!$B$13<=Tarifs!F3369,Config!$B$13>=Tarifs!E3369),1,0)","v":0},"2026-02-01","2026-02-28",1127]
["21-0016","20","21-0016-200",{"$f":"IF(AND(Config!$B$13<=Tarifs!F3370,Config!$B$13>=Tarifs!E3370),1,0)","v":0},"2026-03-01","2026-03-31",1127]
["21-0016","20","21-0016-200",{"$f":"IF(AND(Config!$B$13<=Tarifs!F3371,Config!$B$13>=Tarifs!E3371),1,0)","v":0},"2026-04-01","2026-04-30",1127]
["21-0016","20","21-0016-200",{"$f":"IF(AND(Config!$B$13<=Tarifs!F3372,Config!$B$13>=Tarifs!E3372),1,0)","v":0},"2026-11-01","2026-11-30",1127]
["21-0016","20","21-0016-200",{"$f":"IF(AND(Config!$B$13<=Tarifs!F3373,Config!$B$13>=Tarifs!E3373),1,0)","v":0},"2026-12-01","2026-12-31",1127]
["21-0016","10","21-0016-100",{"$f":"IF(AND(Config!$B$13<=Tarifs!F3374,Config!$B$13>=Tarifs!E3374),1,0)","v":0},"2026-05-01","2026-05-31",177]
["21-0016","10","21-0016-100",{"$f":"IF(AND(Config!$B$13<=Tarifs!F3375,Config!$B$13>=Tarifs!E3375),1,0)","v":0},"2026-06-01","2026-06-30",177]
["21-0016","10","21-0016-100",{"$f":"IF(AND(Config!$B$13<=Tarifs!F3376,Config!$B$13>=Tarifs!E3376),1,0)","v":0},"2026-07-01","2026-07-31",177]
["21-0016","10","21-0016-100",{"$f":"IF(AND(Config!$B$13<=Tarifs!F3377,Config!$B$13>=Tarifs!E3377),1,0)","v":0},"2026-08-01","2026-08-31",177]
["21-0016","10","21-0016-100",{"$f":"IF(AND(Config!$B$13<=Tarifs!F3378,Config!$B$13>=Tarifs!E3378),1,0)","v":0},"2026-09-01","2026-09-30",177]
["21-0016","10","21-0016-100",{"$f":"IF(AND(Config!$B$13<=Tarifs!F3379,Config!$B$13>=Tarifs!E3379),1,0)","v":0},"2026-10-01","2026-10-31",177]
["21-0016","10","21-0016-101",{"$f":"IF(AND(Config!$B$13<=Tarifs!F3380,Config!$B$13>=Tarifs!E3380),1,0)","v":1},"2026-01-01","2026-01-31",161]
["21-0016","10","21-0016-100",{"$f":"IF(AND(Config!$B$13<=Tarifs!F3381,Config!$B$13>=Tarifs!E3381),1,0)","v":0},"2026-02-01","2026-02-28",161]
["21-0016","10","21-0016-100",{"$f":"IF(AND(Config!$B$13<=Tarifs!F3382,Config!$B$13>=Tarifs!E3382),1,0)","v":0},"2026-03-01","2026-03-31",161]
["21-0016","10","21-0016-100",{"$f":"IF(AND(Config!$B$13<=Tarifs!F3383,Config!$B$13>=Tarifs!E3383),1,0)","v":0},"2026-04-01","2026-04-30",161]
["21-0016","10","21-0016-100",{"$f":"IF(AND(Config!$B$13<=Tarifs!F3384,Config!$B$13>=Tarifs!E3384),1,0)","v":0},"2026-11-01","2026-11-30",161]
["21-0016","10","21-0016-100",{"$f":"IF(AND(Config!$B$13<=Tarifs!F3385,Config!$B$13>=Tarifs!E3385),1,0)","v":0},"2026-12-01","2026-12-31",161]
["21-0018","30","21-0018-301",{"$f":"IF(AND(Config!$B$13<=Tarifs!F3386,Config!$B$13>=Tarifs!E3386),1,0)","v":1},"2026-01-01","2026-01-31",4440]
["21-0018","30","21-0018-300",{"$f":"IF(AND(Config!$B$13<=Tarifs!F3387,Config!$B$13>=Tarifs!E3387),1,0)","v":0},"2026-02-01","2026-02-28",4440]
["21-0018","30","21-0018-300",{"$f":"IF(AND(Config!$B$13<=Tarifs!F3388,Config!$B$13>=Tarifs!E3388),1,0)","v":0},"2026-03-01","2026-03-31",4440]
["21-0018","30","21-0018-300",{"$f":"IF(AND(Config!$B$13<=Tarifs!F3389,Config!$B$13>=Tarifs!E3389),1,0)","v":0},"2026-04-01","2026-04-30",4440]
["21-0018","30","21-0018-300",{"$f":"IF(AND(Config!$B$13<=Tarifs!F3390,Config!$B$13>=Tarifs!E3390),1,0)","v":0},"2026-05-01","2026-05-31",4440]
["21-0018","30","21-0018-300",{"$f":"IF(AND(Config!$B$13<=Tarifs!F3391,Config!$B$13>=Tarifs!E3391),1,0)","v":0},"2026-06-01","2026-06-30",4440]
["21-0018","30","21-0018-300",{"$f":"IF(AND(Config!$B$13<=Tarifs!F3392,Config!$B$13>=Tarifs!E3392),1,0)","v":0},"2026-07-01","2026-07-31",4440]
["21-0018","30","21-0018-300",{"$f":"IF(AND(Config!$B$13<=Tarifs!F3393,Config!$B$13>=Tarifs!E3393),1,0)","v":0},"2026-08-01","2026-08-31",4440]
["21-0018","30","21-0018-300",{"$f":"IF(AND(Config!$B$13<=Tarifs!F3394,Config!$B$13>=Tarifs!E3394),1,0)","v":0},"2026-09-01","2026-09-30",4440]
["21-0018","30",{"$f":"A3395&\"-\"&B3395&D3395","v":"21-0018-300"},{"$f":"IF(AND(Config!$B$13<=Tarifs!F3395,Config!$B$13>=Tarifs!E3395),1,0)","v":0},"2026-10-01","2026-10-31",4440]
["21-0018","30","21-0018-300",{"$f":"IF(AND(Config!$B$13<=Tarifs!F3396,Config!$B$13>=Tarifs!E3396),1,0)","v":0},"2026-11-01","2026-11-30",4440]
["21-0018","30","21-0018-300",{"$f":"IF(AND(Config!$B$13<=Tarifs!F3397,Config!$B$13>=Tarifs!E3397),1,0)","v":0},"2026-12-01","2026-12-31",4440]
["21-0018","20","21-0018-201",{"$f":"IF(AND(Config!$B$13<=Tarifs!F3398,Config!$B$13>=Tarifs!E3398),1,0)","v":1},"2026-01-01","2026-01-31",1036]
["21-0018","20","21-0018-200",{"$f":"IF(AND(Config!$B$13<=Tarifs!F3399,Config!$B$13>=Tarifs!E3399),1,0)","v":0},"2026-02-01","2026-02-28",1036]
["21-0018","20","21-0018-200",{"$f":"IF(AND(Config!$B$13<=Tarifs!F3400,Config!$B$13>=Tarifs!E3400),1,0)","v":0},"2026-03-01","2026-03-31",1036]
["21-0018","20","21-0018-200",{"$f":"IF(AND(Config!$B$13<=Tarifs!F3401,Config!$B$13>=Tarifs!E3401),1,0)","v":0},"2026-04-01","2026-04-30",1036]
["21-0018","20","21-0018-200",{"$f":"IF(AND(Config!$B$13<=Tarifs!F3402,Config!$B$13>=Tarifs!E3402),1,0)","v":0},"2026-05-01","2026-05-31",1036]
["21-0018","20","21-0018-200",{"$f":"IF(AND(Config!$B$13<=Tarifs!F3403,Config!$B$13>=Tarifs!E3403),1,0)","v":0},"2026-06-01","2026-06-30",1036]
["21-0018","20","21-0018-200",{"$f":"IF(AND(Config!$B$13<=Tarifs!F3404,Config!$B$13>=Tarifs!E3404),1,0)","v":0},"2026-07-01","2026-07-31",1036]
["21-0018","20","21-0018-200",{"$f":"IF(AND(Config!$B$13<=Tarifs!F3405,Config!$B$13>=Tarifs!E3405),1,0)","v":0},"2026-08-01","2026-08-31",1036]
["21-0018","20","21-0018-200",{"$f":"IF(AND(Config!$B$13<=Tarifs!F3406,Config!$B$13>=Tarifs!E3406),1,0)","v":0},"2026-09-01","2026-09-30",1036]
["21-0018","20","21-0018-200",{"$f":"IF(AND(Config!$B$13<=Tarifs!F3407,Config!$B$13>=Tarifs!E3407),1,0)","v":0},"2026-10-01","2026-10-31",1036]
["21-0018","20","21-0018-200",{"$f":"IF(AND(Config!$B$13<=Tarifs!F3408,Config!$B$13>=Tarifs!E3408),1,0)","v":0},"2026-11-01","2026-11-30",1036]
["21-0018","20","21-0018-200",{"$f":"IF(AND(Config!$B$13<=Tarifs!F3409,Config!$B$13>=Tarifs!E3409),1,0)","v":0},"2026-12-01","2026-12-31",1036]
["21-0018","10","21-0018-101",{"$f":"IF(AND(Config!$B$13<=Tarifs!F3410,Config!$B$13>=Tarifs!E3410),1,0)","v":1},"2026-01-01","2026-01-31",148]
["21-0018","10","21-0018-100",{"$f":"IF(AND(Config!$B$13<=Tarifs!F3411,Config!$B$13>=Tarifs!E3411),1,0)","v":0},"2026-02-01","2026-02-28",148]
["21-0018","10","21-0018-100",{"$f":"IF(AND(Config!$B$13<=Tarifs!F3412,Config!$B$13>=Tarifs!E3412),1,0)","v":0},"2026-03-01","2026-03-31",148]
["21-0018","10","21-0018-100",{"$f":"IF(AND(Config!$B$13<=Tarifs!F3413,Config!$B$13>=Tarifs!E3413),1,0)","v":0},"2026-04-01","2026-04-30",148]
["21-0018","10","21-0018-100",{"$f":"IF(AND(Config!$B$13<=Tarifs!F3414,Config!$B$13>=Tarifs!E3414),1,0)","v":0},"2026-05-01","2026-05-31",148]
["21-0018","10","21-0018-100",{"$f":"IF(AND(Config!$B$13<=Tarifs!F3415,Config!$B$13>=Tarifs!E3415),1,0)","v":0},"2026-06-01","2026-06-30",148]
["21-0018","10","21-0018-100",{"$f":"IF(AND(Config!$B$13<=Tarifs!F3416,Config!$B$13>=Tarifs!E3416),1,0)","v":0},"2026-07-01","2026-07-31",148]
["21-0018","10","21-0018-100",{"$f":"IF(AND(Config!$B$13<=Tarifs!F3417,Config!$B$13>=Tarifs!E3417),1,0)","v":0},"2026-08-01","2026-08-31",148]
["21-0018","10","21-0018-100",{"$f":"IF(AND(Config!$B$13<=Tarifs!F3418,Config!$B$13>=Tarifs!E3418),1,0)","v":0},"2026-09-01","2026-09-30",148]
["21-0018","10","21-0018-100",{"$f":"IF(AND(Config!$B$13<=Tarifs!F3419,Config!$B$13>=Tarifs!E3419),1,0)","v":0},"2026-10-01","2026-10-31",148]
["21-0018","10","21-0018-100",{"$f":"IF(AND(Config!$B$13<=Tarifs!F3420,Config!$B$13>=Tarifs!E3420),1,0)","v":0},"2026-11-01","2026-11-30",148]
["21-0018","10","21-0018-100",{"$f":"IF(AND(Config!$B$13<=Tarifs!F3421,Config!$B$13>=Tarifs!E3421),1,0)","v":0},"2026-12-01","2026-12-31",148]
["21-0019","30","21-0019-300",{"$f":"IF(AND(Config!$B$13<=Tarifs!F3422,Config!$B$13>=Tarifs!E3422),1,0)","v":0},"2026-05-01","2026-05-31",5310]
["21-0019","30","21-0019-300",{"$f":"IF(AND(Config!$B$13<=Tarifs!F3423,Config!$B$13>=Tarifs!E3423),1,0)","v":0},"2026-06-01","2026-06-30",5310]
["21-0019","30","21-0019-300",{"$f":"IF(AND(Config!$B$13<=Tarifs!F3424,Config!$B$13>=Tarifs!E3424),1,0)","v":0},"2026-07-01","2026-07-31",5310]
["21-0019","30","21-0019-300",{"$f":"IF(AND(Config!$B$13<=Tarifs!F3425,Config!$B$13>=Tarifs!E3425),1,0)","v":0},"2026-08-01","2026-08-31",5310]
["21-0019","30","21-0019-300",{"$f":"IF(AND(Config!$B$13<=Tarifs!F3426,Config!$B$13>=Tarifs!E3426),1,0)","v":0},"2026-09-01","2026-09-30",5310]
["21-0019","30","21-0019-300",{"$f":"IF(AND(Config!$B$13<=Tarifs!F3427,Config!$B$13>=Tarifs!E3427),1,0)","v":0},"2026-10-01","2026-10-31",5310]
["21-0019","30","21-0019-300",{"$f":"IF(AND(Config!$B$13<=Tarifs!F3428,Config!$B$13>=Tarifs!E3428),1,0)","v":0},"2026-12-01","2026-12-31",4830]
["21-0019","30","21-0019-301",{"$f":"IF(AND(Config!$B$13<=Tarifs!F3429,Config!$B$13>=Tarifs!E3429),1,0)","v":1},"2026-01-01","2026-01-31",4830]
["21-0019","30","21-0019-300",{"$f":"IF(AND(Config!$B$13<=Tarifs!F3430,Config!$B$13>=Tarifs!E3430),1,0)","v":0},"2026-02-01","2026-02-28",4830]
["21-0019","30","21-0019-300",{"$f":"IF(AND(Config!$B$13<=Tarifs!F3431,Config!$B$13>=Tarifs!E3431),1,0)","v":0},"2026-03-01","2026-03-31",4830]
["21-0019","30","21-0019-300",{"$f":"IF(AND(Config!$B$13<=Tarifs!F3432,Config!$B$13>=Tarifs!E3432),1,0)","v":0},"2026-04-01","2026-04-30",4830]
["21-0019","30","21-0019-300",{"$f":"IF(AND(Config!$B$13<=Tarifs!F3433,Config!$B$13>=Tarifs!E3433),1,0)","v":0},"2026-11-01","2026-11-30",4830]
["21-0019","20","21-0019-200",{"$f":"IF(AND(Config!$B$13<=Tarifs!F3434,Config!$B$13>=Tarifs!E3434),1,0)","v":0},"2026-05-01","2026-05-31",1239]
["21-0019","20","21-0019-200",{"$f":"IF(AND(Config!$B$13<=Tarifs!F3435,Config!$B$13>=Tarifs!E3435),1,0)","v":0},"2026-06-01","2026-06-30",1239]
["21-0019","20","21-0019-200",{"$f":"IF(AND(Config!$B$13<=Tarifs!F3436,Config!$B$13>=Tarifs!E3436),1,0)","v":0},"2026-07-01","2026-07-31",1239]
["21-0019","20","21-0019-200",{"$f":"IF(AND(Config!$B$13<=Tarifs!F3437,Config!$B$13>=Tarifs!E3437),1,0)","v":0},"2026-08-01","2026-08-31",1239]
["21-0019","20","21-0019-200",{"$f":"IF(AND(Config!$B$13<=Tarifs!F3438,Config!$B$13>=Tarifs!E3438),1,0)","v":0},"2026-09-01","2026-09-30",1239]
["21-0019","20","21-0019-200",{"$f":"IF(AND(Config!$B$13<=Tarifs!F3439,Config!$B$13>=Tarifs!E3439),1,0)","v":0},"2026-10-01","2026-10-31",1239]
["21-0019","20","21-0019-201",{"$f":"IF(AND(Config!$B$13<=Tarifs!F3440,Config!$B$13>=Tarifs!E3440),1,0)","v":1},"2026-01-01","2026-01-31",1127]
["21-0019","20","21-0019-200",{"$f":"IF(AND(Config!$B$13<=Tarifs!F3441,Config!$B$13>=Tarifs!E3441),1,0)","v":0},"2026-02-01","2026-02-28",1127]
["21-0019","20","21-0019-200",{"$f":"IF(AND(Config!$B$13<=Tarifs!F3442,Config!$B$13>=Tarifs!E3442),1,0)","v":0},"2026-03-01","2026-03-31",1127]
["21-0019","20","21-0019-200",{"$f":"IF(AND(Config!$B$13<=Tarifs!F3443,Config!$B$13>=Tarifs!E3443),1,0)","v":0},"2026-04-01","2026-04-30",1127]
["21-0019","20","21-0019-200",{"$f":"IF(AND(Config!$B$13<=Tarifs!F3444,Config!$B$13>=Tarifs!E3444),1,0)","v":0},"2026-11-01","2026-11-30",1127]
["21-0019","20","21-0019-200",{"$f":"IF(AND(Config!$B$13<=Tarifs!F3445,Config!$B$13>=Tarifs!E3445),1,0)","v":0},"2026-12-01","2026-12-31",1127]
["21-0019","10","21-0019-100",{"$f":"IF(AND(Config!$B$13<=Tarifs!F3446,Config!$B$13>=Tarifs!E3446),1,0)","v":0},"2026-05-01","2026-05-31",177]
["21-0019","10","21-0019-100",{"$f":"IF(AND(Config!$B$13<=Tarifs!F3447,Config!$B$13>=Tarifs!E3447),1,0)","v":0},"2026-06-01","2026-06-30",177]
["21-0019","10","21-0019-100",{"$f":"IF(AND(Config!$B$13<=Tarifs!F3448,Config!$B$13>=Tarifs!E3448),1,0)","v":0},"2026-07-01","2026-07-31",177]
["21-0019","10","21-0019-100",{"$f":"IF(AND(Config!$B$13<=Tarifs!F3449,Config!$B$13>=Tarifs!E3449),1,0)","v":0},"2026-08-01","2026-08-31",177]
["21-0019","10","21-0019-100",{"$f":"IF(AND(Config!$B$13<=Tarifs!F3450,Config!$B$13>=Tarifs!E3450),1,0)","v":0},"2026-09-01","2026-09-30",177]
["21-0019","10","21-0019-100",{"$f":"IF(AND(Config!$B$13<=Tarifs!F3451,Config!$B$13>=Tarifs!E3451),1,0)","v":0},"2026-10-01","2026-10-31",177]
["21-0019","10","21-0019-101",{"$f":"IF(AND(Config!$B$13<=Tarifs!F3452,Config!$B$13>=Tarifs!E3452),1,0)","v":1},"2026-01-01","2026-01-31",161]
["21-0019","10","21-0019-100",{"$f":"IF(AND(Config!$B$13<=Tarifs!F3453,Config!$B$13>=Tarifs!E3453),1,0)","v":0},"2026-02-01","2026-02-28",161]
["21-0019","10","21-0019-100",{"$f":"IF(AND(Config!$B$13<=Tarifs!F3454,Config!$B$13>=Tarifs!E3454),1,0)","v":0},"2026-03-01","2026-03-31",161]
["21-0019","10","21-0019-100",{"$f":"IF(AND(Config!$B$13<=Tarifs!F3455,Config!$B$13>=Tarifs!E3455),1,0)","v":0},"2026-04-01","2026-04-30",161]
["21-0019","10","21-0019-100",{"$f":"IF(AND(Config!$B$13<=Tarifs!F3456,Config!$B$13>=Tarifs!E3456),1,0)","v":0},"2026-11-01","2026-11-30",161]
["21-0019","10","21-0019-100",{"$f":"IF(AND(Config!$B$13<=Tarifs!F3457,Config!$B$13>=Tarifs!E3457),1,0)","v":0},"2026-12-01","2026-12-31",161]
["21-0020","30","21-0020-300",{"$f":"IF(AND(Config!$B$13<=Tarifs!F3458,Config!$B$13>=Tarifs!E3458),1,0)","v":0},"2026-06-01","2026-06-30",8970]
["21-0020","30",{"$f":"A3459&\"-\"&B3459&D3459","v":"21-0020-300"},{"$f":"IF(AND(Config!$B$13<=Tarifs!F3459,Config!$B$13>=Tarifs!E3459),1,0)","v":0},"2026-07-01","2026-07-31",8970]
["21-0020","30","21-0020-300",{"$f":"IF(AND(Config!$B$13<=Tarifs!F3460,Config!$B$13>=Tarifs!E3460),1,0)","v":0},"2026-08-01","2026-08-31",8970]
["21-0020","30","21-0020-300",{"$f":"IF(AND(Config!$B$13<=Tarifs!F3461,Config!$B$13>=Tarifs!E3461),1,0)","v":0},"2026-09-01","2026-09-30",8970]
["21-0020","30","21-0020-300",{"$f":"IF(AND(Config!$B$13<=Tarifs!F3462,Config!$B$13>=Tarifs!E3462),1,0)","v":0},"2026-10-01","2026-10-31",8970]
["21-0020","30","21-0020-300",{"$f":"IF(AND(Config!$B$13<=Tarifs!F3463,Config!$B$13>=Tarifs!E3463),1,0)","v":0},"2026-12-01","2026-12-31",4770]
["21-0020","30","21-0020-300",{"$f":"IF(AND(Config!$B$13<=Tarifs!F3464,Config!$B$13>=Tarifs!E3464),1,0)","v":0},"2026-11-01","2026-11-30",4470]
["21-0020","30","21-0020-301",{"$f":"IF(AND(Config!$B$13<=Tarifs!F3465,Config!$B$13>=Tarifs!E3465),1,0)","v":1},"2026-01-01","2026-01-31",4170]
["21-0020","30","21-0020-300",{"$f":"IF(AND(Config!$B$13<=Tarifs!F3466,Config!$B$13>=Tarifs!E3466),1,0)","v":0},"2026-02-01","2026-02-28",4170]
["21-0020","30","21-0020-300",{"$f":"IF(AND(Config!$B$13<=Tarifs!F3467,Config!$B$13>=Tarifs!E3467),1,0)","v":0},"2026-03-01","2026-03-31",4170]
["21-0020","30","21-0020-300",{"$f":"IF(AND(Config!$B$13<=Tarifs!F3468,Config!$B$13>=Tarifs!E3468),1,0)","v":0},"2026-04-01","2026-04-30",4170]
["21-0020","30","21-0020-300",{"$f":"IF(AND(Config!$B$13<=Tarifs!F3469,Config!$B$13>=Tarifs!E3469),1,0)","v":0},"2026-05-01","2026-05-31",4170]
["21-0020","20","21-0020-200",{"$f":"IF(AND(Config!$B$13<=Tarifs!F3470,Config!$B$13>=Tarifs!E3470),1,0)","v":0},"2026-06-01","2026-06-30",2093]
["21-0020","20","21-0020-200",{"$f":"IF(AND(Config!$B$13<=Tarifs!F3471,Config!$B$13>=Tarifs!E3471),1,0)","v":0},"2026-07-01","2026-07-31",2093]
["21-0020","20","21-0020-200",{"$f":"IF(AND(Config!$B$13<=Tarifs!F3472,Config!$B$13>=Tarifs!E3472),1,0)","v":0},"2026-08-01","2026-08-31",2093]
["21-0020","20","21-0020-200",{"$f":"IF(AND(Config!$B$13<=Tarifs!F3473,Config!$B$13>=Tarifs!E3473),1,0)","v":0},"2026-09-01","2026-09-30",2093]
["21-0020","20","21-0020-200",{"$f":"IF(AND(Config!$B$13<=Tarifs!F3474,Config!$B$13>=Tarifs!E3474),1,0)","v":0},"2026-10-01","2026-10-31",2093]
["21-0020","20","21-0020-200",{"$f":"IF(AND(Config!$B$13<=Tarifs!F3475,Config!$B$13>=Tarifs!E3475),1,0)","v":0},"2026-12-01","2026-12-31",1113]
["21-0020","20","21-0020-200",{"$f":"IF(AND(Config!$B$13<=Tarifs!F3476,Config!$B$13>=Tarifs!E3476),1,0)","v":0},"2026-11-01","2026-11-30",1043]
["21-0020","20","21-0020-201",{"$f":"IF(AND(Config!$B$13<=Tarifs!F3477,Config!$B$13>=Tarifs!E3477),1,0)","v":1},"2026-01-01","2026-01-31",973]
["21-0020","20","21-0020-200",{"$f":"IF(AND(Config!$B$13<=Tarifs!F3478,Config!$B$13>=Tarifs!E3478),1,0)","v":0},"2026-02-01","2026-02-28",973]
["21-0020","20","21-0020-200",{"$f":"IF(AND(Config!$B$13<=Tarifs!F3479,Config!$B$13>=Tarifs!E3479),1,0)","v":0},"2026-03-01","2026-03-31",973]
["21-0020","20","21-0020-200",{"$f":"IF(AND(Config!$B$13<=Tarifs!F3480,Config!$B$13>=Tarifs!E3480),1,0)","v":0},"2026-04-01","2026-04-30",973]
["21-0020","20","21-0020-200",{"$f":"IF(AND(Config!$B$13<=Tarifs!F3481,Config!$B$13>=Tarifs!E3481),1,0)","v":0},"2026-05-01","2026-05-31",973]
["21-0020","10","21-0020-100",{"$f":"IF(AND(Config!$B$13<=Tarifs!F3482,Config!$B$13>=Tarifs!E3482),1,0)","v":0},"2026-06-01","2026-06-30",299]
["21-0020","10","21-0020-100",{"$f":"IF(AND(Config!$B$13<=Tarifs!F3483,Config!$B$13>=Tarifs!E3483),1,0)","v":0},"2026-07-01","2026-07-31",299]
["21-0020","10","21-0020-100",{"$f":"IF(AND(Config!$B$13<=Tarifs!F3484,Config!$B$13>=Tarifs!E3484),1,0)","v":0},"2026-08-01","2026-08-31",299]
["21-0020","10","21-0020-100",{"$f":"IF(AND(Config!$B$13<=Tarifs!F3485,Config!$B$13>=Tarifs!E3485),1,0)","v":0},"2026-09-01","2026-09-30",299]
["21-0020","10","21-0020-100",{"$f":"IF(AND(Config!$B$13<=Tarifs!F3486,Config!$B$13>=Tarifs!E3486),1,0)","v":0},"2026-10-01","2026-10-31",299]
["21-0020","10","21-0020-100",{"$f":"IF(AND(Config!$B$13<=Tarifs!F3487,Config!$B$13>=Tarifs!E3487),1,0)","v":0},"2026-12-01","2026-12-31",159]
["21-0020","10","21-0020-100",{"$f":"IF(AND(Config!$B$13<=Tarifs!F3488,Config!$B$13>=Tarifs!E3488),1,0)","v":0},"2026-11-01","2026-11-30",149]
["21-0020","10","21-0020-101",{"$f":"IF(AND(Config!$B$13<=Tarifs!F3489,Config!$B$13>=Tarifs!E3489),1,0)","v":1},"2026-01-01","2026-01-31",139]
["21-0020","10","21-0020-100",{"$f":"IF(AND(Config!$B$13<=Tarifs!F3490,Config!$B$13>=Tarifs!E3490),1,0)","v":0},"2026-02-01","2026-02-28",139]
["21-0020","10","21-0020-100",{"$f":"IF(AND(Config!$B$13<=Tarifs!F3491,Config!$B$13>=Tarifs!E3491),1,0)","v":0},"2026-03-01","2026-03-31",139]
["21-0020","10","21-0020-100",{"$f":"IF(AND(Config!$B$13<=Tarifs!F3492,Config!$B$13>=Tarifs!E3492),1,0)","v":0},"2026-04-01","2026-04-30",139]
["21-0020","10","21-0020-100",{"$f":"IF(AND(Config!$B$13<=Tarifs!F3493,Config!$B$13>=Tarifs!E3493),1,0)","v":0},"2026-05-01","2026-05-31",139]
["22-0001","30","22-0001-300",{"$f":"IF(AND(Config!$B$13<=Tarifs!F3494,Config!$B$13>=Tarifs!E3494),1,0)","v":0},"2026-06-01","2026-06-30",7470]
["22-0001","30","22-0001-300",{"$f":"IF(AND(Config!$B$13<=Tarifs!F3495,Config!$B$13>=Tarifs!E3495),1,0)","v":0},"2026-07-01","2026-07-31",7470]
["22-0001","30","22-0001-300",{"$f":"IF(AND(Config!$B$13<=Tarifs!F3496,Config!$B$13>=Tarifs!E3496),1,0)","v":0},"2026-08-01","2026-08-31",7470]
["22-0001","30","22-0001-300",{"$f":"IF(AND(Config!$B$13<=Tarifs!F3497,Config!$B$13>=Tarifs!E3497),1,0)","v":0},"2026-09-01","2026-09-30",7470]
["22-0001","30","22-0001-300",{"$f":"IF(AND(Config!$B$13<=Tarifs!F3498,Config!$B$13>=Tarifs!E3498),1,0)","v":0},"2026-05-01","2026-05-31",5310]
["22-0001","30","22-0001-300",{"$f":"IF(AND(Config!$B$13<=Tarifs!F3499,Config!$B$13>=Tarifs!E3499),1,0)","v":0},"2026-10-01","2026-10-31",5310]
["22-0001","30","22-0001-301",{"$f":"IF(AND(Config!$B$13<=Tarifs!F3500,Config!$B$13>=Tarifs!E3500),1,0)","v":1},"2026-01-01","2026-01-31",4830]
["22-0001","30","22-0001-300",{"$f":"IF(AND(Config!$B$13<=Tarifs!F3501,Config!$B$13>=Tarifs!E3501),1,0)","v":0},"2026-02-01","2026-02-28",4830]
["22-0001","30","22-0001-300",{"$f":"IF(AND(Config!$B$13<=Tarifs!F3502,Config!$B$13>=Tarifs!E3502),1,0)","v":0},"2026-03-01","2026-03-31",4830]
["22-0001","30","22-0001-300",{"$f":"IF(AND(Config!$B$13<=Tarifs!F3503,Config!$B$13>=Tarifs!E3503),1,0)","v":0},"2026-04-01","2026-04-30",4830]
["22-0001","30","22-0001-300",{"$f":"IF(AND(Config!$B$13<=Tarifs!F3504,Config!$B$13>=Tarifs!E3504),1,0)","v":0},"2026-11-01","2026-11-30",4830]
["22-0001","30","22-0001-300",{"$f":"IF(AND(Config!$B$13<=Tarifs!F3505,Config!$B$13>=Tarifs!E3505),1,0)","v":0},"2026-12-01","2026-12-31",4830]
["22-0001","20","22-0001-200",{"$f":"IF(AND(Config!$B$13<=Tarifs!F3506,Config!$B$13>=Tarifs!E3506),1,0)","v":0},"2026-06-01","2026-06-30",1743]
["22-0001","20","22-0001-200",{"$f":"IF(AND(Config!$B$13<=Tarifs!F3507,Config!$B$13>=Tarifs!E3507),1,0)","v":0},"2026-07-01","2026-07-31",1743]
["22-0001","20","22-0001-200",{"$f":"IF(AND(Config!$B$13<=Tarifs!F3508,Config!$B$13>=Tarifs!E3508),1,0)","v":0},"2026-08-01","2026-08-31",1743]
["22-0001","20","22-0001-200",{"$f":"IF(AND(Config!$B$13<=Tarifs!F3509,Config!$B$13>=Tarifs!E3509),1,0)","v":0},"2026-09-01","2026-09-30",1743]
["22-0001","20","22-0001-200",{"$f":"IF(AND(Config!$B$13<=Tarifs!F3510,Config!$B$13>=Tarifs!E3510),1,0)","v":0},"2026-05-01","2026-05-31",1239]
["22-0001","20","22-0001-200",{"$f":"IF(AND(Config!$B$13<=Tarifs!F3511,Config!$B$13>=Tarifs!E3511),1,0)","v":0},"2026-10-01","2026-10-31",1239]
["22-0001","20","22-0001-201",{"$f":"IF(AND(Config!$B$13<=Tarifs!F3512,Config!$B$13>=Tarifs!E3512),1,0)","v":1},"2026-01-01","2026-01-31",1127]
["22-0001","20","22-0001-200",{"$f":"IF(AND(Config!$B$13<=Tarifs!F3513,Config!$B$13>=Tarifs!E3513),1,0)","v":0},"2026-02-01","2026-02-28",1127]
["22-0001","20","22-0001-200",{"$f":"IF(AND(Config!$B$13<=Tarifs!F3514,Config!$B$13>=Tarifs!E3514),1,0)","v":0},"2026-03-01","2026-03-31",1127]
["22-0001","20","22-0001-200",{"$f":"IF(AND(Config!$B$13<=Tarifs!F3515,Config!$B$13>=Tarifs!E3515),1,0)","v":0},"2026-04-01","2026-04-30",1127]
["22-0001","20","22-0001-200",{"$f":"IF(AND(Config!$B$13<=Tarifs!F3516,Config!$B$13>=Tarifs!E3516),1,0)","v":0},"2026-11-01","2026-11-30",1127]
["22-0001","20","22-0001-200",{"$f":"IF(AND(Config!$B$13<=Tarifs!F3517,Config!$B$13>=Tarifs!E3517),1,0)","v":0},"2026-12-01","2026-12-31",1127]
["22-0001","10","22-0001-100",{"$f":"IF(AND(Config!$B$13<=Tarifs!F3518,Config!$B$13>=Tarifs!E3518),1,0)","v":0},"2026-06-01","2026-06-30",249]
["22-0001","10","22-0001-100",{"$f":"IF(AND(Config!$B$13<=Tarifs!F3519,Config!$B$13>=Tarifs!E3519),1,0)","v":0},"2026-07-01","2026-07-31",249]
["22-0001","10","22-0001-100",{"$f":"IF(AND(Config!$B$13<=Tarifs!F3520,Config!$B$13>=Tarifs!E3520),1,0)","v":0},"2026-08-01","2026-08-31",249]
["22-0001","10","22-0001-100",{"$f":"IF(AND(Config!$B$13<=Tarifs!F3521,Config!$B$13>=Tarifs!E3521),1,0)","v":0},"2026-09-01","2026-09-30",249]
["22-0001","10","22-0001-100",{"$f":"IF(AND(Config!$B$13<=Tarifs!F3522,Config!$B$13>=Tarifs!E3522),1,0)","v":0},"2026-05-01","2026-05-31",177]
["22-0001","10",{"$f":"A3523&\"-\"&B3523&D3523","v":"22-0001-100"},{"$f":"IF(AND(Config!$B$13<=Tarifs!F3523,Config!$B$13>=Tarifs!E3523),1,0)","v":0},"2026-10-01","2026-10-31",177]
["22-0001","10","22-0001-101",{"$f":"IF(AND(Config!$B$13<=Tarifs!F3524,Config!$B$13>=Tarifs!E3524),1,0)","v":1},"2026-01-01","2026-01-31",161]
["22-0001","10","22-0001-100",{"$f":"IF(AND(Config!$B$13<=Tarifs!F3525,Config!$B$13>=Tarifs!E3525),1,0)","v":0},"2026-02-01","2026-02-28",161]
["22-0001","10","22-0001-100",{"$f":"IF(AND(Config!$B$13<=Tarifs!F3526,Config!$B$13>=Tarifs!E3526),1,0)","v":0},"2026-03-01","2026-03-31",161]
["22-0001","10","22-0001-100",{"$f":"IF(AND(Config!$B$13<=Tarifs!F3527,Config!$B$13>=Tarifs!E3527),1,0)","v":0},"2026-04-01","2026-04-30",161]
["22-0001","10","22-0001-100",{"$f":"IF(AND(Config!$B$13<=Tarifs!F3528,Config!$B$13>=Tarifs!E3528),1,0)","v":0},"2026-11-01","2026-11-30",161]
["22-0001","10","22-0001-100",{"$f":"IF(AND(Config!$B$13<=Tarifs!F3529,Config!$B$13>=Tarifs!E3529),1,0)","v":0},"2026-12-01","2026-12-31",161]
["23-0010","30","23-0010-300",{"$f":"IF(AND(Config!$B$13<=Tarifs!F3530,Config!$B$13>=Tarifs!E3530),1,0)","v":0},"2026-05-01","2026-05-31",5070]
["23-0010","30","23-0010-300",{"$f":"IF(AND(Config!$B$13<=Tarifs!F3531,Config!$B$13>=Tarifs!E3531),1,0)","v":0},"2026-06-01","2026-06-30",5070]
["23-0010","30","23-0010-300",{"$f":"IF(AND(Config!$B$13<=Tarifs!F3532,Config!$B$13>=Tarifs!E3532),1,0)","v":0},"2026-07-01","2026-07-31",5070]
["23-0010","30","23-0010-300",{"$f":"IF(AND(Config!$B$13<=Tarifs!F3533,Config!$B$13>=Tarifs!E3533),1,0)","v":0},"2026-08-01","2026-08-31",5070]
["23-0010","30","23-0010-300",{"$f":"IF(AND(Config!$B$13<=Tarifs!F3534,Config!$B$13>=Tarifs!E3534),1,0)","v":0},"2026-09-01","2026-09-30",5070]
["23-0010","30","23-0010-300",{"$f":"IF(AND(Config!$B$13<=Tarifs!F3535,Config!$B$13>=Tarifs!E3535),1,0)","v":0},"2026-10-01","2026-10-31",4470]
["23-0010","30","23-0010-300",{"$f":"IF(AND(Config!$B$13<=Tarifs!F3536,Config!$B$13>=Tarifs!E3536),1,0)","v":0},"2026-04-01","2026-04-30",3120]
["23-0010","30","23-0010-300",{"$f":"IF(AND(Config!$B$13<=Tarifs!F3537,Config!$B$13>=Tarifs!E3537),1,0)","v":0},"2026-03-01","2026-03-31",3120]
["23-0010","30","23-0010-300",{"$f":"IF(AND(Config!$B$13<=Tarifs!F3538,Config!$B$13>=Tarifs!E3538),1,0)","v":0},"2026-11-01","2026-11-30",2820]
["23-0010","30","23-0010-300",{"$f":"IF(AND(Config!$B$13<=Tarifs!F3539,Config!$B$13>=Tarifs!E3539),1,0)","v":0},"2026-12-01","2026-12-31",2820]
["23-0010","30","23-0010-301",{"$f":"IF(AND(Config!$B$13<=Tarifs!F3540,Config!$B$13>=Tarifs!E3540),1,0)","v":1},"2026-01-01","2026-01-31",2670]
["23-0010","30","23-0010-300",{"$f":"IF(AND(Config!$B$13<=Tarifs!F3541,Config!$B$13>=Tarifs!E3541),1,0)","v":0},"2026-02-01","2026-02-28",2670]
["23-0010","20","23-0010-200",{"$f":"IF(AND(Config!$B$13<=Tarifs!F3542,Config!$B$13>=Tarifs!E3542),1,0)","v":0},"2026-05-01","2026-05-31",1253]
["23-0010","20","23-0010-200",{"$f":"IF(AND(Config!$B$13<=Tarifs!F3543,Config!$B$13>=Tarifs!E3543),1,0)","v":0},"2026-06-01","2026-06-30",1253]
["23-0010","20","23-0010-200",{"$f":"IF(AND(Config!$B$13<=Tarifs!F3544,Config!$B$13>=Tarifs!E3544),1,0)","v":0},"2026-07-01","2026-07-31",1253]
["23-0010","20","23-0010-200",{"$f":"IF(AND(Config!$B$13<=Tarifs!F3545,Config!$B$13>=Tarifs!E3545),1,0)","v":0},"2026-08-01","2026-08-31",1253]
["23-0010","20","23-0010-200",{"$f":"IF(AND(Config!$B$13<=Tarifs!F3546,Config!$B$13>=Tarifs!E3546),1,0)","v":0},"2026-09-01","2026-09-30",1253]
["23-0010","20","23-0010-200",{"$f":"IF(AND(Config!$B$13<=Tarifs!F3547,Config!$B$13>=Tarifs!E3547),1,0)","v":0},"2026-10-01","2026-10-31",1113]
["23-0010","20","23-0010-200",{"$f":"IF(AND(Config!$B$13<=Tarifs!F3548,Config!$B$13>=Tarifs!E3548),1,0)","v":0},"2026-03-01","2026-03-31",798]
["23-0010","20","23-0010-200",{"$f":"IF(AND(Config!$B$13<=Tarifs!F3549,Config!$B$13>=Tarifs!E3549),1,0)","v":0},"2026-04-01","2026-04-30",798]
["23-0010","20","23-0010-200",{"$f":"IF(AND(Config!$B$13<=Tarifs!F3550,Config!$B$13>=Tarifs!E3550),1,0)","v":0},"2026-11-01","2026-11-30",728]
["23-0010","20","23-0010-200",{"$f":"IF(AND(Config!$B$13<=Tarifs!F3551,Config!$B$13>=Tarifs!E3551),1,0)","v":0},"2026-12-01","2026-12-31",728]
["23-0010","20","23-0010-201",{"$f":"IF(AND(Config!$B$13<=Tarifs!F3552,Config!$B$13>=Tarifs!E3552),1,0)","v":1},"2026-01-01","2026-01-31",693]
["23-0010","20","23-0010-200",{"$f":"IF(AND(Config!$B$13<=Tarifs!F3553,Config!$B$13>=Tarifs!E3553),1,0)","v":0},"2026-02-01","2026-02-28",693]
["23-0010","10","23-0010-100",{"$f":"IF(AND(Config!$B$13<=Tarifs!F3554,Config!$B$13>=Tarifs!E3554),1,0)","v":0},"2026-05-01","2026-05-31",199]
["23-0010","10","23-0010-100",{"$f":"IF(AND(Config!$B$13<=Tarifs!F3555,Config!$B$13>=Tarifs!E3555),1,0)","v":0},"2026-06-01","2026-06-30",199]
["23-0010","10","23-0010-100",{"$f":"IF(AND(Config!$B$13<=Tarifs!F3556,Config!$B$13>=Tarifs!E3556),1,0)","v":0},"2026-07-01","2026-07-31",199]
["23-0010","10","23-0010-100",{"$f":"IF(AND(Config!$B$13<=Tarifs!F3557,Config!$B$13>=Tarifs!E3557),1,0)","v":0},"2026-08-01","2026-08-31",199]
["23-0010","10","23-0010-100",{"$f":"IF(AND(Config!$B$13<=Tarifs!F3558,Config!$B$13>=Tarifs!E3558),1,0)","v":0},"2026-09-01","2026-09-30",199]
["23-0010","10","23-0010-100",{"$f":"IF(AND(Config!$B$13<=Tarifs!F3559,Config!$B$13>=Tarifs!E3559),1,0)","v":0},"2026-04-01","2026-04-30",199]
["23-0010","10","23-0010-100",{"$f":"IF(AND(Config!$B$13<=Tarifs!F3560,Config!$B$13>=Tarifs!E3560),1,0)","v":0},"2026-10-01","2026-10-31",179]
["23-0010","10","23-0010-100",{"$f":"IF(AND(Config!$B$13<=Tarifs!F3561,Config!$B$13>=Tarifs!E3561),1,0)","v":0},"2026-02-01","2026-02-28",134]
["23-0010","10","23-0010-100",{"$f":"IF(AND(Config!$B$13<=Tarifs!F3562,Config!$B$13>=Tarifs!E3562),1,0)","v":0},"2026-03-01","2026-03-31",134]
["23-0010","10","23-0010-100",{"$f":"IF(AND(Config!$B$13<=Tarifs!F3563,Config!$B$13>=Tarifs!E3563),1,0)","v":0},"2026-11-01","2026-11-30",124]
["23-0010","10","23-0010-100",{"$f":"IF(AND(Config!$B$13<=Tarifs!F3564,Config!$B$13>=Tarifs!E3564),1,0)","v":0},"2026-12-01","2026-12-31",124]
["23-0010","10","23-0010-101",{"$f":"IF(AND(Config!$B$13<=Tarifs!F3565,Config!$B$13>=Tarifs!E3565),1,0)","v":1},"2026-01-01","2026-01-31",119]
["23-0011","30","23-0011-300",{"$f":"IF(AND(Config!$B$13<=Tarifs!F3566,Config!$B$13>=Tarifs!E3566),1,0)","v":0},"2026-05-01","2026-05-31",5370]
["23-0011","30","23-0011-300",{"$f":"IF(AND(Config!$B$13<=Tarifs!F3567,Config!$B$13>=Tarifs!E3567),1,0)","v":0},"2026-06-01","2026-06-30",5370]
["23-0011","30","23-0011-300",{"$f":"IF(AND(Config!$B$13<=Tarifs!F3568,Config!$B$13>=Tarifs!E3568),1,0)","v":0},"2026-07-01","2026-07-31",5370]
["23-0011","30","23-0011-300",{"$f":"IF(AND(Config!$B$13<=Tarifs!F3569,Config!$B$13>=Tarifs!E3569),1,0)","v":0},"2026-08-01","2026-08-31",5370]
["23-0011","30","23-0011-301",{"$f":"IF(AND(Config!$B$13<=Tarifs!F3570,Config!$B$13>=Tarifs!E3570),1,0)","v":1},"2026-01-01","2026-01-31",4770]
["23-0011","30","23-0011-300",{"$f":"IF(AND(Config!$B$13<=Tarifs!F3571,Config!$B$13>=Tarifs!E3571),1,0)","v":0},"2026-02-01","2026-02-28",4770]
["23-0011","30","23-0011-300",{"$f":"IF(AND(Config!$B$13<=Tarifs!F3572,Config!$B$13>=Tarifs!E3572),1,0)","v":0},"2026-03-01","2026-03-31",4770]
["23-0011","30","23-0011-300",{"$f":"IF(AND(Config!$B$13<=Tarifs!F3573,Config!$B$13>=Tarifs!E3573),1,0)","v":0},"2026-04-01","2026-04-30",4770]
["23-0011","30","23-0011-300",{"$f":"IF(AND(Config!$B$13<=Tarifs!F3574,Config!$B$13>=Tarifs!E3574),1,0)","v":0},"2026-09-01","2026-09-30",4770]
["23-0011","30","23-0011-300",{"$f":"IF(AND(Config!$B$13<=Tarifs!F3575,Config!$B$13>=Tarifs!E3575),1,0)","v":0},"2026-10-01","2026-10-31",4770]
["23-0011","30","23-0011-300",{"$f":"IF(AND(Config!$B$13<=Tarifs!F3576,Config!$B$13>=Tarifs!E3576),1,0)","v":0},"2026-11-01","2026-11-30",4770]
["23-0011","30","23-0011-300",{"$f":"IF(AND(Config!$B$13<=Tarifs!F3577,Config!$B$13>=Tarifs!E3577),1,0)","v":0},"2026-12-01","2026-12-31",4770]
["23-0011","20","23-0011-200",{"$f":"IF(AND(Config!$B$13<=Tarifs!F3578,Config!$B$13>=Tarifs!E3578),1,0)","v":0},"2026-05-01","2026-05-31",1323]
["23-0011","20","23-0011-200",{"$f":"IF(AND(Config!$B$13<=Tarifs!F3579,Config!$B$13>=Tarifs!E3579),1,0)","v":0},"2026-06-01","2026-06-30",1323]
["23-0011","20","23-0011-200",{"$f":"IF(AND(Config!$B$13<=Tarifs!F3580,Config!$B$13>=Tarifs!E3580),1,0)","v":0},"2026-07-01","2026-07-31",1323]
["23-0011","20","23-0011-200",{"$f":"IF(AND(Config!$B$13<=Tarifs!F3581,Config!$B$13>=Tarifs!E3581),1,0)","v":0},"2026-08-01","2026-08-31",1323]
["23-0011","20","23-0011-201",{"$f":"IF(AND(Config!$B$13<=Tarifs!F3582,Config!$B$13>=Tarifs!E3582),1,0)","v":1},"2026-01-01","2026-01-31",1183]
["23-0011","20","23-0011-200",{"$f":"IF(AND(Config!$B$13<=Tarifs!F3583,Config!$B$13>=Tarifs!E3583),1,0)","v":0},"2026-02-01","2026-02-28",1183]
["23-0011","20","23-0011-200",{"$f":"IF(AND(Config!$B$13<=Tarifs!F3584,Config!$B$13>=Tarifs!E3584),1,0)","v":0},"2026-03-01","2026-03-31",1183]
["23-0011","20","23-0011-200",{"$f":"IF(AND(Config!$B$13<=Tarifs!F3585,Config!$B$13>=Tarifs!E3585),1,0)","v":0},"2026-04-01","2026-04-30",1183]
["23-0011","20","23-0011-200",{"$f":"IF(AND(Config!$B$13<=Tarifs!F3586,Config!$B$13>=Tarifs!E3586),1,0)","v":0},"2026-09-01","2026-09-30",1183]
["23-0011","20",{"$f":"A3587&\"-\"&B3587&D3587","v":"23-0011-200"},{"$f":"IF(AND(Config!$B$13<=Tarifs!F3587,Config!$B$13>=Tarifs!E3587),1,0)","v":0},"2026-10-01","2026-10-31",1183]
["23-0011","20","23-0011-200",{"$f":"IF(AND(Config!$B$13<=Tarifs!F3588,Config!$B$13>=Tarifs!E3588),1,0)","v":0},"2026-11-01","2026-11-30",1183]
["23-0011","20","23-0011-200",{"$f":"IF(AND(Config!$B$13<=Tarifs!F3589,Config!$B$13>=Tarifs!E3589),1,0)","v":0},"2026-12-01","2026-12-31",1183]
["23-0011","10","23-0011-100",{"$f":"IF(AND(Config!$B$13<=Tarifs!F3590,Config!$B$13>=Tarifs!E3590),1,0)","v":0},"2026-05-01","2026-05-31",189]
["23-0011","10","23-0011-100",{"$f":"IF(AND(Config!$B$13<=Tarifs!F3591,Config!$B$13>=Tarifs!E3591),1,0)","v":0},"2026-06-01","2026-06-30",189]
["23-0011","10","23-0011-100",{"$f":"IF(AND(Config!$B$13<=Tarifs!F3592,Config!$B$13>=Tarifs!E3592),1,0)","v":0},"2026-07-01","2026-07-31",189]
["23-0011","10","23-0011-100",{"$f":"IF(AND(Config!$B$13<=Tarifs!F3593,Config!$B$13>=Tarifs!E3593),1,0)","v":0},"2026-08-01","2026-08-31",189]
["23-0011","10","23-0011-101",{"$f":"IF(AND(Config!$B$13<=Tarifs!F3594,Config!$B$13>=Tarifs!E3594),1,0)","v":1},"2026-01-01","2026-01-31",169]
["23-0011","10","23-0011-100",{"$f":"IF(AND(Config!$B$13<=Tarifs!F3595,Config!$B$13>=Tarifs!E3595),1,0)","v":0},"2026-02-01","2026-02-28",169]
["23-0011","10","23-0011-100",{"$f":"IF(AND(Config!$B$13<=Tarifs!F3596,Config!$B$13>=Tarifs!E3596),1,0)","v":0},"2026-03-01","2026-03-31",169]
["23-0011","10","23-0011-100",{"$f":"IF(AND(Config!$B$13<=Tarifs!F3597,Config!$B$13>=Tarifs!E3597),1,0)","v":0},"2026-04-01","2026-04-30",169]
["23-0011","10","23-0011-100",{"$f":"IF(AND(Config!$B$13<=Tarifs!F3598,Config!$B$13>=Tarifs!E3598),1,0)","v":0},"2026-09-01","2026-09-30",169]
["23-0011","10","23-0011-100",{"$f":"IF(AND(Config!$B$13<=Tarifs!F3599,Config!$B$13>=Tarifs!E3599),1,0)","v":0},"2026-10-01","2026-10-31",169]
["23-0011","10","23-0011-100",{"$f":"IF(AND(Config!$B$13<=Tarifs!F3600,Config!$B$13>=Tarifs!E3600),1,0)","v":0},"2026-11-01","2026-11-30",169]
["23-0011","10","23-0011-100",{"$f":"IF(AND(Config!$B$13<=Tarifs!F3601,Config!$B$13>=Tarifs!E3601),1,0)","v":0},"2026-12-01","2026-12-31",169]
["23-0012","30","23-0012-300",{"$f":"IF(AND(Config!$B$13<=Tarifs!F3602,Config!$B$13>=Tarifs!E3602),1,0)","v":0},"2026-07-01","2026-07-31",3000]
["23-0012","30","23-0012-300",{"$f":"IF(AND(Config!$B$13<=Tarifs!F3603,Config!$B$13>=Tarifs!E3603),1,0)","v":0},"2026-08-01","2026-08-31",3000]
["23-0012","30","23-0012-301",{"$f":"IF(AND(Config!$B$13<=Tarifs!F3604,Config!$B$13>=Tarifs!E3604),1,0)","v":1},"2026-01-01","2026-01-31",2980]
["23-0012","30","23-0012-300",{"$f":"IF(AND(Config!$B$13<=Tarifs!F3605,Config!$B$13>=Tarifs!E3605),1,0)","v":0},"2026-02-01","2026-02-28",2980]
["23-0012","30","23-0012-300",{"$f":"IF(AND(Config!$B$13<=Tarifs!F3606,Config!$B$13>=Tarifs!E3606),1,0)","v":0},"2026-03-01","2026-03-31",2980]
["23-0012","30","23-0012-300",{"$f":"IF(AND(Config!$B$13<=Tarifs!F3607,Config!$B$13>=Tarifs!E3607),1,0)","v":0},"2026-04-01","2026-04-30",2980]
["23-0012","30","23-0012-300",{"$f":"IF(AND(Config!$B$13<=Tarifs!F3608,Config!$B$13>=Tarifs!E3608),1,0)","v":0},"2026-05-01","2026-05-31",2980]
["23-0012","30","23-0012-300",{"$f":"IF(AND(Config!$B$13<=Tarifs!F3609,Config!$B$13>=Tarifs!E3609),1,0)","v":0},"2026-06-01","2026-06-30",2980]
["23-0012","30","23-0012-300",{"$f":"IF(AND(Config!$B$13<=Tarifs!F3610,Config!$B$13>=Tarifs!E3610),1,0)","v":0},"2026-09-01","2026-09-30",2980]
["23-0012","30","23-0012-300",{"$f":"IF(AND(Config!$B$13<=Tarifs!F3611,Config!$B$13>=Tarifs!E3611),1,0)","v":0},"2026-10-01","2026-10-31",2980]
["23-0012","30","23-0012-300",{"$f":"IF(AND(Config!$B$13<=Tarifs!F3612,Config!$B$13>=Tarifs!E3612),1,0)","v":0},"2026-11-01","2026-11-30",2980]
["23-0012","30","23-0012-300",{"$f":"IF(AND(Config!$B$13<=Tarifs!F3613,Config!$B$13>=Tarifs!E3613),1,0)","v":0},"2026-12-01","2026-12-31",2980]
["23-0012","20","23-0012-200",{"$f":"IF(AND(Config!$B$13<=Tarifs!F3614,Config!$B$13>=Tarifs!E3614),1,0)","v":0},"2026-07-01","2026-07-31",770]
["23-0012","20","23-0012-200",{"$f":"IF(AND(Config!$B$13<=Tarifs!F3615,Config!$B$13>=Tarifs!E3615),1,0)","v":0},"2026-08-01","2026-08-31",770]
["23-0012","20","23-0012-201",{"$f":"IF(AND(Config!$B$13<=Tarifs!F3616,Config!$B$13>=Tarifs!E3616),1,0)","v":1},"2026-01-01","2026-01-31",735]
["23-0012","20","23-0012-200",{"$f":"IF(AND(Config!$B$13<=Tarifs!F3617,Config!$B$13>=Tarifs!E3617),1,0)","v":0},"2026-02-01","2026-02-28",735]
["23-0012","20","23-0012-200",{"$f":"IF(AND(Config!$B$13<=Tarifs!F3618,Config!$B$13>=Tarifs!E3618),1,0)","v":0},"2026-03-01","2026-03-31",735]
["23-0012","20","23-0012-200",{"$f":"IF(AND(Config!$B$13<=Tarifs!F3619,Config!$B$13>=Tarifs!E3619),1,0)","v":0},"2026-04-01","2026-04-30",735]
["23-0012","20","23-0012-200",{"$f":"IF(AND(Config!$B$13<=Tarifs!F3620,Config!$B$13>=Tarifs!E3620),1,0)","v":0},"2026-05-01","2026-05-31",735]
["23-0012","20","23-0012-200",{"$f":"IF(AND(Config!$B$13<=Tarifs!F3621,Config!$B$13>=Tarifs!E3621),1,0)","v":0},"2026-06-01","2026-06-30",735]
["23-0012","20","23-0012-200",{"$f":"IF(AND(Config!$B$13<=Tarifs!F3622,Config!$B$13>=Tarifs!E3622),1,0)","v":0},"2026-09-01","2026-09-30",735]
["23-0012","20","23-0012-200",{"$f":"IF(AND(Config!$B$13<=Tarifs!F3623,Config!$B$13>=Tarifs!E3623),1,0)","v":0},"2026-10-01","2026-10-31",735]
["23-0012","20","23-0012-200",{"$f":"IF(AND(Config!$B$13<=Tarifs!F3624,Config!$B$13>=Tarifs!E3624),1,0)","v":0},"2026-11-01","2026-11-30",735]
["23-0012","20","23-0012-200",{"$f":"IF(AND(Config!$B$13<=Tarifs!F3625,Config!$B$13>=Tarifs!E3625),1,0)","v":0},"2026-12-01","2026-12-31",735]
["23-0012","10","23-0012-100",{"$f":"IF(AND(Config!$B$13<=Tarifs!F3626,Config!$B$13>=Tarifs!E3626),1,0)","v":0},"2026-07-01","2026-07-31",135]
["23-0012","10","23-0012-100",{"$f":"IF(AND(Config!$B$13<=Tarifs!F3627,Config!$B$13>=Tarifs!E3627),1,0)","v":0},"2026-08-01","2026-08-31",135]
["23-0012","10","23-0012-101",{"$f":"IF(AND(Config!$B$13<=Tarifs!F3628,Config!$B$13>=Tarifs!E3628),1,0)","v":1},"2026-01-01","2026-01-31",115]
["23-0012","10","23-0012-100",{"$f":"IF(AND(Config!$B$13<=Tarifs!F3629,Config!$B$13>=Tarifs!E3629),1,0)","v":0},"2026-02-01","2026-02-28",115]
["23-0012","10","23-0012-100",{"$f":"IF(AND(Config!$B$13<=Tarifs!F3630,Config!$B$13>=Tarifs!E3630),1,0)","v":0},"2026-03-01","2026-03-31",115]
["23-0012","10","23-0012-100",{"$f":"IF(AND(Config!$B$13<=Tarifs!F3631,Config!$B$13>=Tarifs!E3631),1,0)","v":0},"2026-04-01","2026-04-30",115]
["23-0012","10","23-0012-100",{"$f":"IF(AND(Config!$B$13<=Tarifs!F3632,Config!$B$13>=Tarifs!E3632),1,0)","v":0},"2026-05-01","2026-05-31",115]
["23-0012","10","23-0012-100",{"$f":"IF(AND(Config!$B$13<=Tarifs!F3633,Config!$B$13>=Tarifs!E3633),1,0)","v":0},"2026-06-01","2026-06-30",115]
["23-0012","10","23-0012-100",{"$f":"IF(AND(Config!$B$13<=Tarifs!F3634,Config!$B$13>=Tarifs!E3634),1,0)","v":0},"2026-09-01","2026-09-30",115]
["23-0012","10","23-0012-100",{"$f":"IF(AND(Config!$B$13<=Tarifs!F3635,Config!$B$13>=Tarifs!E3635),1,0)","v":0},"2026-10-01","2026-10-31",115]
["23-0012","10","23-0012-100",{"$f":"IF(AND(Config!$B$13<=Tarifs!F3636,Config!$B$13>=Tarifs!E3636),1,0)","v":0},"2026-11-01","2026-11-30",115]
["23-0012","10","23-0012-100",{"$f":"IF(AND(Config!$B$13<=Tarifs!F3637,Config!$B$13>=Tarifs!E3637),1,0)","v":0},"2026-12-01","2026-12-31",115]
["23-0016","20","23-0016-200",{"$f":"IF(AND(Config!$B$13<=Tarifs!F3638,Config!$B$13>=Tarifs!E3638),1,0)","v":0},"2026-08-01","2026-08-31",9730]
["23-0016","30","23-0016-300",{"$f":"IF(AND(Config!$B$13<=Tarifs!F3639,Config!$B$13>=Tarifs!E3639),1,0)","v":0},"2026-06-01","2026-06-30",4170]
["23-0016","30","23-0016-300",{"$f":"IF(AND(Config!$B$13<=Tarifs!F3640,Config!$B$13>=Tarifs!E3640),1,0)","v":0},"2026-07-01","2026-07-31",4170]
["23-0016","30","23-0016-300",{"$f":"IF(AND(Config!$B$13<=Tarifs!F3641,Config!$B$13>=Tarifs!E3641),1,0)","v":0},"2026-08-01","2026-08-31",4170]
["23-0016","30","23-0016-300",{"$f":"IF(AND(Config!$B$13<=Tarifs!F3642,Config!$B$13>=Tarifs!E3642),1,0)","v":0},"2026-09-01","2026-09-30",4170]
["23-0016","30","23-0016-300",{"$f":"IF(AND(Config!$B$13<=Tarifs!F3643,Config!$B$13>=Tarifs!E3643),1,0)","v":0},"2026-05-01","2026-05-31",3870]
["23-0016","30","23-0016-300",{"$f":"IF(AND(Config!$B$13<=Tarifs!F3644,Config!$B$13>=Tarifs!E3644),1,0)","v":0},"2026-10-01","2026-10-31",3870]
["23-0016","30","23-0016-301",{"$f":"IF(AND(Config!$B$13<=Tarifs!F3645,Config!$B$13>=Tarifs!E3645),1,0)","v":1},"2026-01-01","2026-01-31",3570]
["23-0016","30","23-0016-300",{"$f":"IF(AND(Config!$B$13<=Tarifs!F3646,Config!$B$13>=Tarifs!E3646),1,0)","v":0},"2026-02-01","2026-02-28",3570]
["23-0016","30","23-0016-300",{"$f":"IF(AND(Config!$B$13<=Tarifs!F3647,Config!$B$13>=Tarifs!E3647),1,0)","v":0},"2026-03-01","2026-03-31",3570]
["23-0016","30","23-0016-300",{"$f":"IF(AND(Config!$B$13<=Tarifs!F3648,Config!$B$13>=Tarifs!E3648),1,0)","v":0},"2026-04-01","2026-04-30",3570]
["23-0016","30","23-0016-300",{"$f":"IF(AND(Config!$B$13<=Tarifs!F3649,Config!$B$13>=Tarifs!E3649),1,0)","v":0},"2026-11-01","2026-11-30",3570]
["23-0016","30","23-0016-300",{"$f":"IF(AND(Config!$B$13<=Tarifs!F3650,Config!$B$13>=Tarifs!E3650),1,0)","v":0},"2026-12-01","2026-12-31",3570]
["23-0016","20",{"$f":"A3651&\"-\"&B3651&D3651","v":"23-0016-200"},{"$f":"IF(AND(Config!$B$13<=Tarifs!F3651,Config!$B$13>=Tarifs!E3651),1,0)","v":0},"2026-06-01","2026-06-30",973]
["23-0016","20","23-0016-200",{"$f":"IF(AND(Config!$B$13<=Tarifs!F3652,Config!$B$13>=Tarifs!E3652),1,0)","v":0},"2026-07-01","2026-07-31",973]
["23-0016","20","23-0016-200",{"$f":"IF(AND(Config!$B$13<=Tarifs!F3653,Config!$B$13>=Tarifs!E3653),1,0)","v":0},"2026-09-01","2026-09-30",973]
["23-0016","20","23-0016-200",{"$f":"IF(AND(Config!$B$13<=Tarifs!F3654,Config!$B$13>=Tarifs!E3654),1,0)","v":0},"2026-05-01","2026-05-31",903]
["23-0016","20","23-0016-200",{"$f":"IF(AND(Config!$B$13<=Tarifs!F3655,Config!$B$13>=Tarifs!E3655),1,0)","v":0},"2026-10-01","2026-10-31",903]
["23-0016","20","23-0016-201",{"$f":"IF(AND(Config!$B$13<=Tarifs!F3656,Config!$B$13>=Tarifs!E3656),1,0)","v":1},"2026-01-01","2026-01-31",833]
["23-0016","20","23-0016-200",{"$f":"IF(AND(Config!$B$13<=Tarifs!F3657,Config!$B$13>=Tarifs!E3657),1,0)","v":0},"2026-02-01","2026-02-28",833]
["23-0016","20","23-0016-200",{"$f":"IF(AND(Config!$B$13<=Tarifs!F3658,Config!$B$13>=Tarifs!E3658),1,0)","v":0},"2026-03-01","2026-03-31",833]
["23-0016","20","23-0016-200",{"$f":"IF(AND(Config!$B$13<=Tarifs!F3659,Config!$B$13>=Tarifs!E3659),1,0)","v":0},"2026-04-01","2026-04-30",833]
["23-0016","20","23-0016-200",{"$f":"IF(AND(Config!$B$13<=Tarifs!F3660,Config!$B$13>=Tarifs!E3660),1,0)","v":0},"2026-11-01","2026-11-30",833]
["23-0016","20","23-0016-200",{"$f":"IF(AND(Config!$B$13<=Tarifs!F3661,Config!$B$13>=Tarifs!E3661),1,0)","v":0},"2026-12-01","2026-12-31",833]
["23-0016","10","23-0016-100",{"$f":"IF(AND(Config!$B$13<=Tarifs!F3662,Config!$B$13>=Tarifs!E3662),1,0)","v":0},"2026-06-01","2026-06-30",139]
["23-0016","10","23-0016-100",{"$f":"IF(AND(Config!$B$13<=Tarifs!F3663,Config!$B$13>=Tarifs!E3663),1,0)","v":0},"2026-07-01","2026-07-31",139]
["23-0016","10","23-0016-100",{"$f":"IF(AND(Config!$B$13<=Tarifs!F3664,Config!$B$13>=Tarifs!E3664),1,0)","v":0},"2026-08-01","2026-08-31",139]
["23-0016","10","23-0016-100",{"$f":"IF(AND(Config!$B$13<=Tarifs!F3665,Config!$B$13>=Tarifs!E3665),1,0)","v":0},"2026-09-01","2026-09-30",139]
["23-0016","10","23-0016-100",{"$f":"IF(AND(Config!$B$13<=Tarifs!F3666,Config!$B$13>=Tarifs!E3666),1,0)","v":0},"2026-05-01","2026-05-31",129]
["23-0016","10","23-0016-100",{"$f":"IF(AND(Config!$B$13<=Tarifs!F3667,Config!$B$13>=Tarifs!E3667),1,0)","v":0},"2026-10-01","2026-10-31",129]
["23-0016","10","23-0016-101",{"$f":"IF(AND(Config!$B$13<=Tarifs!F3668,Config!$B$13>=Tarifs!E3668),1,0)","v":1},"2026-01-01","2026-01-31",119]
["23-0016","10","23-0016-100",{"$f":"IF(AND(Config!$B$13<=Tarifs!F3669,Config!$B$13>=Tarifs!E3669),1,0)","v":0},"2026-02-01","2026-02-28",119]
["23-0016","10","23-0016-100",{"$f":"IF(AND(Config!$B$13<=Tarifs!F3670,Config!$B$13>=Tarifs!E3670),1,0)","v":0},"2026-03-01","2026-03-31",119]
["23-0016","10","23-0016-100",{"$f":"IF(AND(Config!$B$13<=Tarifs!F3671,Config!$B$13>=Tarifs!E3671),1,0)","v":0},"2026-04-01","2026-04-30",119]
["23-0016","10","23-0016-100",{"$f":"IF(AND(Config!$B$13<=Tarifs!F3672,Config!$B$13>=Tarifs!E3672),1,0)","v":0},"2026-11-01","2026-11-30",119]
["23-0016","10","23-0016-100",{"$f":"IF(AND(Config!$B$13<=Tarifs!F3673,Config!$B$13>=Tarifs!E3673),1,0)","v":0},"2026-12-01","2026-12-31",119]
["23-0021","30","23-0021-300",{"$f":"IF(AND(Config!$B$13<=Tarifs!F3674,Config!$B$13>=Tarifs!E3674),1,0)","v":0},"2026-07-01","2026-07-31",5850]
["23-0021","30","23-0021-300",{"$f":"IF(AND(Config!$B$13<=Tarifs!F3675,Config!$B$13>=Tarifs!E3675),1,0)","v":0},"2026-08-01","2026-08-31",5850]
["23-0021","30","23-0021-300",{"$f":"IF(AND(Config!$B$13<=Tarifs!F3676,Config!$B$13>=Tarifs!E3676),1,0)","v":0},"2026-09-01","2026-09-30",5850]
["23-0021","30","23-0021-301",{"$f":"IF(AND(Config!$B$13<=Tarifs!F3677,Config!$B$13>=Tarifs!E3677),1,0)","v":1},"2026-01-01","2026-01-31",4770]
["23-0021","30","23-0021-300",{"$f":"IF(AND(Config!$B$13<=Tarifs!F3678,Config!$B$13>=Tarifs!E3678),1,0)","v":0},"2026-02-01","2026-02-28",4770]
["23-0021","30","23-0021-300",{"$f":"IF(AND(Config!$B$13<=Tarifs!F3679,Config!$B$13>=Tarifs!E3679),1,0)","v":0},"2026-03-01","2026-03-31",4770]
["23-0021","30","23-0021-300",{"$f":"IF(AND(Config!$B$13<=Tarifs!F3680,Config!$B$13>=Tarifs!E3680),1,0)","v":0},"2026-04-01","2026-04-30",4770]
["23-0021","30","23-0021-300",{"$f":"IF(AND(Config!$B$13<=Tarifs!F3681,Config!$B$13>=Tarifs!E3681),1,0)","v":0},"2026-05-01","2026-05-31",4770]
["23-0021","30","23-0021-300",{"$f":"IF(AND(Config!$B$13<=Tarifs!F3682,Config!$B$13>=Tarifs!E3682),1,0)","v":0},"2026-06-01","2026-06-30",4770]
["23-0021","30","23-0021-300",{"$f":"IF(AND(Config!$B$13<=Tarifs!F3683,Config!$B$13>=Tarifs!E3683),1,0)","v":0},"2026-10-01","2026-10-31",4770]
["23-0021","30","23-0021-300",{"$f":"IF(AND(Config!$B$13<=Tarifs!F3684,Config!$B$13>=Tarifs!E3684),1,0)","v":0},"2026-11-01","2026-11-30",4770]
["23-0021","30","23-0021-300",{"$f":"IF(AND(Config!$B$13<=Tarifs!F3685,Config!$B$13>=Tarifs!E3685),1,0)","v":0},"2026-12-01","2026-12-31",4770]
["23-0021","20","23-0021-200",{"$f":"IF(AND(Config!$B$13<=Tarifs!F3686,Config!$B$13>=Tarifs!E3686),1,0)","v":0},"2026-07-01","2026-07-31",1365]
["23-0021","20","23-0021-200",{"$f":"IF(AND(Config!$B$13<=Tarifs!F3687,Config!$B$13>=Tarifs!E3687),1,0)","v":0},"2026-08-01","2026-08-31",1365]
["23-0021","20","23-0021-200",{"$f":"IF(AND(Config!$B$13<=Tarifs!F3688,Config!$B$13>=Tarifs!E3688),1,0)","v":0},"2026-09-01","2026-09-30",1365]
["23-0021","20","23-0021-201",{"$f":"IF(AND(Config!$B$13<=Tarifs!F3689,Config!$B$13>=Tarifs!E3689),1,0)","v":1},"2026-01-01","2026-01-31",1113]
["23-0021","20","23-0021-200",{"$f":"IF(AND(Config!$B$13<=Tarifs!F3690,Config!$B$13>=Tarifs!E3690),1,0)","v":0},"2026-02-01","2026-02-28",1113]
["23-0021","20","23-0021-200",{"$f":"IF(AND(Config!$B$13<=Tarifs!F3691,Config!$B$13>=Tarifs!E3691),1,0)","v":0},"2026-03-01","2026-03-31",1113]
["23-0021","20","23-0021-200",{"$f":"IF(AND(Config!$B$13<=Tarifs!F3692,Config!$B$13>=Tarifs!E3692),1,0)","v":0},"2026-04-01","2026-04-30",1113]
["23-0021","20","23-0021-200",{"$f":"IF(AND(Config!$B$13<=Tarifs!F3693,Config!$B$13>=Tarifs!E3693),1,0)","v":0},"2026-05-01","2026-05-31",1113]
["23-0021","20","23-0021-200",{"$f":"IF(AND(Config!$B$13<=Tarifs!F3694,Config!$B$13>=Tarifs!E3694),1,0)","v":0},"2026-06-01","2026-06-30",1113]
["23-0021","20","23-0021-200",{"$f":"IF(AND(Config!$B$13<=Tarifs!F3695,Config!$B$13>=Tarifs!E3695),1,0)","v":0},"2026-10-01","2026-10-31",1113]
["23-0021","20","23-0021-200",{"$f":"IF(AND(Config!$B$13<=Tarifs!F3696,Config!$B$13>=Tarifs!E3696),1,0)","v":0},"2026-11-01","2026-11-30",1113]
["23-0021","20","23-0021-200",{"$f":"IF(AND(Config!$B$13<=Tarifs!F3697,Config!$B$13>=Tarifs!E3697),1,0)","v":0},"2026-12-01","2026-12-31",1113]
["23-0021","10","23-0021-100",{"$f":"IF(AND(Config!$B$13<=Tarifs!F3698,Config!$B$13>=Tarifs!E3698),1,0)","v":0},"2026-07-01","2026-07-31",195]
["23-0021","10","23-0021-100",{"$f":"IF(AND(Config!$B$13<=Tarifs!F3699,Config!$B$13>=Tarifs!E3699),1,0)","v":0},"2026-08-01","2026-08-31",195]
["23-0021","10","23-0021-100",{"$f":"IF(AND(Config!$B$13<=Tarifs!F3700,Config!$B$13>=Tarifs!E3700),1,0)","v":0},"2026-09-01","2026-09-30",195]
["23-0021","10","23-0021-101",{"$f":"IF(AND(Config!$B$13<=Tarifs!F3701,Config!$B$13>=Tarifs!E3701),1,0)","v":1},"2026-01-01","2026-01-31",159]
["23-0021","10","23-0021-100",{"$f":"IF(AND(Config!$B$13<=Tarifs!F3702,Config!$B$13>=Tarifs!E3702),1,0)","v":0},"2026-02-01","2026-02-28",159]
["23-0021","10","23-0021-100",{"$f":"IF(AND(Config!$B$13<=Tarifs!F3703,Config!$B$13>=Tarifs!E3703),1,0)","v":0},"2026-03-01","2026-03-31",159]
["23-0021","10","23-0021-100",{"$f":"IF(AND(Config!$B$13<=Tarifs!F3704,Config!$B$13>=Tarifs!E3704),1,0)","v":0},"2026-04-01","2026-04-30",159]
["23-0021","10","23-0021-100",{"$f":"IF(AND(Config!$B$13<=Tarifs!F3705,Config!$B$13>=Tarifs!E3705),1,0)","v":0},"2026-05-01","2026-05-31",159]
["23-0021","10","23-0021-100",{"$f":"IF(AND(Config!$B$13<=Tarifs!F3706,Config!$B$13>=Tarifs!E3706),1,0)","v":0},"2026-06-01","2026-06-30",159]
["23-0021","10","23-0021-100",{"$f":"IF(AND(Config!$B$13<=Tarifs!F3707,Config!$B$13>=Tarifs!E3707),1,0)","v":0},"2026-10-01","2026-10-31",159]
["23-0021","10","23-0021-100",{"$f":"IF(AND(Config!$B$13<=Tarifs!F3708,Config!$B$13>=Tarifs!E3708),1,0)","v":0},"2026-11-01","2026-11-30",159]
["23-0021","10","23-0021-100",{"$f":"IF(AND(Config!$B$13<=Tarifs!F3709,Config!$B$13>=Tarifs!E3709),1,0)","v":0},"2026-12-01","2026-12-31",159]
["23-0023","30","23-0023-300",{"$f":"IF(AND(Config!$B$13<=Tarifs!F3710,Config!$B$13>=Tarifs!E3710),1,0)","v":0},"2026-08-01","2026-08-31",5310]
["23-0023","30","23-0023-300",{"$f":"IF(AND(Config!$B$13<=Tarifs!F3711,Config!$B$13>=Tarifs!E3711),1,0)","v":0},"2026-07-01","2026-07-31",5310]
["23-0023","30","23-0023-300",{"$f":"IF(AND(Config!$B$13<=Tarifs!F3712,Config!$B$13>=Tarifs!E3712),1,0)","v":0},"2026-09-01","2026-09-30",4710]
["23-0023","30","23-0023-300",{"$f":"IF(AND(Config!$B$13<=Tarifs!F3713,Config!$B$13>=Tarifs!E3713),1,0)","v":0},"2026-10-01","2026-10-31",4110]
["23-0023","30","23-0023-300",{"$f":"IF(AND(Config!$B$13<=Tarifs!F3714,Config!$B$13>=Tarifs!E3714),1,0)","v":0},"2026-11-01","2026-11-30",4110]
["23-0023","30",{"$f":"A3715&\"-\"&B3715&D3715","v":"23-0023-300"},{"$f":"IF(AND(Config!$B$13<=Tarifs!F3715,Config!$B$13>=Tarifs!E3715),1,0)","v":0},"2026-12-01","2026-12-31",4110]
["23-0023","30","23-0023-300",{"$f":"IF(AND(Config!$B$13<=Tarifs!F3716,Config!$B$13>=Tarifs!E3716),1,0)","v":0},"2026-06-01","2026-06-30",4110]
["23-0023","30","23-0023-301",{"$f":"IF(AND(Config!$B$13<=Tarifs!F3717,Config!$B$13>=Tarifs!E3717),1,0)","v":1},"2026-01-01","2026-01-31",3510]
["23-0023","30","23-0023-300",{"$f":"IF(AND(Config!$B$13<=Tarifs!F3718,Config!$B$13>=Tarifs!E3718),1,0)","v":0},"2026-02-01","2026-02-28",3510]
["23-0023","30","23-0023-300",{"$f":"IF(AND(Config!$B$13<=Tarifs!F3719,Config!$B$13>=Tarifs!E3719),1,0)","v":0},"2026-03-01","2026-03-31",3510]
["23-0023","30","23-0023-300",{"$f":"IF(AND(Config!$B$13<=Tarifs!F3720,Config!$B$13>=Tarifs!E3720),1,0)","v":0},"2026-04-01","2026-04-30",3510]
["23-0023","30","23-0023-300",{"$f":"IF(AND(Config!$B$13<=Tarifs!F3721,Config!$B$13>=Tarifs!E3721),1,0)","v":0},"2026-05-01","2026-05-31",3510]
["23-0023","20","23-0023-200",{"$f":"IF(AND(Config!$B$13<=Tarifs!F3722,Config!$B$13>=Tarifs!E3722),1,0)","v":0},"2026-08-01","2026-08-31",1379]
["23-0023","20","23-0023-200",{"$f":"IF(AND(Config!$B$13<=Tarifs!F3723,Config!$B$13>=Tarifs!E3723),1,0)","v":0},"2026-07-01","2026-07-31",1379]
["23-0023","20","23-0023-200",{"$f":"IF(AND(Config!$B$13<=Tarifs!F3724,Config!$B$13>=Tarifs!E3724),1,0)","v":0},"2026-09-01","2026-09-30",1239]
["23-0023","20","23-0023-200",{"$f":"IF(AND(Config!$B$13<=Tarifs!F3725,Config!$B$13>=Tarifs!E3725),1,0)","v":0},"2026-10-01","2026-10-31",1099]
["23-0023","20","23-0023-200",{"$f":"IF(AND(Config!$B$13<=Tarifs!F3726,Config!$B$13>=Tarifs!E3726),1,0)","v":0},"2026-11-01","2026-11-30",1099]
["23-0023","20","23-0023-200",{"$f":"IF(AND(Config!$B$13<=Tarifs!F3727,Config!$B$13>=Tarifs!E3727),1,0)","v":0},"2026-12-01","2026-12-31",1099]
["23-0023","20","23-0023-200",{"$f":"IF(AND(Config!$B$13<=Tarifs!F3728,Config!$B$13>=Tarifs!E3728),1,0)","v":0},"2026-06-01","2026-06-30",1099]
["23-0023","20","23-0023-201",{"$f":"IF(AND(Config!$B$13<=Tarifs!F3729,Config!$B$13>=Tarifs!E3729),1,0)","v":1},"2026-01-01","2026-01-31",959]
["23-0023","20","23-0023-200",{"$f":"IF(AND(Config!$B$13<=Tarifs!F3730,Config!$B$13>=Tarifs!E3730),1,0)","v":0},"2026-02-01","2026-02-28",959]
["23-0023","20","23-0023-200",{"$f":"IF(AND(Config!$B$13<=Tarifs!F3731,Config!$B$13>=Tarifs!E3731),1,0)","v":0},"2026-03-01","2026-03-31",959]
["23-0023","20","23-0023-200",{"$f":"IF(AND(Config!$B$13<=Tarifs!F3732,Config!$B$13>=Tarifs!E3732),1,0)","v":0},"2026-04-01","2026-04-30",959]
["23-0023","20","23-0023-200",{"$f":"IF(AND(Config!$B$13<=Tarifs!F3733,Config!$B$13>=Tarifs!E3733),1,0)","v":0},"2026-05-01","2026-05-31",959]
["23-0023","10","23-0023-100",{"$f":"IF(AND(Config!$B$13<=Tarifs!F3734,Config!$B$13>=Tarifs!E3734),1,0)","v":0},"2026-07-01","2026-07-31",207]
["23-0023","10","23-0023-100",{"$f":"IF(AND(Config!$B$13<=Tarifs!F3735,Config!$B$13>=Tarifs!E3735),1,0)","v":0},"2026-08-01","2026-08-31",207]
["23-0023","10","23-0023-100",{"$f":"IF(AND(Config!$B$13<=Tarifs!F3736,Config!$B$13>=Tarifs!E3736),1,0)","v":0},"2026-09-01","2026-09-30",187]
["23-0023","10","23-0023-100",{"$f":"IF(AND(Config!$B$13<=Tarifs!F3737,Config!$B$13>=Tarifs!E3737),1,0)","v":0},"2026-10-01","2026-10-31",167]
["23-0023","10","23-0023-100",{"$f":"IF(AND(Config!$B$13<=Tarifs!F3738,Config!$B$13>=Tarifs!E3738),1,0)","v":0},"2026-11-01","2026-11-30",167]
["23-0023","10","23-0023-100",{"$f":"IF(AND(Config!$B$13<=Tarifs!F3739,Config!$B$13>=Tarifs!E3739),1,0)","v":0},"2026-12-01","2026-12-31",167]
["23-0023","10","23-0023-100",{"$f":"IF(AND(Config!$B$13<=Tarifs!F3740,Config!$B$13>=Tarifs!E3740),1,0)","v":0},"2026-06-01","2026-06-30",167]
["23-0023","10","23-0023-101",{"$f":"IF(AND(Config!$B$13<=Tarifs!F3741,Config!$B$13>=Tarifs!E3741),1,0)","v":1},"2026-01-01","2026-01-31",147]
["23-0023","10","23-0023-100",{"$f":"IF(AND(Config!$B$13<=Tarifs!F3742,Config!$B$13>=Tarifs!E3742),1,0)","v":0},"2026-02-01","2026-02-28",147]
["23-0023","10","23-0023-100",{"$f":"IF(AND(Config!$B$13<=Tarifs!F3743,Config!$B$13>=Tarifs!E3743),1,0)","v":0},"2026-03-01","2026-03-31",147]
["23-0023","10","23-0023-100",{"$f":"IF(AND(Config!$B$13<=Tarifs!F3744,Config!$B$13>=Tarifs!E3744),1,0)","v":0},"2026-04-01","2026-04-30",147]
["23-0023","10","23-0023-100",{"$f":"IF(AND(Config!$B$13<=Tarifs!F3745,Config!$B$13>=Tarifs!E3745),1,0)","v":0},"2026-05-01","2026-05-31",147]
["23-0029","30","23-0029-300",{"$f":"IF(AND(Config!$B$13<=Tarifs!F3746,Config!$B$13>=Tarifs!E3746),1,0)","v":0},"2026-05-01","2026-05-31",5790]
["23-0029","30","23-0029-300",{"$f":"IF(AND(Config!$B$13<=Tarifs!F3747,Config!$B$13>=Tarifs!E3747),1,0)","v":0},"2026-06-01","2026-06-30",5790]
["23-0029","30","23-0029-300",{"$f":"IF(AND(Config!$B$13<=Tarifs!F3748,Config!$B$13>=Tarifs!E3748),1,0)","v":0},"2026-07-01","2026-07-31",5790]
["23-0029","30","23-0029-300",{"$f":"IF(AND(Config!$B$13<=Tarifs!F3749,Config!$B$13>=Tarifs!E3749),1,0)","v":0},"2026-08-01","2026-08-31",5790]
["23-0029","30","23-0029-300",{"$f":"IF(AND(Config!$B$13<=Tarifs!F3750,Config!$B$13>=Tarifs!E3750),1,0)","v":0},"2026-09-01","2026-09-30",5790]
["23-0029","30","23-0029-300",{"$f":"IF(AND(Config!$B$13<=Tarifs!F3751,Config!$B$13>=Tarifs!E3751),1,0)","v":0},"2026-10-01","2026-10-31",5790]
["23-0029","30","23-0029-300",{"$f":"IF(AND(Config!$B$13<=Tarifs!F3752,Config!$B$13>=Tarifs!E3752),1,0)","v":0},"2026-04-01","2026-04-30",4260]
["23-0029","30","23-0029-300",{"$f":"IF(AND(Config!$B$13<=Tarifs!F3753,Config!$B$13>=Tarifs!E3753),1,0)","v":0},"2026-11-01","2026-11-30",4170]
["23-0029","30","23-0029-300",{"$f":"IF(AND(Config!$B$13<=Tarifs!F3754,Config!$B$13>=Tarifs!E3754),1,0)","v":0},"2026-12-01","2026-12-31",3990]
["23-0029","30","23-0029-301",{"$f":"IF(AND(Config!$B$13<=Tarifs!F3755,Config!$B$13>=Tarifs!E3755),1,0)","v":1},"2026-01-01","2026-01-31",3870]
["23-0029","30","23-0029-300",{"$f":"IF(AND(Config!$B$13<=Tarifs!F3756,Config!$B$13>=Tarifs!E3756),1,0)","v":0},"2026-02-01","2026-02-28",3870]
["23-0029","30","23-0029-300",{"$f":"IF(AND(Config!$B$13<=Tarifs!F3757,Config!$B$13>=Tarifs!E3757),1,0)","v":0},"2026-03-01","2026-03-31",3870]
["23-0029","20","23-0029-200",{"$f":"IF(AND(Config!$B$13<=Tarifs!F3758,Config!$B$13>=Tarifs!E3758),1,0)","v":0},"2026-05-01","2026-05-31",1351]
["23-0029","20","23-0029-200",{"$f":"IF(AND(Config!$B$13<=Tarifs!F3759,Config!$B$13>=Tarifs!E3759),1,0)","v":0},"2026-06-01","2026-06-30",1351]
["23-0029","20","23-0029-200",{"$f":"IF(AND(Config!$B$13<=Tarifs!F3760,Config!$B$13>=Tarifs!E3760),1,0)","v":0},"2026-07-01","2026-07-31",1351]
["23-0029","20","23-0029-200",{"$f":"IF(AND(Config!$B$13<=Tarifs!F3761,Config!$B$13>=Tarifs!E3761),1,0)","v":0},"2026-08-01","2026-08-31",1351]
["23-0029","20","23-0029-200",{"$f":"IF(AND(Config!$B$13<=Tarifs!F3762,Config!$B$13>=Tarifs!E3762),1,0)","v":0},"2026-09-01","2026-09-30",1351]
["23-0029","20","23-0029-200",{"$f":"IF(AND(Config!$B$13<=Tarifs!F3763,Config!$B$13>=Tarifs!E3763),1,0)","v":0},"2026-10-01","2026-10-31",1351]
["23-0029","20","23-0029-200",{"$f":"IF(AND(Config!$B$13<=Tarifs!F3764,Config!$B$13>=Tarifs!E3764),1,0)","v":0},"2026-04-01","2026-04-30",994]
["23-0029","20","23-0029-200",{"$f":"IF(AND(Config!$B$13<=Tarifs!F3765,Config!$B$13>=Tarifs!E3765),1,0)","v":0},"2026-11-01","2026-11-30",973]
["23-0029","20","23-0029-200",{"$f":"IF(AND(Config!$B$13<=Tarifs!F3766,Config!$B$13>=Tarifs!E3766),1,0)","v":0},"2026-12-01","2026-12-31",931]
["23-0029","20","23-0029-201",{"$f":"IF(AND(Config!$B$13<=Tarifs!F3767,Config!$B$13>=Tarifs!E3767),1,0)","v":1},"2026-01-01","2026-01-31",903]
["23-0029","20","23-0029-200",{"$f":"IF(AND(Config!$B$13<=Tarifs!F3768,Config!$B$13>=Tarifs!E3768),1,0)","v":0},"2026-02-01","2026-02-28",903]
["23-0029","20","23-0029-200",{"$f":"IF(AND(Config!$B$13<=Tarifs!F3769,Config!$B$13>=Tarifs!E3769),1,0)","v":0},"2026-03-01","2026-03-31",903]
["23-0029","10","23-0029-100",{"$f":"IF(AND(Config!$B$13<=Tarifs!F3770,Config!$B$13>=Tarifs!E3770),1,0)","v":0},"2026-05-01","2026-05-31",193]
["23-0029","10","23-0029-100",{"$f":"IF(AND(Config!$B$13<=Tarifs!F3771,Config!$B$13>=Tarifs!E3771),1,0)","v":0},"2026-06-01","2026-06-30",193]
["23-0029","10","23-0029-100",{"$f":"IF(AND(Config!$B$13<=Tarifs!F3772,Config!$B$13>=Tarifs!E3772),1,0)","v":0},"2026-07-01","2026-07-31",193]
["23-0029","10","23-0029-100",{"$f":"IF(AND(Config!$B$13<=Tarifs!F3773,Config!$B$13>=Tarifs!E3773),1,0)","v":0},"2026-08-01","2026-08-31",193]
["23-0029","10","23-0029-100",{"$f":"IF(AND(Config!$B$13<=Tarifs!F3774,Config!$B$13>=Tarifs!E3774),1,0)","v":0},"2026-09-01","2026-09-30",193]
["23-0029","10","23-0029-100",{"$f":"IF(AND(Config!$B$13<=Tarifs!F3775,Config!$B$13>=Tarifs!E3775),1,0)","v":0},"2026-10-01","2026-10-31",193]
["23-0029","10","23-0029-100",{"$f":"IF(AND(Config!$B$13<=Tarifs!F3776,Config!$B$13>=Tarifs!E3776),1,0)","v":0},"2026-04-01","2026-04-30",142]
["23-0029","10","23-0029-100",{"$f":"IF(AND(Config!$B$13<=Tarifs!F3777,Config!$B$13>=Tarifs!E3777),1,0)","v":0},"2026-11-01","2026-11-30",139]
["23-0029","10","23-0029-100",{"$f":"IF(AND(Config!$B$13<=Tarifs!F3778,Config!$B$13>=Tarifs!E3778),1,0)","v":0},"2026-12-01","2026-12-31",133]
["23-0029","10",{"$f":"A3779&\"-\"&B3779&D3779","v":"23-0029-101"},{"$f":"IF(AND(Config!$B$13<=Tarifs!F3779,Config!$B$13>=Tarifs!E3779),1,0)","v":1},"2026-01-01","2026-01-31",129]
["23-0029","10","23-0029-100",{"$f":"IF(AND(Config!$B$13<=Tarifs!F3780,Config!$B$13>=Tarifs!E3780),1,0)","v":0},"2026-02-01","2026-02-28",129]
["23-0029","10","23-0029-100",{"$f":"IF(AND(Config!$B$13<=Tarifs!F3781,Config!$B$13>=Tarifs!E3781),1,0)","v":0},"2026-03-01","2026-03-31",129]
["23-0030","30","23-0030-301",{"$f":"IF(AND(Config!$B$13<=Tarifs!F3782,Config!$B$13>=Tarifs!E3782),1,0)","v":1},"2026-01-01","2026-01-31",5250]
["23-0030","30","23-0030-300",{"$f":"IF(AND(Config!$B$13<=Tarifs!F3783,Config!$B$13>=Tarifs!E3783),1,0)","v":0},"2026-02-01","2026-02-28",5250]
["23-0030","30","23-0030-300",{"$f":"IF(AND(Config!$B$13<=Tarifs!F3784,Config!$B$13>=Tarifs!E3784),1,0)","v":0},"2026-03-01","2026-03-31",5250]
["23-0030","30","23-0030-300",{"$f":"IF(AND(Config!$B$13<=Tarifs!F3785,Config!$B$13>=Tarifs!E3785),1,0)","v":0},"2026-04-01","2026-04-30",5250]
["23-0030","30","23-0030-300",{"$f":"IF(AND(Config!$B$13<=Tarifs!F3786,Config!$B$13>=Tarifs!E3786),1,0)","v":0},"2026-05-01","2026-05-31",5250]
["23-0030","30","23-0030-300",{"$f":"IF(AND(Config!$B$13<=Tarifs!F3787,Config!$B$13>=Tarifs!E3787),1,0)","v":0},"2026-06-01","2026-06-30",5250]
["23-0030","30","23-0030-300",{"$f":"IF(AND(Config!$B$13<=Tarifs!F3788,Config!$B$13>=Tarifs!E3788),1,0)","v":0},"2026-07-01","2026-07-31",5250]
["23-0030","30","23-0030-300",{"$f":"IF(AND(Config!$B$13<=Tarifs!F3789,Config!$B$13>=Tarifs!E3789),1,0)","v":0},"2026-08-01","2026-08-31",5250]
["23-0030","30","23-0030-300",{"$f":"IF(AND(Config!$B$13<=Tarifs!F3790,Config!$B$13>=Tarifs!E3790),1,0)","v":0},"2026-09-01","2026-09-30",5250]
["23-0030","30","23-0030-300",{"$f":"IF(AND(Config!$B$13<=Tarifs!F3791,Config!$B$13>=Tarifs!E3791),1,0)","v":0},"2026-10-01","2026-10-31",5250]
["23-0030","30","23-0030-300",{"$f":"IF(AND(Config!$B$13<=Tarifs!F3792,Config!$B$13>=Tarifs!E3792),1,0)","v":0},"2026-11-01","2026-11-30",5250]
["23-0030","30","23-0030-300",{"$f":"IF(AND(Config!$B$13<=Tarifs!F3793,Config!$B$13>=Tarifs!E3793),1,0)","v":0},"2026-12-01","2026-12-31",5250]
["23-0030","20","23-0030-201",{"$f":"IF(AND(Config!$B$13<=Tarifs!F3794,Config!$B$13>=Tarifs!E3794),1,0)","v":1},"2026-01-01","2026-01-31",1050]
["23-0030","20","23-0030-200",{"$f":"IF(AND(Config!$B$13<=Tarifs!F3795,Config!$B$13>=Tarifs!E3795),1,0)","v":0},"2026-02-01","2026-02-28",1050]
["23-0030","20","23-0030-200",{"$f":"IF(AND(Config!$B$13<=Tarifs!F3796,Config!$B$13>=Tarifs!E3796),1,0)","v":0},"2026-03-01","2026-03-31",1050]
["23-0030","20","23-0030-200",{"$f":"IF(AND(Config!$B$13<=Tarifs!F3797,Config!$B$13>=Tarifs!E3797),1,0)","v":0},"2026-04-01","2026-04-30",1050]
["23-0030","20","23-0030-200",{"$f":"IF(AND(Config!$B$13<=Tarifs!F3798,Config!$B$13>=Tarifs!E3798),1,0)","v":0},"2026-05-01","2026-05-31",1050]
["23-0030","20","23-0030-200",{"$f":"IF(AND(Config!$B$13<=Tarifs!F3799,Config!$B$13>=Tarifs!E3799),1,0)","v":0},"2026-06-01","2026-06-30",1050]
["23-0030","20","23-0030-200",{"$f":"IF(AND(Config!$B$13<=Tarifs!F3800,Config!$B$13>=Tarifs!E3800),1,0)","v":0},"2026-07-01","2026-07-31",1050]
["23-0030","20","23-0030-200",{"$f":"IF(AND(Config!$B$13<=Tarifs!F3801,Config!$B$13>=Tarifs!E3801),1,0)","v":0},"2026-08-01","2026-08-31",1050]
["23-0030","20","23-0030-200",{"$f":"IF(AND(Config!$B$13<=Tarifs!F3802,Config!$B$13>=Tarifs!E3802),1,0)","v":0},"2026-09-01","2026-09-30",1050]
["23-0030","20","23-0030-200",{"$f":"IF(AND(Config!$B$13<=Tarifs!F3803,Config!$B$13>=Tarifs!E3803),1,0)","v":0},"2026-10-01","2026-10-31",1050]
["23-0030","20","23-0030-200",{"$f":"IF(AND(Config!$B$13<=Tarifs!F3804,Config!$B$13>=Tarifs!E3804),1,0)","v":0},"2026-11-01","2026-11-30",1050]
["23-0030","20","23-0030-200",{"$f":"IF(AND(Config!$B$13<=Tarifs!F3805,Config!$B$13>=Tarifs!E3805),1,0)","v":0},"2026-12-01","2026-12-31",1050]
["23-0030","10","23-0030-101",{"$f":"IF(AND(Config!$B$13<=Tarifs!F3806,Config!$B$13>=Tarifs!E3806),1,0)","v":1},"2026-01-01","2026-01-31",175]
["23-0030","10","23-0030-100",{"$f":"IF(AND(Config!$B$13<=Tarifs!F3807,Config!$B$13>=Tarifs!E3807),1,0)","v":0},"2026-02-01","2026-02-28",175]
["23-0030","10","23-0030-100",{"$f":"IF(AND(Config!$B$13<=Tarifs!F3808,Config!$B$13>=Tarifs!E3808),1,0)","v":0},"2026-03-01","2026-03-31",175]
["23-0030","10","23-0030-100",{"$f":"IF(AND(Config!$B$13<=Tarifs!F3809,Config!$B$13>=Tarifs!E3809),1,0)","v":0},"2026-04-01","2026-04-30",175]
["23-0030","10","23-0030-100",{"$f":"IF(AND(Config!$B$13<=Tarifs!F3810,Config!$B$13>=Tarifs!E3810),1,0)","v":0},"2026-05-01","2026-05-31",175]
["23-0030","10","23-0030-100",{"$f":"IF(AND(Config!$B$13<=Tarifs!F3811,Config!$B$13>=Tarifs!E3811),1,0)","v":0},"2026-06-01","2026-06-30",175]
["23-0030","10","23-0030-100",{"$f":"IF(AND(Config!$B$13<=Tarifs!F3812,Config!$B$13>=Tarifs!E3812),1,0)","v":0},"2026-07-01","2026-07-31",175]
["23-0030","10","23-0030-100",{"$f":"IF(AND(Config!$B$13<=Tarifs!F3813,Config!$B$13>=Tarifs!E3813),1,0)","v":0},"2026-08-01","2026-08-31",175]
["23-0030","10","23-0030-100",{"$f":"IF(AND(Config!$B$13<=Tarifs!F3814,Config!$B$13>=Tarifs!E3814),1,0)","v":0},"2026-09-01","2026-09-30",175]
["23-0030","10","23-0030-100",{"$f":"IF(AND(Config!$B$13<=Tarifs!F3815,Config!$B$13>=Tarifs!E3815),1,0)","v":0},"2026-10-01","2026-10-31",175]
["23-0030","10","23-0030-100",{"$f":"IF(AND(Config!$B$13<=Tarifs!F3816,Config!$B$13>=Tarifs!E3816),1,0)","v":0},"2026-11-01","2026-11-30",175]
["23-0030","10","23-0030-100",{"$f":"IF(AND(Config!$B$13<=Tarifs!F3817,Config!$B$13>=Tarifs!E3817),1,0)","v":0},"2026-12-01","2026-12-31",175]
["23-0031","30","23-0031-301",{"$f":"IF(AND(Config!$B$13<=Tarifs!F3818,Config!$B$13>=Tarifs!E3818),1,0)","v":1},"2026-01-01","2026-01-31",4350]
["23-0031","30","23-0031-300",{"$f":"IF(AND(Config!$B$13<=Tarifs!F3819,Config!$B$13>=Tarifs!E3819),1,0)","v":0},"2026-02-01","2026-02-28",4350]
["23-0031","30","23-0031-300",{"$f":"IF(AND(Config!$B$13<=Tarifs!F3820,Config!$B$13>=Tarifs!E3820),1,0)","v":0},"2026-03-01","2026-03-31",4350]
["23-0031","30","23-0031-300",{"$f":"IF(AND(Config!$B$13<=Tarifs!F3821,Config!$B$13>=Tarifs!E3821),1,0)","v":0},"2026-04-01","2026-04-30",4350]
["23-0031","30","23-0031-300",{"$f":"IF(AND(Config!$B$13<=Tarifs!F3822,Config!$B$13>=Tarifs!E3822),1,0)","v":0},"2026-05-01","2026-05-31",4350]
["23-0031","30","23-0031-300",{"$f":"IF(AND(Config!$B$13<=Tarifs!F3823,Config!$B$13>=Tarifs!E3823),1,0)","v":0},"2026-06-01","2026-06-30",4350]
["23-0031","30","23-0031-300",{"$f":"IF(AND(Config!$B$13<=Tarifs!F3824,Config!$B$13>=Tarifs!E3824),1,0)","v":0},"2026-07-01","2026-07-31",4350]
["23-0031","30","23-0031-300",{"$f":"IF(AND(Config!$B$13<=Tarifs!F3825,Config!$B$13>=Tarifs!E3825),1,0)","v":0},"2026-08-01","2026-08-31",4350]
["23-0031","30","23-0031-300",{"$f":"IF(AND(Config!$B$13<=Tarifs!F3826,Config!$B$13>=Tarifs!E3826),1,0)","v":0},"2026-09-01","2026-09-30",4350]
["23-0031","30","23-0031-300",{"$f":"IF(AND(Config!$B$13<=Tarifs!F3827,Config!$B$13>=Tarifs!E3827),1,0)","v":0},"2026-10-01","2026-10-31",4350]
["23-0031","30","23-0031-300",{"$f":"IF(AND(Config!$B$13<=Tarifs!F3828,Config!$B$13>=Tarifs!E3828),1,0)","v":0},"2026-11-01","2026-11-30",4350]
["23-0031","30","23-0031-300",{"$f":"IF(AND(Config!$B$13<=Tarifs!F3829,Config!$B$13>=Tarifs!E3829),1,0)","v":0},"2026-12-01","2026-12-31",4350]
["23-0031","20","23-0031-201",{"$f":"IF(AND(Config!$B$13<=Tarifs!F3830,Config!$B$13>=Tarifs!E3830),1,0)","v":1},"2026-01-01","2026-01-31",1015]
["23-0031","20","23-0031-200",{"$f":"IF(AND(Config!$B$13<=Tarifs!F3831,Config!$B$13>=Tarifs!E3831),1,0)","v":0},"2026-02-01","2026-02-28",1015]
["23-0031","20","23-0031-200",{"$f":"IF(AND(Config!$B$13<=Tarifs!F3832,Config!$B$13>=Tarifs!E3832),1,0)","v":0},"2026-03-01","2026-03-31",1015]
["23-0031","20","23-0031-200",{"$f":"IF(AND(Config!$B$13<=Tarifs!F3833,Config!$B$13>=Tarifs!E3833),1,0)","v":0},"2026-04-01","2026-04-30",1015]
["23-0031","20","23-0031-200",{"$f":"IF(AND(Config!$B$13<=Tarifs!F3834,Config!$B$13>=Tarifs!E3834),1,0)","v":0},"2026-05-01","2026-05-31",1015]
["23-0031","20","23-0031-200",{"$f":"IF(AND(Config!$B$13<=Tarifs!F3835,Config!$B$13>=Tarifs!E3835),1,0)","v":0},"2026-06-01","2026-06-30",1015]
["23-0031","20","23-0031-200",{"$f":"IF(AND(Config!$B$13<=Tarifs!F3836,Config!$B$13>=Tarifs!E3836),1,0)","v":0},"2026-07-01","2026-07-31",1015]
["23-0031","20","23-0031-200",{"$f":"IF(AND(Config!$B$13<=Tarifs!F3837,Config!$B$13>=Tarifs!E3837),1,0)","v":0},"2026-08-01","2026-08-31",1015]
["23-0031","20","23-0031-200",{"$f":"IF(AND(Config!$B$13<=Tarifs!F3838,Config!$B$13>=Tarifs!E3838),1,0)","v":0},"2026-09-01","2026-09-30",1015]
["23-0031","20","23-0031-200",{"$f":"IF(AND(Config!$B$13<=Tarifs!F3839,Config!$B$13>=Tarifs!E3839),1,0)","v":0},"2026-10-01","2026-10-31",1015]
["23-0031","20","23-0031-200",{"$f":"IF(AND(Config!$B$13<=Tarifs!F3840,Config!$B$13>=Tarifs!E3840),1,0)","v":0},"2026-11-01","2026-11-30",1015]
["23-0031","20","23-0031-200",{"$f":"IF(AND(Config!$B$13<=Tarifs!F3841,Config!$B$13>=Tarifs!E3841),1,0)","v":0},"2026-12-01","2026-12-31",1015]
["23-0031","10","23-0031-101",{"$f":"IF(AND(Config!$B$13<=Tarifs!F3842,Config!$B$13>=Tarifs!E3842),1,0)","v":1},"2026-01-01","2026-01-31",145]
["23-0031","10",{"$f":"A3843&\"-\"&B3843&D3843","v":"23-0031-100"},{"$f":"IF(AND(Config!$B$13<=Tarifs!F3843,Config!$B$13>=Tarifs!E3843),1,0)","v":0},"2026-02-01","2026-02-28",145]
["23-0031","10","23-0031-100",{"$f":"IF(AND(Config!$B$13<=Tarifs!F3844,Config!$B$13>=Tarifs!E3844),1,0)","v":0},"2026-03-01","2026-03-31",145]
["23-0031","10","23-0031-100",{"$f":"IF(AND(Config!$B$13<=Tarifs!F3845,Config!$B$13>=Tarifs!E3845),1,0)","v":0},"2026-04-01","2026-04-30",145]
["23-0031","10","23-0031-100",{"$f":"IF(AND(Config!$B$13<=Tarifs!F3846,Config!$B$13>=Tarifs!E3846),1,0)","v":0},"2026-05-01","2026-05-31",145]
["23-0031","10","23-0031-100",{"$f":"IF(AND(Config!$B$13<=Tarifs!F3847,Config!$B$13>=Tarifs!E3847),1,0)","v":0},"2026-06-01","2026-06-30",145]
["23-0031","10","23-0031-100",{"$f":"IF(AND(Config!$B$13<=Tarifs!F3848,Config!$B$13>=Tarifs!E3848),1,0)","v":0},"2026-07-01","2026-07-31",145]
["23-0031","10","23-0031-100",{"$f":"IF(AND(Config!$B$13<=Tarifs!F3849,Config!$B$13>=Tarifs!E3849),1,0)","v":0},"2026-08-01","2026-08-31",145]
["23-0031","10","23-0031-100",{"$f":"IF(AND(Config!$B$13<=Tarifs!F3850,Config!$B$13>=Tarifs!E3850),1,0)","v":0},"2026-09-01","2026-09-30",145]
["23-0031","10","23-0031-100",{"$f":"IF(AND(Config!$B$13<=Tarifs!F3851,Config!$B$13>=Tarifs!E3851),1,0)","v":0},"2026-10-01","2026-10-31",145]
["23-0031","10","23-0031-100",{"$f":"IF(AND(Config!$B$13<=Tarifs!F3852,Config!$B$13>=Tarifs!E3852),1,0)","v":0},"2026-11-01","2026-11-30",145]
["23-0031","10","23-0031-100",{"$f":"IF(AND(Config!$B$13<=Tarifs!F3853,Config!$B$13>=Tarifs!E3853),1,0)","v":0},"2026-12-01","2026-12-31",145]
["23-0035","30","23-0035-301",{"$f":"IF(AND(Config!$B$13<=Tarifs!F3854,Config!$B$13>=Tarifs!E3854),1,0)","v":1},"2026-01-01","2026-01-31",5850]
["23-0035","30","23-0035-300",{"$f":"IF(AND(Config!$B$13<=Tarifs!F3855,Config!$B$13>=Tarifs!E3855),1,0)","v":0},"2026-02-01","2026-02-28",5850]
["23-0035","30","23-0035-300",{"$f":"IF(AND(Config!$B$13<=Tarifs!F3856,Config!$B$13>=Tarifs!E3856),1,0)","v":0},"2026-03-01","2026-03-31",5850]
["23-0035","30","23-0035-300",{"$f":"IF(AND(Config!$B$13<=Tarifs!F3857,Config!$B$13>=Tarifs!E3857),1,0)","v":0},"2026-04-01","2026-04-30",5850]
["23-0035","30","23-0035-300",{"$f":"IF(AND(Config!$B$13<=Tarifs!F3858,Config!$B$13>=Tarifs!E3858),1,0)","v":0},"2026-05-01","2026-05-31",5850]
["23-0035","30","23-0035-300",{"$f":"IF(AND(Config!$B$13<=Tarifs!F3859,Config!$B$13>=Tarifs!E3859),1,0)","v":0},"2026-06-01","2026-06-30",5850]
["23-0035","30","23-0035-300",{"$f":"IF(AND(Config!$B$13<=Tarifs!F3860,Config!$B$13>=Tarifs!E3860),1,0)","v":0},"2026-07-01","2026-07-31",5850]
["23-0035","30","23-0035-300",{"$f":"IF(AND(Config!$B$13<=Tarifs!F3861,Config!$B$13>=Tarifs!E3861),1,0)","v":0},"2026-08-01","2026-08-31",5850]
["23-0035","30","23-0035-300",{"$f":"IF(AND(Config!$B$13<=Tarifs!F3862,Config!$B$13>=Tarifs!E3862),1,0)","v":0},"2026-09-01","2026-09-30",5850]
["23-0035","30","23-0035-300",{"$f":"IF(AND(Config!$B$13<=Tarifs!F3863,Config!$B$13>=Tarifs!E3863),1,0)","v":0},"2026-10-01","2026-10-31",5850]
["23-0035","30","23-0035-300",{"$f":"IF(AND(Config!$B$13<=Tarifs!F3864,Config!$B$13>=Tarifs!E3864),1,0)","v":0},"2026-11-01","2026-11-30",5850]
["23-0035","30","23-0035-300",{"$f":"IF(AND(Config!$B$13<=Tarifs!F3865,Config!$B$13>=Tarifs!E3865),1,0)","v":0},"2026-12-01","2026-12-31",5850]
["23-0035","20","23-0035-201",{"$f":"IF(AND(Config!$B$13<=Tarifs!F3866,Config!$B$13>=Tarifs!E3866),1,0)","v":1},"2026-01-01","2026-01-31",1365]
["23-0035","20","23-0035-200",{"$f":"IF(AND(Config!$B$13<=Tarifs!F3867,Config!$B$13>=Tarifs!E3867),1,0)","v":0},"2026-02-01","2026-02-28",1365]
["23-0035","20","23-0035-200",{"$f":"IF(AND(Config!$B$13<=Tarifs!F3868,Config!$B$13>=Tarifs!E3868),1,0)","v":0},"2026-03-01","2026-03-31",1365]
["23-0035","20","23-0035-200",{"$f":"IF(AND(Config!$B$13<=Tarifs!F3869,Config!$B$13>=Tarifs!E3869),1,0)","v":0},"2026-04-01","2026-04-30",1365]
["23-0035","20","23-0035-200",{"$f":"IF(AND(Config!$B$13<=Tarifs!F3870,Config!$B$13>=Tarifs!E3870),1,0)","v":0},"2026-05-01","2026-05-31",1365]
["23-0035","20","23-0035-200",{"$f":"IF(AND(Config!$B$13<=Tarifs!F3871,Config!$B$13>=Tarifs!E3871),1,0)","v":0},"2026-06-01","2026-06-30",1365]
["23-0035","20","23-0035-200",{"$f":"IF(AND(Config!$B$13<=Tarifs!F3872,Config!$B$13>=Tarifs!E3872),1,0)","v":0},"2026-07-01","2026-07-31",1365]
["23-0035","20","23-0035-200",{"$f":"IF(AND(Config!$B$13<=Tarifs!F3873,Config!$B$13>=Tarifs!E3873),1,0)","v":0},"2026-08-01","2026-08-31",1365]
["23-0035","20","23-0035-200",{"$f":"IF(AND(Config!$B$13<=Tarifs!F3874,Config!$B$13>=Tarifs!E3874),1,0)","v":0},"2026-09-01","2026-09-30",1365]
["23-0035","20","23-0035-200",{"$f":"IF(AND(Config!$B$13<=Tarifs!F3875,Config!$B$13>=Tarifs!E3875),1,0)","v":0},"2026-10-01","2026-10-31",1365]
["23-0035","20","23-0035-200",{"$f":"IF(AND(Config!$B$13<=Tarifs!F3876,Config!$B$13>=Tarifs!E3876),1,0)","v":0},"2026-11-01","2026-11-30",1365]
["23-0035","20","23-0035-200",{"$f":"IF(AND(Config!$B$13<=Tarifs!F3877,Config!$B$13>=Tarifs!E3877),1,0)","v":0},"2026-12-01","2026-12-31",1365]
["23-0035","10","23-0035-101",{"$f":"IF(AND(Config!$B$13<=Tarifs!F3878,Config!$B$13>=Tarifs!E3878),1,0)","v":1},"2026-01-01","2026-01-31",195]
["23-0035","10","23-0035-100",{"$f":"IF(AND(Config!$B$13<=Tarifs!F3879,Config!$B$13>=Tarifs!E3879),1,0)","v":0},"2026-02-01","2026-02-28",195]
["23-0035","10","23-0035-100",{"$f":"IF(AND(Config!$B$13<=Tarifs!F3880,Config!$B$13>=Tarifs!E3880),1,0)","v":0},"2026-03-01","2026-03-31",195]
["23-0035","10","23-0035-100",{"$f":"IF(AND(Config!$B$13<=Tarifs!F3881,Config!$B$13>=Tarifs!E3881),1,0)","v":0},"2026-04-01","2026-04-30",195]
["23-0035","10","23-0035-100",{"$f":"IF(AND(Config!$B$13<=Tarifs!F3882,Config!$B$13>=Tarifs!E3882),1,0)","v":0},"2026-05-01","2026-05-31",195]
["23-0035","10","23-0035-100",{"$f":"IF(AND(Config!$B$13<=Tarifs!F3883,Config!$B$13>=Tarifs!E3883),1,0)","v":0},"2026-06-01","2026-06-30",195]
["23-0035","10","23-0035-100",{"$f":"IF(AND(Config!$B$13<=Tarifs!F3884,Config!$B$13>=Tarifs!E3884),1,0)","v":0},"2026-07-01","2026-07-31",195]
["23-0035","10","23-0035-100",{"$f":"IF(AND(Config!$B$13<=Tarifs!F3885,Config!$B$13>=Tarifs!E3885),1,0)","v":0},"2026-08-01","2026-08-31",195]
["23-0035","10","23-0035-100",{"$f":"IF(AND(Config!$B$13<=Tarifs!F3886,Config!$B$13>=Tarifs!E3886),1,0)","v":0},"2026-09-01","2026-09-30",195]
["23-0035","10","23-0035-100",{"$f":"IF(AND(Config!$B$13<=Tarifs!F3887,Config!$B$13>=Tarifs!E3887),1,0)","v":0},"2026-10-01","2026-10-31",195]
["23-0035","10","23-0035-100",{"$f":"IF(AND(Config!$B$13<=Tarifs!F3888,Config!$B$13>=Tarifs!E3888),1,0)","v":0},"2026-11-01","2026-11-30",195]
["23-0035","10","23-0035-100",{"$f":"IF(AND(Config!$B$13<=Tarifs!F3889,Config!$B$13>=Tarifs!E3889),1,0)","v":0},"2026-12-01","2026-12-31",195]
["23-0045","30","23-0045-300",{"$f":"IF(AND(Config!$B$13<=Tarifs!F3890,Config!$B$13>=Tarifs!E3890),1,0)","v":0},"2026-05-01","2026-05-31",6600]
["23-0045","30","23-0045-300",{"$f":"IF(AND(Config!$B$13<=Tarifs!F3891,Config!$B$13>=Tarifs!E3891),1,0)","v":0},"2026-06-01","2026-06-30",6600]
["23-0045","30","23-0045-300",{"$f":"IF(AND(Config!$B$13<=Tarifs!F3892,Config!$B$13>=Tarifs!E3892),1,0)","v":0},"2026-07-01","2026-07-31",6600]
["23-0045","30","23-0045-300",{"$f":"IF(AND(Config!$B$13<=Tarifs!F3893,Config!$B$13>=Tarifs!E3893),1,0)","v":0},"2026-08-01","2026-08-31",6600]
["23-0045","30","23-0045-300",{"$f":"IF(AND(Config!$B$13<=Tarifs!F3894,Config!$B$13>=Tarifs!E3894),1,0)","v":0},"2026-09-01","2026-09-30",6600]
["23-0045","30","23-0045-300",{"$f":"IF(AND(Config!$B$13<=Tarifs!F3895,Config!$B$13>=Tarifs!E3895),1,0)","v":0},"2026-10-01","2026-10-31",6600]
["23-0045","30","23-0045-301",{"$f":"IF(AND(Config!$B$13<=Tarifs!F3896,Config!$B$13>=Tarifs!E3896),1,0)","v":1},"2026-01-01","2026-01-31",5460]
["23-0045","30","23-0045-300",{"$f":"IF(AND(Config!$B$13<=Tarifs!F3897,Config!$B$13>=Tarifs!E3897),1,0)","v":0},"2026-02-01","2026-02-28",5460]
["23-0045","30","23-0045-300",{"$f":"IF(AND(Config!$B$13<=Tarifs!F3898,Config!$B$13>=Tarifs!E3898),1,0)","v":0},"2026-03-01","2026-03-31",5460]
["23-0045","30","23-0045-300",{"$f":"IF(AND(Config!$B$13<=Tarifs!F3899,Config!$B$13>=Tarifs!E3899),1,0)","v":0},"2026-04-01","2026-04-30",5460]
["23-0045","30","23-0045-300",{"$f":"IF(AND(Config!$B$13<=Tarifs!F3900,Config!$B$13>=Tarifs!E3900),1,0)","v":0},"2026-11-01","2026-11-30",5460]
["23-0045","30","23-0045-300",{"$f":"IF(AND(Config!$B$13<=Tarifs!F3901,Config!$B$13>=Tarifs!E3901),1,0)","v":0},"2026-12-01","2026-12-31",5460]
["23-0045","20","23-0045-200",{"$f":"IF(AND(Config!$B$13<=Tarifs!F3902,Config!$B$13>=Tarifs!E3902),1,0)","v":0},"2026-05-01","2026-05-31",1540]
["23-0045","20","23-0045-200",{"$f":"IF(AND(Config!$B$13<=Tarifs!F3903,Config!$B$13>=Tarifs!E3903),1,0)","v":0},"2026-06-01","2026-06-30",1540]
["23-0045","20","23-0045-200",{"$f":"IF(AND(Config!$B$13<=Tarifs!F3904,Config!$B$13>=Tarifs!E3904),1,0)","v":0},"2026-07-01","2026-07-31",1540]
["23-0045","20","23-0045-200",{"$f":"IF(AND(Config!$B$13<=Tarifs!F3905,Config!$B$13>=Tarifs!E3905),1,0)","v":0},"2026-08-01","2026-08-31",1540]
["23-0045","20","23-0045-200",{"$f":"IF(AND(Config!$B$13<=Tarifs!F3906,Config!$B$13>=Tarifs!E3906),1,0)","v":0},"2026-09-01","2026-09-30",1540]
["23-0045","20",{"$f":"A3907&\"-\"&B3907&D3907","v":"23-0045-200"},{"$f":"IF(AND(Config!$B$13<=Tarifs!F3907,Config!$B$13>=Tarifs!E3907),1,0)","v":0},"2026-10-01","2026-10-31",1540]
["23-0045","20","23-0045-201",{"$f":"IF(AND(Config!$B$13<=Tarifs!F3908,Config!$B$13>=Tarifs!E3908),1,0)","v":1},"2026-01-01","2026-01-31",1274]
["23-0045","20","23-0045-200",{"$f":"IF(AND(Config!$B$13<=Tarifs!F3909,Config!$B$13>=Tarifs!E3909),1,0)","v":0},"2026-02-01","2026-02-28",1274]
["23-0045","20","23-0045-200",{"$f":"IF(AND(Config!$B$13<=Tarifs!F3910,Config!$B$13>=Tarifs!E3910),1,0)","v":0},"2026-03-01","2026-03-31",1274]
["23-0045","20","23-0045-200",{"$f":"IF(AND(Config!$B$13<=Tarifs!F3911,Config!$B$13>=Tarifs!E3911),1,0)","v":0},"2026-04-01","2026-04-30",1274]
["23-0045","20","23-0045-200",{"$f":"IF(AND(Config!$B$13<=Tarifs!F3912,Config!$B$13>=Tarifs!E3912),1,0)","v":0},"2026-11-01","2026-11-30",1274]
["23-0045","20","23-0045-200",{"$f":"IF(AND(Config!$B$13<=Tarifs!F3913,Config!$B$13>=Tarifs!E3913),1,0)","v":0},"2026-12-01","2026-12-31",1274]
["23-0045","10","23-0045-100",{"$f":"IF(AND(Config!$B$13<=Tarifs!F3914,Config!$B$13>=Tarifs!E3914),1,0)","v":0},"2026-05-01","2026-05-31",220]
["23-0045","10","23-0045-100",{"$f":"IF(AND(Config!$B$13<=Tarifs!F3915,Config!$B$13>=Tarifs!E3915),1,0)","v":0},"2026-06-01","2026-06-30",220]
["23-0045","10","23-0045-100",{"$f":"IF(AND(Config!$B$13<=Tarifs!F3916,Config!$B$13>=Tarifs!E3916),1,0)","v":0},"2026-07-01","2026-07-31",220]
["23-0045","10","23-0045-100",{"$f":"IF(AND(Config!$B$13<=Tarifs!F3917,Config!$B$13>=Tarifs!E3917),1,0)","v":0},"2026-08-01","2026-08-31",220]
["23-0045","10","23-0045-100",{"$f":"IF(AND(Config!$B$13<=Tarifs!F3918,Config!$B$13>=Tarifs!E3918),1,0)","v":0},"2026-09-01","2026-09-30",220]
["23-0045","10","23-0045-100",{"$f":"IF(AND(Config!$B$13<=Tarifs!F3919,Config!$B$13>=Tarifs!E3919),1,0)","v":0},"2026-10-01","2026-10-31",220]
["23-0045","10","23-0045-101",{"$f":"IF(AND(Config!$B$13<=Tarifs!F3920,Config!$B$13>=Tarifs!E3920),1,0)","v":1},"2026-01-01","2026-01-31",182]
["23-0045","10","23-0045-100",{"$f":"IF(AND(Config!$B$13<=Tarifs!F3921,Config!$B$13>=Tarifs!E3921),1,0)","v":0},"2026-02-01","2026-02-28",182]
["23-0045","10","23-0045-100",{"$f":"IF(AND(Config!$B$13<=Tarifs!F3922,Config!$B$13>=Tarifs!E3922),1,0)","v":0},"2026-03-01","2026-03-31",182]
["23-0045","10","23-0045-100",{"$f":"IF(AND(Config!$B$13<=Tarifs!F3923,Config!$B$13>=Tarifs!E3923),1,0)","v":0},"2026-04-01","2026-04-30",182]
["23-0045","10","23-0045-100",{"$f":"IF(AND(Config!$B$13<=Tarifs!F3924,Config!$B$13>=Tarifs!E3924),1,0)","v":0},"2026-11-01","2026-11-30",182]
["23-0045","10","23-0045-100",{"$f":"IF(AND(Config!$B$13<=Tarifs!F3925,Config!$B$13>=Tarifs!E3925),1,0)","v":0},"2026-12-01","2026-12-31",182]
["23-0052","30","23-0052-300",{"$f":"IF(AND(Config!$B$13<=Tarifs!F3926,Config!$B$13>=Tarifs!E3926),1,0)","v":0},"2026-07-01","2026-07-31",6000]
["23-0052","30","23-0052-300",{"$f":"IF(AND(Config!$B$13<=Tarifs!F3927,Config!$B$13>=Tarifs!E3927),1,0)","v":0},"2026-08-01","2026-08-31",6000]
["23-0052","30","23-0052-300",{"$f":"IF(AND(Config!$B$13<=Tarifs!F3928,Config!$B$13>=Tarifs!E3928),1,0)","v":0},"2026-06-01","2026-06-30",5600]
["23-0052","30","23-0052-300",{"$f":"IF(AND(Config!$B$13<=Tarifs!F3929,Config!$B$13>=Tarifs!E3929),1,0)","v":0},"2026-09-01","2026-09-30",5600]
["23-0052","30","23-0052-300",{"$f":"IF(AND(Config!$B$13<=Tarifs!F3930,Config!$B$13>=Tarifs!E3930),1,0)","v":0},"2026-05-01","2026-05-31",5080]
["23-0052","30","23-0052-300",{"$f":"IF(AND(Config!$B$13<=Tarifs!F3931,Config!$B$13>=Tarifs!E3931),1,0)","v":0},"2026-10-01","2026-10-31",5080]
["23-0052","30","23-0052-300",{"$f":"IF(AND(Config!$B$13<=Tarifs!F3932,Config!$B$13>=Tarifs!E3932),1,0)","v":0},"2026-12-01","2026-12-31",4780]
["23-0052","30","23-0052-300",{"$f":"IF(AND(Config!$B$13<=Tarifs!F3933,Config!$B$13>=Tarifs!E3933),1,0)","v":0},"2026-11-01","2026-11-30",4780]
["23-0052","30","23-0052-301",{"$f":"IF(AND(Config!$B$13<=Tarifs!F3934,Config!$B$13>=Tarifs!E3934),1,0)","v":1},"2026-01-01","2026-01-31",4000]
["23-0052","30","23-0052-300",{"$f":"IF(AND(Config!$B$13<=Tarifs!F3935,Config!$B$13>=Tarifs!E3935),1,0)","v":0},"2026-02-01","2026-02-28",4000]
["23-0052","30","23-0052-300",{"$f":"IF(AND(Config!$B$13<=Tarifs!F3936,Config!$B$13>=Tarifs!E3936),1,0)","v":0},"2026-03-01","2026-03-31",4000]
["23-0052","30","23-0052-300",{"$f":"IF(AND(Config!$B$13<=Tarifs!F3937,Config!$B$13>=Tarifs!E3937),1,0)","v":0},"2026-04-01","2026-04-30",4000]
["23-0052","20","23-0052-200",{"$f":"IF(AND(Config!$B$13<=Tarifs!F3938,Config!$B$13>=Tarifs!E3938),1,0)","v":0},"2026-07-01","2026-07-31",2000]
["23-0052","20","23-0052-200",{"$f":"IF(AND(Config!$B$13<=Tarifs!F3939,Config!$B$13>=Tarifs!E3939),1,0)","v":0},"2026-08-01","2026-08-31",2000]
["23-0052","20","23-0052-200",{"$f":"IF(AND(Config!$B$13<=Tarifs!F3940,Config!$B$13>=Tarifs!E3940),1,0)","v":0},"2026-06-01","2026-06-30",1300]
["23-0052","20","23-0052-200",{"$f":"IF(AND(Config!$B$13<=Tarifs!F3941,Config!$B$13>=Tarifs!E3941),1,0)","v":0},"2026-09-01","2026-09-30",1300]
["23-0052","20","23-0052-200",{"$f":"IF(AND(Config!$B$13<=Tarifs!F3942,Config!$B$13>=Tarifs!E3942),1,0)","v":0},"2026-05-01","2026-05-31",1193]
["23-0052","20","23-0052-200",{"$f":"IF(AND(Config!$B$13<=Tarifs!F3943,Config!$B$13>=Tarifs!E3943),1,0)","v":0},"2026-10-01","2026-10-31",1193]
["23-0052","20","23-0052-200",{"$f":"IF(AND(Config!$B$13<=Tarifs!F3944,Config!$B$13>=Tarifs!E3944),1,0)","v":0},"2026-12-01","2026-12-31",1123]
["23-0052","20","23-0052-200",{"$f":"IF(AND(Config!$B$13<=Tarifs!F3945,Config!$B$13>=Tarifs!E3945),1,0)","v":0},"2026-11-01","2026-11-30",1123]
["23-0052","20","23-0052-201",{"$f":"IF(AND(Config!$B$13<=Tarifs!F3946,Config!$B$13>=Tarifs!E3946),1,0)","v":1},"2026-01-01","2026-01-31",1015]
["23-0052","20","23-0052-200",{"$f":"IF(AND(Config!$B$13<=Tarifs!F3947,Config!$B$13>=Tarifs!E3947),1,0)","v":0},"2026-02-01","2026-02-28",1015]
["23-0052","20","23-0052-200",{"$f":"IF(AND(Config!$B$13<=Tarifs!F3948,Config!$B$13>=Tarifs!E3948),1,0)","v":0},"2026-03-01","2026-03-31",1015]
["23-0052","20","23-0052-200",{"$f":"IF(AND(Config!$B$13<=Tarifs!F3949,Config!$B$13>=Tarifs!E3949),1,0)","v":0},"2026-04-01","2026-04-30",1015]
["23-0052","10","23-0052-100",{"$f":"IF(AND(Config!$B$13<=Tarifs!F3950,Config!$B$13>=Tarifs!E3950),1,0)","v":0},"2026-07-01","2026-07-31",239]
["23-0052","10","23-0052-100",{"$f":"IF(AND(Config!$B$13<=Tarifs!F3951,Config!$B$13>=Tarifs!E3951),1,0)","v":0},"2026-08-01","2026-08-31",239]
["23-0052","10","23-0052-100",{"$f":"IF(AND(Config!$B$13<=Tarifs!F3952,Config!$B$13>=Tarifs!E3952),1,0)","v":0},"2026-06-01","2026-06-30",189]
["23-0052","10","23-0052-100",{"$f":"IF(AND(Config!$B$13<=Tarifs!F3953,Config!$B$13>=Tarifs!E3953),1,0)","v":0},"2026-09-01","2026-09-30",189]
["23-0052","10","23-0052-100",{"$f":"IF(AND(Config!$B$13<=Tarifs!F3954,Config!$B$13>=Tarifs!E3954),1,0)","v":0},"2026-05-01","2026-05-31",179]
["23-0052","10","23-0052-100",{"$f":"IF(AND(Config!$B$13<=Tarifs!F3955,Config!$B$13>=Tarifs!E3955),1,0)","v":0},"2026-10-01","2026-10-31",179]
["23-0052","10","23-0052-100",{"$f":"IF(AND(Config!$B$13<=Tarifs!F3956,Config!$B$13>=Tarifs!E3956),1,0)","v":0},"2026-11-01","2026-11-30",169]
["23-0052","10","23-0052-100",{"$f":"IF(AND(Config!$B$13<=Tarifs!F3957,Config!$B$13>=Tarifs!E3957),1,0)","v":0},"2026-12-01","2026-12-31",169]
["23-0052","10","23-0052-101",{"$f":"IF(AND(Config!$B$13<=Tarifs!F3958,Config!$B$13>=Tarifs!E3958),1,0)","v":1},"2026-01-01","2026-01-31",164]
["23-0052","10","23-0052-100",{"$f":"IF(AND(Config!$B$13<=Tarifs!F3959,Config!$B$13>=Tarifs!E3959),1,0)","v":0},"2026-02-01","2026-02-28",164]
["23-0052","10","23-0052-100",{"$f":"IF(AND(Config!$B$13<=Tarifs!F3960,Config!$B$13>=Tarifs!E3960),1,0)","v":0},"2026-03-01","2026-03-31",164]
["23-0052","10","23-0052-100",{"$f":"IF(AND(Config!$B$13<=Tarifs!F3961,Config!$B$13>=Tarifs!E3961),1,0)","v":0},"2026-04-01","2026-04-30",164]
["24-0001","30","24-0001-300",{"$f":"IF(AND(Config!$B$13<=Tarifs!F3962,Config!$B$13>=Tarifs!E3962),1,0)","v":0},"2026-01-01","2025-12-31",4500]
["24-0001","30","24-0001-300",{"$f":"IF(AND(Config!$B$13<=Tarifs!F3963,Config!$B$13>=Tarifs!E3963),1,0)","v":0},"2026-02-01","2026-01-31",4500]
["24-0001","30","24-0001-300",{"$f":"IF(AND(Config!$B$13<=Tarifs!F3964,Config!$B$13>=Tarifs!E3964),1,0)","v":0},"2026-03-01","2026-02-28",4500]
["24-0001","30","24-0001-300",{"$f":"IF(AND(Config!$B$13<=Tarifs!F3965,Config!$B$13>=Tarifs!E3965),1,0)","v":0},"2026-04-01","2026-03-31",4500]
["24-0001","30","24-0001-300",{"$f":"IF(AND(Config!$B$13<=Tarifs!F3966,Config!$B$13>=Tarifs!E3966),1,0)","v":0},"2026-05-01","2026-04-30",4500]
["24-0001","30","24-0001-300",{"$f":"IF(AND(Config!$B$13<=Tarifs!F3967,Config!$B$13>=Tarifs!E3967),1,0)","v":0},"2026-06-01","2026-05-31",4500]
["24-0001","30","24-0001-300",{"$f":"IF(AND(Config!$B$13<=Tarifs!F3968,Config!$B$13>=Tarifs!E3968),1,0)","v":0},"2026-07-01","2026-06-30",4500]
["24-0001","30","24-0001-300",{"$f":"IF(AND(Config!$B$13<=Tarifs!F3969,Config!$B$13>=Tarifs!E3969),1,0)","v":0},"2026-08-01","2026-07-31",4500]
["24-0001","30","24-0001-300",{"$f":"IF(AND(Config!$B$13<=Tarifs!F3970,Config!$B$13>=Tarifs!E3970),1,0)","v":0},"2026-09-01","2026-08-31",4500]
["24-0001","30",{"$f":"A3971&\"-\"&B3971&D3971","v":"24-0001-300"},{"$f":"IF(AND(Config!$B$13<=Tarifs!F3971,Config!$B$13>=Tarifs!E3971),1,0)","v":0},"2026-10-01","2026-09-30",4500]
["24-0001","30","24-0001-300",{"$f":"IF(AND(Config!$B$13<=Tarifs!F3972,Config!$B$13>=Tarifs!E3972),1,0)","v":0},"2026-11-01","2026-10-31",4500]
["24-0001","30","24-0001-300",{"$f":"IF(AND(Config!$B$13<=Tarifs!F3973,Config!$B$13>=Tarifs!E3973),1,0)","v":0},"2026-12-01","2026-11-30",4500]
["24-0001","20","24-0001-200",{"$f":"IF(AND(Config!$B$13<=Tarifs!F3974,Config!$B$13>=Tarifs!E3974),1,0)","v":0},"2026-01-01","2025-12-31",1165]
["24-0001","20","24-0001-200",{"$f":"IF(AND(Config!$B$13<=Tarifs!F3975,Config!$B$13>=Tarifs!E3975),1,0)","v":0},"2026-02-01","2026-01-31",1165]
["24-0001","20","24-0001-200",{"$f":"IF(AND(Config!$B$13<=Tarifs!F3976,Config!$B$13>=Tarifs!E3976),1,0)","v":0},"2026-03-01","2026-02-28",1165]
["24-0001","20","24-0001-200",{"$f":"IF(AND(Config!$B$13<=Tarifs!F3977,Config!$B$13>=Tarifs!E3977),1,0)","v":0},"2026-04-01","2026-03-31",1165]
["24-0001","20","24-0001-200",{"$f":"IF(AND(Config!$B$13<=Tarifs!F3978,Config!$B$13>=Tarifs!E3978),1,0)","v":0},"2026-05-01","2026-04-30",1165]
["24-0001","20","24-0001-200",{"$f":"IF(AND(Config!$B$13<=Tarifs!F3979,Config!$B$13>=Tarifs!E3979),1,0)","v":0},"2026-06-01","2026-05-31",1165]
["24-0001","20","24-0001-200",{"$f":"IF(AND(Config!$B$13<=Tarifs!F3980,Config!$B$13>=Tarifs!E3980),1,0)","v":0},"2026-07-01","2026-06-30",1165]
["24-0001","20","24-0001-200",{"$f":"IF(AND(Config!$B$13<=Tarifs!F3981,Config!$B$13>=Tarifs!E3981),1,0)","v":0},"2026-08-01","2026-07-31",1165]
["24-0001","20","24-0001-200",{"$f":"IF(AND(Config!$B$13<=Tarifs!F3982,Config!$B$13>=Tarifs!E3982),1,0)","v":0},"2026-09-01","2026-08-31",1165]
["24-0001","20","24-0001-200",{"$f":"IF(AND(Config!$B$13<=Tarifs!F3983,Config!$B$13>=Tarifs!E3983),1,0)","v":0},"2026-10-01","2026-09-30",1165]
["24-0001","20","24-0001-200",{"$f":"IF(AND(Config!$B$13<=Tarifs!F3984,Config!$B$13>=Tarifs!E3984),1,0)","v":0},"2026-11-01","2026-10-31",1165]
["24-0001","20","24-0001-200",{"$f":"IF(AND(Config!$B$13<=Tarifs!F3985,Config!$B$13>=Tarifs!E3985),1,0)","v":0},"2026-12-01","2026-11-30",1165]
["24-0001","10","24-0001-100",{"$f":"IF(AND(Config!$B$13<=Tarifs!F3986,Config!$B$13>=Tarifs!E3986),1,0)","v":0},"2026-01-01","2025-12-31",185]
["24-0001","10","24-0001-100",{"$f":"IF(AND(Config!$B$13<=Tarifs!F3987,Config!$B$13>=Tarifs!E3987),1,0)","v":0},"2026-02-01","2026-01-31",185]
["24-0001","10","24-0001-100",{"$f":"IF(AND(Config!$B$13<=Tarifs!F3988,Config!$B$13>=Tarifs!E3988),1,0)","v":0},"2026-03-01","2026-02-28",185]
["24-0001","10","24-0001-100",{"$f":"IF(AND(Config!$B$13<=Tarifs!F3989,Config!$B$13>=Tarifs!E3989),1,0)","v":0},"2026-04-01","2026-03-31",185]
["24-0001","10","24-0001-100",{"$f":"IF(AND(Config!$B$13<=Tarifs!F3990,Config!$B$13>=Tarifs!E3990),1,0)","v":0},"2026-05-01","2026-04-30",185]
["24-0001","10","24-0001-100",{"$f":"IF(AND(Config!$B$13<=Tarifs!F3991,Config!$B$13>=Tarifs!E3991),1,0)","v":0},"2026-06-01","2026-05-31",185]
["24-0001","10","24-0001-100",{"$f":"IF(AND(Config!$B$13<=Tarifs!F3992,Config!$B$13>=Tarifs!E3992),1,0)","v":0},"2026-07-01","2026-06-30",185]
["24-0001","10","24-0001-100",{"$f":"IF(AND(Config!$B$13<=Tarifs!F3993,Config!$B$13>=Tarifs!E3993),1,0)","v":0},"2026-08-01","2026-07-31",185]
["24-0001","10","24-0001-100",{"$f":"IF(AND(Config!$B$13<=Tarifs!F3994,Config!$B$13>=Tarifs!E3994),1,0)","v":0},"2026-09-01","2026-08-31",185]
["24-0001","10","24-0001-100",{"$f":"IF(AND(Config!$B$13<=Tarifs!F3995,Config!$B$13>=Tarifs!E3995),1,0)","v":0},"2026-10-01","2026-09-30",185]
["24-0001","10","24-0001-100",{"$f":"IF(AND(Config!$B$13<=Tarifs!F3996,Config!$B$13>=Tarifs!E3996),1,0)","v":0},"2026-11-01","2026-10-31",185]
["24-0001","10","24-0001-100",{"$f":"IF(AND(Config!$B$13<=Tarifs!F3997,Config!$B$13>=Tarifs!E3997),1,0)","v":0},"2026-12-01","2026-11-30",185]
["24-0004","30","24-0004-300",{"$f":"IF(AND(Config!$B$13<=Tarifs!F3998,Config!$B$13>=Tarifs!E3998),1,0)","v":0},"2026-07-01","2026-07-31",5900]
["24-0004","30","24-0004-300",{"$f":"IF(AND(Config!$B$13<=Tarifs!F3999,Config!$B$13>=Tarifs!E3999),1,0)","v":0},"2026-08-01","2026-08-31",5900]
["24-0004","30","24-0004-300",{"$f":"IF(AND(Config!$B$13<=Tarifs!F4000,Config!$B$13>=Tarifs!E4000),1,0)","v":0},"2026-09-01","2026-09-30",5900]
["24-0004","30","24-0004-300",{"$f":"IF(AND(Config!$B$13<=Tarifs!F4001,Config!$B$13>=Tarifs!E4001),1,0)","v":0},"2026-10-01","2026-10-31",5300]
["24-0004","30","24-0004-301",{"$f":"IF(AND(Config!$B$13<=Tarifs!F4002,Config!$B$13>=Tarifs!E4002),1,0)","v":1},"2026-01-01","2026-01-31",4770]
["24-0004","30","24-0004-300",{"$f":"IF(AND(Config!$B$13<=Tarifs!F4003,Config!$B$13>=Tarifs!E4003),1,0)","v":0},"2026-02-01","2026-02-28",4770]
["24-0004","30","24-0004-300",{"$f":"IF(AND(Config!$B$13<=Tarifs!F4004,Config!$B$13>=Tarifs!E4004),1,0)","v":0},"2026-03-01","2026-03-31",4770]
["24-0004","30","24-0004-300",{"$f":"IF(AND(Config!$B$13<=Tarifs!F4005,Config!$B$13>=Tarifs!E4005),1,0)","v":0},"2026-04-01","2026-04-30",4770]
["24-0004","30","24-0004-300",{"$f":"IF(AND(Config!$B$13<=Tarifs!F4006,Config!$B$13>=Tarifs!E4006),1,0)","v":0},"2026-05-01","2026-05-31",4770]
["24-0004","30","24-0004-300",{"$f":"IF(AND(Config!$B$13<=Tarifs!F4007,Config!$B$13>=Tarifs!E4007),1,0)","v":0},"2026-06-01","2026-06-30",4770]
["24-0004","30","24-0004-300",{"$f":"IF(AND(Config!$B$13<=Tarifs!F4008,Config!$B$13>=Tarifs!E4008),1,0)","v":0},"2026-11-01","2026-11-30",4770]
["24-0004","30","24-0004-300",{"$f":"IF(AND(Config!$B$13<=Tarifs!F4009,Config!$B$13>=Tarifs!E4009),1,0)","v":0},"2026-12-01","2026-12-31",4770]
["24-0004","20","24-0004-200",{"$f":"IF(AND(Config!$B$13<=Tarifs!F4010,Config!$B$13>=Tarifs!E4010),1,0)","v":0},"2026-07-01","2026-07-31",1300]
["24-0004","20","24-0004-200",{"$f":"IF(AND(Config!$B$13<=Tarifs!F4011,Config!$B$13>=Tarifs!E4011),1,0)","v":0},"2026-08-01","2026-08-31",1300]
["24-0004","20","24-0004-200",{"$f":"IF(AND(Config!$B$13<=Tarifs!F4012,Config!$B$13>=Tarifs!E4012),1,0)","v":0},"2026-09-01","2026-09-30",1300]
["24-0004","20","24-0004-200",{"$f":"IF(AND(Config!$B$13<=Tarifs!F4013,Config!$B$13>=Tarifs!E4013),1,0)","v":0},"2026-10-01","2026-10-31",1200]
["24-0004","20","24-0004-201",{"$f":"IF(AND(Config!$B$13<=Tarifs!F4014,Config!$B$13>=Tarifs!E4014),1,0)","v":1},"2026-01-01","2026-01-31",1113]
["24-0004","20","24-0004-200",{"$f":"IF(AND(Config!$B$13<=Tarifs!F4015,Config!$B$13>=Tarifs!E4015),1,0)","v":0},"2026-02-01","2026-02-28",1113]
["24-0004","20","24-0004-200",{"$f":"IF(AND(Config!$B$13<=Tarifs!F4016,Config!$B$13>=Tarifs!E4016),1,0)","v":0},"2026-03-01","2026-03-31",1113]
["24-0004","20","24-0004-200",{"$f":"IF(AND(Config!$B$13<=Tarifs!F4017,Config!$B$13>=Tarifs!E4017),1,0)","v":0},"2026-04-01","2026-04-30",1113]
["24-0004","20","24-0004-200",{"$f":"IF(AND(Config!$B$13<=Tarifs!F4018,Config!$B$13>=Tarifs!E4018),1,0)","v":0},"2026-05-01","2026-05-31",1113]
["24-0004","20","24-0004-200",{"$f":"IF(AND(Config!$B$13<=Tarifs!F4019,Config!$B$13>=Tarifs!E4019),1,0)","v":0},"2026-06-01","2026-06-30",1113]
["24-0004","20","24-0004-200",{"$f":"IF(AND(Config!$B$13<=Tarifs!F4020,Config!$B$13>=Tarifs!E4020),1,0)","v":0},"2026-11-01","2026-11-30",1113]
["24-0004","20","24-0004-200",{"$f":"IF(AND(Config!$B$13<=Tarifs!F4021,Config!$B$13>=Tarifs!E4021),1,0)","v":0},"2026-12-01","2026-12-31",1113]
["24-0004","10","24-0004-100",{"$f":"IF(AND(Config!$B$13<=Tarifs!F4022,Config!$B$13>=Tarifs!E4022),1,0)","v":0},"2026-07-01","2026-07-31",199]
["24-0004","10","24-0004-100",{"$f":"IF(AND(Config!$B$13<=Tarifs!F4023,Config!$B$13>=Tarifs!E4023),1,0)","v":0},"2026-08-01","2026-08-31",199]
["24-0004","10","24-0004-100",{"$f":"IF(AND(Config!$B$13<=Tarifs!F4024,Config!$B$13>=Tarifs!E4024),1,0)","v":0},"2026-09-01","2026-09-30",199]
["24-0004","10","24-0004-100",{"$f":"IF(AND(Config!$B$13<=Tarifs!F4025,Config!$B$13>=Tarifs!E4025),1,0)","v":0},"2026-10-01","2026-10-31",179]
["24-0004","10","24-0004-101",{"$f":"IF(AND(Config!$B$13<=Tarifs!F4026,Config!$B$13>=Tarifs!E4026),1,0)","v":1},"2026-01-01","2026-01-31",159]
["24-0004","10","24-0004-100",{"$f":"IF(AND(Config!$B$13<=Tarifs!F4027,Config!$B$13>=Tarifs!E4027),1,0)","v":0},"2026-02-01","2026-02-28",159]
["24-0004","10","24-0004-100",{"$f":"IF(AND(Config!$B$13<=Tarifs!F4028,Config!$B$13>=Tarifs!E4028),1,0)","v":0},"2026-03-01","2026-03-31",159]
["24-0004","10","24-0004-100",{"$f":"IF(AND(Config!$B$13<=Tarifs!F4029,Config!$B$13>=Tarifs!E4029),1,0)","v":0},"2026-04-01","2026-04-30",159]
["24-0004","10","24-0004-100",{"$f":"IF(AND(Config!$B$13<=Tarifs!F4030,Config!$B$13>=Tarifs!E4030),1,0)","v":0},"2026-05-01","2026-05-31",159]
["24-0004","10","24-0004-100",{"$f":"IF(AND(Config!$B$13<=Tarifs!F4031,Config!$B$13>=Tarifs!E4031),1,0)","v":0},"2026-06-01","2026-06-30",159]
["24-0004","10","24-0004-100",{"$f":"IF(AND(Config!$B$13<=Tarifs!F4032,Config!$B$13>=Tarifs!E4032),1,0)","v":0},"2026-11-01","2026-11-30",159]
["24-0004","10","24-0004-100",{"$f":"IF(AND(Config!$B$13<=Tarifs!F4033,Config!$B$13>=Tarifs!E4033),1,0)","v":0},"2026-12-01","2026-12-31",159]
["24-0005","30","24-0005-300",{"$f":"IF(AND(Config!$B$13<=Tarifs!F4034,Config!$B$13>=Tarifs!E4034),1,0)","v":0},"2026-07-01","2026-07-31",5550]
["24-0005","30",{"$f":"A4035&\"-\"&B4035&D4035","v":"24-0005-300"},{"$f":"IF(AND(Config!$B$13<=Tarifs!F4035,Config!$B$13>=Tarifs!E4035),1,0)","v":0},"2026-08-01","2026-08-31",5550]
["24-0005","30","24-0005-300",{"$f":"IF(AND(Config!$B$13<=Tarifs!F4036,Config!$B$13>=Tarifs!E4036),1,0)","v":0},"2026-06-01","2026-06-30",4920]
["24-0005","30","24-0005-300",{"$f":"IF(AND(Config!$B$13<=Tarifs!F4037,Config!$B$13>=Tarifs!E4037),1,0)","v":0},"2026-09-01","2026-09-30",4620]
["24-0005","30","24-0005-300",{"$f":"IF(AND(Config!$B$13<=Tarifs!F4038,Config!$B$13>=Tarifs!E4038),1,0)","v":0},"2026-03-01","2026-03-31",4350]
["24-0005","30","24-0005-300",{"$f":"IF(AND(Config!$B$13<=Tarifs!F4039,Config!$B$13>=Tarifs!E4039),1,0)","v":0},"2026-04-01","2026-04-30",4350]
["24-0005","30","24-0005-300",{"$f":"IF(AND(Config!$B$13<=Tarifs!F4040,Config!$B$13>=Tarifs!E4040),1,0)","v":0},"2026-05-01","2026-05-31",4350]
["24-0005","30","24-0005-301",{"$f":"IF(AND(Config!$B$13<=Tarifs!F4041,Config!$B$13>=Tarifs!E4041),1,0)","v":1},"2026-01-01","2026-01-31",4170]
["24-0005","30","24-0005-300",{"$f":"IF(AND(Config!$B$13<=Tarifs!F4042,Config!$B$13>=Tarifs!E4042),1,0)","v":0},"2026-02-01","2026-02-28",4170]
["24-0005","30","24-0005-300",{"$f":"IF(AND(Config!$B$13<=Tarifs!F4043,Config!$B$13>=Tarifs!E4043),1,0)","v":0},"2026-10-01","2026-10-31",4170]
["24-0005","30","24-0005-300",{"$f":"IF(AND(Config!$B$13<=Tarifs!F4044,Config!$B$13>=Tarifs!E4044),1,0)","v":0},"2026-11-01","2026-11-30",4170]
["24-0005","30","24-0005-300",{"$f":"IF(AND(Config!$B$13<=Tarifs!F4045,Config!$B$13>=Tarifs!E4045),1,0)","v":0},"2026-12-01","2026-12-31",4170]
["24-0005","20","24-0005-200",{"$f":"IF(AND(Config!$B$13<=Tarifs!F4046,Config!$B$13>=Tarifs!E4046),1,0)","v":0},"2026-07-01","2026-07-31",1295]
["24-0005","20","24-0005-200",{"$f":"IF(AND(Config!$B$13<=Tarifs!F4047,Config!$B$13>=Tarifs!E4047),1,0)","v":0},"2026-08-01","2026-08-31",1295]
["24-0005","20","24-0005-200",{"$f":"IF(AND(Config!$B$13<=Tarifs!F4048,Config!$B$13>=Tarifs!E4048),1,0)","v":0},"2026-06-01","2026-06-30",1148]
["24-0005","20","24-0005-200",{"$f":"IF(AND(Config!$B$13<=Tarifs!F4049,Config!$B$13>=Tarifs!E4049),1,0)","v":0},"2026-09-01","2026-09-30",1078]
["24-0005","20","24-0005-200",{"$f":"IF(AND(Config!$B$13<=Tarifs!F4050,Config!$B$13>=Tarifs!E4050),1,0)","v":0},"2026-03-01","2026-03-31",1015]
["24-0005","20","24-0005-200",{"$f":"IF(AND(Config!$B$13<=Tarifs!F4051,Config!$B$13>=Tarifs!E4051),1,0)","v":0},"2026-04-01","2026-04-30",1015]
["24-0005","20","24-0005-200",{"$f":"IF(AND(Config!$B$13<=Tarifs!F4052,Config!$B$13>=Tarifs!E4052),1,0)","v":0},"2026-05-01","2026-05-31",1015]
["24-0005","20","24-0005-201",{"$f":"IF(AND(Config!$B$13<=Tarifs!F4053,Config!$B$13>=Tarifs!E4053),1,0)","v":1},"2026-01-01","2026-01-31",973]
["24-0005","20","24-0005-200",{"$f":"IF(AND(Config!$B$13<=Tarifs!F4054,Config!$B$13>=Tarifs!E4054),1,0)","v":0},"2026-02-01","2026-02-28",973]
["24-0005","20","24-0005-200",{"$f":"IF(AND(Config!$B$13<=Tarifs!F4055,Config!$B$13>=Tarifs!E4055),1,0)","v":0},"2026-10-01","2026-10-31",973]
["24-0005","20","24-0005-200",{"$f":"IF(AND(Config!$B$13<=Tarifs!F4056,Config!$B$13>=Tarifs!E4056),1,0)","v":0},"2026-11-01","2026-11-30",973]
["24-0005","20","24-0005-200",{"$f":"IF(AND(Config!$B$13<=Tarifs!F4057,Config!$B$13>=Tarifs!E4057),1,0)","v":0},"2026-12-01","2026-12-31",973]
["24-0005","10","24-0005-100",{"$f":"IF(AND(Config!$B$13<=Tarifs!F4058,Config!$B$13>=Tarifs!E4058),1,0)","v":0},"2026-07-01","2026-07-31",185]
["24-0005","10","24-0005-100",{"$f":"IF(AND(Config!$B$13<=Tarifs!F4059,Config!$B$13>=Tarifs!E4059),1,0)","v":0},"2026-08-01","2026-08-31",185]
["24-0005","10","24-0005-100",{"$f":"IF(AND(Config!$B$13<=Tarifs!F4060,Config!$B$13>=Tarifs!E4060),1,0)","v":0},"2026-06-01","2026-06-30",164]
["24-0005","10","24-0005-100",{"$f":"IF(AND(Config!$B$13<=Tarifs!F4061,Config!$B$13>=Tarifs!E4061),1,0)","v":0},"2026-09-01","2026-09-30",154]
["24-0005","10","24-0005-100",{"$f":"IF(AND(Config!$B$13<=Tarifs!F4062,Config!$B$13>=Tarifs!E4062),1,0)","v":0},"2026-03-01","2026-03-31",145]
["24-0005","10","24-0005-100",{"$f":"IF(AND(Config!$B$13<=Tarifs!F4063,Config!$B$13>=Tarifs!E4063),1,0)","v":0},"2026-04-01","2026-04-30",145]
["24-0005","10","24-0005-100",{"$f":"IF(AND(Config!$B$13<=Tarifs!F4064,Config!$B$13>=Tarifs!E4064),1,0)","v":0},"2026-05-01","2026-05-31",145]
["24-0005","10","24-0005-101",{"$f":"IF(AND(Config!$B$13<=Tarifs!F4065,Config!$B$13>=Tarifs!E4065),1,0)","v":1},"2026-01-01","2026-01-31",139]
["24-0005","10","24-0005-100",{"$f":"IF(AND(Config!$B$13<=Tarifs!F4066,Config!$B$13>=Tarifs!E4066),1,0)","v":0},"2026-02-01","2026-02-28",139]
["24-0005","10","24-0005-100",{"$f":"IF(AND(Config!$B$13<=Tarifs!F4067,Config!$B$13>=Tarifs!E4067),1,0)","v":0},"2026-10-01","2026-10-31",139]
["24-0005","10","24-0005-100",{"$f":"IF(AND(Config!$B$13<=Tarifs!F4068,Config!$B$13>=Tarifs!E4068),1,0)","v":0},"2026-11-01","2026-11-30",139]
["24-0005","10","24-0005-100",{"$f":"IF(AND(Config!$B$13<=Tarifs!F4069,Config!$B$13>=Tarifs!E4069),1,0)","v":0},"2026-12-01","2026-12-31",139]
["24-0006","30","24-0006-300",{"$f":"IF(AND(Config!$B$13<=Tarifs!F4070,Config!$B$13>=Tarifs!E4070),1,0)","v":0},"2026-08-01","2026-08-31",3000]
["24-0006","30","24-0006-300",{"$f":"IF(AND(Config!$B$13<=Tarifs!F4071,Config!$B$13>=Tarifs!E4071),1,0)","v":0},"2026-07-01","2026-07-31",2300]
["24-0006","30","24-0006-300",{"$f":"IF(AND(Config!$B$13<=Tarifs!F4072,Config!$B$13>=Tarifs!E4072),1,0)","v":0},"2026-06-01","2026-06-30",1800]
["24-0006","30","24-0006-300",{"$f":"IF(AND(Config!$B$13<=Tarifs!F4073,Config!$B$13>=Tarifs!E4073),1,0)","v":0},"2026-09-01","2026-09-30",1800]
["24-0006","30","24-0006-300",{"$f":"IF(AND(Config!$B$13<=Tarifs!F4074,Config!$B$13>=Tarifs!E4074),1,0)","v":0},"2026-12-01","2026-12-31",1800]
["24-0006","30","24-0006-301",{"$f":"IF(AND(Config!$B$13<=Tarifs!F4075,Config!$B$13>=Tarifs!E4075),1,0)","v":1},"2026-01-01","2026-01-31",1500]
["24-0006","30","24-0006-300",{"$f":"IF(AND(Config!$B$13<=Tarifs!F4076,Config!$B$13>=Tarifs!E4076),1,0)","v":0},"2026-02-01","2026-02-28",1500]
["24-0006","30","24-0006-300",{"$f":"IF(AND(Config!$B$13<=Tarifs!F4077,Config!$B$13>=Tarifs!E4077),1,0)","v":0},"2026-03-01","2026-03-31",1500]
["24-0006","30","24-0006-300",{"$f":"IF(AND(Config!$B$13<=Tarifs!F4078,Config!$B$13>=Tarifs!E4078),1,0)","v":0},"2026-05-01","2026-05-31",1500]
["24-0006","30","24-0006-300",{"$f":"IF(AND(Config!$B$13<=Tarifs!F4079,Config!$B$13>=Tarifs!E4079),1,0)","v":0},"2026-10-01","2026-10-31",1500]
["24-0006","30","24-0006-300",{"$f":"IF(AND(Config!$B$13<=Tarifs!F4080,Config!$B$13>=Tarifs!E4080),1,0)","v":0},"2026-04-01","2026-04-30",1200]
["24-0006","30","24-0006-300",{"$f":"IF(AND(Config!$B$13<=Tarifs!F4081,Config!$B$13>=Tarifs!E4081),1,0)","v":0},"2026-11-01","2026-11-30",1200]
["24-0006","20","24-0006-200",{"$f":"IF(AND(Config!$B$13<=Tarifs!F4082,Config!$B$13>=Tarifs!E4082),1,0)","v":0},"2026-08-01","2026-08-31",840]
["24-0006","20","24-0006-200",{"$f":"IF(AND(Config!$B$13<=Tarifs!F4083,Config!$B$13>=Tarifs!E4083),1,0)","v":0},"2026-07-01","2026-07-31",700]
["24-0006","20","24-0006-200",{"$f":"IF(AND(Config!$B$13<=Tarifs!F4084,Config!$B$13>=Tarifs!E4084),1,0)","v":0},"2026-06-01","2026-06-30",630]
["24-0006","20","24-0006-200",{"$f":"IF(AND(Config!$B$13<=Tarifs!F4085,Config!$B$13>=Tarifs!E4085),1,0)","v":0},"2026-09-01","2026-09-30",630]
["24-0006","20","24-0006-200",{"$f":"IF(AND(Config!$B$13<=Tarifs!F4086,Config!$B$13>=Tarifs!E4086),1,0)","v":0},"2026-12-01","2026-12-31",630]
["24-0006","20","24-0006-201",{"$f":"IF(AND(Config!$B$13<=Tarifs!F4087,Config!$B$13>=Tarifs!E4087),1,0)","v":1},"2026-01-01","2026-01-31",560]
["24-0006","20","24-0006-200",{"$f":"IF(AND(Config!$B$13<=Tarifs!F4088,Config!$B$13>=Tarifs!E4088),1,0)","v":0},"2026-02-01","2026-02-28",560]
["24-0006","20","24-0006-200",{"$f":"IF(AND(Config!$B$13<=Tarifs!F4089,Config!$B$13>=Tarifs!E4089),1,0)","v":0},"2026-03-01","2026-03-31",560]
["24-0006","20","24-0006-200",{"$f":"IF(AND(Config!$B$13<=Tarifs!F4090,Config!$B$13>=Tarifs!E4090),1,0)","v":0},"2026-05-01","2026-05-31",560]
["24-0006","20","24-0006-200",{"$f":"IF(AND(Config!$B$13<=Tarifs!F4091,Config!$B$13>=Tarifs!E4091),1,0)","v":0},"2026-10-01","2026-10-31",560]
["24-0006","20","24-0006-200",{"$f":"IF(AND(Config!$B$13<=Tarifs!F4092,Config!$B$13>=Tarifs!E4092),1,0)","v":0},"2026-04-01","2026-04-30",490]
["24-0006","20","24-0006-200",{"$f":"IF(AND(Config!$B$13<=Tarifs!F4093,Config!$B$13>=Tarifs!E4093),1,0)","v":0},"2026-11-01","2026-11-30",490]
["24-0006","10","24-0006-100",{"$f":"IF(AND(Config!$B$13<=Tarifs!F4094,Config!$B$13>=Tarifs!E4094),1,0)","v":0},"2026-08-01","2026-08-31",120]
["24-0006","10","24-0006-100",{"$f":"IF(AND(Config!$B$13<=Tarifs!F4095,Config!$B$13>=Tarifs!E4095),1,0)","v":0},"2026-07-01","2026-07-31",100]
["24-0006","10","24-0006-100",{"$f":"IF(AND(Config!$B$13<=Tarifs!F4096,Config!$B$13>=Tarifs!E4096),1,0)","v":0},"2026-06-01","2026-06-30",90]
["24-0006","10","24-0006-100",{"$f":"IF(AND(Config!$B$13<=Tarifs!F4097,Config!$B$13>=Tarifs!E4097),1,0)","v":0},"2026-09-01","2026-09-30",90]
["24-0006","10","24-0006-100",{"$f":"IF(AND(Config!$B$13<=Tarifs!F4098,Config!$B$13>=Tarifs!E4098),1,0)","v":0},"2026-12-01","2026-12-31",90]
["24-0006","10",{"$f":"A4099&\"-\"&B4099&D4099","v":"24-0006-101"},{"$f":"IF(AND(Config!$B$13<=Tarifs!F4099,Config!$B$13>=Tarifs!E4099),1,0)","v":1},"2026-01-01","2026-01-31",80]
["24-0006","10","24-0006-100",{"$f":"IF(AND(Config!$B$13<=Tarifs!F4100,Config!$B$13>=Tarifs!E4100),1,0)","v":0},"2026-02-01","2026-02-28",80]
["24-0006","10","24-0006-100",{"$f":"IF(AND(Config!$B$13<=Tarifs!F4101,Config!$B$13>=Tarifs!E4101),1,0)","v":0},"2026-03-01","2026-03-31",80]
["24-0006","10","24-0006-100",{"$f":"IF(AND(Config!$B$13<=Tarifs!F4102,Config!$B$13>=Tarifs!E4102),1,0)","v":0},"2026-05-01","2026-05-31",80]
["24-0006","10","24-0006-100",{"$f":"IF(AND(Config!$B$13<=Tarifs!F4103,Config!$B$13>=Tarifs!E4103),1,0)","v":0},"2026-10-01","2026-10-31",80]
["24-0006","10","24-0006-100",{"$f":"IF(AND(Config!$B$13<=Tarifs!F4104,Config!$B$13>=Tarifs!E4104),1,0)","v":0},"2026-04-01","2026-04-30",70]
["24-0006","10","24-0006-100",{"$f":"IF(AND(Config!$B$13<=Tarifs!F4105,Config!$B$13>=Tarifs!E4105),1,0)","v":0},"2026-11-01","2026-11-30",70]
["24-0008","30","24-0008-300",{"$f":"IF(AND(Config!$B$13<=Tarifs!F4106,Config!$B$13>=Tarifs!E4106),1,0)","v":0},"2026-04-01","2026-04-30",2938.95]
["24-0008","30","24-0008-300",{"$f":"IF(AND(Config!$B$13<=Tarifs!F4107,Config!$B$13>=Tarifs!E4107),1,0)","v":0},"2026-05-01","2026-05-31",2938.95]
["24-0008","30","24-0008-300",{"$f":"IF(AND(Config!$B$13<=Tarifs!F4108,Config!$B$13>=Tarifs!E4108),1,0)","v":0},"2026-07-01","2026-07-31",2938.95]
["24-0008","30","24-0008-300",{"$f":"IF(AND(Config!$B$13<=Tarifs!F4109,Config!$B$13>=Tarifs!E4109),1,0)","v":0},"2026-08-01","2026-08-31",2938.95]
["24-0008","30","24-0008-300",{"$f":"IF(AND(Config!$B$13<=Tarifs!F4110,Config!$B$13>=Tarifs!E4110),1,0)","v":0},"2026-09-01","2026-09-30",2938.95]
["24-0008","30","24-0008-300",{"$f":"IF(AND(Config!$B$13<=Tarifs!F4111,Config!$B$13>=Tarifs!E4111),1,0)","v":0},"2026-10-01","2026-10-31",2938.95]
["24-0008","30","24-0008-301",{"$f":"IF(AND(Config!$B$13<=Tarifs!F4112,Config!$B$13>=Tarifs!E4112),1,0)","v":1},"2026-01-01","2026-01-31",2938.95]
["24-0008","30","24-0008-300",{"$f":"IF(AND(Config!$B$13<=Tarifs!F4113,Config!$B$13>=Tarifs!E4113),1,0)","v":0},"2026-02-01","2026-02-28",2938.95]
["24-0008","30","24-0008-300",{"$f":"IF(AND(Config!$B$13<=Tarifs!F4114,Config!$B$13>=Tarifs!E4114),1,0)","v":0},"2026-03-01","2026-03-31",2938.95]
["24-0008","30","24-0008-300",{"$f":"IF(AND(Config!$B$13<=Tarifs!F4115,Config!$B$13>=Tarifs!E4115),1,0)","v":0},"2026-06-01","2026-06-30",2938.95]
["24-0008","30","24-0008-300",{"$f":"IF(AND(Config!$B$13<=Tarifs!F4116,Config!$B$13>=Tarifs!E4116),1,0)","v":0},"2026-11-01","2026-11-30",2938.95]
["24-0008","30","24-0008-300",{"$f":"IF(AND(Config!$B$13<=Tarifs!F4117,Config!$B$13>=Tarifs!E4117),1,0)","v":0},"2026-12-01","2026-12-31",2938.95]
["24-0008","20","24-0008-200",{"$f":"IF(AND(Config!$B$13<=Tarifs!F4118,Config!$B$13>=Tarifs!E4118),1,0)","v":0},"2026-03-01","2026-03-31",839.65]
["24-0008","20","24-0008-200",{"$f":"IF(AND(Config!$B$13<=Tarifs!F4119,Config!$B$13>=Tarifs!E4119),1,0)","v":0},"2026-07-01","2026-07-31",839.65]
["24-0008","20","24-0008-200",{"$f":"IF(AND(Config!$B$13<=Tarifs!F4120,Config!$B$13>=Tarifs!E4120),1,0)","v":0},"2026-08-01","2026-08-31",839.65]
["24-0008","20","24-0008-200",{"$f":"IF(AND(Config!$B$13<=Tarifs!F4121,Config!$B$13>=Tarifs!E4121),1,0)","v":0},"2026-09-01","2026-09-30",839.65]
["24-0008","20","24-0008-200",{"$f":"IF(AND(Config!$B$13<=Tarifs!F4122,Config!$B$13>=Tarifs!E4122),1,0)","v":0},"2026-10-01","2026-10-31",839.65]
["24-0008","20","24-0008-201",{"$f":"IF(AND(Config!$B$13<=Tarifs!F4123,Config!$B$13>=Tarifs!E4123),1,0)","v":1},"2026-01-01","2026-01-31",839.65]
["24-0008","20","24-0008-200",{"$f":"IF(AND(Config!$B$13<=Tarifs!F4124,Config!$B$13>=Tarifs!E4124),1,0)","v":0},"2026-02-01","2026-02-28",839.65]
["24-0008","20","24-0008-200",{"$f":"IF(AND(Config!$B$13<=Tarifs!F4125,Config!$B$13>=Tarifs!E4125),1,0)","v":0},"2026-04-01","2026-04-30",839.65]
["24-0008","20","24-0008-200",{"$f":"IF(AND(Config!$B$13<=Tarifs!F4126,Config!$B$13>=Tarifs!E4126),1,0)","v":0},"2026-05-01","2026-05-31",839.65]
["24-0008","20","24-0008-200",{"$f":"IF(AND(Config!$B$13<=Tarifs!F4127,Config!$B$13>=Tarifs!E4127),1,0)","v":0},"2026-06-01","2026-06-30",839.65]
["24-0008","20","24-0008-200",{"$f":"IF(AND(Config!$B$13<=Tarifs!F4128,Config!$B$13>=Tarifs!E4128),1,0)","v":0},"2026-11-01","2026-11-30",839.65]
["24-0008","20","24-0008-200",{"$f":"IF(AND(Config!$B$13<=Tarifs!F4129,Config!$B$13>=Tarifs!E4129),1,0)","v":0},"2026-12-01","2026-12-31",839.65]
["24-0008","10","24-0008-100",{"$f":"IF(AND(Config!$B$13<=Tarifs!F4130,Config!$B$13>=Tarifs!E4130),1,0)","v":0},"2026-06-01","2026-06-30",139.94999999999999]
["24-0008","10","24-0008-100",{"$f":"IF(AND(Config!$B$13<=Tarifs!F4131,Config!$B$13>=Tarifs!E4131),1,0)","v":0},"2026-07-01","2026-07-31",139.94999999999999]
["24-0008","10","24-0008-100",{"$f":"IF(AND(Config!$B$13<=Tarifs!F4132,Config!$B$13>=Tarifs!E4132),1,0)","v":0},"2026-08-01","2026-08-31",139.94999999999999]
["24-0008","10","24-0008-100",{"$f":"IF(AND(Config!$B$13<=Tarifs!F4133,Config!$B$13>=Tarifs!E4133),1,0)","v":0},"2026-09-01","2026-09-30",139.94999999999999]
["24-0008","10","24-0008-100",{"$f":"IF(AND(Config!$B$13<=Tarifs!F4134,Config!$B$13>=Tarifs!E4134),1,0)","v":0},"2026-10-01","2026-10-31",139.94999999999999]
["24-0008","10","24-0008-100",{"$f":"IF(AND(Config!$B$13<=Tarifs!F4135,Config!$B$13>=Tarifs!E4135),1,0)","v":0},"2026-11-01","2026-11-30",139.94999999999999]
["24-0008","10","24-0008-101",{"$f":"IF(AND(Config!$B$13<=Tarifs!F4136,Config!$B$13>=Tarifs!E4136),1,0)","v":1},"2026-01-01","2026-01-31",139.94999999999999]
["24-0008","10","24-0008-100",{"$f":"IF(AND(Config!$B$13<=Tarifs!F4137,Config!$B$13>=Tarifs!E4137),1,0)","v":0},"2026-02-01","2026-02-28",139.94999999999999]
["24-0008","10","24-0008-100",{"$f":"IF(AND(Config!$B$13<=Tarifs!F4138,Config!$B$13>=Tarifs!E4138),1,0)","v":0},"2026-03-01","2026-03-31",139.94999999999999]
["24-0008","10","24-0008-100",{"$f":"IF(AND(Config!$B$13<=Tarifs!F4139,Config!$B$13>=Tarifs!E4139),1,0)","v":0},"2026-04-01","2026-04-30",139.94999999999999]
["24-0008","10","24-0008-100",{"$f":"IF(AND(Config!$B$13<=Tarifs!F4140,Config!$B$13>=Tarifs!E4140),1,0)","v":0},"2026-05-01","2026-05-31",139.94999999999999]
["24-0008","10","24-0008-100",{"$f":"IF(AND(Config!$B$13<=Tarifs!F4141,Config!$B$13>=Tarifs!E4141),1,0)","v":0},"2026-12-01","2026-12-31",139.94999999999999]
["24-0011","30","24-0011-300",{"$f":"IF(AND(Config!$B$13<=Tarifs!F4142,Config!$B$13>=Tarifs!E4142),1,0)","v":0},"2026-07-01","2026-07-31",3000]
["24-0011","30","24-0011-300",{"$f":"IF(AND(Config!$B$13<=Tarifs!F4143,Config!$B$13>=Tarifs!E4143),1,0)","v":0},"2026-08-01","2026-08-31",3000]
["24-0011","30","24-0011-300",{"$f":"IF(AND(Config!$B$13<=Tarifs!F4144,Config!$B$13>=Tarifs!E4144),1,0)","v":0},"2026-09-01","2026-09-30",2500]
["24-0011","30","24-0011-301",{"$f":"IF(AND(Config!$B$13<=Tarifs!F4145,Config!$B$13>=Tarifs!E4145),1,0)","v":1},"2026-01-01","2026-01-31",1800]
["24-0011","30","24-0011-300",{"$f":"IF(AND(Config!$B$13<=Tarifs!F4146,Config!$B$13>=Tarifs!E4146),1,0)","v":0},"2026-02-01","2026-02-28",1800]
["24-0011","30","24-0011-300",{"$f":"IF(AND(Config!$B$13<=Tarifs!F4147,Config!$B$13>=Tarifs!E4147),1,0)","v":0},"2026-03-01","2026-03-31",1800]
["24-0011","30","24-0011-300",{"$f":"IF(AND(Config!$B$13<=Tarifs!F4148,Config!$B$13>=Tarifs!E4148),1,0)","v":0},"2026-06-01","2026-06-30",1800]
["24-0011","30","24-0011-300",{"$f":"IF(AND(Config!$B$13<=Tarifs!F4149,Config!$B$13>=Tarifs!E4149),1,0)","v":0},"2026-10-01","2026-10-31",1800]
["24-0011","30","24-0011-300",{"$f":"IF(AND(Config!$B$13<=Tarifs!F4150,Config!$B$13>=Tarifs!E4150),1,0)","v":0},"2026-04-01","2026-04-30",1500]
["24-0011","30","24-0011-300",{"$f":"IF(AND(Config!$B$13<=Tarifs!F4151,Config!$B$13>=Tarifs!E4151),1,0)","v":0},"2026-05-01","2026-05-31",1500]
["24-0011","30","24-0011-300",{"$f":"IF(AND(Config!$B$13<=Tarifs!F4152,Config!$B$13>=Tarifs!E4152),1,0)","v":0},"2026-11-01","2026-11-30",1500]
["24-0011","30","24-0011-300",{"$f":"IF(AND(Config!$B$13<=Tarifs!F4153,Config!$B$13>=Tarifs!E4153),1,0)","v":0},"2026-12-01","2026-12-31",1500]
["24-0011","20","24-0011-200",{"$f":"IF(AND(Config!$B$13<=Tarifs!F4154,Config!$B$13>=Tarifs!E4154),1,0)","v":0},"2026-07-01","2026-07-31",700]
["24-0011","20","24-0011-200",{"$f":"IF(AND(Config!$B$13<=Tarifs!F4155,Config!$B$13>=Tarifs!E4155),1,0)","v":0},"2026-08-01","2026-08-31",700]
["24-0011","20","24-0011-200",{"$f":"IF(AND(Config!$B$13<=Tarifs!F4156,Config!$B$13>=Tarifs!E4156),1,0)","v":0},"2026-09-01","2026-09-30",600]
["24-0011","20","24-0011-201",{"$f":"IF(AND(Config!$B$13<=Tarifs!F4157,Config!$B$13>=Tarifs!E4157),1,0)","v":1},"2026-01-01","2026-01-31",500]
["24-0011","20","24-0011-200",{"$f":"IF(AND(Config!$B$13<=Tarifs!F4158,Config!$B$13>=Tarifs!E4158),1,0)","v":0},"2026-02-01","2026-02-28",500]
["24-0011","20","24-0011-200",{"$f":"IF(AND(Config!$B$13<=Tarifs!F4159,Config!$B$13>=Tarifs!E4159),1,0)","v":0},"2026-03-01","2026-03-31",500]
["24-0011","20","24-0011-200",{"$f":"IF(AND(Config!$B$13<=Tarifs!F4160,Config!$B$13>=Tarifs!E4160),1,0)","v":0},"2026-06-01","2026-06-30",500]
["24-0011","20","24-0011-200",{"$f":"IF(AND(Config!$B$13<=Tarifs!F4161,Config!$B$13>=Tarifs!E4161),1,0)","v":0},"2026-10-01","2026-10-31",500]
["24-0011","20","24-0011-200",{"$f":"IF(AND(Config!$B$13<=Tarifs!F4162,Config!$B$13>=Tarifs!E4162),1,0)","v":0},"2026-04-01","2026-04-30",450]
["24-0011","20",{"$f":"A4163&\"-\"&B4163&D4163","v":"24-0011-200"},{"$f":"IF(AND(Config!$B$13<=Tarifs!F4163,Config!$B$13>=Tarifs!E4163),1,0)","v":0},"2026-05-01","2026-05-31",450]
["24-0011","20","24-0011-200",{"$f":"IF(AND(Config!$B$13<=Tarifs!F4164,Config!$B$13>=Tarifs!E4164),1,0)","v":0},"2026-11-01","2026-11-30",450]
["24-0011","20","24-0011-200",{"$f":"IF(AND(Config!$B$13<=Tarifs!F4165,Config!$B$13>=Tarifs!E4165),1,0)","v":0},"2026-12-01","2026-12-31",450]
["24-0011","10","24-0011-100",{"$f":"IF(AND(Config!$B$13<=Tarifs!F4166,Config!$B$13>=Tarifs!E4166),1,0)","v":0},"2026-07-01","2026-07-31",105]
["24-0011","10","24-0011-100",{"$f":"IF(AND(Config!$B$13<=Tarifs!F4167,Config!$B$13>=Tarifs!E4167),1,0)","v":0},"2026-08-01","2026-08-31",105]
["24-0011","10","24-0011-100",{"$f":"IF(AND(Config!$B$13<=Tarifs!F4168,Config!$B$13>=Tarifs!E4168),1,0)","v":0},"2026-09-01","2026-09-30",95]
["24-0011","10","24-0011-101",{"$f":"IF(AND(Config!$B$13<=Tarifs!F4169,Config!$B$13>=Tarifs!E4169),1,0)","v":1},"2026-01-01","2026-01-31",85]
["24-0011","10","24-0011-100",{"$f":"IF(AND(Config!$B$13<=Tarifs!F4170,Config!$B$13>=Tarifs!E4170),1,0)","v":0},"2026-02-01","2026-02-28",85]
["24-0011","10","24-0011-100",{"$f":"IF(AND(Config!$B$13<=Tarifs!F4171,Config!$B$13>=Tarifs!E4171),1,0)","v":0},"2026-03-01","2026-03-31",85]
["24-0011","10","24-0011-100",{"$f":"IF(AND(Config!$B$13<=Tarifs!F4172,Config!$B$13>=Tarifs!E4172),1,0)","v":0},"2026-06-01","2026-06-30",85]
["24-0011","10","24-0011-100",{"$f":"IF(AND(Config!$B$13<=Tarifs!F4173,Config!$B$13>=Tarifs!E4173),1,0)","v":0},"2026-10-01","2026-10-31",85]
["24-0011","10","24-0011-100",{"$f":"IF(AND(Config!$B$13<=Tarifs!F4174,Config!$B$13>=Tarifs!E4174),1,0)","v":0},"2026-04-01","2026-04-30",75]
["24-0011","10","24-0011-100",{"$f":"IF(AND(Config!$B$13<=Tarifs!F4175,Config!$B$13>=Tarifs!E4175),1,0)","v":0},"2026-05-01","2026-05-31",75]
["24-0011","10","24-0011-100",{"$f":"IF(AND(Config!$B$13<=Tarifs!F4176,Config!$B$13>=Tarifs!E4176),1,0)","v":0},"2026-11-01","2026-11-30",75]
["24-0011","10","24-0011-100",{"$f":"IF(AND(Config!$B$13<=Tarifs!F4177,Config!$B$13>=Tarifs!E4177),1,0)","v":0},"2026-12-01","2026-12-31",75]
["24-0017","30","24-0017-301",{"$f":"IF(AND(Config!$B$13<=Tarifs!F4178,Config!$B$13>=Tarifs!E4178),1,0)","v":1},"2026-01-01","2026-01-31",2820.3]
["24-0017","30","24-0017-300",{"$f":"IF(AND(Config!$B$13<=Tarifs!F4179,Config!$B$13>=Tarifs!E4179),1,0)","v":0},"2026-02-01","2026-02-28",2820.3]
["24-0017","30","24-0017-300",{"$f":"IF(AND(Config!$B$13<=Tarifs!F4180,Config!$B$13>=Tarifs!E4180),1,0)","v":0},"2026-03-01","2026-03-31",2820.3]
["24-0017","30","24-0017-300",{"$f":"IF(AND(Config!$B$13<=Tarifs!F4181,Config!$B$13>=Tarifs!E4181),1,0)","v":0},"2026-04-01","2026-04-30",2820.3]
["24-0017","30","24-0017-300",{"$f":"IF(AND(Config!$B$13<=Tarifs!F4182,Config!$B$13>=Tarifs!E4182),1,0)","v":0},"2026-05-01","2026-05-31",2820.3]
["24-0017","30","24-0017-300",{"$f":"IF(AND(Config!$B$13<=Tarifs!F4183,Config!$B$13>=Tarifs!E4183),1,0)","v":0},"2026-06-01","2026-06-30",2820.3]
["24-0017","30","24-0017-300",{"$f":"IF(AND(Config!$B$13<=Tarifs!F4184,Config!$B$13>=Tarifs!E4184),1,0)","v":0},"2026-07-01","2026-07-31",2820.3]
["24-0017","30","24-0017-300",{"$f":"IF(AND(Config!$B$13<=Tarifs!F4185,Config!$B$13>=Tarifs!E4185),1,0)","v":0},"2026-08-01","2026-08-31",2820.3]
["24-0017","30","24-0017-300",{"$f":"IF(AND(Config!$B$13<=Tarifs!F4186,Config!$B$13>=Tarifs!E4186),1,0)","v":0},"2026-09-01","2026-09-30",2820.3]
["24-0017","30","24-0017-300",{"$f":"IF(AND(Config!$B$13<=Tarifs!F4187,Config!$B$13>=Tarifs!E4187),1,0)","v":0},"2026-10-01","2026-10-31",2820.3]
["24-0017","30","24-0017-300",{"$f":"IF(AND(Config!$B$13<=Tarifs!F4188,Config!$B$13>=Tarifs!E4188),1,0)","v":0},"2026-11-01","2026-11-30",2820.3]
["24-0017","30","24-0017-300",{"$f":"IF(AND(Config!$B$13<=Tarifs!F4189,Config!$B$13>=Tarifs!E4189),1,0)","v":0},"2026-12-01","2026-12-31",2820.3]
["24-0017","20","24-0017-201",{"$f":"IF(AND(Config!$B$13<=Tarifs!F4190,Config!$B$13>=Tarifs!E4190),1,0)","v":1},"2026-01-01","2026-01-31",685.07]
["24-0017","20","24-0017-200",{"$f":"IF(AND(Config!$B$13<=Tarifs!F4191,Config!$B$13>=Tarifs!E4191),1,0)","v":0},"2026-02-01","2026-02-28",685.07]
["24-0017","20","24-0017-200",{"$f":"IF(AND(Config!$B$13<=Tarifs!F4192,Config!$B$13>=Tarifs!E4192),1,0)","v":0},"2026-03-01","2026-03-31",685.07]
["24-0017","20","24-0017-200",{"$f":"IF(AND(Config!$B$13<=Tarifs!F4193,Config!$B$13>=Tarifs!E4193),1,0)","v":0},"2026-04-01","2026-04-30",685.07]
["24-0017","20","24-0017-200",{"$f":"IF(AND(Config!$B$13<=Tarifs!F4194,Config!$B$13>=Tarifs!E4194),1,0)","v":0},"2026-05-01","2026-05-31",685.07]
["24-0017","20","24-0017-200",{"$f":"IF(AND(Config!$B$13<=Tarifs!F4195,Config!$B$13>=Tarifs!E4195),1,0)","v":0},"2026-06-01","2026-06-30",685.07]
["24-0017","20","24-0017-200",{"$f":"IF(AND(Config!$B$13<=Tarifs!F4196,Config!$B$13>=Tarifs!E4196),1,0)","v":0},"2026-07-01","2026-07-31",685.07]
["24-0017","20","24-0017-200",{"$f":"IF(AND(Config!$B$13<=Tarifs!F4197,Config!$B$13>=Tarifs!E4197),1,0)","v":0},"2026-08-01","2026-08-31",685.07]
["24-0017","20","24-0017-200",{"$f":"IF(AND(Config!$B$13<=Tarifs!F4198,Config!$B$13>=Tarifs!E4198),1,0)","v":0},"2026-09-01","2026-09-30",685.07]
["24-0017","20","24-0017-200",{"$f":"IF(AND(Config!$B$13<=Tarifs!F4199,Config!$B$13>=Tarifs!E4199),1,0)","v":0},"2026-10-01","2026-10-31",685.07]
["24-0017","20","24-0017-200",{"$f":"IF(AND(Config!$B$13<=Tarifs!F4200,Config!$B$13>=Tarifs!E4200),1,0)","v":0},"2026-11-01","2026-11-30",685.07]
["24-0017","20","24-0017-200",{"$f":"IF(AND(Config!$B$13<=Tarifs!F4201,Config!$B$13>=Tarifs!E4201),1,0)","v":0},"2026-12-01","2026-12-31",685.07]
["24-0017","10","24-0017-101",{"$f":"IF(AND(Config!$B$13<=Tarifs!F4202,Config!$B$13>=Tarifs!E4202),1,0)","v":1},"2026-01-01","2026-01-31",94.01]
["24-0017","10","24-0017-100",{"$f":"IF(AND(Config!$B$13<=Tarifs!F4203,Config!$B$13>=Tarifs!E4203),1,0)","v":0},"2026-02-01","2026-02-28",94.01]
["24-0017","10","24-0017-100",{"$f":"IF(AND(Config!$B$13<=Tarifs!F4204,Config!$B$13>=Tarifs!E4204),1,0)","v":0},"2026-03-01","2026-03-31",94.01]
["24-0017","10","24-0017-100",{"$f":"IF(AND(Config!$B$13<=Tarifs!F4205,Config!$B$13>=Tarifs!E4205),1,0)","v":0},"2026-04-01","2026-04-30",94.01]
["24-0017","10","24-0017-100",{"$f":"IF(AND(Config!$B$13<=Tarifs!F4206,Config!$B$13>=Tarifs!E4206),1,0)","v":0},"2026-05-01","2026-05-31",94.01]
["24-0017","10","24-0017-100",{"$f":"IF(AND(Config!$B$13<=Tarifs!F4207,Config!$B$13>=Tarifs!E4207),1,0)","v":0},"2026-06-01","2026-06-30",94.01]
["24-0017","10","24-0017-100",{"$f":"IF(AND(Config!$B$13<=Tarifs!F4208,Config!$B$13>=Tarifs!E4208),1,0)","v":0},"2026-07-01","2026-07-31",94.01]
["24-0017","10","24-0017-100",{"$f":"IF(AND(Config!$B$13<=Tarifs!F4209,Config!$B$13>=Tarifs!E4209),1,0)","v":0},"2026-08-01","2026-08-31",94.01]
["24-0017","10","24-0017-100",{"$f":"IF(AND(Config!$B$13<=Tarifs!F4210,Config!$B$13>=Tarifs!E4210),1,0)","v":0},"2026-09-01","2026-09-30",94.01]
["24-0017","10","24-0017-100",{"$f":"IF(AND(Config!$B$13<=Tarifs!F4211,Config!$B$13>=Tarifs!E4211),1,0)","v":0},"2026-10-01","2026-10-31",94.01]
["24-0017","10","24-0017-100",{"$f":"IF(AND(Config!$B$13<=Tarifs!F4212,Config!$B$13>=Tarifs!E4212),1,0)","v":0},"2026-11-01","2026-11-30",94.01]
["24-0017","10","24-0017-100",{"$f":"IF(AND(Config!$B$13<=Tarifs!F4213,Config!$B$13>=Tarifs!E4213),1,0)","v":0},"2026-12-01","2026-12-31",94.01]
["24-0019","30","24-0019-300",{"$f":"IF(AND(Config!$B$13<=Tarifs!F4214,Config!$B$13>=Tarifs!E4214),1,0)","v":0},"2026-07-01","2026-07-31",4320]
["24-0019","30","24-0019-300",{"$f":"IF(AND(Config!$B$13<=Tarifs!F4215,Config!$B$13>=Tarifs!E4215),1,0)","v":0},"2026-08-01","2026-08-31",4320]
["24-0019","30","24-0019-300",{"$f":"IF(AND(Config!$B$13<=Tarifs!F4216,Config!$B$13>=Tarifs!E4216),1,0)","v":0},"2026-05-01","2026-05-31",4020]
["24-0019","30","24-0019-300",{"$f":"IF(AND(Config!$B$13<=Tarifs!F4217,Config!$B$13>=Tarifs!E4217),1,0)","v":0},"2026-06-01","2026-06-30",4020]
["24-0019","30","24-0019-300",{"$f":"IF(AND(Config!$B$13<=Tarifs!F4218,Config!$B$13>=Tarifs!E4218),1,0)","v":0},"2026-03-01","2026-03-31",3570]
["24-0019","30","24-0019-300",{"$f":"IF(AND(Config!$B$13<=Tarifs!F4219,Config!$B$13>=Tarifs!E4219),1,0)","v":0},"2026-04-01","2026-04-30",3570]
["24-0019","30","24-0019-300",{"$f":"IF(AND(Config!$B$13<=Tarifs!F4220,Config!$B$13>=Tarifs!E4220),1,0)","v":0},"2026-09-01","2026-09-30",3570]
["24-0019","30","24-0019-300",{"$f":"IF(AND(Config!$B$13<=Tarifs!F4221,Config!$B$13>=Tarifs!E4221),1,0)","v":0},"2026-10-01","2026-10-31",3570]
["24-0019","30","24-0019-301",{"$f":"IF(AND(Config!$B$13<=Tarifs!F4222,Config!$B$13>=Tarifs!E4222),1,0)","v":1},"2026-01-01","2026-01-31",3270]
["24-0019","30","24-0019-300",{"$f":"IF(AND(Config!$B$13<=Tarifs!F4223,Config!$B$13>=Tarifs!E4223),1,0)","v":0},"2026-02-01","2026-02-28",3270]
["24-0019","30","24-0019-300",{"$f":"IF(AND(Config!$B$13<=Tarifs!F4224,Config!$B$13>=Tarifs!E4224),1,0)","v":0},"2026-11-01","2026-11-30",3270]
["24-0019","30","24-0019-300",{"$f":"IF(AND(Config!$B$13<=Tarifs!F4225,Config!$B$13>=Tarifs!E4225),1,0)","v":0},"2026-12-01","2026-12-31",3270]
["24-0019","20","24-0019-200",{"$f":"IF(AND(Config!$B$13<=Tarifs!F4226,Config!$B$13>=Tarifs!E4226),1,0)","v":0},"2026-07-01","2026-07-31",1008]
["24-0019","20",{"$f":"A4227&\"-\"&B4227&D4227","v":"24-0019-200"},{"$f":"IF(AND(Config!$B$13<=Tarifs!F4227,Config!$B$13>=Tarifs!E4227),1,0)","v":0},"2026-08-01","2026-08-31",1008]
["24-0019","20","24-0019-200",{"$f":"IF(AND(Config!$B$13<=Tarifs!F4228,Config!$B$13>=Tarifs!E4228),1,0)","v":0},"2026-05-01","2026-05-31",938]
["24-0019","20","24-0019-200",{"$f":"IF(AND(Config!$B$13<=Tarifs!F4229,Config!$B$13>=Tarifs!E4229),1,0)","v":0},"2026-06-01","2026-06-30",938]
["24-0019","20","24-0019-200",{"$f":"IF(AND(Config!$B$13<=Tarifs!F4230,Config!$B$13>=Tarifs!E4230),1,0)","v":0},"2026-03-01","2026-03-31",833]
["24-0019","20","24-0019-200",{"$f":"IF(AND(Config!$B$13<=Tarifs!F4231,Config!$B$13>=Tarifs!E4231),1,0)","v":0},"2026-04-01","2026-04-30",833]
["24-0019","20","24-0019-200",{"$f":"IF(AND(Config!$B$13<=Tarifs!F4232,Config!$B$13>=Tarifs!E4232),1,0)","v":0},"2026-09-01","2026-09-30",833]
["24-0019","20","24-0019-200",{"$f":"IF(AND(Config!$B$13<=Tarifs!F4233,Config!$B$13>=Tarifs!E4233),1,0)","v":0},"2026-10-01","2026-10-31",833]
["24-0019","20","24-0019-201",{"$f":"IF(AND(Config!$B$13<=Tarifs!F4234,Config!$B$13>=Tarifs!E4234),1,0)","v":1},"2026-01-01","2026-01-31",763]
["24-0019","20","24-0019-200",{"$f":"IF(AND(Config!$B$13<=Tarifs!F4235,Config!$B$13>=Tarifs!E4235),1,0)","v":0},"2026-02-01","2026-02-28",763]
["24-0019","20","24-0019-200",{"$f":"IF(AND(Config!$B$13<=Tarifs!F4236,Config!$B$13>=Tarifs!E4236),1,0)","v":0},"2026-11-01","2026-11-30",763]
["24-0019","20","24-0019-200",{"$f":"IF(AND(Config!$B$13<=Tarifs!F4237,Config!$B$13>=Tarifs!E4237),1,0)","v":0},"2026-12-01","2026-12-31",763]
["24-0019","10","24-0019-100",{"$f":"IF(AND(Config!$B$13<=Tarifs!F4238,Config!$B$13>=Tarifs!E4238),1,0)","v":0},"2026-07-01","2026-07-31",144]
["24-0019","10","24-0019-100",{"$f":"IF(AND(Config!$B$13<=Tarifs!F4239,Config!$B$13>=Tarifs!E4239),1,0)","v":0},"2026-08-01","2026-08-31",144]
["24-0019","10","24-0019-100",{"$f":"IF(AND(Config!$B$13<=Tarifs!F4240,Config!$B$13>=Tarifs!E4240),1,0)","v":0},"2026-05-01","2026-05-31",134]
["24-0019","10","24-0019-100",{"$f":"IF(AND(Config!$B$13<=Tarifs!F4241,Config!$B$13>=Tarifs!E4241),1,0)","v":0},"2026-06-01","2026-06-30",134]
["24-0019","10","24-0019-100",{"$f":"IF(AND(Config!$B$13<=Tarifs!F4242,Config!$B$13>=Tarifs!E4242),1,0)","v":0},"2026-03-01","2026-03-31",119]
["24-0019","10","24-0019-100",{"$f":"IF(AND(Config!$B$13<=Tarifs!F4243,Config!$B$13>=Tarifs!E4243),1,0)","v":0},"2026-04-01","2026-04-30",119]
["24-0019","10","24-0019-100",{"$f":"IF(AND(Config!$B$13<=Tarifs!F4244,Config!$B$13>=Tarifs!E4244),1,0)","v":0},"2026-09-01","2026-09-30",119]
["24-0019","10","24-0019-100",{"$f":"IF(AND(Config!$B$13<=Tarifs!F4245,Config!$B$13>=Tarifs!E4245),1,0)","v":0},"2026-10-01","2026-10-31",119]
["24-0019","10","24-0019-101",{"$f":"IF(AND(Config!$B$13<=Tarifs!F4246,Config!$B$13>=Tarifs!E4246),1,0)","v":1},"2026-01-01","2026-01-31",109]
["24-0019","10","24-0019-100",{"$f":"IF(AND(Config!$B$13<=Tarifs!F4247,Config!$B$13>=Tarifs!E4247),1,0)","v":0},"2026-02-01","2026-02-28",109]
["24-0019","10","24-0019-100",{"$f":"IF(AND(Config!$B$13<=Tarifs!F4248,Config!$B$13>=Tarifs!E4248),1,0)","v":0},"2026-11-01","2026-11-30",109]
["24-0019","10","24-0019-100",{"$f":"IF(AND(Config!$B$13<=Tarifs!F4249,Config!$B$13>=Tarifs!E4249),1,0)","v":0},"2026-12-01","2026-12-31",109]
["24-0021","30","24-0021-300",{"$f":"IF(AND(Config!$B$13<=Tarifs!F4250,Config!$B$13>=Tarifs!E4250),1,0)","v":0},"2026-07-01","2026-07-31",5070]
["24-0021","30","24-0021-300",{"$f":"IF(AND(Config!$B$13<=Tarifs!F4251,Config!$B$13>=Tarifs!E4251),1,0)","v":0},"2026-08-01","2026-08-31",5070]
["24-0021","30","24-0021-300",{"$f":"IF(AND(Config!$B$13<=Tarifs!F4252,Config!$B$13>=Tarifs!E4252),1,0)","v":0},"2026-05-01","2026-05-31",4050]
["24-0021","30","24-0021-300",{"$f":"IF(AND(Config!$B$13<=Tarifs!F4253,Config!$B$13>=Tarifs!E4253),1,0)","v":0},"2026-06-01","2026-06-30",4050]
["24-0021","30","24-0021-300",{"$f":"IF(AND(Config!$B$13<=Tarifs!F4254,Config!$B$13>=Tarifs!E4254),1,0)","v":0},"2026-09-01","2026-09-30",4050]
["24-0021","30","24-0021-300",{"$f":"IF(AND(Config!$B$13<=Tarifs!F4255,Config!$B$13>=Tarifs!E4255),1,0)","v":0},"2026-10-01","2026-10-31",4050]
["24-0021","30","24-0021-300",{"$f":"IF(AND(Config!$B$13<=Tarifs!F4256,Config!$B$13>=Tarifs!E4256),1,0)","v":0},"2026-11-01","2026-11-30",4050]
["24-0021","30","24-0021-300",{"$f":"IF(AND(Config!$B$13<=Tarifs!F4257,Config!$B$13>=Tarifs!E4257),1,0)","v":0},"2026-12-01","2026-12-31",4050]
["24-0021","30","24-0021-301",{"$f":"IF(AND(Config!$B$13<=Tarifs!F4258,Config!$B$13>=Tarifs!E4258),1,0)","v":1},"2026-01-01","2026-01-31",3870]
["24-0021","30","24-0021-300",{"$f":"IF(AND(Config!$B$13<=Tarifs!F4259,Config!$B$13>=Tarifs!E4259),1,0)","v":0},"2026-02-01","2026-02-28",3870]
["24-0021","30","24-0021-300",{"$f":"IF(AND(Config!$B$13<=Tarifs!F4260,Config!$B$13>=Tarifs!E4260),1,0)","v":0},"2026-03-01","2026-03-31",3870]
["24-0021","30","24-0021-300",{"$f":"IF(AND(Config!$B$13<=Tarifs!F4261,Config!$B$13>=Tarifs!E4261),1,0)","v":0},"2026-04-01","2026-04-30",3870]
["24-0021","20","24-0021-200",{"$f":"IF(AND(Config!$B$13<=Tarifs!F4262,Config!$B$13>=Tarifs!E4262),1,0)","v":0},"2026-07-01","2026-07-31",1183]
["24-0021","20","24-0021-200",{"$f":"IF(AND(Config!$B$13<=Tarifs!F4263,Config!$B$13>=Tarifs!E4263),1,0)","v":0},"2026-08-01","2026-08-31",1183]
["24-0021","20","24-0021-200",{"$f":"IF(AND(Config!$B$13<=Tarifs!F4264,Config!$B$13>=Tarifs!E4264),1,0)","v":0},"2026-05-01","2026-05-31",945]
["24-0021","20","24-0021-200",{"$f":"IF(AND(Config!$B$13<=Tarifs!F4265,Config!$B$13>=Tarifs!E4265),1,0)","v":0},"2026-06-01","2026-06-30",945]
["24-0021","20","24-0021-200",{"$f":"IF(AND(Config!$B$13<=Tarifs!F4266,Config!$B$13>=Tarifs!E4266),1,0)","v":0},"2026-09-01","2026-09-30",945]
["24-0021","20","24-0021-200",{"$f":"IF(AND(Config!$B$13<=Tarifs!F4267,Config!$B$13>=Tarifs!E4267),1,0)","v":0},"2026-10-01","2026-10-31",945]
["24-0021","20","24-0021-200",{"$f":"IF(AND(Config!$B$13<=Tarifs!F4268,Config!$B$13>=Tarifs!E4268),1,0)","v":0},"2026-11-01","2026-11-30",945]
["24-0021","20","24-0021-200",{"$f":"IF(AND(Config!$B$13<=Tarifs!F4269,Config!$B$13>=Tarifs!E4269),1,0)","v":0},"2026-12-01","2026-12-31",945]
["24-0021","20","24-0021-201",{"$f":"IF(AND(Config!$B$13<=Tarifs!F4270,Config!$B$13>=Tarifs!E4270),1,0)","v":1},"2026-01-01","2026-01-31",903]
["24-0021","20","24-0021-200",{"$f":"IF(AND(Config!$B$13<=Tarifs!F4271,Config!$B$13>=Tarifs!E4271),1,0)","v":0},"2026-02-01","2026-02-28",903]
["24-0021","20","24-0021-200",{"$f":"IF(AND(Config!$B$13<=Tarifs!F4272,Config!$B$13>=Tarifs!E4272),1,0)","v":0},"2026-03-01","2026-03-31",903]
["24-0021","20","24-0021-200",{"$f":"IF(AND(Config!$B$13<=Tarifs!F4273,Config!$B$13>=Tarifs!E4273),1,0)","v":0},"2026-04-01","2026-04-30",903]
["24-0021","10","24-0021-100",{"$f":"IF(AND(Config!$B$13<=Tarifs!F4274,Config!$B$13>=Tarifs!E4274),1,0)","v":0},"2026-07-01","2026-07-31",169]
["24-0021","10","24-0021-100",{"$f":"IF(AND(Config!$B$13<=Tarifs!F4275,Config!$B$13>=Tarifs!E4275),1,0)","v":0},"2026-08-01","2026-08-31",169]
["24-0021","10","24-0021-100",{"$f":"IF(AND(Config!$B$13<=Tarifs!F4276,Config!$B$13>=Tarifs!E4276),1,0)","v":0},"2026-05-01","2026-05-31",135]
["24-0021","10","24-0021-100",{"$f":"IF(AND(Config!$B$13<=Tarifs!F4277,Config!$B$13>=Tarifs!E4277),1,0)","v":0},"2026-06-01","2026-06-30",135]
["24-0021","10","24-0021-100",{"$f":"IF(AND(Config!$B$13<=Tarifs!F4278,Config!$B$13>=Tarifs!E4278),1,0)","v":0},"2026-09-01","2026-09-30",135]
["24-0021","10","24-0021-100",{"$f":"IF(AND(Config!$B$13<=Tarifs!F4279,Config!$B$13>=Tarifs!E4279),1,0)","v":0},"2026-10-01","2026-10-31",135]
["24-0021","10","24-0021-100",{"$f":"IF(AND(Config!$B$13<=Tarifs!F4280,Config!$B$13>=Tarifs!E4280),1,0)","v":0},"2026-11-01","2026-11-30",135]
["24-0021","10","24-0021-100",{"$f":"IF(AND(Config!$B$13<=Tarifs!F4281,Config!$B$13>=Tarifs!E4281),1,0)","v":0},"2026-12-01","2026-12-31",135]
["24-0021","10","24-0021-101",{"$f":"IF(AND(Config!$B$13<=Tarifs!F4282,Config!$B$13>=Tarifs!E4282),1,0)","v":1},"2026-01-01","2026-01-31",129]
["24-0021","10","24-0021-100",{"$f":"IF(AND(Config!$B$13<=Tarifs!F4283,Config!$B$13>=Tarifs!E4283),1,0)","v":0},"2026-02-01","2026-02-28",129]
["24-0021","10","24-0021-100",{"$f":"IF(AND(Config!$B$13<=Tarifs!F4284,Config!$B$13>=Tarifs!E4284),1,0)","v":0},"2026-03-01","2026-03-31",129]
["24-0021","10","24-0021-100",{"$f":"IF(AND(Config!$B$13<=Tarifs!F4285,Config!$B$13>=Tarifs!E4285),1,0)","v":0},"2026-04-01","2026-04-30",129]
["24-0022","30","24-0022-300",{"$f":"IF(AND(Config!$B$13<=Tarifs!F4286,Config!$B$13>=Tarifs!E4286),1,0)","v":0},"2026-07-01","2026-07-31",5070]
["24-0022","30","24-0022-300",{"$f":"IF(AND(Config!$B$13<=Tarifs!F4287,Config!$B$13>=Tarifs!E4287),1,0)","v":0},"2026-08-01","2026-08-31",5070]
["24-0022","30","24-0022-300",{"$f":"IF(AND(Config!$B$13<=Tarifs!F4288,Config!$B$13>=Tarifs!E4288),1,0)","v":0},"2026-09-01","2026-09-30",3810]
["24-0022","30","24-0022-301",{"$f":"IF(AND(Config!$B$13<=Tarifs!F4289,Config!$B$13>=Tarifs!E4289),1,0)","v":1},"2026-01-01","2026-01-31",3510]
["24-0022","30","24-0022-300",{"$f":"IF(AND(Config!$B$13<=Tarifs!F4290,Config!$B$13>=Tarifs!E4290),1,0)","v":0},"2026-02-01","2026-02-28",3510]
["24-0022","30",{"$f":"A4291&\"-\"&B4291&D4291","v":"24-0022-300"},{"$f":"IF(AND(Config!$B$13<=Tarifs!F4291,Config!$B$13>=Tarifs!E4291),1,0)","v":0},"2026-03-01","2026-03-31",3510]
["24-0022","30","24-0022-300",{"$f":"IF(AND(Config!$B$13<=Tarifs!F4292,Config!$B$13>=Tarifs!E4292),1,0)","v":0},"2026-04-01","2026-04-30",3510]
["24-0022","30","24-0022-300",{"$f":"IF(AND(Config!$B$13<=Tarifs!F4293,Config!$B$13>=Tarifs!E4293),1,0)","v":0},"2026-05-01","2026-05-31",3510]
["24-0022","30","24-0022-300",{"$f":"IF(AND(Config!$B$13<=Tarifs!F4294,Config!$B$13>=Tarifs!E4294),1,0)","v":0},"2026-06-01","2026-06-30",3510]
["24-0022","30","24-0022-300",{"$f":"IF(AND(Config!$B$13<=Tarifs!F4295,Config!$B$13>=Tarifs!E4295),1,0)","v":0},"2026-10-01","2026-10-31",3510]
["24-0022","30","24-0022-300",{"$f":"IF(AND(Config!$B$13<=Tarifs!F4296,Config!$B$13>=Tarifs!E4296),1,0)","v":0},"2026-11-01","2026-11-30",3510]
["24-0022","30","24-0022-300",{"$f":"IF(AND(Config!$B$13<=Tarifs!F4297,Config!$B$13>=Tarifs!E4297),1,0)","v":0},"2026-12-01","2026-12-31",3510]
["24-0022","20","24-0022-200",{"$f":"IF(AND(Config!$B$13<=Tarifs!F4298,Config!$B$13>=Tarifs!E4298),1,0)","v":0},"2026-07-01","2026-07-31",1183]
["24-0022","20","24-0022-200",{"$f":"IF(AND(Config!$B$13<=Tarifs!F4299,Config!$B$13>=Tarifs!E4299),1,0)","v":0},"2026-08-01","2026-08-31",1183]
["24-0022","20","24-0022-200",{"$f":"IF(AND(Config!$B$13<=Tarifs!F4300,Config!$B$13>=Tarifs!E4300),1,0)","v":0},"2026-09-01","2026-09-30",889]
["24-0022","20","24-0022-201",{"$f":"IF(AND(Config!$B$13<=Tarifs!F4301,Config!$B$13>=Tarifs!E4301),1,0)","v":1},"2026-01-01","2026-01-31",819]
["24-0022","20","24-0022-200",{"$f":"IF(AND(Config!$B$13<=Tarifs!F4302,Config!$B$13>=Tarifs!E4302),1,0)","v":0},"2026-02-01","2026-02-28",819]
["24-0022","20","24-0022-200",{"$f":"IF(AND(Config!$B$13<=Tarifs!F4303,Config!$B$13>=Tarifs!E4303),1,0)","v":0},"2026-03-01","2026-03-31",819]
["24-0022","20","24-0022-200",{"$f":"IF(AND(Config!$B$13<=Tarifs!F4304,Config!$B$13>=Tarifs!E4304),1,0)","v":0},"2026-04-01","2026-04-30",819]
["24-0022","20","24-0022-200",{"$f":"IF(AND(Config!$B$13<=Tarifs!F4305,Config!$B$13>=Tarifs!E4305),1,0)","v":0},"2026-05-01","2026-05-31",819]
["24-0022","20","24-0022-200",{"$f":"IF(AND(Config!$B$13<=Tarifs!F4306,Config!$B$13>=Tarifs!E4306),1,0)","v":0},"2026-06-01","2026-06-30",819]
["24-0022","20","24-0022-200",{"$f":"IF(AND(Config!$B$13<=Tarifs!F4307,Config!$B$13>=Tarifs!E4307),1,0)","v":0},"2026-10-01","2026-10-31",819]
["24-0022","20","24-0022-200",{"$f":"IF(AND(Config!$B$13<=Tarifs!F4308,Config!$B$13>=Tarifs!E4308),1,0)","v":0},"2026-11-01","2026-11-30",819]
["24-0022","20","24-0022-200",{"$f":"IF(AND(Config!$B$13<=Tarifs!F4309,Config!$B$13>=Tarifs!E4309),1,0)","v":0},"2026-12-01","2026-12-31",819]
["24-0022","10","24-0022-100",{"$f":"IF(AND(Config!$B$13<=Tarifs!F4310,Config!$B$13>=Tarifs!E4310),1,0)","v":0},"2026-07-01","2026-07-31",169]
["24-0022","10","24-0022-100",{"$f":"IF(AND(Config!$B$13<=Tarifs!F4311,Config!$B$13>=Tarifs!E4311),1,0)","v":0},"2026-08-01","2026-08-31",169]
["24-0022","10","24-0022-100",{"$f":"IF(AND(Config!$B$13<=Tarifs!F4312,Config!$B$13>=Tarifs!E4312),1,0)","v":0},"2026-09-01","2026-09-30",127]
["24-0022","10","24-0022-101",{"$f":"IF(AND(Config!$B$13<=Tarifs!F4313,Config!$B$13>=Tarifs!E4313),1,0)","v":1},"2026-01-01","2026-01-31",117]
["24-0022","10","24-0022-100",{"$f":"IF(AND(Config!$B$13<=Tarifs!F4314,Config!$B$13>=Tarifs!E4314),1,0)","v":0},"2026-02-01","2026-02-28",117]
["24-0022","10","24-0022-100",{"$f":"IF(AND(Config!$B$13<=Tarifs!F4315,Config!$B$13>=Tarifs!E4315),1,0)","v":0},"2026-03-01","2026-03-31",117]
["24-0022","10","24-0022-100",{"$f":"IF(AND(Config!$B$13<=Tarifs!F4316,Config!$B$13>=Tarifs!E4316),1,0)","v":0},"2026-04-01","2026-04-30",117]
["24-0022","10","24-0022-100",{"$f":"IF(AND(Config!$B$13<=Tarifs!F4317,Config!$B$13>=Tarifs!E4317),1,0)","v":0},"2026-05-01","2026-05-31",117]
["24-0022","10","24-0022-100",{"$f":"IF(AND(Config!$B$13<=Tarifs!F4318,Config!$B$13>=Tarifs!E4318),1,0)","v":0},"2026-06-01","2026-06-30",117]
["24-0022","10","24-0022-100",{"$f":"IF(AND(Config!$B$13<=Tarifs!F4319,Config!$B$13>=Tarifs!E4319),1,0)","v":0},"2026-10-01","2026-10-31",117]
["24-0022","10","24-0022-100",{"$f":"IF(AND(Config!$B$13<=Tarifs!F4320,Config!$B$13>=Tarifs!E4320),1,0)","v":0},"2026-11-01","2026-11-30",117]
["24-0022","10","24-0022-100",{"$f":"IF(AND(Config!$B$13<=Tarifs!F4321,Config!$B$13>=Tarifs!E4321),1,0)","v":0},"2026-12-01","2026-12-31",117]
["24-0023","30","24-0023-300",{"$f":"IF(AND(Config!$B$13<=Tarifs!F4322,Config!$B$13>=Tarifs!E4322),1,0)","v":0},"2026-07-01","2026-07-31",6000]
["24-0023","30","24-0023-300",{"$f":"IF(AND(Config!$B$13<=Tarifs!F4323,Config!$B$13>=Tarifs!E4323),1,0)","v":0},"2026-08-01","2026-08-31",6000]
["24-0023","30","24-0023-300",{"$f":"IF(AND(Config!$B$13<=Tarifs!F4324,Config!$B$13>=Tarifs!E4324),1,0)","v":0},"2026-06-01","2026-06-30",5300]
["24-0023","30","24-0023-300",{"$f":"IF(AND(Config!$B$13<=Tarifs!F4325,Config!$B$13>=Tarifs!E4325),1,0)","v":0},"2026-09-01","2026-09-30",5300]
["24-0023","30","24-0023-301",{"$f":"IF(AND(Config!$B$13<=Tarifs!F4326,Config!$B$13>=Tarifs!E4326),1,0)","v":1},"2026-01-01","2026-01-31",4770]
["24-0023","30","24-0023-300",{"$f":"IF(AND(Config!$B$13<=Tarifs!F4327,Config!$B$13>=Tarifs!E4327),1,0)","v":0},"2026-02-01","2026-02-28",4770]
["24-0023","30","24-0023-300",{"$f":"IF(AND(Config!$B$13<=Tarifs!F4328,Config!$B$13>=Tarifs!E4328),1,0)","v":0},"2026-03-01","2026-03-31",4770]
["24-0023","30","24-0023-300",{"$f":"IF(AND(Config!$B$13<=Tarifs!F4329,Config!$B$13>=Tarifs!E4329),1,0)","v":0},"2026-04-01","2026-04-30",4770]
["24-0023","30","24-0023-300",{"$f":"IF(AND(Config!$B$13<=Tarifs!F4330,Config!$B$13>=Tarifs!E4330),1,0)","v":0},"2026-05-01","2026-05-31",4770]
["24-0023","30","24-0023-300",{"$f":"IF(AND(Config!$B$13<=Tarifs!F4331,Config!$B$13>=Tarifs!E4331),1,0)","v":0},"2026-10-01","2026-10-31",4770]
["24-0023","30","24-0023-300",{"$f":"IF(AND(Config!$B$13<=Tarifs!F4332,Config!$B$13>=Tarifs!E4332),1,0)","v":0},"2026-11-01","2026-11-30",4770]
["24-0023","30","24-0023-300",{"$f":"IF(AND(Config!$B$13<=Tarifs!F4333,Config!$B$13>=Tarifs!E4333),1,0)","v":0},"2026-12-01","2026-12-31",4770]
["24-0023","20","24-0023-200",{"$f":"IF(AND(Config!$B$13<=Tarifs!F4334,Config!$B$13>=Tarifs!E4334),1,0)","v":0},"2026-07-01","2026-07-31",2000]
["24-0023","20","24-0023-200",{"$f":"IF(AND(Config!$B$13<=Tarifs!F4335,Config!$B$13>=Tarifs!E4335),1,0)","v":0},"2026-08-01","2026-08-31",2000]
["24-0023","20","24-0023-200",{"$f":"IF(AND(Config!$B$13<=Tarifs!F4336,Config!$B$13>=Tarifs!E4336),1,0)","v":0},"2026-06-01","2026-06-30",1225]
["24-0023","20","24-0023-200",{"$f":"IF(AND(Config!$B$13<=Tarifs!F4337,Config!$B$13>=Tarifs!E4337),1,0)","v":0},"2026-09-01","2026-09-30",1225]
["24-0023","20","24-0023-201",{"$f":"IF(AND(Config!$B$13<=Tarifs!F4338,Config!$B$13>=Tarifs!E4338),1,0)","v":1},"2026-01-01","2026-01-31",1110]
["24-0023","20","24-0023-200",{"$f":"IF(AND(Config!$B$13<=Tarifs!F4339,Config!$B$13>=Tarifs!E4339),1,0)","v":0},"2026-02-01","2026-02-28",1110]
["24-0023","20","24-0023-200",{"$f":"IF(AND(Config!$B$13<=Tarifs!F4340,Config!$B$13>=Tarifs!E4340),1,0)","v":0},"2026-03-01","2026-03-31",1110]
["24-0023","20","24-0023-200",{"$f":"IF(AND(Config!$B$13<=Tarifs!F4341,Config!$B$13>=Tarifs!E4341),1,0)","v":0},"2026-04-01","2026-04-30",1110]
["24-0023","20","24-0023-200",{"$f":"IF(AND(Config!$B$13<=Tarifs!F4342,Config!$B$13>=Tarifs!E4342),1,0)","v":0},"2026-05-01","2026-05-31",1110]
["24-0023","20","24-0023-200",{"$f":"IF(AND(Config!$B$13<=Tarifs!F4343,Config!$B$13>=Tarifs!E4343),1,0)","v":0},"2026-10-01","2026-10-31",1110]
["24-0023","20","24-0023-200",{"$f":"IF(AND(Config!$B$13<=Tarifs!F4344,Config!$B$13>=Tarifs!E4344),1,0)","v":0},"2026-11-01","2026-11-30",1110]
["24-0023","20","24-0023-200",{"$f":"IF(AND(Config!$B$13<=Tarifs!F4345,Config!$B$13>=Tarifs!E4345),1,0)","v":0},"2026-12-01","2026-12-31",1110]
["24-0023","10","24-0023-100",{"$f":"IF(AND(Config!$B$13<=Tarifs!F4346,Config!$B$13>=Tarifs!E4346),1,0)","v":0},"2026-07-01","2026-07-31",235]
["24-0023","10","24-0023-100",{"$f":"IF(AND(Config!$B$13<=Tarifs!F4347,Config!$B$13>=Tarifs!E4347),1,0)","v":0},"2026-08-01","2026-08-31",235]
["24-0023","10","24-0023-100",{"$f":"IF(AND(Config!$B$13<=Tarifs!F4348,Config!$B$13>=Tarifs!E4348),1,0)","v":0},"2026-06-01","2026-06-30",190]
["24-0023","10","24-0023-100",{"$f":"IF(AND(Config!$B$13<=Tarifs!F4349,Config!$B$13>=Tarifs!E4349),1,0)","v":0},"2026-09-01","2026-09-30",175]
["24-0023","10","24-0023-100",{"$f":"IF(AND(Config!$B$13<=Tarifs!F4350,Config!$B$13>=Tarifs!E4350),1,0)","v":0},"2026-05-01","2026-05-31",165]
["24-0023","10","24-0023-101",{"$f":"IF(AND(Config!$B$13<=Tarifs!F4351,Config!$B$13>=Tarifs!E4351),1,0)","v":1},"2026-01-01","2026-01-31",159]
["24-0023","10","24-0023-100",{"$f":"IF(AND(Config!$B$13<=Tarifs!F4352,Config!$B$13>=Tarifs!E4352),1,0)","v":0},"2026-02-01","2026-02-28",159]
["24-0023","10","24-0023-100",{"$f":"IF(AND(Config!$B$13<=Tarifs!F4353,Config!$B$13>=Tarifs!E4353),1,0)","v":0},"2026-03-01","2026-03-31",159]
["24-0023","10","24-0023-100",{"$f":"IF(AND(Config!$B$13<=Tarifs!F4354,Config!$B$13>=Tarifs!E4354),1,0)","v":0},"2026-04-01","2026-04-30",159]
["24-0023","10",{"$f":"A4355&\"-\"&B4355&D4355","v":"24-0023-100"},{"$f":"IF(AND(Config!$B$13<=Tarifs!F4355,Config!$B$13>=Tarifs!E4355),1,0)","v":0},"2026-10-01","2026-10-31",159]
["24-0023","10","24-0023-100",{"$f":"IF(AND(Config!$B$13<=Tarifs!F4356,Config!$B$13>=Tarifs!E4356),1,0)","v":0},"2026-11-01","2026-11-30",159]
["24-0023","10","24-0023-100",{"$f":"IF(AND(Config!$B$13<=Tarifs!F4357,Config!$B$13>=Tarifs!E4357),1,0)","v":0},"2026-12-01","2026-12-31",159]
["24-0024","30","24-0024-301",{"$f":"IF(AND(Config!$B$13<=Tarifs!F4358,Config!$B$13>=Tarifs!E4358),1,0)","v":1},"2026-01-01","2026-01-31",4170]
["24-0024","30","24-0024-300",{"$f":"IF(AND(Config!$B$13<=Tarifs!F4359,Config!$B$13>=Tarifs!E4359),1,0)","v":0},"2026-02-01","2026-02-28",4170]
["24-0024","30","24-0024-300",{"$f":"IF(AND(Config!$B$13<=Tarifs!F4360,Config!$B$13>=Tarifs!E4360),1,0)","v":0},"2026-03-01","2026-03-31",4170]
["24-0024","30","24-0024-300",{"$f":"IF(AND(Config!$B$13<=Tarifs!F4361,Config!$B$13>=Tarifs!E4361),1,0)","v":0},"2026-04-01","2026-04-30",4170]
["24-0024","30","24-0024-300",{"$f":"IF(AND(Config!$B$13<=Tarifs!F4362,Config!$B$13>=Tarifs!E4362),1,0)","v":0},"2026-05-01","2026-05-31",4170]
["24-0024","30","24-0024-300",{"$f":"IF(AND(Config!$B$13<=Tarifs!F4363,Config!$B$13>=Tarifs!E4363),1,0)","v":0},"2026-06-01","2026-06-30",4170]
["24-0024","30","24-0024-300",{"$f":"IF(AND(Config!$B$13<=Tarifs!F4364,Config!$B$13>=Tarifs!E4364),1,0)","v":0},"2026-07-01","2026-07-31",4170]
["24-0024","30","24-0024-300",{"$f":"IF(AND(Config!$B$13<=Tarifs!F4365,Config!$B$13>=Tarifs!E4365),1,0)","v":0},"2026-08-01","2026-08-31",4170]
["24-0024","30","24-0024-300",{"$f":"IF(AND(Config!$B$13<=Tarifs!F4366,Config!$B$13>=Tarifs!E4366),1,0)","v":0},"2026-09-01","2026-09-30",4170]
["24-0024","30","24-0024-300",{"$f":"IF(AND(Config!$B$13<=Tarifs!F4367,Config!$B$13>=Tarifs!E4367),1,0)","v":0},"2026-10-01","2026-10-31",4170]
["24-0024","30","24-0024-300",{"$f":"IF(AND(Config!$B$13<=Tarifs!F4368,Config!$B$13>=Tarifs!E4368),1,0)","v":0},"2026-11-01","2026-11-30",4170]
["24-0024","30","24-0024-300",{"$f":"IF(AND(Config!$B$13<=Tarifs!F4369,Config!$B$13>=Tarifs!E4369),1,0)","v":0},"2026-12-01","2026-12-31",4170]
["24-0024","20","24-0024-201",{"$f":"IF(AND(Config!$B$13<=Tarifs!F4370,Config!$B$13>=Tarifs!E4370),1,0)","v":1},"2026-01-01","2026-01-31",973]
["24-0024","20","24-0024-200",{"$f":"IF(AND(Config!$B$13<=Tarifs!F4371,Config!$B$13>=Tarifs!E4371),1,0)","v":0},"2026-02-01","2026-02-28",973]
["24-0024","20","24-0024-200",{"$f":"IF(AND(Config!$B$13<=Tarifs!F4372,Config!$B$13>=Tarifs!E4372),1,0)","v":0},"2026-03-01","2026-03-31",973]
["24-0024","20","24-0024-200",{"$f":"IF(AND(Config!$B$13<=Tarifs!F4373,Config!$B$13>=Tarifs!E4373),1,0)","v":0},"2026-04-01","2026-04-30",973]
["24-0024","20","24-0024-200",{"$f":"IF(AND(Config!$B$13<=Tarifs!F4374,Config!$B$13>=Tarifs!E4374),1,0)","v":0},"2026-05-01","2026-05-31",973]
["24-0024","20","24-0024-200",{"$f":"IF(AND(Config!$B$13<=Tarifs!F4375,Config!$B$13>=Tarifs!E4375),1,0)","v":0},"2026-06-01","2026-06-30",973]
["24-0024","20","24-0024-200",{"$f":"IF(AND(Config!$B$13<=Tarifs!F4376,Config!$B$13>=Tarifs!E4376),1,0)","v":0},"2026-07-01","2026-07-31",973]
["24-0024","20","24-0024-200",{"$f":"IF(AND(Config!$B$13<=Tarifs!F4377,Config!$B$13>=Tarifs!E4377),1,0)","v":0},"2026-08-01","2026-08-31",973]
["24-0024","20","24-0024-200",{"$f":"IF(AND(Config!$B$13<=Tarifs!F4378,Config!$B$13>=Tarifs!E4378),1,0)","v":0},"2026-09-01","2026-09-30",973]
["24-0024","20","24-0024-200",{"$f":"IF(AND(Config!$B$13<=Tarifs!F4379,Config!$B$13>=Tarifs!E4379),1,0)","v":0},"2026-10-01","2026-10-31",973]
["24-0024","20","24-0024-200",{"$f":"IF(AND(Config!$B$13<=Tarifs!F4380,Config!$B$13>=Tarifs!E4380),1,0)","v":0},"2026-11-01","2026-11-30",973]
["24-0024","20","24-0024-200",{"$f":"IF(AND(Config!$B$13<=Tarifs!F4381,Config!$B$13>=Tarifs!E4381),1,0)","v":0},"2026-12-01","2026-12-31",973]
["24-0024","10","24-0024-101",{"$f":"IF(AND(Config!$B$13<=Tarifs!F4382,Config!$B$13>=Tarifs!E4382),1,0)","v":1},"2026-01-01","2026-01-31",139]
["24-0024","10","24-0024-100",{"$f":"IF(AND(Config!$B$13<=Tarifs!F4383,Config!$B$13>=Tarifs!E4383),1,0)","v":0},"2026-02-01","2026-02-28",139]
["24-0024","10","24-0024-100",{"$f":"IF(AND(Config!$B$13<=Tarifs!F4384,Config!$B$13>=Tarifs!E4384),1,0)","v":0},"2026-03-01","2026-03-31",139]
["24-0024","10","24-0024-100",{"$f":"IF(AND(Config!$B$13<=Tarifs!F4385,Config!$B$13>=Tarifs!E4385),1,0)","v":0},"2026-04-01","2026-04-30",139]
["24-0024","10","24-0024-100",{"$f":"IF(AND(Config!$B$13<=Tarifs!F4386,Config!$B$13>=Tarifs!E4386),1,0)","v":0},"2026-05-01","2026-05-31",139]
["24-0024","10","24-0024-100",{"$f":"IF(AND(Config!$B$13<=Tarifs!F4387,Config!$B$13>=Tarifs!E4387),1,0)","v":0},"2026-06-01","2026-06-30",139]
["24-0024","10","24-0024-100",{"$f":"IF(AND(Config!$B$13<=Tarifs!F4388,Config!$B$13>=Tarifs!E4388),1,0)","v":0},"2026-07-01","2026-07-31",139]
["24-0024","10","24-0024-100",{"$f":"IF(AND(Config!$B$13<=Tarifs!F4389,Config!$B$13>=Tarifs!E4389),1,0)","v":0},"2026-08-01","2026-08-31",139]
["24-0024","10","24-0024-100",{"$f":"IF(AND(Config!$B$13<=Tarifs!F4390,Config!$B$13>=Tarifs!E4390),1,0)","v":0},"2026-09-01","2026-09-30",139]
["24-0024","10","24-0024-100",{"$f":"IF(AND(Config!$B$13<=Tarifs!F4391,Config!$B$13>=Tarifs!E4391),1,0)","v":0},"2026-10-01","2026-10-31",139]
["24-0024","10","24-0024-100",{"$f":"IF(AND(Config!$B$13<=Tarifs!F4392,Config!$B$13>=Tarifs!E4392),1,0)","v":0},"2026-11-01","2026-11-30",139]
["24-0024","10","24-0024-100",{"$f":"IF(AND(Config!$B$13<=Tarifs!F4393,Config!$B$13>=Tarifs!E4393),1,0)","v":0},"2026-12-01","2026-12-31",139]
["24-0030","30","24-0030-300",{"$f":"IF(AND(Config!$B$13<=Tarifs!F4394,Config!$B$13>=Tarifs!E4394),1,0)","v":0},"2026-05-01","2026-05-31",6870]
["24-0030","30","24-0030-300",{"$f":"IF(AND(Config!$B$13<=Tarifs!F4395,Config!$B$13>=Tarifs!E4395),1,0)","v":0},"2026-06-01","2026-06-30",6870]
["24-0030","30","24-0030-300",{"$f":"IF(AND(Config!$B$13<=Tarifs!F4396,Config!$B$13>=Tarifs!E4396),1,0)","v":0},"2026-07-01","2026-07-31",6870]
["24-0030","30","24-0030-300",{"$f":"IF(AND(Config!$B$13<=Tarifs!F4397,Config!$B$13>=Tarifs!E4397),1,0)","v":0},"2026-08-01","2026-08-31",6870]
["24-0030","30","24-0030-300",{"$f":"IF(AND(Config!$B$13<=Tarifs!F4398,Config!$B$13>=Tarifs!E4398),1,0)","v":0},"2026-09-01","2026-09-30",6870]
["24-0030","30","24-0030-300",{"$f":"IF(AND(Config!$B$13<=Tarifs!F4399,Config!$B$13>=Tarifs!E4399),1,0)","v":0},"2026-10-01","2026-10-31",5970]
["24-0030","30","24-0030-300",{"$f":"IF(AND(Config!$B$13<=Tarifs!F4400,Config!$B$13>=Tarifs!E4400),1,0)","v":0},"2026-12-01","2026-12-31",5850]
["24-0030","30","24-0030-300",{"$f":"IF(AND(Config!$B$13<=Tarifs!F4401,Config!$B$13>=Tarifs!E4401),1,0)","v":0},"2026-11-01","2026-11-30",5850]
["24-0030","30","24-0030-301",{"$f":"IF(AND(Config!$B$13<=Tarifs!F4402,Config!$B$13>=Tarifs!E4402),1,0)","v":1},"2026-01-01","2026-01-31",5670]
["24-0030","30","24-0030-300",{"$f":"IF(AND(Config!$B$13<=Tarifs!F4403,Config!$B$13>=Tarifs!E4403),1,0)","v":0},"2026-02-01","2026-02-28",5670]
["24-0030","30","24-0030-300",{"$f":"IF(AND(Config!$B$13<=Tarifs!F4404,Config!$B$13>=Tarifs!E4404),1,0)","v":0},"2026-03-01","2026-03-31",5670]
["24-0030","30","24-0030-300",{"$f":"IF(AND(Config!$B$13<=Tarifs!F4405,Config!$B$13>=Tarifs!E4405),1,0)","v":0},"2026-04-01","2026-04-30",5670]
["24-0030","20","24-0030-200",{"$f":"IF(AND(Config!$B$13<=Tarifs!F4406,Config!$B$13>=Tarifs!E4406),1,0)","v":0},"2026-05-01","2026-05-31",1603]
["24-0030","20","24-0030-200",{"$f":"IF(AND(Config!$B$13<=Tarifs!F4407,Config!$B$13>=Tarifs!E4407),1,0)","v":0},"2026-06-01","2026-06-30",1603]
["24-0030","20","24-0030-200",{"$f":"IF(AND(Config!$B$13<=Tarifs!F4408,Config!$B$13>=Tarifs!E4408),1,0)","v":0},"2026-07-01","2026-07-31",1603]
["24-0030","20","24-0030-200",{"$f":"IF(AND(Config!$B$13<=Tarifs!F4409,Config!$B$13>=Tarifs!E4409),1,0)","v":0},"2026-08-01","2026-08-31",1603]
["24-0030","20","24-0030-200",{"$f":"IF(AND(Config!$B$13<=Tarifs!F4410,Config!$B$13>=Tarifs!E4410),1,0)","v":0},"2026-09-01","2026-09-30",1603]
["24-0030","20","24-0030-200",{"$f":"IF(AND(Config!$B$13<=Tarifs!F4411,Config!$B$13>=Tarifs!E4411),1,0)","v":0},"2026-10-01","2026-10-31",1393]
["24-0030","20","24-0030-200",{"$f":"IF(AND(Config!$B$13<=Tarifs!F4412,Config!$B$13>=Tarifs!E4412),1,0)","v":0},"2026-12-01","2026-12-31",1365]
["24-0030","20","24-0030-200",{"$f":"IF(AND(Config!$B$13<=Tarifs!F4413,Config!$B$13>=Tarifs!E4413),1,0)","v":0},"2026-11-01","2026-11-30",1365]
["24-0030","20","24-0030-201",{"$f":"IF(AND(Config!$B$13<=Tarifs!F4414,Config!$B$13>=Tarifs!E4414),1,0)","v":1},"2026-01-01","2026-01-31",1323]
["24-0030","20","24-0030-200",{"$f":"IF(AND(Config!$B$13<=Tarifs!F4415,Config!$B$13>=Tarifs!E4415),1,0)","v":0},"2026-02-01","2026-02-28",1323]
["24-0030","20","24-0030-200",{"$f":"IF(AND(Config!$B$13<=Tarifs!F4416,Config!$B$13>=Tarifs!E4416),1,0)","v":0},"2026-03-01","2026-03-31",1323]
["24-0030","20","24-0030-200",{"$f":"IF(AND(Config!$B$13<=Tarifs!F4417,Config!$B$13>=Tarifs!E4417),1,0)","v":0},"2026-04-01","2026-04-30",1323]
["24-0030","10","24-0030-100",{"$f":"IF(AND(Config!$B$13<=Tarifs!F4418,Config!$B$13>=Tarifs!E4418),1,0)","v":0},"2026-05-01","2026-05-31",229]
["24-0030","10",{"$f":"A4419&\"-\"&B4419&D4419","v":"24-0030-100"},{"$f":"IF(AND(Config!$B$13<=Tarifs!F4419,Config!$B$13>=Tarifs!E4419),1,0)","v":0},"2026-06-01","2026-06-30",229]
["24-0030","10","24-0030-100",{"$f":"IF(AND(Config!$B$13<=Tarifs!F4420,Config!$B$13>=Tarifs!E4420),1,0)","v":0},"2026-07-01","2026-07-31",229]
["24-0030","10","24-0030-100",{"$f":"IF(AND(Config!$B$13<=Tarifs!F4421,Config!$B$13>=Tarifs!E4421),1,0)","v":0},"2026-08-01","2026-08-31",229]
["24-0030","10","24-0030-100",{"$f":"IF(AND(Config!$B$13<=Tarifs!F4422,Config!$B$13>=Tarifs!E4422),1,0)","v":0},"2026-09-01","2026-09-30",229]
["24-0030","10","24-0030-100",{"$f":"IF(AND(Config!$B$13<=Tarifs!F4423,Config!$B$13>=Tarifs!E4423),1,0)","v":0},"2026-10-01","2026-10-31",199]
["24-0030","10","24-0030-100",{"$f":"IF(AND(Config!$B$13<=Tarifs!F4424,Config!$B$13>=Tarifs!E4424),1,0)","v":0},"2026-11-01","2026-11-30",195]
["24-0030","10","24-0030-100",{"$f":"IF(AND(Config!$B$13<=Tarifs!F4425,Config!$B$13>=Tarifs!E4425),1,0)","v":0},"2026-12-01","2026-12-31",195]
["24-0030","10","24-0030-101",{"$f":"IF(AND(Config!$B$13<=Tarifs!F4426,Config!$B$13>=Tarifs!E4426),1,0)","v":1},"2026-01-01","2026-01-31",189]
["24-0030","10","24-0030-100",{"$f":"IF(AND(Config!$B$13<=Tarifs!F4427,Config!$B$13>=Tarifs!E4427),1,0)","v":0},"2026-02-01","2026-02-28",189]
["24-0030","10","24-0030-100",{"$f":"IF(AND(Config!$B$13<=Tarifs!F4428,Config!$B$13>=Tarifs!E4428),1,0)","v":0},"2026-03-01","2026-03-31",189]
["24-0030","10","24-0030-100",{"$f":"IF(AND(Config!$B$13<=Tarifs!F4429,Config!$B$13>=Tarifs!E4429),1,0)","v":0},"2026-04-01","2026-04-30",189]
["24-0033","30","24-0033-300",{"$f":"IF(AND(Config!$B$13<=Tarifs!F4430,Config!$B$13>=Tarifs!E4430),1,0)","v":0},"2026-05-01","2026-04-30",9270]
["24-0033","30","24-0033-300",{"$f":"IF(AND(Config!$B$13<=Tarifs!F4431,Config!$B$13>=Tarifs!E4431),1,0)","v":0},"2026-06-01","2026-05-31",9270]
["24-0033","30","24-0033-300",{"$f":"IF(AND(Config!$B$13<=Tarifs!F4432,Config!$B$13>=Tarifs!E4432),1,0)","v":0},"2026-07-01","2026-06-30",9270]
["24-0033","30","24-0033-300",{"$f":"IF(AND(Config!$B$13<=Tarifs!F4433,Config!$B$13>=Tarifs!E4433),1,0)","v":0},"2026-08-01","2026-07-31",9270]
["24-0033","30","24-0033-300",{"$f":"IF(AND(Config!$B$13<=Tarifs!F4434,Config!$B$13>=Tarifs!E4434),1,0)","v":0},"2026-09-01","2026-08-31",9270]
["24-0033","30","24-0033-300",{"$f":"IF(AND(Config!$B$13<=Tarifs!F4435,Config!$B$13>=Tarifs!E4435),1,0)","v":0},"2026-10-01","2026-09-30",9270]
["24-0033","30","24-0033-300",{"$f":"IF(AND(Config!$B$13<=Tarifs!F4436,Config!$B$13>=Tarifs!E4436),1,0)","v":0},"2026-01-01","2025-12-31",7770]
["24-0033","30","24-0033-300",{"$f":"IF(AND(Config!$B$13<=Tarifs!F4437,Config!$B$13>=Tarifs!E4437),1,0)","v":0},"2026-02-01","2026-01-31",7770]
["24-0033","30","24-0033-300",{"$f":"IF(AND(Config!$B$13<=Tarifs!F4438,Config!$B$13>=Tarifs!E4438),1,0)","v":0},"2026-03-01","2026-02-28",7770]
["24-0033","30","24-0033-300",{"$f":"IF(AND(Config!$B$13<=Tarifs!F4439,Config!$B$13>=Tarifs!E4439),1,0)","v":0},"2026-04-01","2026-03-31",7770]
["24-0033","30","24-0033-300",{"$f":"IF(AND(Config!$B$13<=Tarifs!F4440,Config!$B$13>=Tarifs!E4440),1,0)","v":0},"2026-11-01","2026-10-31",7770]
["24-0033","30","24-0033-300",{"$f":"IF(AND(Config!$B$13<=Tarifs!F4441,Config!$B$13>=Tarifs!E4441),1,0)","v":0},"2026-12-01","2026-11-30",7770]
["24-0033","20","24-0033-200",{"$f":"IF(AND(Config!$B$13<=Tarifs!F4442,Config!$B$13>=Tarifs!E4442),1,0)","v":0},"2026-05-01","2026-04-30",2163]
["24-0033","20","24-0033-200",{"$f":"IF(AND(Config!$B$13<=Tarifs!F4443,Config!$B$13>=Tarifs!E4443),1,0)","v":0},"2026-06-01","2026-05-31",2163]
["24-0033","20","24-0033-200",{"$f":"IF(AND(Config!$B$13<=Tarifs!F4444,Config!$B$13>=Tarifs!E4444),1,0)","v":0},"2026-07-01","2026-06-30",2163]
["24-0033","20","24-0033-200",{"$f":"IF(AND(Config!$B$13<=Tarifs!F4445,Config!$B$13>=Tarifs!E4445),1,0)","v":0},"2026-08-01","2026-07-31",2163]
["24-0033","20","24-0033-200",{"$f":"IF(AND(Config!$B$13<=Tarifs!F4446,Config!$B$13>=Tarifs!E4446),1,0)","v":0},"2026-09-01","2026-08-31",2163]
["24-0033","20","24-0033-200",{"$f":"IF(AND(Config!$B$13<=Tarifs!F4447,Config!$B$13>=Tarifs!E4447),1,0)","v":0},"2026-10-01","2026-09-30",2163]
["24-0033","20","24-0033-200",{"$f":"IF(AND(Config!$B$13<=Tarifs!F4448,Config!$B$13>=Tarifs!E4448),1,0)","v":0},"2026-01-01","2025-12-31",1813]
["24-0033","20","24-0033-200",{"$f":"IF(AND(Config!$B$13<=Tarifs!F4449,Config!$B$13>=Tarifs!E4449),1,0)","v":0},"2026-02-01","2026-01-31",1813]
["24-0033","20","24-0033-200",{"$f":"IF(AND(Config!$B$13<=Tarifs!F4450,Config!$B$13>=Tarifs!E4450),1,0)","v":0},"2026-03-01","2026-02-28",1813]
["24-0033","20","24-0033-200",{"$f":"IF(AND(Config!$B$13<=Tarifs!F4451,Config!$B$13>=Tarifs!E4451),1,0)","v":0},"2026-04-01","2026-03-31",1813]
["24-0033","20","24-0033-200",{"$f":"IF(AND(Config!$B$13<=Tarifs!F4452,Config!$B$13>=Tarifs!E4452),1,0)","v":0},"2026-11-01","2026-10-31",1813]
["24-0033","20","24-0033-200",{"$f":"IF(AND(Config!$B$13<=Tarifs!F4453,Config!$B$13>=Tarifs!E4453),1,0)","v":0},"2026-12-01","2026-11-30",1813]
["24-0033","10","24-0033-100",{"$f":"IF(AND(Config!$B$13<=Tarifs!F4454,Config!$B$13>=Tarifs!E4454),1,0)","v":0},"2026-05-01","2026-04-30",309]
["24-0033","10","24-0033-100",{"$f":"IF(AND(Config!$B$13<=Tarifs!F4455,Config!$B$13>=Tarifs!E4455),1,0)","v":0},"2026-06-01","2026-05-31",309]
["24-0033","10","24-0033-100",{"$f":"IF(AND(Config!$B$13<=Tarifs!F4456,Config!$B$13>=Tarifs!E4456),1,0)","v":0},"2026-07-01","2026-06-30",309]
["24-0033","10","24-0033-100",{"$f":"IF(AND(Config!$B$13<=Tarifs!F4457,Config!$B$13>=Tarifs!E4457),1,0)","v":0},"2026-08-01","2026-07-31",309]
["24-0033","10","24-0033-100",{"$f":"IF(AND(Config!$B$13<=Tarifs!F4458,Config!$B$13>=Tarifs!E4458),1,0)","v":0},"2026-09-01","2026-08-31",309]
["24-0033","10","24-0033-100",{"$f":"IF(AND(Config!$B$13<=Tarifs!F4459,Config!$B$13>=Tarifs!E4459),1,0)","v":0},"2026-10-01","2026-09-30",309]
["24-0033","10","24-0033-100",{"$f":"IF(AND(Config!$B$13<=Tarifs!F4460,Config!$B$13>=Tarifs!E4460),1,0)","v":0},"2026-01-01","2025-12-31",259]
["24-0033","10","24-0033-100",{"$f":"IF(AND(Config!$B$13<=Tarifs!F4461,Config!$B$13>=Tarifs!E4461),1,0)","v":0},"2026-02-01","2026-01-31",259]
["24-0033","10","24-0033-100",{"$f":"IF(AND(Config!$B$13<=Tarifs!F4462,Config!$B$13>=Tarifs!E4462),1,0)","v":0},"2026-03-01","2026-02-28",259]
["24-0033","10","24-0033-100",{"$f":"IF(AND(Config!$B$13<=Tarifs!F4463,Config!$B$13>=Tarifs!E4463),1,0)","v":0},"2026-04-01","2026-03-31",259]
["24-0033","10","24-0033-100",{"$f":"IF(AND(Config!$B$13<=Tarifs!F4464,Config!$B$13>=Tarifs!E4464),1,0)","v":0},"2026-11-01","2026-10-31",259]
["24-0033","10","24-0033-100",{"$f":"IF(AND(Config!$B$13<=Tarifs!F4465,Config!$B$13>=Tarifs!E4465),1,0)","v":0},"2026-12-01","2026-11-30",259]
["24-0036","30","24-0036-300",{"$f":"IF(AND(Config!$B$13<=Tarifs!F4466,Config!$B$13>=Tarifs!E4466),1,0)","v":0},"2026-07-01","2026-07-31",5550]
["24-0036","30","24-0036-300",{"$f":"IF(AND(Config!$B$13<=Tarifs!F4467,Config!$B$13>=Tarifs!E4467),1,0)","v":0},"2026-08-01","2026-08-31",5550]
["24-0036","30","24-0036-300",{"$f":"IF(AND(Config!$B$13<=Tarifs!F4468,Config!$B$13>=Tarifs!E4468),1,0)","v":0},"2026-09-01","2026-09-30",4500]
["24-0036","30","24-0036-300",{"$f":"IF(AND(Config!$B$13<=Tarifs!F4469,Config!$B$13>=Tarifs!E4469),1,0)","v":0},"2026-05-01","2026-05-31",4050]
["24-0036","30","24-0036-300",{"$f":"IF(AND(Config!$B$13<=Tarifs!F4470,Config!$B$13>=Tarifs!E4470),1,0)","v":0},"2026-06-01","2026-06-30",4050]
["24-0036","30","24-0036-300",{"$f":"IF(AND(Config!$B$13<=Tarifs!F4471,Config!$B$13>=Tarifs!E4471),1,0)","v":0},"2026-10-01","2026-10-31",4050]
["24-0036","30","24-0036-301",{"$f":"IF(AND(Config!$B$13<=Tarifs!F4472,Config!$B$13>=Tarifs!E4472),1,0)","v":1},"2026-01-01","2026-01-31",3450]
["24-0036","30","24-0036-300",{"$f":"IF(AND(Config!$B$13<=Tarifs!F4473,Config!$B$13>=Tarifs!E4473),1,0)","v":0},"2026-02-01","2026-02-28",3450]
["24-0036","30","24-0036-300",{"$f":"IF(AND(Config!$B$13<=Tarifs!F4474,Config!$B$13>=Tarifs!E4474),1,0)","v":0},"2026-03-01","2026-03-31",3450]
["24-0036","30","24-0036-300",{"$f":"IF(AND(Config!$B$13<=Tarifs!F4475,Config!$B$13>=Tarifs!E4475),1,0)","v":0},"2026-04-01","2026-04-30",3450]
["24-0036","30","24-0036-300",{"$f":"IF(AND(Config!$B$13<=Tarifs!F4476,Config!$B$13>=Tarifs!E4476),1,0)","v":0},"2026-11-01","2026-11-30",3450]
["24-0036","30","24-0036-300",{"$f":"IF(AND(Config!$B$13<=Tarifs!F4477,Config!$B$13>=Tarifs!E4477),1,0)","v":0},"2026-12-01","2026-12-31",3450]
["24-0036","20","24-0036-200",{"$f":"IF(AND(Config!$B$13<=Tarifs!F4478,Config!$B$13>=Tarifs!E4478),1,0)","v":0},"2026-07-01","2026-07-31",1295]
["24-0036","20","24-0036-200",{"$f":"IF(AND(Config!$B$13<=Tarifs!F4479,Config!$B$13>=Tarifs!E4479),1,0)","v":0},"2026-08-01","2026-08-31",1295]
["24-0036","20","24-0036-200",{"$f":"IF(AND(Config!$B$13<=Tarifs!F4480,Config!$B$13>=Tarifs!E4480),1,0)","v":0},"2026-09-01","2026-09-30",1050]
["24-0036","20","24-0036-200",{"$f":"IF(AND(Config!$B$13<=Tarifs!F4481,Config!$B$13>=Tarifs!E4481),1,0)","v":0},"2026-05-01","2026-05-31",945]
["24-0036","20","24-0036-200",{"$f":"IF(AND(Config!$B$13<=Tarifs!F4482,Config!$B$13>=Tarifs!E4482),1,0)","v":0},"2026-06-01","2026-06-30",945]
["24-0036","20",{"$f":"A4483&\"-\"&B4483&D4483","v":"24-0036-200"},{"$f":"IF(AND(Config!$B$13<=Tarifs!F4483,Config!$B$13>=Tarifs!E4483),1,0)","v":0},"2026-10-01","2026-10-31",945]
["24-0036","20","24-0036-201",{"$f":"IF(AND(Config!$B$13<=Tarifs!F4484,Config!$B$13>=Tarifs!E4484),1,0)","v":1},"2026-01-01","2026-01-31",805]
["24-0036","20","24-0036-200",{"$f":"IF(AND(Config!$B$13<=Tarifs!F4485,Config!$B$13>=Tarifs!E4485),1,0)","v":0},"2026-02-01","2026-02-28",805]
["24-0036","20","24-0036-200",{"$f":"IF(AND(Config!$B$13<=Tarifs!F4486,Config!$B$13>=Tarifs!E4486),1,0)","v":0},"2026-03-01","2026-03-31",805]
["24-0036","20","24-0036-200",{"$f":"IF(AND(Config!$B$13<=Tarifs!F4487,Config!$B$13>=Tarifs!E4487),1,0)","v":0},"2026-04-01","2026-04-30",805]
["24-0036","20","24-0036-200",{"$f":"IF(AND(Config!$B$13<=Tarifs!F4488,Config!$B$13>=Tarifs!E4488),1,0)","v":0},"2026-11-01","2026-11-30",805]
["24-0036","20","24-0036-200",{"$f":"IF(AND(Config!$B$13<=Tarifs!F4489,Config!$B$13>=Tarifs!E4489),1,0)","v":0},"2026-12-01","2026-12-31",805]
["24-0036","10","24-0036-100",{"$f":"IF(AND(Config!$B$13<=Tarifs!F4490,Config!$B$13>=Tarifs!E4490),1,0)","v":0},"2026-07-01","2026-07-31",185]
["24-0036","10","24-0036-100",{"$f":"IF(AND(Config!$B$13<=Tarifs!F4491,Config!$B$13>=Tarifs!E4491),1,0)","v":0},"2026-08-01","2026-08-31",185]
["24-0036","10","24-0036-100",{"$f":"IF(AND(Config!$B$13<=Tarifs!F4492,Config!$B$13>=Tarifs!E4492),1,0)","v":0},"2026-09-01","2026-09-30",150]
["24-0036","10","24-0036-100",{"$f":"IF(AND(Config!$B$13<=Tarifs!F4493,Config!$B$13>=Tarifs!E4493),1,0)","v":0},"2026-05-01","2026-05-31",135]
["24-0036","10","24-0036-100",{"$f":"IF(AND(Config!$B$13<=Tarifs!F4494,Config!$B$13>=Tarifs!E4494),1,0)","v":0},"2026-06-01","2026-06-30",135]
["24-0036","10","24-0036-100",{"$f":"IF(AND(Config!$B$13<=Tarifs!F4495,Config!$B$13>=Tarifs!E4495),1,0)","v":0},"2026-10-01","2026-10-31",135]
["24-0036","10","24-0036-101",{"$f":"IF(AND(Config!$B$13<=Tarifs!F4496,Config!$B$13>=Tarifs!E4496),1,0)","v":1},"2026-01-01","2026-01-31",115]
["24-0036","10","24-0036-100",{"$f":"IF(AND(Config!$B$13<=Tarifs!F4497,Config!$B$13>=Tarifs!E4497),1,0)","v":0},"2026-02-01","2026-02-28",115]
["24-0036","10","24-0036-100",{"$f":"IF(AND(Config!$B$13<=Tarifs!F4498,Config!$B$13>=Tarifs!E4498),1,0)","v":0},"2026-03-01","2026-03-31",115]
["24-0036","10","24-0036-100",{"$f":"IF(AND(Config!$B$13<=Tarifs!F4499,Config!$B$13>=Tarifs!E4499),1,0)","v":0},"2026-04-01","2026-04-30",115]
["24-0036","10","24-0036-100",{"$f":"IF(AND(Config!$B$13<=Tarifs!F4500,Config!$B$13>=Tarifs!E4500),1,0)","v":0},"2026-11-01","2026-11-30",115]
["24-0036","10","24-0036-100",{"$f":"IF(AND(Config!$B$13<=Tarifs!F4501,Config!$B$13>=Tarifs!E4501),1,0)","v":0},"2026-12-01","2026-12-31",115]
["24-0038","30","24-0038-301",{"$f":"IF(AND(Config!$B$13<=Tarifs!F4502,Config!$B$13>=Tarifs!E4502),1,0)","v":1},"2026-01-01","2026-01-31",1980]
["24-0038","30","24-0038-300",{"$f":"IF(AND(Config!$B$13<=Tarifs!F4503,Config!$B$13>=Tarifs!E4503),1,0)","v":0},"2026-02-01","2026-02-28",1980]
["24-0038","30","24-0038-300",{"$f":"IF(AND(Config!$B$13<=Tarifs!F4504,Config!$B$13>=Tarifs!E4504),1,0)","v":0},"2026-03-01","2026-03-31",1980]
["24-0038","30","24-0038-300",{"$f":"IF(AND(Config!$B$13<=Tarifs!F4505,Config!$B$13>=Tarifs!E4505),1,0)","v":0},"2026-04-01","2026-04-30",1980]
["24-0038","30","24-0038-300",{"$f":"IF(AND(Config!$B$13<=Tarifs!F4506,Config!$B$13>=Tarifs!E4506),1,0)","v":0},"2026-05-01","2026-05-31",1980]
["24-0038","30","24-0038-300",{"$f":"IF(AND(Config!$B$13<=Tarifs!F4507,Config!$B$13>=Tarifs!E4507),1,0)","v":0},"2026-06-01","2026-06-30",1980]
["24-0038","30","24-0038-300",{"$f":"IF(AND(Config!$B$13<=Tarifs!F4508,Config!$B$13>=Tarifs!E4508),1,0)","v":0},"2026-07-01","2026-07-31",1980]
["24-0038","30","24-0038-300",{"$f":"IF(AND(Config!$B$13<=Tarifs!F4509,Config!$B$13>=Tarifs!E4509),1,0)","v":0},"2026-08-01","2026-08-31",1980]
["24-0038","30","24-0038-300",{"$f":"IF(AND(Config!$B$13<=Tarifs!F4510,Config!$B$13>=Tarifs!E4510),1,0)","v":0},"2026-09-01","2026-09-30",1980]
["24-0038","30","24-0038-300",{"$f":"IF(AND(Config!$B$13<=Tarifs!F4511,Config!$B$13>=Tarifs!E4511),1,0)","v":0},"2026-10-01","2026-10-31",1980]
["24-0038","30","24-0038-300",{"$f":"IF(AND(Config!$B$13<=Tarifs!F4512,Config!$B$13>=Tarifs!E4512),1,0)","v":0},"2026-11-01","2026-11-30",1980]
["24-0038","30","24-0038-300",{"$f":"IF(AND(Config!$B$13<=Tarifs!F4513,Config!$B$13>=Tarifs!E4513),1,0)","v":0},"2026-12-01","2026-12-31",1980]
["24-0038","20","24-0038-201",{"$f":"IF(AND(Config!$B$13<=Tarifs!F4514,Config!$B$13>=Tarifs!E4514),1,0)","v":1},"2026-01-01","2026-01-31",495]
["24-0038","20","24-0038-200",{"$f":"IF(AND(Config!$B$13<=Tarifs!F4515,Config!$B$13>=Tarifs!E4515),1,0)","v":0},"2026-02-01","2026-02-28",495]
["24-0038","20","24-0038-200",{"$f":"IF(AND(Config!$B$13<=Tarifs!F4516,Config!$B$13>=Tarifs!E4516),1,0)","v":0},"2026-03-01","2026-03-31",495]
["24-0038","20","24-0038-200",{"$f":"IF(AND(Config!$B$13<=Tarifs!F4517,Config!$B$13>=Tarifs!E4517),1,0)","v":0},"2026-04-01","2026-04-30",495]
["24-0038","20","24-0038-200",{"$f":"IF(AND(Config!$B$13<=Tarifs!F4518,Config!$B$13>=Tarifs!E4518),1,0)","v":0},"2026-05-01","2026-05-31",495]
["24-0038","20","24-0038-200",{"$f":"IF(AND(Config!$B$13<=Tarifs!F4519,Config!$B$13>=Tarifs!E4519),1,0)","v":0},"2026-06-01","2026-06-30",495]
["24-0038","20","24-0038-200",{"$f":"IF(AND(Config!$B$13<=Tarifs!F4520,Config!$B$13>=Tarifs!E4520),1,0)","v":0},"2026-07-01","2026-07-31",495]
["24-0038","20","24-0038-200",{"$f":"IF(AND(Config!$B$13<=Tarifs!F4521,Config!$B$13>=Tarifs!E4521),1,0)","v":0},"2026-08-01","2026-08-31",495]
["24-0038","20","24-0038-200",{"$f":"IF(AND(Config!$B$13<=Tarifs!F4522,Config!$B$13>=Tarifs!E4522),1,0)","v":0},"2026-09-01","2026-09-30",495]
["24-0038","20","24-0038-200",{"$f":"IF(AND(Config!$B$13<=Tarifs!F4523,Config!$B$13>=Tarifs!E4523),1,0)","v":0},"2026-10-01","2026-10-31",495]
["24-0038","20","24-0038-200",{"$f":"IF(AND(Config!$B$13<=Tarifs!F4524,Config!$B$13>=Tarifs!E4524),1,0)","v":0},"2026-11-01","2026-11-30",495]
["24-0038","20","24-0038-200",{"$f":"IF(AND(Config!$B$13<=Tarifs!F4525,Config!$B$13>=Tarifs!E4525),1,0)","v":0},"2026-12-01","2026-12-31",495]
["24-0038","10","24-0038-101",{"$f":"IF(AND(Config!$B$13<=Tarifs!F4526,Config!$B$13>=Tarifs!E4526),1,0)","v":1},"2026-01-01","2026-01-31",65]
["24-0038","10","24-0038-100",{"$f":"IF(AND(Config!$B$13<=Tarifs!F4527,Config!$B$13>=Tarifs!E4527),1,0)","v":0},"2026-02-01","2026-02-28",65]
["24-0038","10","24-0038-100",{"$f":"IF(AND(Config!$B$13<=Tarifs!F4528,Config!$B$13>=Tarifs!E4528),1,0)","v":0},"2026-03-01","2026-03-31",65]
["24-0038","10","24-0038-100",{"$f":"IF(AND(Config!$B$13<=Tarifs!F4529,Config!$B$13>=Tarifs!E4529),1,0)","v":0},"2026-04-01","2026-04-30",65]
["24-0038","10","24-0038-100",{"$f":"IF(AND(Config!$B$13<=Tarifs!F4530,Config!$B$13>=Tarifs!E4530),1,0)","v":0},"2026-05-01","2026-05-31",65]
["24-0038","10","24-0038-100",{"$f":"IF(AND(Config!$B$13<=Tarifs!F4531,Config!$B$13>=Tarifs!E4531),1,0)","v":0},"2026-06-01","2026-06-30",65]
["24-0038","10","24-0038-100",{"$f":"IF(AND(Config!$B$13<=Tarifs!F4532,Config!$B$13>=Tarifs!E4532),1,0)","v":0},"2026-07-01","2026-07-31",65]
["24-0038","10","24-0038-100",{"$f":"IF(AND(Config!$B$13<=Tarifs!F4533,Config!$B$13>=Tarifs!E4533),1,0)","v":0},"2026-08-01","2026-08-31",65]
["24-0038","10","24-0038-100",{"$f":"IF(AND(Config!$B$13<=Tarifs!F4534,Config!$B$13>=Tarifs!E4534),1,0)","v":0},"2026-09-01","2026-09-30",65]
["24-0038","10","24-0038-100",{"$f":"IF(AND(Config!$B$13<=Tarifs!F4535,Config!$B$13>=Tarifs!E4535),1,0)","v":0},"2026-10-01","2026-10-31",65]
["24-0038","10","24-0038-100",{"$f":"IF(AND(Config!$B$13<=Tarifs!F4536,Config!$B$13>=Tarifs!E4536),1,0)","v":0},"2026-11-01","2026-11-30",65]
["24-0038","10","24-0038-100",{"$f":"IF(AND(Config!$B$13<=Tarifs!F4537,Config!$B$13>=Tarifs!E4537),1,0)","v":0},"2026-12-01","2026-12-31",65]
["25-0002","30","25-0002-300",{"$f":"IF(AND(Config!$B$13<=Tarifs!F4538,Config!$B$13>=Tarifs!E4538),1,0)","v":0},"2026-06-01","2026-06-30",6270]
["25-0002","30","25-0002-300",{"$f":"IF(AND(Config!$B$13<=Tarifs!F4539,Config!$B$13>=Tarifs!E4539),1,0)","v":0},"2026-07-01","2026-07-31",6270]
["25-0002","30","25-0002-300",{"$f":"IF(AND(Config!$B$13<=Tarifs!F4540,Config!$B$13>=Tarifs!E4540),1,0)","v":0},"2026-08-01","2026-08-31",6270]
["25-0002","30","25-0002-300",{"$f":"IF(AND(Config!$B$13<=Tarifs!F4541,Config!$B$13>=Tarifs!E4541),1,0)","v":0},"2026-09-01","2026-09-30",6270]
["25-0002","30","25-0002-300",{"$f":"IF(AND(Config!$B$13<=Tarifs!F4542,Config!$B$13>=Tarifs!E4542),1,0)","v":0},"2026-04-01","2026-04-30",5370]
["25-0002","30","25-0002-300",{"$f":"IF(AND(Config!$B$13<=Tarifs!F4543,Config!$B$13>=Tarifs!E4543),1,0)","v":0},"2026-05-01","2026-05-31",5370]
["25-0002","30","25-0002-300",{"$f":"IF(AND(Config!$B$13<=Tarifs!F4544,Config!$B$13>=Tarifs!E4544),1,0)","v":0},"2026-10-01","2026-10-31",5370]
["25-0002","30","25-0002-301",{"$f":"IF(AND(Config!$B$13<=Tarifs!F4545,Config!$B$13>=Tarifs!E4545),1,0)","v":1},"2026-01-01","2026-01-31",5070]
["25-0002","30","25-0002-300",{"$f":"IF(AND(Config!$B$13<=Tarifs!F4546,Config!$B$13>=Tarifs!E4546),1,0)","v":0},"2026-02-01","2026-02-28",5070]
["25-0002","30",{"$f":"A4547&\"-\"&B4547&D4547","v":"25-0002-300"},{"$f":"IF(AND(Config!$B$13<=Tarifs!F4547,Config!$B$13>=Tarifs!E4547),1,0)","v":0},"2026-03-01","2026-03-31",5070]
["25-0002","30","25-0002-300",{"$f":"IF(AND(Config!$B$13<=Tarifs!F4548,Config!$B$13>=Tarifs!E4548),1,0)","v":0},"2026-11-01","2026-11-30",5070]
["25-0002","30","25-0002-300",{"$f":"IF(AND(Config!$B$13<=Tarifs!F4549,Config!$B$13>=Tarifs!E4549),1,0)","v":0},"2026-12-01","2026-12-31",5070]
["25-0002","20","25-0002-200",{"$f":"IF(AND(Config!$B$13<=Tarifs!F4550,Config!$B$13>=Tarifs!E4550),1,0)","v":0},"2026-06-01","2026-06-30",1463]
["25-0002","20","25-0002-200",{"$f":"IF(AND(Config!$B$13<=Tarifs!F4551,Config!$B$13>=Tarifs!E4551),1,0)","v":0},"2026-07-01","2026-07-31",1463]
["25-0002","20","25-0002-200",{"$f":"IF(AND(Config!$B$13<=Tarifs!F4552,Config!$B$13>=Tarifs!E4552),1,0)","v":0},"2026-08-01","2026-08-31",1463]
["25-0002","20","25-0002-200",{"$f":"IF(AND(Config!$B$13<=Tarifs!F4553,Config!$B$13>=Tarifs!E4553),1,0)","v":0},"2026-09-01","2026-09-30",1463]
["25-0002","20","25-0002-200",{"$f":"IF(AND(Config!$B$13<=Tarifs!F4554,Config!$B$13>=Tarifs!E4554),1,0)","v":0},"2026-04-01","2026-04-30",1253]
["25-0002","20","25-0002-200",{"$f":"IF(AND(Config!$B$13<=Tarifs!F4555,Config!$B$13>=Tarifs!E4555),1,0)","v":0},"2026-05-01","2026-05-31",1253]
["25-0002","20","25-0002-200",{"$f":"IF(AND(Config!$B$13<=Tarifs!F4556,Config!$B$13>=Tarifs!E4556),1,0)","v":0},"2026-10-01","2026-10-31",1253]
["25-0002","20","25-0002-201",{"$f":"IF(AND(Config!$B$13<=Tarifs!F4557,Config!$B$13>=Tarifs!E4557),1,0)","v":1},"2026-01-01","2026-01-31",1183]
["25-0002","20","25-0002-200",{"$f":"IF(AND(Config!$B$13<=Tarifs!F4558,Config!$B$13>=Tarifs!E4558),1,0)","v":0},"2026-02-01","2026-02-28",1183]
["25-0002","20","25-0002-200",{"$f":"IF(AND(Config!$B$13<=Tarifs!F4559,Config!$B$13>=Tarifs!E4559),1,0)","v":0},"2026-03-01","2026-03-31",1183]
["25-0002","20","25-0002-200",{"$f":"IF(AND(Config!$B$13<=Tarifs!F4560,Config!$B$13>=Tarifs!E4560),1,0)","v":0},"2026-11-01","2026-11-30",1183]
["25-0002","20","25-0002-200",{"$f":"IF(AND(Config!$B$13<=Tarifs!F4561,Config!$B$13>=Tarifs!E4561),1,0)","v":0},"2026-12-01","2026-12-31",1183]
["25-0002","10","25-0002-100",{"$f":"IF(AND(Config!$B$13<=Tarifs!F4562,Config!$B$13>=Tarifs!E4562),1,0)","v":0},"2026-06-01","2026-06-30",209]
["25-0002","10","25-0002-100",{"$f":"IF(AND(Config!$B$13<=Tarifs!F4563,Config!$B$13>=Tarifs!E4563),1,0)","v":0},"2026-07-01","2026-07-31",209]
["25-0002","10","25-0002-100",{"$f":"IF(AND(Config!$B$13<=Tarifs!F4564,Config!$B$13>=Tarifs!E4564),1,0)","v":0},"2026-08-01","2026-08-31",209]
["25-0002","10","25-0002-100",{"$f":"IF(AND(Config!$B$13<=Tarifs!F4565,Config!$B$13>=Tarifs!E4565),1,0)","v":0},"2026-09-01","2026-09-30",209]
["25-0002","10","25-0002-100",{"$f":"IF(AND(Config!$B$13<=Tarifs!F4566,Config!$B$13>=Tarifs!E4566),1,0)","v":0},"2026-04-01","2026-04-30",179]
["25-0002","10","25-0002-100",{"$f":"IF(AND(Config!$B$13<=Tarifs!F4567,Config!$B$13>=Tarifs!E4567),1,0)","v":0},"2026-05-01","2026-05-31",179]
["25-0002","10","25-0002-100",{"$f":"IF(AND(Config!$B$13<=Tarifs!F4568,Config!$B$13>=Tarifs!E4568),1,0)","v":0},"2026-10-01","2026-10-31",179]
["25-0002","10","25-0002-101",{"$f":"IF(AND(Config!$B$13<=Tarifs!F4569,Config!$B$13>=Tarifs!E4569),1,0)","v":1},"2026-01-01","2026-01-31",169]
["25-0002","10","25-0002-100",{"$f":"IF(AND(Config!$B$13<=Tarifs!F4570,Config!$B$13>=Tarifs!E4570),1,0)","v":0},"2026-02-01","2026-02-28",169]
["25-0002","10","25-0002-100",{"$f":"IF(AND(Config!$B$13<=Tarifs!F4571,Config!$B$13>=Tarifs!E4571),1,0)","v":0},"2026-03-01","2026-03-31",169]
["25-0002","10","25-0002-100",{"$f":"IF(AND(Config!$B$13<=Tarifs!F4572,Config!$B$13>=Tarifs!E4572),1,0)","v":0},"2026-11-01","2026-11-30",169]
["25-0002","10","25-0002-100",{"$f":"IF(AND(Config!$B$13<=Tarifs!F4573,Config!$B$13>=Tarifs!E4573),1,0)","v":0},"2026-12-01","2026-12-31",169]
["25-0003","30","25-0003-300",{"$f":"IF(AND(Config!$B$13<=Tarifs!F4574,Config!$B$13>=Tarifs!E4574),1,0)","v":0},"2026-06-01","2026-05-31",5070]
["25-0003","30","25-0003-300",{"$f":"IF(AND(Config!$B$13<=Tarifs!F4575,Config!$B$13>=Tarifs!E4575),1,0)","v":0},"2026-07-01","2026-06-30",5070]
["25-0003","30","25-0003-300",{"$f":"IF(AND(Config!$B$13<=Tarifs!F4576,Config!$B$13>=Tarifs!E4576),1,0)","v":0},"2026-08-01","2026-07-31",5070]
["25-0003","30","25-0003-300",{"$f":"IF(AND(Config!$B$13<=Tarifs!F4577,Config!$B$13>=Tarifs!E4577),1,0)","v":0},"2026-09-01","2026-08-31",5070]
["25-0003","30","25-0003-300",{"$f":"IF(AND(Config!$B$13<=Tarifs!F4578,Config!$B$13>=Tarifs!E4578),1,0)","v":0},"2026-05-01","2026-04-30",5070]
["25-0003","30","25-0003-300",{"$f":"IF(AND(Config!$B$13<=Tarifs!F4579,Config!$B$13>=Tarifs!E4579),1,0)","v":0},"2026-10-01","2026-09-30",4770]
["25-0003","30","25-0003-300",{"$f":"IF(AND(Config!$B$13<=Tarifs!F4580,Config!$B$13>=Tarifs!E4580),1,0)","v":0},"2026-11-01","2026-10-31",4770]
["25-0003","30","25-0003-300",{"$f":"IF(AND(Config!$B$13<=Tarifs!F4581,Config!$B$13>=Tarifs!E4581),1,0)","v":0},"2026-12-01","2026-11-30",4770]
["25-0003","30","25-0003-300",{"$f":"IF(AND(Config!$B$13<=Tarifs!F4582,Config!$B$13>=Tarifs!E4582),1,0)","v":0},"2026-01-01","2025-12-31",4770]
["25-0003","30","25-0003-300",{"$f":"IF(AND(Config!$B$13<=Tarifs!F4583,Config!$B$13>=Tarifs!E4583),1,0)","v":0},"2026-02-01","2026-01-31",4770]
["25-0003","30","25-0003-300",{"$f":"IF(AND(Config!$B$13<=Tarifs!F4584,Config!$B$13>=Tarifs!E4584),1,0)","v":0},"2026-03-01","2026-02-28",4770]
["25-0003","30","25-0003-300",{"$f":"IF(AND(Config!$B$13<=Tarifs!F4585,Config!$B$13>=Tarifs!E4585),1,0)","v":0},"2026-04-01","2026-03-31",4770]
["25-0003","20","25-0003-200",{"$f":"IF(AND(Config!$B$13<=Tarifs!F4586,Config!$B$13>=Tarifs!E4586),1,0)","v":0},"2026-07-01","2026-06-30",1183]
["25-0003","20","25-0003-200",{"$f":"IF(AND(Config!$B$13<=Tarifs!F4587,Config!$B$13>=Tarifs!E4587),1,0)","v":0},"2026-08-01","2026-07-31",1183]
["25-0003","20","25-0003-200",{"$f":"IF(AND(Config!$B$13<=Tarifs!F4588,Config!$B$13>=Tarifs!E4588),1,0)","v":0},"2026-09-01","2026-08-31",1183]
["25-0003","20","25-0003-200",{"$f":"IF(AND(Config!$B$13<=Tarifs!F4589,Config!$B$13>=Tarifs!E4589),1,0)","v":0},"2026-05-01","2026-04-30",1183]
["25-0003","20","25-0003-200",{"$f":"IF(AND(Config!$B$13<=Tarifs!F4590,Config!$B$13>=Tarifs!E4590),1,0)","v":0},"2026-06-01","2026-05-31",1183]
["25-0003","20","25-0003-200",{"$f":"IF(AND(Config!$B$13<=Tarifs!F4591,Config!$B$13>=Tarifs!E4591),1,0)","v":0},"2026-10-01","2026-09-30",1113]
["25-0003","20","25-0003-200",{"$f":"IF(AND(Config!$B$13<=Tarifs!F4592,Config!$B$13>=Tarifs!E4592),1,0)","v":0},"2026-11-01","2026-10-31",1113]
["25-0003","20","25-0003-200",{"$f":"IF(AND(Config!$B$13<=Tarifs!F4593,Config!$B$13>=Tarifs!E4593),1,0)","v":0},"2026-12-01","2026-11-30",1113]
["25-0003","20","25-0003-200",{"$f":"IF(AND(Config!$B$13<=Tarifs!F4594,Config!$B$13>=Tarifs!E4594),1,0)","v":0},"2026-01-01","2025-12-31",1113]
["25-0003","20","25-0003-200",{"$f":"IF(AND(Config!$B$13<=Tarifs!F4595,Config!$B$13>=Tarifs!E4595),1,0)","v":0},"2026-02-01","2026-01-31",1113]
["25-0003","20","25-0003-200",{"$f":"IF(AND(Config!$B$13<=Tarifs!F4596,Config!$B$13>=Tarifs!E4596),1,0)","v":0},"2026-03-01","2026-02-28",1113]
["25-0003","20","25-0003-200",{"$f":"IF(AND(Config!$B$13<=Tarifs!F4597,Config!$B$13>=Tarifs!E4597),1,0)","v":0},"2026-04-01","2026-03-31",1113]
["25-0003","10","25-0003-100",{"$f":"IF(AND(Config!$B$13<=Tarifs!F4598,Config!$B$13>=Tarifs!E4598),1,0)","v":0},"2026-07-01","2026-06-30",169]
["25-0003","10","25-0003-100",{"$f":"IF(AND(Config!$B$13<=Tarifs!F4599,Config!$B$13>=Tarifs!E4599),1,0)","v":0},"2026-08-01","2026-07-31",169]
["25-0003","10","25-0003-100",{"$f":"IF(AND(Config!$B$13<=Tarifs!F4600,Config!$B$13>=Tarifs!E4600),1,0)","v":0},"2026-09-01","2026-08-31",169]
["25-0003","10","25-0003-100",{"$f":"IF(AND(Config!$B$13<=Tarifs!F4601,Config!$B$13>=Tarifs!E4601),1,0)","v":0},"2026-05-01","2026-04-30",169]
["25-0003","10","25-0003-100",{"$f":"IF(AND(Config!$B$13<=Tarifs!F4602,Config!$B$13>=Tarifs!E4602),1,0)","v":0},"2026-06-01","2026-05-31",169]
["25-0003","10","25-0003-100",{"$f":"IF(AND(Config!$B$13<=Tarifs!F4603,Config!$B$13>=Tarifs!E4603),1,0)","v":0},"2026-10-01","2026-09-30",159]
["25-0003","10","25-0003-100",{"$f":"IF(AND(Config!$B$13<=Tarifs!F4604,Config!$B$13>=Tarifs!E4604),1,0)","v":0},"2026-11-01","2026-10-31",159]
["25-0003","10","25-0003-100",{"$f":"IF(AND(Config!$B$13<=Tarifs!F4605,Config!$B$13>=Tarifs!E4605),1,0)","v":0},"2026-12-01","2026-11-30",159]
["25-0003","10","25-0003-100",{"$f":"IF(AND(Config!$B$13<=Tarifs!F4606,Config!$B$13>=Tarifs!E4606),1,0)","v":0},"2026-01-01","2025-12-31",159]
["25-0003","10","25-0003-100",{"$f":"IF(AND(Config!$B$13<=Tarifs!F4607,Config!$B$13>=Tarifs!E4607),1,0)","v":0},"2026-02-01","2026-01-31",159]
["25-0003","10","25-0003-100",{"$f":"IF(AND(Config!$B$13<=Tarifs!F4608,Config!$B$13>=Tarifs!E4608),1,0)","v":0},"2026-03-01","2026-02-28",159]
["25-0003","10","25-0003-100",{"$f":"IF(AND(Config!$B$13<=Tarifs!F4609,Config!$B$13>=Tarifs!E4609),1,0)","v":0},"2026-04-01","2026-03-31",159]
["25-0004","30","25-0004-300",{"$f":"IF(AND(Config!$B$13<=Tarifs!F4610,Config!$B$13>=Tarifs!E4610),1,0)","v":0},"2026-05-01","2026-05-31",7770]
["25-0004","30",{"$f":"A4611&\"-\"&B4611&D4611","v":"25-0004-300"},{"$f":"IF(AND(Config!$B$13<=Tarifs!F4611,Config!$B$13>=Tarifs!E4611),1,0)","v":0},"2026-06-01","2026-06-30",7770]
["25-0004","30","25-0004-300",{"$f":"IF(AND(Config!$B$13<=Tarifs!F4612,Config!$B$13>=Tarifs!E4612),1,0)","v":0},"2026-07-01","2026-07-31",7770]
["25-0004","30","25-0004-300",{"$f":"IF(AND(Config!$B$13<=Tarifs!F4613,Config!$B$13>=Tarifs!E4613),1,0)","v":0},"2026-08-01","2026-08-31",7770]
["25-0004","30","25-0004-300",{"$f":"IF(AND(Config!$B$13<=Tarifs!F4614,Config!$B$13>=Tarifs!E4614),1,0)","v":0},"2026-09-01","2026-09-30",7770]
["25-0004","30","25-0004-300",{"$f":"IF(AND(Config!$B$13<=Tarifs!F4615,Config!$B$13>=Tarifs!E4615),1,0)","v":0},"2026-10-01","2026-10-31",7770]
["25-0004","30","25-0004-300",{"$f":"IF(AND(Config!$B$13<=Tarifs!F4616,Config!$B$13>=Tarifs!E4616),1,0)","v":0},"2026-11-01","2026-11-30",7770]
["25-0004","30","25-0004-300",{"$f":"IF(AND(Config!$B$13<=Tarifs!F4617,Config!$B$13>=Tarifs!E4617),1,0)","v":0},"2026-12-01","2026-12-31",7770]
["25-0004","30","25-0004-301",{"$f":"IF(AND(Config!$B$13<=Tarifs!F4618,Config!$B$13>=Tarifs!E4618),1,0)","v":1},"2026-01-01","2026-01-31",6870]
["25-0004","30","25-0004-300",{"$f":"IF(AND(Config!$B$13<=Tarifs!F4619,Config!$B$13>=Tarifs!E4619),1,0)","v":0},"2026-02-01","2026-02-28",6870]
["25-0004","30","25-0004-300",{"$f":"IF(AND(Config!$B$13<=Tarifs!F4620,Config!$B$13>=Tarifs!E4620),1,0)","v":0},"2026-03-01","2026-03-31",6870]
["25-0004","30","25-0004-300",{"$f":"IF(AND(Config!$B$13<=Tarifs!F4621,Config!$B$13>=Tarifs!E4621),1,0)","v":0},"2026-04-01","2026-04-30",6870]
["25-0004","20","25-0004-200",{"$f":"IF(AND(Config!$B$13<=Tarifs!F4622,Config!$B$13>=Tarifs!E4622),1,0)","v":0},"2026-05-01","2026-05-31",1813]
["25-0004","20","25-0004-200",{"$f":"IF(AND(Config!$B$13<=Tarifs!F4623,Config!$B$13>=Tarifs!E4623),1,0)","v":0},"2026-06-01","2026-06-30",1813]
["25-0004","20","25-0004-200",{"$f":"IF(AND(Config!$B$13<=Tarifs!F4624,Config!$B$13>=Tarifs!E4624),1,0)","v":0},"2026-07-01","2026-07-31",1813]
["25-0004","20","25-0004-200",{"$f":"IF(AND(Config!$B$13<=Tarifs!F4625,Config!$B$13>=Tarifs!E4625),1,0)","v":0},"2026-08-01","2026-08-31",1813]
["25-0004","20","25-0004-200",{"$f":"IF(AND(Config!$B$13<=Tarifs!F4626,Config!$B$13>=Tarifs!E4626),1,0)","v":0},"2026-09-01","2026-09-30",1813]
["25-0004","20","25-0004-200",{"$f":"IF(AND(Config!$B$13<=Tarifs!F4627,Config!$B$13>=Tarifs!E4627),1,0)","v":0},"2026-10-01","2026-10-31",1813]
["25-0004","20","25-0004-200",{"$f":"IF(AND(Config!$B$13<=Tarifs!F4628,Config!$B$13>=Tarifs!E4628),1,0)","v":0},"2026-11-01","2026-11-30",1813]
["25-0004","20","25-0004-200",{"$f":"IF(AND(Config!$B$13<=Tarifs!F4629,Config!$B$13>=Tarifs!E4629),1,0)","v":0},"2026-12-01","2026-12-31",1813]
["25-0004","20","25-0004-201",{"$f":"IF(AND(Config!$B$13<=Tarifs!F4630,Config!$B$13>=Tarifs!E4630),1,0)","v":1},"2026-01-01","2026-01-31",1603]
["25-0004","20","25-0004-200",{"$f":"IF(AND(Config!$B$13<=Tarifs!F4631,Config!$B$13>=Tarifs!E4631),1,0)","v":0},"2026-02-01","2026-02-28",1603]
["25-0004","20","25-0004-200",{"$f":"IF(AND(Config!$B$13<=Tarifs!F4632,Config!$B$13>=Tarifs!E4632),1,0)","v":0},"2026-03-01","2026-03-31",1603]
["25-0004","20","25-0004-200",{"$f":"IF(AND(Config!$B$13<=Tarifs!F4633,Config!$B$13>=Tarifs!E4633),1,0)","v":0},"2026-04-01","2026-04-30",1603]
["25-0004","10","25-0004-100",{"$f":"IF(AND(Config!$B$13<=Tarifs!F4634,Config!$B$13>=Tarifs!E4634),1,0)","v":0},"2026-05-01","2026-05-31",259]
["25-0004","10","25-0004-100",{"$f":"IF(AND(Config!$B$13<=Tarifs!F4635,Config!$B$13>=Tarifs!E4635),1,0)","v":0},"2026-06-01","2026-06-30",259]
["25-0004","10","25-0004-100",{"$f":"IF(AND(Config!$B$13<=Tarifs!F4636,Config!$B$13>=Tarifs!E4636),1,0)","v":0},"2026-07-01","2026-07-31",259]
["25-0004","10","25-0004-100",{"$f":"IF(AND(Config!$B$13<=Tarifs!F4637,Config!$B$13>=Tarifs!E4637),1,0)","v":0},"2026-08-01","2026-08-31",259]
["25-0004","10","25-0004-100",{"$f":"IF(AND(Config!$B$13<=Tarifs!F4638,Config!$B$13>=Tarifs!E4638),1,0)","v":0},"2026-09-01","2026-09-30",259]
["25-0004","10","25-0004-100",{"$f":"IF(AND(Config!$B$13<=Tarifs!F4639,Config!$B$13>=Tarifs!E4639),1,0)","v":0},"2026-10-01","2026-10-31",259]
["25-0004","10","25-0004-100",{"$f":"IF(AND(Config!$B$13<=Tarifs!F4640,Config!$B$13>=Tarifs!E4640),1,0)","v":0},"2026-11-01","2026-11-30",259]
["25-0004","10","25-0004-100",{"$f":"IF(AND(Config!$B$13<=Tarifs!F4641,Config!$B$13>=Tarifs!E4641),1,0)","v":0},"2026-12-01","2026-12-31",259]
["25-0004","10","25-0004-101",{"$f":"IF(AND(Config!$B$13<=Tarifs!F4642,Config!$B$13>=Tarifs!E4642),1,0)","v":1},"2026-01-01","2026-01-31",229]
["25-0004","10","25-0004-100",{"$f":"IF(AND(Config!$B$13<=Tarifs!F4643,Config!$B$13>=Tarifs!E4643),1,0)","v":0},"2026-02-01","2026-02-28",229]
["25-0004","10","25-0004-100",{"$f":"IF(AND(Config!$B$13<=Tarifs!F4644,Config!$B$13>=Tarifs!E4644),1,0)","v":0},"2026-03-01","2026-03-31",229]
["25-0004","10","25-0004-100",{"$f":"IF(AND(Config!$B$13<=Tarifs!F4645,Config!$B$13>=Tarifs!E4645),1,0)","v":0},"2026-04-01","2026-04-30",229]
["26-0001","30","26-0001-300",{"$f":"IF(AND(Config!$B$13<=Tarifs!F4646,Config!$B$13>=Tarifs!E4646),1,0)","v":0},"2026-07-01","2026-07-31",5250]
["26-0001","30","26-0001-300",{"$f":"IF(AND(Config!$B$13<=Tarifs!F4647,Config!$B$13>=Tarifs!E4647),1,0)","v":0},"2026-08-01","2026-08-31",5250]
["26-0001","30","26-0001-300",{"$f":"IF(AND(Config!$B$13<=Tarifs!F4648,Config!$B$13>=Tarifs!E4648),1,0)","v":0},"2026-09-01","2026-09-30",5250]
["26-0001","30","26-0001-300",{"$f":"IF(AND(Config!$B$13<=Tarifs!F4649,Config!$B$13>=Tarifs!E4649),1,0)","v":0},"2026-10-01","2026-10-31",5250]
["26-0001","30","26-0001-301",{"$f":"IF(AND(Config!$B$13<=Tarifs!F4650,Config!$B$13>=Tarifs!E4650),1,0)","v":1},"2026-01-01","2026-01-31",3750]
["26-0001","30","26-0001-300",{"$f":"IF(AND(Config!$B$13<=Tarifs!F4651,Config!$B$13>=Tarifs!E4651),1,0)","v":0},"2026-02-01","2026-02-28",3750]
["26-0001","30","26-0001-300",{"$f":"IF(AND(Config!$B$13<=Tarifs!F4652,Config!$B$13>=Tarifs!E4652),1,0)","v":0},"2026-04-01","2026-04-30",3750]
["26-0001","30","26-0001-300",{"$f":"IF(AND(Config!$B$13<=Tarifs!F4653,Config!$B$13>=Tarifs!E4653),1,0)","v":0},"2026-05-01","2026-05-31",3750]
["26-0001","30","26-0001-300",{"$f":"IF(AND(Config!$B$13<=Tarifs!F4654,Config!$B$13>=Tarifs!E4654),1,0)","v":0},"2026-06-01","2026-06-30",3750]
["26-0001","30","26-0001-300",{"$f":"IF(AND(Config!$B$13<=Tarifs!F4655,Config!$B$13>=Tarifs!E4655),1,0)","v":0},"2026-11-01","2026-11-30",3750]
["26-0001","30","26-0001-300",{"$f":"IF(AND(Config!$B$13<=Tarifs!F4656,Config!$B$13>=Tarifs!E4656),1,0)","v":0},"2026-12-01","2026-12-31",3750]
["26-0001","30","26-0001-300",{"$f":"IF(AND(Config!$B$13<=Tarifs!F4657,Config!$B$13>=Tarifs!E4657),1,0)","v":0},"2026-03-01","2026-03-31",3750]
["26-0001","20","26-0001-200",{"$f":"IF(AND(Config!$B$13<=Tarifs!F4658,Config!$B$13>=Tarifs!E4658),1,0)","v":0},"2026-07-01","2026-07-31",1400]
["26-0001","20","26-0001-200",{"$f":"IF(AND(Config!$B$13<=Tarifs!F4659,Config!$B$13>=Tarifs!E4659),1,0)","v":0},"2026-08-01","2026-08-31",1400]
["26-0001","20","26-0001-200",{"$f":"IF(AND(Config!$B$13<=Tarifs!F4660,Config!$B$13>=Tarifs!E4660),1,0)","v":0},"2026-09-01","2026-09-30",1400]
["26-0001","20","26-0001-200",{"$f":"IF(AND(Config!$B$13<=Tarifs!F4661,Config!$B$13>=Tarifs!E4661),1,0)","v":0},"2026-10-01","2026-10-31",1400]
["26-0001","20","26-0001-201",{"$f":"IF(AND(Config!$B$13<=Tarifs!F4662,Config!$B$13>=Tarifs!E4662),1,0)","v":1},"2026-01-01","2026-01-31",1190]
["26-0001","20","26-0001-200",{"$f":"IF(AND(Config!$B$13<=Tarifs!F4663,Config!$B$13>=Tarifs!E4663),1,0)","v":0},"2026-02-01","2026-02-28",1190]
["26-0001","20","26-0001-200",{"$f":"IF(AND(Config!$B$13<=Tarifs!F4664,Config!$B$13>=Tarifs!E4664),1,0)","v":0},"2026-04-01","2026-04-30",1190]
["26-0001","20","26-0001-200",{"$f":"IF(AND(Config!$B$13<=Tarifs!F4665,Config!$B$13>=Tarifs!E4665),1,0)","v":0},"2026-05-01","2026-05-31",1190]
["26-0001","20","26-0001-200",{"$f":"IF(AND(Config!$B$13<=Tarifs!F4666,Config!$B$13>=Tarifs!E4666),1,0)","v":0},"2026-06-01","2026-06-30",1190]
["26-0001","20","26-0001-200",{"$f":"IF(AND(Config!$B$13<=Tarifs!F4667,Config!$B$13>=Tarifs!E4667),1,0)","v":0},"2026-11-01","2026-11-30",1190]
["26-0001","20","26-0001-200",{"$f":"IF(AND(Config!$B$13<=Tarifs!F4668,Config!$B$13>=Tarifs!E4668),1,0)","v":0},"2026-12-01","2026-12-31",1190]
["26-0001","20","26-0001-200",{"$f":"IF(AND(Config!$B$13<=Tarifs!F4669,Config!$B$13>=Tarifs!E4669),1,0)","v":0},"2026-03-01","2026-03-31",1190]
["26-0001","10","26-0001-100",{"$f":"IF(AND(Config!$B$13<=Tarifs!F4670,Config!$B$13>=Tarifs!E4670),1,0)","v":0},"2026-08-01","2026-08-31",215]
["26-0001","10","26-0001-100",{"$f":"IF(AND(Config!$B$13<=Tarifs!F4671,Config!$B$13>=Tarifs!E4671),1,0)","v":0},"2026-09-01","2026-09-30",215]
["26-0001","10","26-0001-100",{"$f":"IF(AND(Config!$B$13<=Tarifs!F4672,Config!$B$13>=Tarifs!E4672),1,0)","v":0},"2026-07-01","2026-07-31",215]
["26-0001","10","26-0001-100",{"$f":"IF(AND(Config!$B$13<=Tarifs!F4673,Config!$B$13>=Tarifs!E4673),1,0)","v":0},"2026-10-01","2026-10-31",215]
["26-0001","10","26-0001-101",{"$f":"IF(AND(Config!$B$13<=Tarifs!F4674,Config!$B$13>=Tarifs!E4674),1,0)","v":1},"2026-01-01","2026-01-31",185]
["26-0001","10",{"$f":"A4675&\"-\"&B4675&D4675","v":"26-0001-100"},{"$f":"IF(AND(Config!$B$13<=Tarifs!F4675,Config!$B$13>=Tarifs!E4675),1,0)","v":0},"2026-02-01","2026-02-28",185]
["26-0001","10","26-0001-100",{"$f":"IF(AND(Config!$B$13<=Tarifs!F4676,Config!$B$13>=Tarifs!E4676),1,0)","v":0},"2026-03-01","2026-03-31",185]
["26-0001","10","26-0001-100",{"$f":"IF(AND(Config!$B$13<=Tarifs!F4677,Config!$B$13>=Tarifs!E4677),1,0)","v":0},"2026-04-01","2026-04-30",185]
["26-0001","10","26-0001-100",{"$f":"IF(AND(Config!$B$13<=Tarifs!F4678,Config!$B$13>=Tarifs!E4678),1,0)","v":0},"2026-05-01","2026-05-31",185]
["26-0001","10","26-0001-100",{"$f":"IF(AND(Config!$B$13<=Tarifs!F4679,Config!$B$13>=Tarifs!E4679),1,0)","v":0},"2026-06-01","2026-06-30",185]
["26-0001","10","26-0001-100",{"$f":"IF(AND(Config!$B$13<=Tarifs!F4680,Config!$B$13>=Tarifs!E4680),1,0)","v":0},"2026-11-01","2026-11-30",185]
["26-0001","10","26-0001-100",{"$f":"IF(AND(Config!$B$13<=Tarifs!F4681,Config!$B$13>=Tarifs!E4681),1,0)","v":0},"2026-12-01","2026-12-31",185]
["26-0002","30","26-0002-300",{"$f":"IF(AND(Config!$B$13<=Tarifs!F4682,Config!$B$13>=Tarifs!E4682),1,0)","v":0},"2026-06-01","2026-06-30",5970]
["26-0002","30","26-0002-300",{"$f":"IF(AND(Config!$B$13<=Tarifs!F4683,Config!$B$13>=Tarifs!E4683),1,0)","v":0},"2026-07-01","2026-07-31",5970]
["26-0002","30","26-0002-300",{"$f":"IF(AND(Config!$B$13<=Tarifs!F4684,Config!$B$13>=Tarifs!E4684),1,0)","v":0},"2026-08-01","2026-08-31",5970]
["26-0002","30","26-0002-300",{"$f":"IF(AND(Config!$B$13<=Tarifs!F4685,Config!$B$13>=Tarifs!E4685),1,0)","v":0},"2026-09-01","2026-09-30",5370]
["26-0002","30","26-0002-300",{"$f":"IF(AND(Config!$B$13<=Tarifs!F4686,Config!$B$13>=Tarifs!E4686),1,0)","v":0},"2026-10-01","2026-10-31",5370]
["26-0002","30","26-0002-300",{"$f":"IF(AND(Config!$B$13<=Tarifs!F4687,Config!$B$13>=Tarifs!E4687),1,0)","v":0},"2026-04-01","2026-04-30",5070]
["26-0002","30","26-0002-300",{"$f":"IF(AND(Config!$B$13<=Tarifs!F4688,Config!$B$13>=Tarifs!E4688),1,0)","v":0},"2026-05-01","2026-05-31",5070]
["26-0002","30","26-0002-300",{"$f":"IF(AND(Config!$B$13<=Tarifs!F4689,Config!$B$13>=Tarifs!E4689),1,0)","v":0},"2026-11-01","2026-11-30",4770]
["26-0002","30","26-0002-300",{"$f":"IF(AND(Config!$B$13<=Tarifs!F4690,Config!$B$13>=Tarifs!E4690),1,0)","v":0},"2026-12-01","2026-12-31",4770]
["26-0002","30","26-0002-301",{"$f":"IF(AND(Config!$B$13<=Tarifs!F4691,Config!$B$13>=Tarifs!E4691),1,0)","v":1},"2026-01-01","2026-01-31",4770]
["26-0002","30","26-0002-300",{"$f":"IF(AND(Config!$B$13<=Tarifs!F4692,Config!$B$13>=Tarifs!E4692),1,0)","v":0},"2026-02-01","2026-02-28",4770]
["26-0002","30","26-0002-300",{"$f":"IF(AND(Config!$B$13<=Tarifs!F4693,Config!$B$13>=Tarifs!E4693),1,0)","v":0},"2026-03-01","2026-03-31",4770]
["26-0002","20","26-0002-200",{"$f":"IF(AND(Config!$B$13<=Tarifs!F4694,Config!$B$13>=Tarifs!E4694),1,0)","v":0},"2026-06-01","2026-06-30",1463]
["26-0002","20","26-0002-200",{"$f":"IF(AND(Config!$B$13<=Tarifs!F4695,Config!$B$13>=Tarifs!E4695),1,0)","v":0},"2026-07-01","2026-07-31",1463]
["26-0002","20","26-0002-200",{"$f":"IF(AND(Config!$B$13<=Tarifs!F4696,Config!$B$13>=Tarifs!E4696),1,0)","v":0},"2026-08-01","2026-08-31",1463]
["26-0002","20","26-0002-200",{"$f":"IF(AND(Config!$B$13<=Tarifs!F4697,Config!$B$13>=Tarifs!E4697),1,0)","v":0},"2026-09-01","2026-09-30",1323]
["26-0002","20","26-0002-200",{"$f":"IF(AND(Config!$B$13<=Tarifs!F4698,Config!$B$13>=Tarifs!E4698),1,0)","v":0},"2026-10-01","2026-10-31",1323]
["26-0002","20","26-0002-200",{"$f":"IF(AND(Config!$B$13<=Tarifs!F4699,Config!$B$13>=Tarifs!E4699),1,0)","v":0},"2026-05-01","2026-05-31",1253]
["26-0002","20","26-0002-200",{"$f":"IF(AND(Config!$B$13<=Tarifs!F4700,Config!$B$13>=Tarifs!E4700),1,0)","v":0},"2026-04-01","2026-04-30",1253]
["26-0002","20","26-0002-200",{"$f":"IF(AND(Config!$B$13<=Tarifs!F4701,Config!$B$13>=Tarifs!E4701),1,0)","v":0},"2026-11-01","2026-11-30",1183]
["26-0002","20","26-0002-200",{"$f":"IF(AND(Config!$B$13<=Tarifs!F4702,Config!$B$13>=Tarifs!E4702),1,0)","v":0},"2026-12-01","2026-12-31",1183]
["26-0002","20","26-0002-201",{"$f":"IF(AND(Config!$B$13<=Tarifs!F4703,Config!$B$13>=Tarifs!E4703),1,0)","v":1},"2026-01-01","2026-01-31",1183]
["26-0002","20","26-0002-200",{"$f":"IF(AND(Config!$B$13<=Tarifs!F4704,Config!$B$13>=Tarifs!E4704),1,0)","v":0},"2026-02-01","2026-02-28",1183]
["26-0002","20","26-0002-200",{"$f":"IF(AND(Config!$B$13<=Tarifs!F4705,Config!$B$13>=Tarifs!E4705),1,0)","v":0},"2026-03-01","2026-03-31",1183]
["26-0002","10","26-0002-100",{"$f":"IF(AND(Config!$B$13<=Tarifs!F4706,Config!$B$13>=Tarifs!E4706),1,0)","v":0},"2026-06-01","2026-06-30",219]
["26-0002","10","26-0002-100",{"$f":"IF(AND(Config!$B$13<=Tarifs!F4707,Config!$B$13>=Tarifs!E4707),1,0)","v":0},"2026-07-01","2026-07-31",219]
["26-0002","10","26-0002-100",{"$f":"IF(AND(Config!$B$13<=Tarifs!F4708,Config!$B$13>=Tarifs!E4708),1,0)","v":0},"2026-08-01","2026-08-31",219]
["26-0002","10","26-0002-100",{"$f":"IF(AND(Config!$B$13<=Tarifs!F4709,Config!$B$13>=Tarifs!E4709),1,0)","v":0},"2026-09-01","2026-09-30",199]
["26-0002","10","26-0002-100",{"$f":"IF(AND(Config!$B$13<=Tarifs!F4710,Config!$B$13>=Tarifs!E4710),1,0)","v":0},"2026-10-01","2026-10-31",199]
["26-0002","10","26-0002-100",{"$f":"IF(AND(Config!$B$13<=Tarifs!F4711,Config!$B$13>=Tarifs!E4711),1,0)","v":0},"2026-05-01","2026-05-31",189]
["26-0002","10","26-0002-100",{"$f":"IF(AND(Config!$B$13<=Tarifs!F4712,Config!$B$13>=Tarifs!E4712),1,0)","v":0},"2026-04-01","2026-04-30",189]
["26-0002","10","26-0002-100",{"$f":"IF(AND(Config!$B$13<=Tarifs!F4713,Config!$B$13>=Tarifs!E4713),1,0)","v":0},"2026-11-01","2026-11-30",179]
["26-0002","10","26-0002-100",{"$f":"IF(AND(Config!$B$13<=Tarifs!F4714,Config!$B$13>=Tarifs!E4714),1,0)","v":0},"2026-12-01","2026-12-31",179]
["26-0002","10","26-0002-101",{"$f":"IF(AND(Config!$B$13<=Tarifs!F4715,Config!$B$13>=Tarifs!E4715),1,0)","v":1},"2026-01-01","2026-01-31",179]
["26-0002","10","26-0002-100",{"$f":"IF(AND(Config!$B$13<=Tarifs!F4716,Config!$B$13>=Tarifs!E4716),1,0)","v":0},"2026-02-01","2026-02-28",179]
["26-0002","10","26-0002-100",{"$f":"IF(AND(Config!$B$13<=Tarifs!F4717,Config!$B$13>=Tarifs!E4717),1,0)","v":0},"2026-03-01","2026-03-31",179]
["26-0003","30","26-0003-300",{"$f":"IF(AND(Config!$B$13<=Tarifs!F4718,Config!$B$13>=Tarifs!E4718),1,0)","v":0},"2026-05-01","2026-05-31",5820]
["26-0003","30","26-0003-300",{"$f":"IF(AND(Config!$B$13<=Tarifs!F4719,Config!$B$13>=Tarifs!E4719),1,0)","v":0},"2026-06-01","2026-06-30",5820]
["26-0003","30","26-0003-300",{"$f":"IF(AND(Config!$B$13<=Tarifs!F4720,Config!$B$13>=Tarifs!E4720),1,0)","v":0},"2026-07-01","2026-07-31",5820]
["26-0003","30","26-0003-300",{"$f":"IF(AND(Config!$B$13<=Tarifs!F4721,Config!$B$13>=Tarifs!E4721),1,0)","v":0},"2026-08-01","2026-08-31",5820]
["26-0003","30","26-0003-300",{"$f":"IF(AND(Config!$B$13<=Tarifs!F4722,Config!$B$13>=Tarifs!E4722),1,0)","v":0},"2026-09-01","2026-09-30",5820]
["26-0003","30","26-0003-300",{"$f":"IF(AND(Config!$B$13<=Tarifs!F4723,Config!$B$13>=Tarifs!E4723),1,0)","v":0},"2026-10-01","2026-10-31",5820]
["26-0003","30","26-0003-300",{"$f":"IF(AND(Config!$B$13<=Tarifs!F4724,Config!$B$13>=Tarifs!E4724),1,0)","v":0},"2026-11-01","2026-11-30",4500]
["26-0003","30","26-0003-300",{"$f":"IF(AND(Config!$B$13<=Tarifs!F4725,Config!$B$13>=Tarifs!E4725),1,0)","v":0},"2026-12-01","2026-12-31",4500]
["26-0003","30","26-0003-301",{"$f":"IF(AND(Config!$B$13<=Tarifs!F4726,Config!$B$13>=Tarifs!E4726),1,0)","v":1},"2026-01-01","2026-01-31",4450]
["26-0003","30","26-0003-300",{"$f":"IF(AND(Config!$B$13<=Tarifs!F4727,Config!$B$13>=Tarifs!E4727),1,0)","v":0},"2026-02-01","2026-02-28",4450]
["26-0003","30","26-0003-300",{"$f":"IF(AND(Config!$B$13<=Tarifs!F4728,Config!$B$13>=Tarifs!E4728),1,0)","v":0},"2026-03-01","2026-03-31",4450]
["26-0003","30","26-0003-300",{"$f":"IF(AND(Config!$B$13<=Tarifs!F4729,Config!$B$13>=Tarifs!E4729),1,0)","v":0},"2026-04-01","2026-04-30",4450]
["26-0003","20","26-0003-200",{"$f":"IF(AND(Config!$B$13<=Tarifs!F4730,Config!$B$13>=Tarifs!E4730),1,0)","v":0},"2026-05-01","2026-05-31",1400]
["26-0003","20","26-0003-200",{"$f":"IF(AND(Config!$B$13<=Tarifs!F4731,Config!$B$13>=Tarifs!E4731),1,0)","v":0},"2026-06-01","2026-06-30",1400]
["26-0003","20","26-0003-200",{"$f":"IF(AND(Config!$B$13<=Tarifs!F4732,Config!$B$13>=Tarifs!E4732),1,0)","v":0},"2026-07-01","2026-07-31",1400]
["26-0003","20","26-0003-200",{"$f":"IF(AND(Config!$B$13<=Tarifs!F4733,Config!$B$13>=Tarifs!E4733),1,0)","v":0},"2026-08-01","2026-08-31",1400]
["26-0003","20","26-0003-200",{"$f":"IF(AND(Config!$B$13<=Tarifs!F4734,Config!$B$13>=Tarifs!E4734),1,0)","v":0},"2026-09-01","2026-09-30",1400]
["26-0003","20","26-0003-200",{"$f":"IF(AND(Config!$B$13<=Tarifs!F4735,Config!$B$13>=Tarifs!E4735),1,0)","v":0},"2026-10-01","2026-10-31",1400]
["26-0003","20","26-0003-201",{"$f":"IF(AND(Config!$B$13<=Tarifs!F4736,Config!$B$13>=Tarifs!E4736),1,0)","v":1},"2026-01-01","2026-01-31",1050]
["26-0003","20","26-0003-200",{"$f":"IF(AND(Config!$B$13<=Tarifs!F4737,Config!$B$13>=Tarifs!E4737),1,0)","v":0},"2026-02-01","2026-02-28",1050]
["26-0003","20","26-0003-200",{"$f":"IF(AND(Config!$B$13<=Tarifs!F4738,Config!$B$13>=Tarifs!E4738),1,0)","v":0},"2026-03-01","2026-03-31",1050]
["26-0003","20",{"$f":"A4739&\"-\"&B4739&D4739","v":"26-0003-200"},{"$f":"IF(AND(Config!$B$13<=Tarifs!F4739,Config!$B$13>=Tarifs!E4739),1,0)","v":0},"2026-04-01","2026-04-30",1050]
["26-0003","20","26-0003-200",{"$f":"IF(AND(Config!$B$13<=Tarifs!F4740,Config!$B$13>=Tarifs!E4740),1,0)","v":0},"2026-11-01","2026-11-30",1050]
["26-0003","20","26-0003-200",{"$f":"IF(AND(Config!$B$13<=Tarifs!F4741,Config!$B$13>=Tarifs!E4741),1,0)","v":0},"2026-12-01","2026-12-31",1050]
["26-0003","10","26-0003-100",{"$f":"IF(AND(Config!$B$13<=Tarifs!F4742,Config!$B$13>=Tarifs!E4742),1,0)","v":0},"2026-05-01","2026-05-31",209]
["26-0003","10","26-0003-100",{"$f":"IF(AND(Config!$B$13<=Tarifs!F4743,Config!$B$13>=Tarifs!E4743),1,0)","v":0},"2026-06-01","2026-06-30",209]
["26-0003","10","26-0003-100",{"$f":"IF(AND(Config!$B$13<=Tarifs!F4744,Config!$B$13>=Tarifs!E4744),1,0)","v":0},"2026-07-01","2026-07-31",209]
["26-0003","10","26-0003-100",{"$f":"IF(AND(Config!$B$13<=Tarifs!F4745,Config!$B$13>=Tarifs!E4745),1,0)","v":0},"2026-08-01","2026-08-31",209]
["26-0003","10","26-0003-100",{"$f":"IF(AND(Config!$B$13<=Tarifs!F4746,Config!$B$13>=Tarifs!E4746),1,0)","v":0},"2026-09-01","2026-09-30",209]
["26-0003","10","26-0003-100",{"$f":"IF(AND(Config!$B$13<=Tarifs!F4747,Config!$B$13>=Tarifs!E4747),1,0)","v":0},"2026-10-01","2026-10-31",209]
["26-0003","10","26-0003-100",{"$f":"IF(AND(Config!$B$13<=Tarifs!F4748,Config!$B$13>=Tarifs!E4748),1,0)","v":0},"2026-11-01","2026-11-30",159]
["26-0003","10","26-0003-100",{"$f":"IF(AND(Config!$B$13<=Tarifs!F4749,Config!$B$13>=Tarifs!E4749),1,0)","v":0},"2026-12-01","2026-12-31",159]
["26-0003","10","26-0003-101",{"$f":"IF(AND(Config!$B$13<=Tarifs!F4750,Config!$B$13>=Tarifs!E4750),1,0)","v":1},"2026-01-01","2026-01-31",155]
["26-0003","10","26-0003-100",{"$f":"IF(AND(Config!$B$13<=Tarifs!F4751,Config!$B$13>=Tarifs!E4751),1,0)","v":0},"2026-02-01","2026-02-28",155]
["26-0003","10","26-0003-100",{"$f":"IF(AND(Config!$B$13<=Tarifs!F4752,Config!$B$13>=Tarifs!E4752),1,0)","v":0},"2026-03-01","2026-03-31",155]
["26-0003","10","26-0003-100",{"$f":"IF(AND(Config!$B$13<=Tarifs!F4753,Config!$B$13>=Tarifs!E4753),1,0)","v":0},"2026-04-01","2026-04-30",155]
["26-0004","30","26-0004-300",{"$f":"IF(AND(Config!$B$13<=Tarifs!F4754,Config!$B$13>=Tarifs!E4754),1,0)","v":0},"2026-08-01","2026-08-31",3200]
["26-0004","30","26-0004-300",{"$f":"IF(AND(Config!$B$13<=Tarifs!F4755,Config!$B$13>=Tarifs!E4755),1,0)","v":0},"2026-07-01","2026-07-31",3000]
["26-0004","30","26-0004-300",{"$f":"IF(AND(Config!$B$13<=Tarifs!F4756,Config!$B$13>=Tarifs!E4756),1,0)","v":0},"2026-09-01","2026-09-30",3000]
["26-0004","30","26-0004-300",{"$f":"IF(AND(Config!$B$13<=Tarifs!F4757,Config!$B$13>=Tarifs!E4757),1,0)","v":0},"2026-06-01","2026-06-30",2500]
["26-0004","30","26-0004-300",{"$f":"IF(AND(Config!$B$13<=Tarifs!F4758,Config!$B$13>=Tarifs!E4758),1,0)","v":0},"2026-10-01","2026-10-31",2500]
["26-0004","30","26-0004-300",{"$f":"IF(AND(Config!$B$13<=Tarifs!F4759,Config!$B$13>=Tarifs!E4759),1,0)","v":0},"2026-05-01","2026-05-31",2200]
["26-0004","30","26-0004-300",{"$f":"IF(AND(Config!$B$13<=Tarifs!F4760,Config!$B$13>=Tarifs!E4760),1,0)","v":0},"2026-11-01","2026-11-30",2200]
["26-0004","30","26-0004-301",{"$f":"IF(AND(Config!$B$13<=Tarifs!F4761,Config!$B$13>=Tarifs!E4761),1,0)","v":1},"2026-01-01","2026-01-31",1800]
["26-0004","30","26-0004-300",{"$f":"IF(AND(Config!$B$13<=Tarifs!F4762,Config!$B$13>=Tarifs!E4762),1,0)","v":0},"2026-02-01","2026-02-28",1800]
["26-0004","30","26-0004-300",{"$f":"IF(AND(Config!$B$13<=Tarifs!F4763,Config!$B$13>=Tarifs!E4763),1,0)","v":0},"2026-03-01","2026-03-31",1800]
["26-0004","30","26-0004-300",{"$f":"IF(AND(Config!$B$13<=Tarifs!F4764,Config!$B$13>=Tarifs!E4764),1,0)","v":0},"2026-04-01","2026-04-30",1800]
["26-0004","30","26-0004-300",{"$f":"IF(AND(Config!$B$13<=Tarifs!F4765,Config!$B$13>=Tarifs!E4765),1,0)","v":0},"2026-12-01","2026-12-31",1800]
["26-0004","20","26-0004-200",{"$f":"IF(AND(Config!$B$13<=Tarifs!F4766,Config!$B$13>=Tarifs!E4766),1,0)","v":0},"2026-08-01","2026-08-31",1100]
["26-0004","20","26-0004-200",{"$f":"IF(AND(Config!$B$13<=Tarifs!F4767,Config!$B$13>=Tarifs!E4767),1,0)","v":0},"2026-06-01","2026-06-30",1000]
["26-0004","20","26-0004-200",{"$f":"IF(AND(Config!$B$13<=Tarifs!F4768,Config!$B$13>=Tarifs!E4768),1,0)","v":0},"2026-07-01","2026-07-31",1000]
["26-0004","20","26-0004-200",{"$f":"IF(AND(Config!$B$13<=Tarifs!F4769,Config!$B$13>=Tarifs!E4769),1,0)","v":0},"2026-09-01","2026-09-30",1000]
["26-0004","20","26-0004-200",{"$f":"IF(AND(Config!$B$13<=Tarifs!F4770,Config!$B$13>=Tarifs!E4770),1,0)","v":0},"2026-05-01","2026-05-31",900]
["26-0004","20","26-0004-200",{"$f":"IF(AND(Config!$B$13<=Tarifs!F4771,Config!$B$13>=Tarifs!E4771),1,0)","v":0},"2026-10-01","2026-10-31",900]
["26-0004","20","26-0004-201",{"$f":"IF(AND(Config!$B$13<=Tarifs!F4772,Config!$B$13>=Tarifs!E4772),1,0)","v":1},"2026-01-01","2026-01-31",700]
["26-0004","20","26-0004-200",{"$f":"IF(AND(Config!$B$13<=Tarifs!F4773,Config!$B$13>=Tarifs!E4773),1,0)","v":0},"2026-02-01","2026-02-28",700]
["26-0004","20","26-0004-200",{"$f":"IF(AND(Config!$B$13<=Tarifs!F4774,Config!$B$13>=Tarifs!E4774),1,0)","v":0},"2026-03-01","2026-03-31",700]
["26-0004","20","26-0004-200",{"$f":"IF(AND(Config!$B$13<=Tarifs!F4775,Config!$B$13>=Tarifs!E4775),1,0)","v":0},"2026-04-01","2026-04-30",700]
["26-0004","20","26-0004-200",{"$f":"IF(AND(Config!$B$13<=Tarifs!F4776,Config!$B$13>=Tarifs!E4776),1,0)","v":0},"2026-11-01","2026-11-30",700]
["26-0004","20","26-0004-200",{"$f":"IF(AND(Config!$B$13<=Tarifs!F4777,Config!$B$13>=Tarifs!E4777),1,0)","v":0},"2026-12-01","2026-12-31",700]
["26-0005","30","26-0005-300",{"$f":"IF(AND(Config!$B$13<=Tarifs!F4778,Config!$B$13>=Tarifs!E4778),1,0)","v":0},"2026-08-01","2026-08-31",3200]
["26-0005","30","26-0005-300",{"$f":"IF(AND(Config!$B$13<=Tarifs!F4779,Config!$B$13>=Tarifs!E4779),1,0)","v":0},"2026-07-01","2026-07-31",3000]
["26-0005","30","26-0005-300",{"$f":"IF(AND(Config!$B$13<=Tarifs!F4780,Config!$B$13>=Tarifs!E4780),1,0)","v":0},"2026-06-01","2026-06-30",2500]
["26-0005","30","26-0005-300",{"$f":"IF(AND(Config!$B$13<=Tarifs!F4781,Config!$B$13>=Tarifs!E4781),1,0)","v":0},"2026-09-01","2026-09-30",2500]
["26-0005","30","26-0005-300",{"$f":"IF(AND(Config!$B$13<=Tarifs!F4782,Config!$B$13>=Tarifs!E4782),1,0)","v":0},"2026-05-01","2026-05-31",2200]
["26-0005","30","26-0005-300",{"$f":"IF(AND(Config!$B$13<=Tarifs!F4783,Config!$B$13>=Tarifs!E4783),1,0)","v":0},"2026-10-01","2026-10-31",2200]
["26-0005","30","26-0005-301",{"$f":"IF(AND(Config!$B$13<=Tarifs!F4784,Config!$B$13>=Tarifs!E4784),1,0)","v":1},"2026-01-01","2026-01-31",1800]
["26-0005","30","26-0005-300",{"$f":"IF(AND(Config!$B$13<=Tarifs!F4785,Config!$B$13>=Tarifs!E4785),1,0)","v":0},"2026-02-01","2026-02-28",1800]
["26-0005","30","26-0005-300",{"$f":"IF(AND(Config!$B$13<=Tarifs!F4786,Config!$B$13>=Tarifs!E4786),1,0)","v":0},"2026-03-01","2026-03-31",1800]
["26-0005","30","26-0005-300",{"$f":"IF(AND(Config!$B$13<=Tarifs!F4787,Config!$B$13>=Tarifs!E4787),1,0)","v":0},"2026-04-01","2026-04-30",1800]
["26-0005","30","26-0005-300",{"$f":"IF(AND(Config!$B$13<=Tarifs!F4788,Config!$B$13>=Tarifs!E4788),1,0)","v":0},"2026-11-01","2026-11-30",1800]
["26-0005","30","26-0005-300",{"$f":"IF(AND(Config!$B$13<=Tarifs!F4789,Config!$B$13>=Tarifs!E4789),1,0)","v":0},"2026-12-01","2026-12-31",1800]
["26-0005","20","26-0005-200",{"$f":"IF(AND(Config!$B$13<=Tarifs!F4790,Config!$B$13>=Tarifs!E4790),1,0)","v":0},"2026-08-01","2026-08-31",1100]
["26-0005","20","26-0005-200",{"$f":"IF(AND(Config!$B$13<=Tarifs!F4791,Config!$B$13>=Tarifs!E4791),1,0)","v":0},"2026-06-01","2026-06-30",1000]
["26-0005","20","26-0005-200",{"$f":"IF(AND(Config!$B$13<=Tarifs!F4792,Config!$B$13>=Tarifs!E4792),1,0)","v":0},"2026-07-01","2026-07-31",1000]
["26-0005","20","26-0005-200",{"$f":"IF(AND(Config!$B$13<=Tarifs!F4793,Config!$B$13>=Tarifs!E4793),1,0)","v":0},"2026-09-01","2026-09-30",1000]
["26-0005","20","26-0005-200",{"$f":"IF(AND(Config!$B$13<=Tarifs!F4794,Config!$B$13>=Tarifs!E4794),1,0)","v":0},"2026-05-01","2026-05-31",900]
["26-0005","20","26-0005-200",{"$f":"IF(AND(Config!$B$13<=Tarifs!F4795,Config!$B$13>=Tarifs!E4795),1,0)","v":0},"2026-10-01","2026-10-31",900]
["26-0005","20","26-0005-201",{"$f":"IF(AND(Config!$B$13<=Tarifs!F4796,Config!$B$13>=Tarifs!E4796),1,0)","v":1},"2026-01-01","2026-01-31",700]
["26-0005","20","26-0005-200",{"$f":"IF(AND(Config!$B$13<=Tarifs!F4797,Config!$B$13>=Tarifs!E4797),1,0)","v":0},"2026-02-01","2026-02-28",700]
["26-0005","20","26-0005-200",{"$f":"IF(AND(Config!$B$13<=Tarifs!F4798,Config!$B$13>=Tarifs!E4798),1,0)","v":0},"2026-03-01","2026-03-31",700]
["26-0005","20","26-0005-200",{"$f":"IF(AND(Config!$B$13<=Tarifs!F4799,Config!$B$13>=Tarifs!E4799),1,0)","v":0},"2026-04-01","2026-04-30",700]
["26-0005","20","26-0005-200",{"$f":"IF(AND(Config!$B$13<=Tarifs!F4800,Config!$B$13>=Tarifs!E4800),1,0)","v":0},"2026-11-01","2026-11-30",700]
["26-0005","20","26-0005-200",{"$f":"IF(AND(Config!$B$13<=Tarifs!F4801,Config!$B$13>=Tarifs!E4801),1,0)","v":0},"2026-12-01","2026-12-31",700]
["26-0006","30","26-0006-300",{"$f":"IF(AND(Config!$B$13<=Tarifs!F4802,Config!$B$13>=Tarifs!E4802),1,0)","v":0},"2026-01-01","2025-12-31",5070]
["26-0006","30",{"$f":"A4803&\"-\"&B4803&D4803","v":"26-0006-300"},{"$f":"IF(AND(Config!$B$13<=Tarifs!F4803,Config!$B$13>=Tarifs!E4803),1,0)","v":0},"2026-02-01","2026-01-31",5070]
["26-0006","30","26-0006-300",{"$f":"IF(AND(Config!$B$13<=Tarifs!F4804,Config!$B$13>=Tarifs!E4804),1,0)","v":0},"2026-03-01","2026-02-28",5070]
["26-0006","30","26-0006-300",{"$f":"IF(AND(Config!$B$13<=Tarifs!F4805,Config!$B$13>=Tarifs!E4805),1,0)","v":0},"2026-04-01","2026-03-31",5070]
["26-0006","30","26-0006-300",{"$f":"IF(AND(Config!$B$13<=Tarifs!F4806,Config!$B$13>=Tarifs!E4806),1,0)","v":0},"2026-05-01","2026-04-30",5070]
["26-0006","30","26-0006-300",{"$f":"IF(AND(Config!$B$13<=Tarifs!F4807,Config!$B$13>=Tarifs!E4807),1,0)","v":0},"2026-06-01","2026-05-31",5070]
["26-0006","30","26-0006-300",{"$f":"IF(AND(Config!$B$13<=Tarifs!F4808,Config!$B$13>=Tarifs!E4808),1,0)","v":0},"2026-07-01","2026-06-30",5070]
["26-0006","30","26-0006-300",{"$f":"IF(AND(Config!$B$13<=Tarifs!F4809,Config!$B$13>=Tarifs!E4809),1,0)","v":0},"2026-08-01","2026-07-31",5070]
["26-0006","30","26-0006-300",{"$f":"IF(AND(Config!$B$13<=Tarifs!F4810,Config!$B$13>=Tarifs!E4810),1,0)","v":0},"2026-09-01","2026-08-31",5070]
["26-0006","30","26-0006-300",{"$f":"IF(AND(Config!$B$13<=Tarifs!F4811,Config!$B$13>=Tarifs!E4811),1,0)","v":0},"2026-10-01","2026-09-30",5070]
["26-0006","30","26-0006-300",{"$f":"IF(AND(Config!$B$13<=Tarifs!F4812,Config!$B$13>=Tarifs!E4812),1,0)","v":0},"2026-11-01","2026-10-31",5070]
["26-0006","30","26-0006-300",{"$f":"IF(AND(Config!$B$13<=Tarifs!F4813,Config!$B$13>=Tarifs!E4813),1,0)","v":0},"2026-12-01","2026-11-30",5070]
["26-0006","20","26-0006-200",{"$f":"IF(AND(Config!$B$13<=Tarifs!F4814,Config!$B$13>=Tarifs!E4814),1,0)","v":0},"2026-01-01","2025-12-31",1183]
["26-0006","20","26-0006-200",{"$f":"IF(AND(Config!$B$13<=Tarifs!F4815,Config!$B$13>=Tarifs!E4815),1,0)","v":0},"2026-02-01","2026-01-31",1183]
["26-0006","20","26-0006-200",{"$f":"IF(AND(Config!$B$13<=Tarifs!F4816,Config!$B$13>=Tarifs!E4816),1,0)","v":0},"2026-03-01","2026-02-28",1183]
["26-0006","20","26-0006-200",{"$f":"IF(AND(Config!$B$13<=Tarifs!F4817,Config!$B$13>=Tarifs!E4817),1,0)","v":0},"2026-04-01","2026-03-31",1183]
["26-0006","20","26-0006-200",{"$f":"IF(AND(Config!$B$13<=Tarifs!F4818,Config!$B$13>=Tarifs!E4818),1,0)","v":0},"2026-05-01","2026-04-30",1183]
["26-0006","20","26-0006-200",{"$f":"IF(AND(Config!$B$13<=Tarifs!F4819,Config!$B$13>=Tarifs!E4819),1,0)","v":0},"2026-06-01","2026-05-31",1183]
["26-0006","20","26-0006-200",{"$f":"IF(AND(Config!$B$13<=Tarifs!F4820,Config!$B$13>=Tarifs!E4820),1,0)","v":0},"2026-07-01","2026-06-30",1183]
["26-0006","20","26-0006-200",{"$f":"IF(AND(Config!$B$13<=Tarifs!F4821,Config!$B$13>=Tarifs!E4821),1,0)","v":0},"2026-08-01","2026-07-31",1183]
["26-0006","20","26-0006-200",{"$f":"IF(AND(Config!$B$13<=Tarifs!F4822,Config!$B$13>=Tarifs!E4822),1,0)","v":0},"2026-09-01","2026-08-31",1183]
["26-0006","20","26-0006-200",{"$f":"IF(AND(Config!$B$13<=Tarifs!F4823,Config!$B$13>=Tarifs!E4823),1,0)","v":0},"2026-10-01","2026-09-30",1183]
["26-0006","20","26-0006-200",{"$f":"IF(AND(Config!$B$13<=Tarifs!F4824,Config!$B$13>=Tarifs!E4824),1,0)","v":0},"2026-11-01","2026-10-31",1183]
["26-0006","20","26-0006-200",{"$f":"IF(AND(Config!$B$13<=Tarifs!F4825,Config!$B$13>=Tarifs!E4825),1,0)","v":0},"2026-12-01","2026-11-30",1183]
["26-0006","10","26-0006-100",{"$f":"IF(AND(Config!$B$13<=Tarifs!F4826,Config!$B$13>=Tarifs!E4826),1,0)","v":0},"2026-01-01","2025-12-31",169]
["26-0006","10","26-0006-100",{"$f":"IF(AND(Config!$B$13<=Tarifs!F4827,Config!$B$13>=Tarifs!E4827),1,0)","v":0},"2026-02-01","2026-01-31",169]
["26-0006","10","26-0006-100",{"$f":"IF(AND(Config!$B$13<=Tarifs!F4828,Config!$B$13>=Tarifs!E4828),1,0)","v":0},"2026-03-01","2026-02-28",169]
["26-0006","10","26-0006-100",{"$f":"IF(AND(Config!$B$13<=Tarifs!F4829,Config!$B$13>=Tarifs!E4829),1,0)","v":0},"2026-04-01","2026-03-31",169]
["26-0006","10","26-0006-100",{"$f":"IF(AND(Config!$B$13<=Tarifs!F4830,Config!$B$13>=Tarifs!E4830),1,0)","v":0},"2026-05-01","2026-04-30",169]
["26-0006","10","26-0006-100",{"$f":"IF(AND(Config!$B$13<=Tarifs!F4831,Config!$B$13>=Tarifs!E4831),1,0)","v":0},"2026-06-01","2026-05-31",169]
["26-0006","10","26-0006-100",{"$f":"IF(AND(Config!$B$13<=Tarifs!F4832,Config!$B$13>=Tarifs!E4832),1,0)","v":0},"2026-07-01","2026-06-30",169]
["26-0006","10","26-0006-100",{"$f":"IF(AND(Config!$B$13<=Tarifs!F4833,Config!$B$13>=Tarifs!E4833),1,0)","v":0},"2026-08-01","2026-07-31",169]
["26-0006","10","26-0006-100",{"$f":"IF(AND(Config!$B$13<=Tarifs!F4834,Config!$B$13>=Tarifs!E4834),1,0)","v":0},"2026-09-01","2026-08-31",169]
["26-0006","10","26-0006-100",{"$f":"IF(AND(Config!$B$13<=Tarifs!F4835,Config!$B$13>=Tarifs!E4835),1,0)","v":0},"2026-10-01","2026-09-30",169]
["26-0006","10","26-0006-100",{"$f":"IF(AND(Config!$B$13<=Tarifs!F4836,Config!$B$13>=Tarifs!E4836),1,0)","v":0},"2026-11-01","2026-10-31",169]
["26-0006","10","26-0006-100",{"$f":"IF(AND(Config!$B$13<=Tarifs!F4837,Config!$B$13>=Tarifs!E4837),1,0)","v":0},"2026-12-01","2026-11-30",169]
["26-0007","30","26-0007-300",{"$f":"IF(AND(Config!$B$13<=Tarifs!F4838,Config!$B$13>=Tarifs!E4838),1,0)","v":0},"2026-01-01","2025-12-31",2575]
["26-0007","30","26-0007-300",{"$f":"IF(AND(Config!$B$13<=Tarifs!F4839,Config!$B$13>=Tarifs!E4839),1,0)","v":0},"2026-02-01","2026-01-31",2575]
["26-0007","30","26-0007-300",{"$f":"IF(AND(Config!$B$13<=Tarifs!F4840,Config!$B$13>=Tarifs!E4840),1,0)","v":0},"2026-03-01","2026-02-28",2575]
["26-0007","30","26-0007-300",{"$f":"IF(AND(Config!$B$13<=Tarifs!F4841,Config!$B$13>=Tarifs!E4841),1,0)","v":0},"2026-04-01","2026-03-31",2575]
["26-0007","30","26-0007-300",{"$f":"IF(AND(Config!$B$13<=Tarifs!F4842,Config!$B$13>=Tarifs!E4842),1,0)","v":0},"2026-05-01","2026-04-30",2575]
["26-0007","30","26-0007-300",{"$f":"IF(AND(Config!$B$13<=Tarifs!F4843,Config!$B$13>=Tarifs!E4843),1,0)","v":0},"2026-06-01","2026-05-31",2575]
["26-0007","30","26-0007-300",{"$f":"IF(AND(Config!$B$13<=Tarifs!F4844,Config!$B$13>=Tarifs!E4844),1,0)","v":0},"2026-07-01","2026-06-30",2575]
["26-0007","30","26-0007-300",{"$f":"IF(AND(Config!$B$13<=Tarifs!F4845,Config!$B$13>=Tarifs!E4845),1,0)","v":0},"2026-08-01","2026-07-31",2575]
["26-0007","30","26-0007-300",{"$f":"IF(AND(Config!$B$13<=Tarifs!F4846,Config!$B$13>=Tarifs!E4846),1,0)","v":0},"2026-09-01","2026-08-31",2575]
["26-0007","30","26-0007-300",{"$f":"IF(AND(Config!$B$13<=Tarifs!F4847,Config!$B$13>=Tarifs!E4847),1,0)","v":0},"2026-10-01","2026-09-30",2575]
["26-0007","30","26-0007-300",{"$f":"IF(AND(Config!$B$13<=Tarifs!F4848,Config!$B$13>=Tarifs!E4848),1,0)","v":0},"2026-11-01","2026-10-31",2575]
["26-0007","30","26-0007-300",{"$f":"IF(AND(Config!$B$13<=Tarifs!F4849,Config!$B$13>=Tarifs!E4849),1,0)","v":0},"2026-12-01","2026-11-30",2575]
["26-0007","20","26-0007-200",{"$f":"IF(AND(Config!$B$13<=Tarifs!F4850,Config!$B$13>=Tarifs!E4850),1,0)","v":0},"2026-01-01","2025-12-31",672]
["26-0007","20","26-0007-200",{"$f":"IF(AND(Config!$B$13<=Tarifs!F4851,Config!$B$13>=Tarifs!E4851),1,0)","v":0},"2026-02-01","2026-01-31",672]
["26-0007","20","26-0007-200",{"$f":"IF(AND(Config!$B$13<=Tarifs!F4852,Config!$B$13>=Tarifs!E4852),1,0)","v":0},"2026-03-01","2026-02-28",672]
["26-0007","20","26-0007-200",{"$f":"IF(AND(Config!$B$13<=Tarifs!F4853,Config!$B$13>=Tarifs!E4853),1,0)","v":0},"2026-04-01","2026-03-31",672]
["26-0007","20","26-0007-200",{"$f":"IF(AND(Config!$B$13<=Tarifs!F4854,Config!$B$13>=Tarifs!E4854),1,0)","v":0},"2026-05-01","2026-04-30",672]
["26-0007","20","26-0007-200",{"$f":"IF(AND(Config!$B$13<=Tarifs!F4855,Config!$B$13>=Tarifs!E4855),1,0)","v":0},"2026-06-01","2026-05-31",672]
["26-0007","20","26-0007-200",{"$f":"IF(AND(Config!$B$13<=Tarifs!F4856,Config!$B$13>=Tarifs!E4856),1,0)","v":0},"2026-07-01","2026-06-30",672]
["26-0007","20","26-0007-200",{"$f":"IF(AND(Config!$B$13<=Tarifs!F4857,Config!$B$13>=Tarifs!E4857),1,0)","v":0},"2026-08-01","2026-07-31",672]
["26-0007","20","26-0007-200",{"$f":"IF(AND(Config!$B$13<=Tarifs!F4858,Config!$B$13>=Tarifs!E4858),1,0)","v":0},"2026-09-01","2026-08-31",672]
["26-0007","20","26-0007-200",{"$f":"IF(AND(Config!$B$13<=Tarifs!F4859,Config!$B$13>=Tarifs!E4859),1,0)","v":0},"2026-10-01","2026-09-30",672]
["26-0007","20","26-0007-200",{"$f":"IF(AND(Config!$B$13<=Tarifs!F4860,Config!$B$13>=Tarifs!E4860),1,0)","v":0},"2026-11-01","2026-10-31",672]
["26-0007","20","26-0007-200",{"$f":"IF(AND(Config!$B$13<=Tarifs!F4861,Config!$B$13>=Tarifs!E4861),1,0)","v":0},"2026-12-01","2026-11-30",672]
["26-0007","10","26-0007-100",{"$f":"IF(AND(Config!$B$13<=Tarifs!F4862,Config!$B$13>=Tarifs!E4862),1,0)","v":0},"2026-01-01","2025-12-31",101]
["26-0007","10","26-0007-100",{"$f":"IF(AND(Config!$B$13<=Tarifs!F4863,Config!$B$13>=Tarifs!E4863),1,0)","v":0},"2026-02-01","2026-01-31",101]
["26-0007","10","26-0007-100",{"$f":"IF(AND(Config!$B$13<=Tarifs!F4864,Config!$B$13>=Tarifs!E4864),1,0)","v":0},"2026-03-01","2026-02-28",101]
["26-0007","10","26-0007-100",{"$f":"IF(AND(Config!$B$13<=Tarifs!F4865,Config!$B$13>=Tarifs!E4865),1,0)","v":0},"2026-04-01","2026-03-31",101]
["26-0007","10","26-0007-100",{"$f":"IF(AND(Config!$B$13<=Tarifs!F4866,Config!$B$13>=Tarifs!E4866),1,0)","v":0},"2026-05-01","2026-04-30",101]
["26-0007","10",{"$f":"A4867&\"-\"&B4867&D4867","v":"26-0007-100"},{"$f":"IF(AND(Config!$B$13<=Tarifs!F4867,Config!$B$13>=Tarifs!E4867),1,0)","v":0},"2026-06-01","2026-05-31",101]
["26-0007","10","26-0007-100",{"$f":"IF(AND(Config!$B$13<=Tarifs!F4868,Config!$B$13>=Tarifs!E4868),1,0)","v":0},"2026-07-01","2026-06-30",101]
["26-0007","10","26-0007-100",{"$f":"IF(AND(Config!$B$13<=Tarifs!F4869,Config!$B$13>=Tarifs!E4869),1,0)","v":0},"2026-08-01","2026-07-31",101]
["26-0007","10","26-0007-100",{"$f":"IF(AND(Config!$B$13<=Tarifs!F4870,Config!$B$13>=Tarifs!E4870),1,0)","v":0},"2026-09-01","2026-08-31",101]
["26-0007","10","26-0007-100",{"$f":"IF(AND(Config!$B$13<=Tarifs!F4871,Config!$B$13>=Tarifs!E4871),1,0)","v":0},"2026-10-01","2026-09-30",101]
["26-0007","10","26-0007-100",{"$f":"IF(AND(Config!$B$13<=Tarifs!F4872,Config!$B$13>=Tarifs!E4872),1,0)","v":0},"2026-11-01","2026-10-31",101]
["26-0007","10","26-0007-100",{"$f":"IF(AND(Config!$B$13<=Tarifs!F4873,Config!$B$13>=Tarifs!E4873),1,0)","v":0},"2026-12-01","2026-11-30",101]
["97-0004","30","97-0004-300",{"$f":"IF(AND(Config!$B$13<=Tarifs!F4874,Config!$B$13>=Tarifs!E4874),1,0)","v":0},"2026-04-01","2026-04-30",5970]
["97-0004","30","97-0004-300",{"$f":"IF(AND(Config!$B$13<=Tarifs!F4875,Config!$B$13>=Tarifs!E4875),1,0)","v":0},"2026-05-01","2026-05-31",5970]
["97-0004","30","97-0004-300",{"$f":"IF(AND(Config!$B$13<=Tarifs!F4876,Config!$B$13>=Tarifs!E4876),1,0)","v":0},"2026-09-01","2026-09-30",5970]
["97-0004","30","97-0004-300",{"$f":"IF(AND(Config!$B$13<=Tarifs!F4877,Config!$B$13>=Tarifs!E4877),1,0)","v":0},"2026-10-01","2026-10-31",5970]
["97-0004","30","97-0004-301",{"$f":"IF(AND(Config!$B$13<=Tarifs!F4878,Config!$B$13>=Tarifs!E4878),1,0)","v":1},"2026-01-01","2026-01-31",5670]
["97-0004","30","97-0004-300",{"$f":"IF(AND(Config!$B$13<=Tarifs!F4879,Config!$B$13>=Tarifs!E4879),1,0)","v":0},"2026-02-01","2026-02-28",5670]
["97-0004","30","97-0004-300",{"$f":"IF(AND(Config!$B$13<=Tarifs!F4880,Config!$B$13>=Tarifs!E4880),1,0)","v":0},"2026-03-01","2026-03-31",5670]
["97-0004","30","97-0004-300",{"$f":"IF(AND(Config!$B$13<=Tarifs!F4881,Config!$B$13>=Tarifs!E4881),1,0)","v":0},"2026-06-01","2026-06-30",5670]
["97-0004","30","97-0004-300",{"$f":"IF(AND(Config!$B$13<=Tarifs!F4882,Config!$B$13>=Tarifs!E4882),1,0)","v":0},"2026-07-01","2026-07-31",5670]
["97-0004","30","97-0004-300",{"$f":"IF(AND(Config!$B$13<=Tarifs!F4883,Config!$B$13>=Tarifs!E4883),1,0)","v":0},"2026-08-01","2026-08-31",5670]
["97-0004","30","97-0004-300",{"$f":"IF(AND(Config!$B$13<=Tarifs!F4884,Config!$B$13>=Tarifs!E4884),1,0)","v":0},"2026-11-01","2026-11-30",5670]
["97-0004","30","97-0004-300",{"$f":"IF(AND(Config!$B$13<=Tarifs!F4885,Config!$B$13>=Tarifs!E4885),1,0)","v":0},"2026-12-01","2026-12-31",5670]
["97-0004","20","97-0004-200",{"$f":"IF(AND(Config!$B$13<=Tarifs!F4886,Config!$B$13>=Tarifs!E4886),1,0)","v":0},"2026-04-01","2026-04-30",1393]
["97-0004","20","97-0004-200",{"$f":"IF(AND(Config!$B$13<=Tarifs!F4887,Config!$B$13>=Tarifs!E4887),1,0)","v":0},"2026-05-01","2026-05-31",1393]
["97-0004","20","97-0004-200",{"$f":"IF(AND(Config!$B$13<=Tarifs!F4888,Config!$B$13>=Tarifs!E4888),1,0)","v":0},"2026-09-01","2026-09-30",1393]
["97-0004","20","97-0004-200",{"$f":"IF(AND(Config!$B$13<=Tarifs!F4889,Config!$B$13>=Tarifs!E4889),1,0)","v":0},"2026-10-01","2026-10-31",1393]
["97-0004","20","97-0004-201",{"$f":"IF(AND(Config!$B$13<=Tarifs!F4890,Config!$B$13>=Tarifs!E4890),1,0)","v":1},"2026-01-01","2026-01-31",1323]
["97-0004","20","97-0004-200",{"$f":"IF(AND(Config!$B$13<=Tarifs!F4891,Config!$B$13>=Tarifs!E4891),1,0)","v":0},"2026-02-01","2026-02-28",1323]
["97-0004","20","97-0004-200",{"$f":"IF(AND(Config!$B$13<=Tarifs!F4892,Config!$B$13>=Tarifs!E4892),1,0)","v":0},"2026-03-01","2026-03-31",1323]
["97-0004","20","97-0004-200",{"$f":"IF(AND(Config!$B$13<=Tarifs!F4893,Config!$B$13>=Tarifs!E4893),1,0)","v":0},"2026-06-01","2026-06-30",1323]
["97-0004","20","97-0004-200",{"$f":"IF(AND(Config!$B$13<=Tarifs!F4894,Config!$B$13>=Tarifs!E4894),1,0)","v":0},"2026-07-01","2026-07-31",1323]
["97-0004","20","97-0004-200",{"$f":"IF(AND(Config!$B$13<=Tarifs!F4895,Config!$B$13>=Tarifs!E4895),1,0)","v":0},"2026-08-01","2026-08-31",1323]
["97-0004","20","97-0004-200",{"$f":"IF(AND(Config!$B$13<=Tarifs!F4896,Config!$B$13>=Tarifs!E4896),1,0)","v":0},"2026-11-01","2026-11-30",1323]
["97-0004","20","97-0004-200",{"$f":"IF(AND(Config!$B$13<=Tarifs!F4897,Config!$B$13>=Tarifs!E4897),1,0)","v":0},"2026-12-01","2026-12-31",1323]
["97-0004","10","97-0004-100",{"$f":"IF(AND(Config!$B$13<=Tarifs!F4898,Config!$B$13>=Tarifs!E4898),1,0)","v":0},"2026-04-01","2026-04-30",199]
["97-0004","10","97-0004-100",{"$f":"IF(AND(Config!$B$13<=Tarifs!F4899,Config!$B$13>=Tarifs!E4899),1,0)","v":0},"2026-05-01","2026-05-31",199]
["97-0004","10","97-0004-100",{"$f":"IF(AND(Config!$B$13<=Tarifs!F4900,Config!$B$13>=Tarifs!E4900),1,0)","v":0},"2026-09-01","2026-09-30",199]
["97-0004","10","97-0004-100",{"$f":"IF(AND(Config!$B$13<=Tarifs!F4901,Config!$B$13>=Tarifs!E4901),1,0)","v":0},"2026-10-01","2026-10-31",199]
["97-0004","10","97-0004-101",{"$f":"IF(AND(Config!$B$13<=Tarifs!F4902,Config!$B$13>=Tarifs!E4902),1,0)","v":1},"2026-01-01","2026-01-31",189]
["97-0004","10","97-0004-100",{"$f":"IF(AND(Config!$B$13<=Tarifs!F4903,Config!$B$13>=Tarifs!E4903),1,0)","v":0},"2026-02-01","2026-02-28",189]
["97-0004","10","97-0004-100",{"$f":"IF(AND(Config!$B$13<=Tarifs!F4904,Config!$B$13>=Tarifs!E4904),1,0)","v":0},"2026-03-01","2026-03-31",189]
["97-0004","10","97-0004-100",{"$f":"IF(AND(Config!$B$13<=Tarifs!F4905,Config!$B$13>=Tarifs!E4905),1,0)","v":0},"2026-06-01","2026-06-30",189]
["97-0004","10","97-0004-100",{"$f":"IF(AND(Config!$B$13<=Tarifs!F4906,Config!$B$13>=Tarifs!E4906),1,0)","v":0},"2026-07-01","2026-07-31",189]
["97-0004","10","97-0004-100",{"$f":"IF(AND(Config!$B$13<=Tarifs!F4907,Config!$B$13>=Tarifs!E4907),1,0)","v":0},"2026-08-01","2026-08-31",189]
["97-0004","10","97-0004-100",{"$f":"IF(AND(Config!$B$13<=Tarifs!F4908,Config!$B$13>=Tarifs!E4908),1,0)","v":0},"2026-11-01","2026-11-30",189]
["97-0004","10","97-0004-100",{"$f":"IF(AND(Config!$B$13<=Tarifs!F4909,Config!$B$13>=Tarifs!E4909),1,0)","v":0},"2026-12-01","2026-12-31",189]
["97-0020","30","97-0020-300",{"$f":"IF(AND(Config!$B$13<=Tarifs!F4910,Config!$B$13>=Tarifs!E4910),1,0)","v":0},"2026-07-01","2026-07-31",5970]
["97-0020","30","97-0020-300",{"$f":"IF(AND(Config!$B$13<=Tarifs!F4911,Config!$B$13>=Tarifs!E4911),1,0)","v":0},"2026-08-01","2026-08-31",5970]
["97-0020","30","97-0020-301",{"$f":"IF(AND(Config!$B$13<=Tarifs!F4912,Config!$B$13>=Tarifs!E4912),1,0)","v":1},"2026-01-01","2026-01-31",4050]
["97-0020","30","97-0020-300",{"$f":"IF(AND(Config!$B$13<=Tarifs!F4913,Config!$B$13>=Tarifs!E4913),1,0)","v":0},"2026-02-01","2026-02-28",4050]
["97-0020","30","97-0020-300",{"$f":"IF(AND(Config!$B$13<=Tarifs!F4914,Config!$B$13>=Tarifs!E4914),1,0)","v":0},"2026-03-01","2026-03-31",4050]
["97-0020","30","97-0020-300",{"$f":"IF(AND(Config!$B$13<=Tarifs!F4915,Config!$B$13>=Tarifs!E4915),1,0)","v":0},"2026-04-01","2026-04-30",4050]
["97-0020","30","97-0020-300",{"$f":"IF(AND(Config!$B$13<=Tarifs!F4916,Config!$B$13>=Tarifs!E4916),1,0)","v":0},"2026-05-01","2026-05-31",4050]
["97-0020","30","97-0020-300",{"$f":"IF(AND(Config!$B$13<=Tarifs!F4917,Config!$B$13>=Tarifs!E4917),1,0)","v":0},"2026-06-01","2026-06-30",4050]
["97-0020","30","97-0020-300",{"$f":"IF(AND(Config!$B$13<=Tarifs!F4918,Config!$B$13>=Tarifs!E4918),1,0)","v":0},"2026-09-01","2026-09-30",4050]
["97-0020","30","97-0020-300",{"$f":"IF(AND(Config!$B$13<=Tarifs!F4919,Config!$B$13>=Tarifs!E4919),1,0)","v":0},"2026-10-01","2026-10-31",4050]
["97-0020","30","97-0020-300",{"$f":"IF(AND(Config!$B$13<=Tarifs!F4920,Config!$B$13>=Tarifs!E4920),1,0)","v":0},"2026-11-01","2026-11-30",4050]
["97-0020","30","97-0020-300",{"$f":"IF(AND(Config!$B$13<=Tarifs!F4921,Config!$B$13>=Tarifs!E4921),1,0)","v":0},"2026-12-01","2026-12-31",4050]
["97-0020","20","97-0020-200",{"$f":"IF(AND(Config!$B$13<=Tarifs!F4922,Config!$B$13>=Tarifs!E4922),1,0)","v":0},"2026-07-01","2026-07-31",1393]
["97-0020","20","97-0020-200",{"$f":"IF(AND(Config!$B$13<=Tarifs!F4923,Config!$B$13>=Tarifs!E4923),1,0)","v":0},"2026-08-01","2026-08-31",1393]
["97-0020","20","97-0020-201",{"$f":"IF(AND(Config!$B$13<=Tarifs!F4924,Config!$B$13>=Tarifs!E4924),1,0)","v":1},"2026-01-01","2026-01-31",945]
["97-0020","20","97-0020-200",{"$f":"IF(AND(Config!$B$13<=Tarifs!F4925,Config!$B$13>=Tarifs!E4925),1,0)","v":0},"2026-02-01","2026-02-28",945]
["97-0020","20","97-0020-200",{"$f":"IF(AND(Config!$B$13<=Tarifs!F4926,Config!$B$13>=Tarifs!E4926),1,0)","v":0},"2026-03-01","2026-03-31",945]
["97-0020","20","97-0020-200",{"$f":"IF(AND(Config!$B$13<=Tarifs!F4927,Config!$B$13>=Tarifs!E4927),1,0)","v":0},"2026-04-01","2026-04-30",945]
["97-0020","20","97-0020-200",{"$f":"IF(AND(Config!$B$13<=Tarifs!F4928,Config!$B$13>=Tarifs!E4928),1,0)","v":0},"2026-05-01","2026-05-31",945]
["97-0020","20","97-0020-200",{"$f":"IF(AND(Config!$B$13<=Tarifs!F4929,Config!$B$13>=Tarifs!E4929),1,0)","v":0},"2026-06-01","2026-06-30",945]
["97-0020","20","97-0020-200",{"$f":"IF(AND(Config!$B$13<=Tarifs!F4930,Config!$B$13>=Tarifs!E4930),1,0)","v":0},"2026-09-01","2026-09-30",945]
["97-0020","20",{"$f":"A4931&\"-\"&B4931&D4931","v":"97-0020-200"},{"$f":"IF(AND(Config!$B$13<=Tarifs!F4931,Config!$B$13>=Tarifs!E4931),1,0)","v":0},"2026-10-01","2026-10-31",945]
["97-0020","20","97-0020-200",{"$f":"IF(AND(Config!$B$13<=Tarifs!F4932,Config!$B$13>=Tarifs!E4932),1,0)","v":0},"2026-11-01","2026-11-30",945]
["97-0020","20","97-0020-200",{"$f":"IF(AND(Config!$B$13<=Tarifs!F4933,Config!$B$13>=Tarifs!E4933),1,0)","v":0},"2026-12-01","2026-12-31",945]
["97-0020","10","97-0020-100",{"$f":"IF(AND(Config!$B$13<=Tarifs!F4934,Config!$B$13>=Tarifs!E4934),1,0)","v":0},"2026-07-01","2026-07-31",199]
["97-0020","10","97-0020-100",{"$f":"IF(AND(Config!$B$13<=Tarifs!F4935,Config!$B$13>=Tarifs!E4935),1,0)","v":0},"2026-08-01","2026-08-31",199]
["97-0020","10","97-0020-101",{"$f":"IF(AND(Config!$B$13<=Tarifs!F4936,Config!$B$13>=Tarifs!E4936),1,0)","v":1},"2026-01-01","2026-01-31",135]
["97-0020","10","97-0020-100",{"$f":"IF(AND(Config!$B$13<=Tarifs!F4937,Config!$B$13>=Tarifs!E4937),1,0)","v":0},"2026-02-01","2026-02-28",135]
["97-0020","10","97-0020-100",{"$f":"IF(AND(Config!$B$13<=Tarifs!F4938,Config!$B$13>=Tarifs!E4938),1,0)","v":0},"2026-03-01","2026-03-31",135]
["97-0020","10","97-0020-100",{"$f":"IF(AND(Config!$B$13<=Tarifs!F4939,Config!$B$13>=Tarifs!E4939),1,0)","v":0},"2026-04-01","2026-04-30",135]
["97-0020","10","97-0020-100",{"$f":"IF(AND(Config!$B$13<=Tarifs!F4940,Config!$B$13>=Tarifs!E4940),1,0)","v":0},"2026-05-01","2026-05-31",135]
["97-0020","10","97-0020-100",{"$f":"IF(AND(Config!$B$13<=Tarifs!F4941,Config!$B$13>=Tarifs!E4941),1,0)","v":0},"2026-06-01","2026-06-30",135]
["97-0020","10","97-0020-100",{"$f":"IF(AND(Config!$B$13<=Tarifs!F4942,Config!$B$13>=Tarifs!E4942),1,0)","v":0},"2026-09-01","2026-09-30",135]
["97-0020","10","97-0020-100",{"$f":"IF(AND(Config!$B$13<=Tarifs!F4943,Config!$B$13>=Tarifs!E4943),1,0)","v":0},"2026-10-01","2026-10-31",135]
["97-0020","10","97-0020-100",{"$f":"IF(AND(Config!$B$13<=Tarifs!F4944,Config!$B$13>=Tarifs!E4944),1,0)","v":0},"2026-11-01","2026-11-30",135]
["97-0020","10","97-0020-100",{"$f":"IF(AND(Config!$B$13<=Tarifs!F4945,Config!$B$13>=Tarifs!E4945),1,0)","v":0},"2026-12-01","2026-12-31",135]
["97-0030","30","97-0030-300",{"$f":"IF(AND(Config!$B$13<=Tarifs!F4946,Config!$B$13>=Tarifs!E4946),1,0)","v":0},"2026-07-01","2026-07-31",2899]
["97-0030","30","97-0030-300",{"$f":"IF(AND(Config!$B$13<=Tarifs!F4947,Config!$B$13>=Tarifs!E4947),1,0)","v":0},"2026-08-01","2026-08-31",2899]
["97-0030","30","97-0030-300",{"$f":"IF(AND(Config!$B$13<=Tarifs!F4948,Config!$B$13>=Tarifs!E4948),1,0)","v":0},"2026-06-01","2026-06-30",2599]
["97-0030","30","97-0030-300",{"$f":"IF(AND(Config!$B$13<=Tarifs!F4949,Config!$B$13>=Tarifs!E4949),1,0)","v":0},"2026-09-01","2026-09-30",2599]
["97-0030","30","97-0030-300",{"$f":"IF(AND(Config!$B$13<=Tarifs!F4950,Config!$B$13>=Tarifs!E4950),1,0)","v":0},"2026-04-01","2026-04-30",2099]
["97-0030","30","97-0030-300",{"$f":"IF(AND(Config!$B$13<=Tarifs!F4951,Config!$B$13>=Tarifs!E4951),1,0)","v":0},"2026-05-01","2026-05-31",2099]
["97-0030","30","97-0030-300",{"$f":"IF(AND(Config!$B$13<=Tarifs!F4952,Config!$B$13>=Tarifs!E4952),1,0)","v":0},"2026-10-01","2026-10-31",2099]
["97-0030","30","97-0030-300",{"$f":"IF(AND(Config!$B$13<=Tarifs!F4953,Config!$B$13>=Tarifs!E4953),1,0)","v":0},"2026-11-01","2026-11-30",2099]
["97-0030","30","97-0030-300",{"$f":"IF(AND(Config!$B$13<=Tarifs!F4954,Config!$B$13>=Tarifs!E4954),1,0)","v":0},"2026-12-01","2026-12-31",2099]
["97-0030","30","97-0030-301",{"$f":"IF(AND(Config!$B$13<=Tarifs!F4955,Config!$B$13>=Tarifs!E4955),1,0)","v":1},"2026-01-01","2026-01-31",2099]
["97-0030","30","97-0030-300",{"$f":"IF(AND(Config!$B$13<=Tarifs!F4956,Config!$B$13>=Tarifs!E4956),1,0)","v":0},"2026-02-01","2026-02-28",2099]
["97-0030","30","97-0030-300",{"$f":"IF(AND(Config!$B$13<=Tarifs!F4957,Config!$B$13>=Tarifs!E4957),1,0)","v":0},"2026-03-01","2026-03-31",2099]
["97-0030","20","97-0030-200",{"$f":"IF(AND(Config!$B$13<=Tarifs!F4958,Config!$B$13>=Tarifs!E4958),1,0)","v":0},"2026-07-01","2026-07-31",899]
["97-0030","20","97-0030-200",{"$f":"IF(AND(Config!$B$13<=Tarifs!F4959,Config!$B$13>=Tarifs!E4959),1,0)","v":0},"2026-08-01","2026-08-31",899]
["97-0030","20","97-0030-200",{"$f":"IF(AND(Config!$B$13<=Tarifs!F4960,Config!$B$13>=Tarifs!E4960),1,0)","v":0},"2026-06-01","2026-06-30",700]
["97-0030","20","97-0030-200",{"$f":"IF(AND(Config!$B$13<=Tarifs!F4961,Config!$B$13>=Tarifs!E4961),1,0)","v":0},"2026-09-01","2026-09-30",700]
["97-0030","20","97-0030-200",{"$f":"IF(AND(Config!$B$13<=Tarifs!F4962,Config!$B$13>=Tarifs!E4962),1,0)","v":0},"2026-05-01","2026-05-31",589]
["97-0030","20","97-0030-200",{"$f":"IF(AND(Config!$B$13<=Tarifs!F4963,Config!$B$13>=Tarifs!E4963),1,0)","v":0},"2026-10-01","2026-10-31",589]
["97-0030","20","97-0030-200",{"$f":"IF(AND(Config!$B$13<=Tarifs!F4964,Config!$B$13>=Tarifs!E4964),1,0)","v":0},"2026-11-01","2026-11-30",589]
["97-0030","20","97-0030-200",{"$f":"IF(AND(Config!$B$13<=Tarifs!F4965,Config!$B$13>=Tarifs!E4965),1,0)","v":0},"2026-12-01","2026-12-31",589]
["97-0030","20","97-0030-201",{"$f":"IF(AND(Config!$B$13<=Tarifs!F4966,Config!$B$13>=Tarifs!E4966),1,0)","v":1},"2026-01-01","2026-01-31",589]
["97-0030","20","97-0030-200",{"$f":"IF(AND(Config!$B$13<=Tarifs!F4967,Config!$B$13>=Tarifs!E4967),1,0)","v":0},"2026-02-01","2026-02-28",589]
["97-0030","20","97-0030-200",{"$f":"IF(AND(Config!$B$13<=Tarifs!F4968,Config!$B$13>=Tarifs!E4968),1,0)","v":0},"2026-03-01","2026-03-31",589]
["97-0030","20","97-0030-200",{"$f":"IF(AND(Config!$B$13<=Tarifs!F4969,Config!$B$13>=Tarifs!E4969),1,0)","v":0},"2026-04-01","2026-04-30",589]
["97-0030","10","97-0030-100",{"$f":"IF(AND(Config!$B$13<=Tarifs!F4970,Config!$B$13>=Tarifs!E4970),1,0)","v":0},"2026-07-01","2026-07-31",155]
["97-0030","10","97-0030-100",{"$f":"IF(AND(Config!$B$13<=Tarifs!F4971,Config!$B$13>=Tarifs!E4971),1,0)","v":0},"2026-08-01","2026-08-31",155]
["97-0030","10","97-0030-100",{"$f":"IF(AND(Config!$B$13<=Tarifs!F4972,Config!$B$13>=Tarifs!E4972),1,0)","v":0},"2026-06-01","2026-06-30",125]
["97-0030","10","97-0030-100",{"$f":"IF(AND(Config!$B$13<=Tarifs!F4973,Config!$B$13>=Tarifs!E4973),1,0)","v":0},"2026-09-01","2026-09-30",125]
["97-0030","10","97-0030-100",{"$f":"IF(AND(Config!$B$13<=Tarifs!F4974,Config!$B$13>=Tarifs!E4974),1,0)","v":0},"2026-05-01","2026-05-31",109]
["97-0030","10","97-0030-100",{"$f":"IF(AND(Config!$B$13<=Tarifs!F4975,Config!$B$13>=Tarifs!E4975),1,0)","v":0},"2026-10-01","2026-10-31",109]
["97-0030","10","97-0030-100",{"$f":"IF(AND(Config!$B$13<=Tarifs!F4976,Config!$B$13>=Tarifs!E4976),1,0)","v":0},"2026-11-01","2026-11-30",109]
["97-0030","10","97-0030-100",{"$f":"IF(AND(Config!$B$13<=Tarifs!F4977,Config!$B$13>=Tarifs!E4977),1,0)","v":0},"2026-12-01","2026-12-31",109]
["97-0030","10","97-0030-101",{"$f":"IF(AND(Config!$B$13<=Tarifs!F4978,Config!$B$13>=Tarifs!E4978),1,0)","v":1},"2026-01-01","2026-01-31",109]
["97-0030","10","97-0030-100",{"$f":"IF(AND(Config!$B$13<=Tarifs!F4979,Config!$B$13>=Tarifs!E4979),1,0)","v":0},"2026-02-01","2026-02-28",109]
["97-0030","10","97-0030-100",{"$f":"IF(AND(Config!$B$13<=Tarifs!F4980,Config!$B$13>=Tarifs!E4980),1,0)","v":0},"2026-03-01","2026-03-31",109]
["97-0030","10","97-0030-100",{"$f":"IF(AND(Config!$B$13<=Tarifs!F4981,Config!$B$13>=Tarifs!E4981),1,0)","v":0},"2026-04-01","2026-04-30",109]
["97-0038","30","97-0038-300",{"$f":"IF(AND(Config!$B$13<=Tarifs!F4982,Config!$B$13>=Tarifs!E4982),1,0)","v":0},"2026-05-01","2026-05-31",6150]
["97-0038","30","97-0038-300",{"$f":"IF(AND(Config!$B$13<=Tarifs!F4983,Config!$B$13>=Tarifs!E4983),1,0)","v":0},"2026-06-01","2026-06-30",6150]
["97-0038","30","97-0038-300",{"$f":"IF(AND(Config!$B$13<=Tarifs!F4984,Config!$B$13>=Tarifs!E4984),1,0)","v":0},"2026-07-01","2026-07-31",6150]
["97-0038","30","97-0038-300",{"$f":"IF(AND(Config!$B$13<=Tarifs!F4985,Config!$B$13>=Tarifs!E4985),1,0)","v":0},"2026-08-01","2026-08-31",6150]
["97-0038","30","97-0038-300",{"$f":"IF(AND(Config!$B$13<=Tarifs!F4986,Config!$B$13>=Tarifs!E4986),1,0)","v":0},"2026-09-01","2026-09-30",6150]
["97-0038","30","97-0038-300",{"$f":"IF(AND(Config!$B$13<=Tarifs!F4987,Config!$B$13>=Tarifs!E4987),1,0)","v":0},"2026-10-01","2026-10-31",6150]
["97-0038","30","97-0038-300",{"$f":"IF(AND(Config!$B$13<=Tarifs!F4988,Config!$B$13>=Tarifs!E4988),1,0)","v":0},"2026-11-01","2026-11-30",5550]
["97-0038","30","97-0038-300",{"$f":"IF(AND(Config!$B$13<=Tarifs!F4989,Config!$B$13>=Tarifs!E4989),1,0)","v":0},"2026-12-01","2026-12-31",5550]
["97-0038","30","97-0038-301",{"$f":"IF(AND(Config!$B$13<=Tarifs!F4990,Config!$B$13>=Tarifs!E4990),1,0)","v":1},"2026-01-01","2026-01-31",5250]
["97-0038","30","97-0038-300",{"$f":"IF(AND(Config!$B$13<=Tarifs!F4991,Config!$B$13>=Tarifs!E4991),1,0)","v":0},"2026-02-01","2026-02-28",5250]
["97-0038","30","97-0038-300",{"$f":"IF(AND(Config!$B$13<=Tarifs!F4992,Config!$B$13>=Tarifs!E4992),1,0)","v":0},"2026-03-01","2026-03-31",5250]
["97-0038","30","97-0038-300",{"$f":"IF(AND(Config!$B$13<=Tarifs!F4993,Config!$B$13>=Tarifs!E4993),1,0)","v":0},"2026-04-01","2026-04-30",5250]
["97-0038","20","97-0038-200",{"$f":"IF(AND(Config!$B$13<=Tarifs!F4994,Config!$B$13>=Tarifs!E4994),1,0)","v":0},"2026-05-01","2026-05-31",1435]
["97-0038","20",{"$f":"A4995&\"-\"&B4995&D4995","v":"97-0038-200"},{"$f":"IF(AND(Config!$B$13<=Tarifs!F4995,Config!$B$13>=Tarifs!E4995),1,0)","v":0},"2026-06-01","2026-06-30",1435]
["97-0038","20","97-0038-200",{"$f":"IF(AND(Config!$B$13<=Tarifs!F4996,Config!$B$13>=Tarifs!E4996),1,0)","v":0},"2026-07-01","2026-07-31",1435]
["97-0038","20","97-0038-200",{"$f":"IF(AND(Config!$B$13<=Tarifs!F4997,Config!$B$13>=Tarifs!E4997),1,0)","v":0},"2026-08-01","2026-08-31",1435]
["97-0038","20","97-0038-200",{"$f":"IF(AND(Config!$B$13<=Tarifs!F4998,Config!$B$13>=Tarifs!E4998),1,0)","v":0},"2026-09-01","2026-09-30",1435]
["97-0038","20","97-0038-200",{"$f":"IF(AND(Config!$B$13<=Tarifs!F4999,Config!$B$13>=Tarifs!E4999),1,0)","v":0},"2026-10-01","2026-10-31",1435]
["97-0038","20","97-0038-200",{"$f":"IF(AND(Config!$B$13<=Tarifs!F5000,Config!$B$13>=Tarifs!E5000),1,0)","v":0},"2026-11-01","2026-11-30",1295]
["97-0038","20","97-0038-200",{"$f":"IF(AND(Config!$B$13<=Tarifs!F5001,Config!$B$13>=Tarifs!E5001),1,0)","v":0},"2026-12-01","2026-12-31",1295]
["97-0038","20","97-0038-201",{"$f":"IF(AND(Config!$B$13<=Tarifs!F5002,Config!$B$13>=Tarifs!E5002),1,0)","v":1},"2026-01-01","2026-01-31",1225]
["97-0038","20","97-0038-200",{"$f":"IF(AND(Config!$B$13<=Tarifs!F5003,Config!$B$13>=Tarifs!E5003),1,0)","v":0},"2026-02-01","2026-02-28",1225]
["97-0038","20","97-0038-200",{"$f":"IF(AND(Config!$B$13<=Tarifs!F5004,Config!$B$13>=Tarifs!E5004),1,0)","v":0},"2026-03-01","2026-03-31",1225]
["97-0038","20","97-0038-200",{"$f":"IF(AND(Config!$B$13<=Tarifs!F5005,Config!$B$13>=Tarifs!E5005),1,0)","v":0},"2026-04-01","2026-04-30",1225]
["97-0038","10","97-0038-100",{"$f":"IF(AND(Config!$B$13<=Tarifs!F5006,Config!$B$13>=Tarifs!E5006),1,0)","v":0},"2026-05-01","2026-05-31",205]
["97-0038","10","97-0038-100",{"$f":"IF(AND(Config!$B$13<=Tarifs!F5007,Config!$B$13>=Tarifs!E5007),1,0)","v":0},"2026-06-01","2026-06-30",205]
["97-0038","10","97-0038-100",{"$f":"IF(AND(Config!$B$13<=Tarifs!F5008,Config!$B$13>=Tarifs!E5008),1,0)","v":0},"2026-07-01","2026-07-31",205]
["97-0038","10","97-0038-100",{"$f":"IF(AND(Config!$B$13<=Tarifs!F5009,Config!$B$13>=Tarifs!E5009),1,0)","v":0},"2026-08-01","2026-08-31",205]
["97-0038","10","97-0038-100",{"$f":"IF(AND(Config!$B$13<=Tarifs!F5010,Config!$B$13>=Tarifs!E5010),1,0)","v":0},"2026-09-01","2026-09-30",205]
["97-0038","10","97-0038-100",{"$f":"IF(AND(Config!$B$13<=Tarifs!F5011,Config!$B$13>=Tarifs!E5011),1,0)","v":0},"2026-10-01","2026-10-31",205]
["97-0038","10","97-0038-100",{"$f":"IF(AND(Config!$B$13<=Tarifs!F5012,Config!$B$13>=Tarifs!E5012),1,0)","v":0},"2026-11-01","2026-11-30",185]
["97-0038","10","97-0038-100",{"$f":"IF(AND(Config!$B$13<=Tarifs!F5013,Config!$B$13>=Tarifs!E5013),1,0)","v":0},"2026-12-01","2026-12-31",185]
["97-0038","10","97-0038-101",{"$f":"IF(AND(Config!$B$13<=Tarifs!F5014,Config!$B$13>=Tarifs!E5014),1,0)","v":1},"2026-01-01","2026-01-31",175]
["97-0038","10","97-0038-100",{"$f":"IF(AND(Config!$B$13<=Tarifs!F5015,Config!$B$13>=Tarifs!E5015),1,0)","v":0},"2026-02-01","2026-02-28",175]
["97-0038","10","97-0038-100",{"$f":"IF(AND(Config!$B$13<=Tarifs!F5016,Config!$B$13>=Tarifs!E5016),1,0)","v":0},"2026-03-01","2026-03-31",175]
["97-0038","10","97-0038-100",{"$f":"IF(AND(Config!$B$13<=Tarifs!F5017,Config!$B$13>=Tarifs!E5017),1,0)","v":0},"2026-04-01","2026-04-30",175]
["97-0045","30","97-0045-301",{"$f":"IF(AND(Config!$B$13<=Tarifs!F5018,Config!$B$13>=Tarifs!E5018),1,0)","v":1},"2026-01-01","2026-01-31",5850]
["97-0045","30","97-0045-300",{"$f":"IF(AND(Config!$B$13<=Tarifs!F5019,Config!$B$13>=Tarifs!E5019),1,0)","v":0},"2026-02-01","2026-02-28",5850]
["97-0045","30","97-0045-300",{"$f":"IF(AND(Config!$B$13<=Tarifs!F5020,Config!$B$13>=Tarifs!E5020),1,0)","v":0},"2026-03-01","2026-03-31",5850]
["97-0045","30","97-0045-300",{"$f":"IF(AND(Config!$B$13<=Tarifs!F5021,Config!$B$13>=Tarifs!E5021),1,0)","v":0},"2026-04-01","2026-04-30",5850]
["97-0045","30","97-0045-300",{"$f":"IF(AND(Config!$B$13<=Tarifs!F5022,Config!$B$13>=Tarifs!E5022),1,0)","v":0},"2026-05-01","2026-05-31",5850]
["97-0045","30","97-0045-300",{"$f":"IF(AND(Config!$B$13<=Tarifs!F5023,Config!$B$13>=Tarifs!E5023),1,0)","v":0},"2026-06-01","2026-06-30",5850]
["97-0045","30","97-0045-300",{"$f":"IF(AND(Config!$B$13<=Tarifs!F5024,Config!$B$13>=Tarifs!E5024),1,0)","v":0},"2026-07-01","2026-07-31",5850]
["97-0045","30","97-0045-300",{"$f":"IF(AND(Config!$B$13<=Tarifs!F5025,Config!$B$13>=Tarifs!E5025),1,0)","v":0},"2026-08-01","2026-08-31",5850]
["97-0045","30","97-0045-300",{"$f":"IF(AND(Config!$B$13<=Tarifs!F5026,Config!$B$13>=Tarifs!E5026),1,0)","v":0},"2026-09-01","2026-09-30",5850]
["97-0045","30","97-0045-300",{"$f":"IF(AND(Config!$B$13<=Tarifs!F5027,Config!$B$13>=Tarifs!E5027),1,0)","v":0},"2026-10-01","2026-10-31",5850]
["97-0045","30","97-0045-300",{"$f":"IF(AND(Config!$B$13<=Tarifs!F5028,Config!$B$13>=Tarifs!E5028),1,0)","v":0},"2026-11-01","2026-11-30",5850]
["97-0045","30","97-0045-300",{"$f":"IF(AND(Config!$B$13<=Tarifs!F5029,Config!$B$13>=Tarifs!E5029),1,0)","v":0},"2026-12-01","2026-12-31",5850]
["97-0045","20","97-0045-201",{"$f":"IF(AND(Config!$B$13<=Tarifs!F5030,Config!$B$13>=Tarifs!E5030),1,0)","v":1},"2026-01-01","2026-01-31",1365]
["97-0045","20","97-0045-200",{"$f":"IF(AND(Config!$B$13<=Tarifs!F5031,Config!$B$13>=Tarifs!E5031),1,0)","v":0},"2026-02-01","2026-02-28",1365]
["97-0045","20","97-0045-200",{"$f":"IF(AND(Config!$B$13<=Tarifs!F5032,Config!$B$13>=Tarifs!E5032),1,0)","v":0},"2026-03-01","2026-03-31",1365]
["97-0045","20","97-0045-200",{"$f":"IF(AND(Config!$B$13<=Tarifs!F5033,Config!$B$13>=Tarifs!E5033),1,0)","v":0},"2026-04-01","2026-04-30",1365]
["97-0045","20","97-0045-200",{"$f":"IF(AND(Config!$B$13<=Tarifs!F5034,Config!$B$13>=Tarifs!E5034),1,0)","v":0},"2026-05-01","2026-05-31",1365]
["97-0045","20","97-0045-200",{"$f":"IF(AND(Config!$B$13<=Tarifs!F5035,Config!$B$13>=Tarifs!E5035),1,0)","v":0},"2026-06-01","2026-06-30",1365]
["97-0045","20","97-0045-200",{"$f":"IF(AND(Config!$B$13<=Tarifs!F5036,Config!$B$13>=Tarifs!E5036),1,0)","v":0},"2026-07-01","2026-07-31",1365]
["97-0045","20","97-0045-200",{"$f":"IF(AND(Config!$B$13<=Tarifs!F5037,Config!$B$13>=Tarifs!E5037),1,0)","v":0},"2026-08-01","2026-08-31",1365]
["97-0045","20","97-0045-200",{"$f":"IF(AND(Config!$B$13<=Tarifs!F5038,Config!$B$13>=Tarifs!E5038),1,0)","v":0},"2026-09-01","2026-09-30",1365]
["97-0045","20","97-0045-200",{"$f":"IF(AND(Config!$B$13<=Tarifs!F5039,Config!$B$13>=Tarifs!E5039),1,0)","v":0},"2026-10-01","2026-10-31",1365]
["97-0045","20","97-0045-200",{"$f":"IF(AND(Config!$B$13<=Tarifs!F5040,Config!$B$13>=Tarifs!E5040),1,0)","v":0},"2026-11-01","2026-11-30",1365]
["97-0045","20","97-0045-200",{"$f":"IF(AND(Config!$B$13<=Tarifs!F5041,Config!$B$13>=Tarifs!E5041),1,0)","v":0},"2026-12-01","2026-12-31",1365]
["97-0045","10","97-0045-101",{"$f":"IF(AND(Config!$B$13<=Tarifs!F5042,Config!$B$13>=Tarifs!E5042),1,0)","v":1},"2026-01-01","2026-01-31",195]
["97-0045","10","97-0045-100",{"$f":"IF(AND(Config!$B$13<=Tarifs!F5043,Config!$B$13>=Tarifs!E5043),1,0)","v":0},"2026-02-01","2026-02-28",195]
["97-0045","10","97-0045-100",{"$f":"IF(AND(Config!$B$13<=Tarifs!F5044,Config!$B$13>=Tarifs!E5044),1,0)","v":0},"2026-03-01","2026-03-31",195]
["97-0045","10","97-0045-100",{"$f":"IF(AND(Config!$B$13<=Tarifs!F5045,Config!$B$13>=Tarifs!E5045),1,0)","v":0},"2026-04-01","2026-04-30",195]
["97-0045","10","97-0045-100",{"$f":"IF(AND(Config!$B$13<=Tarifs!F5046,Config!$B$13>=Tarifs!E5046),1,0)","v":0},"2026-05-01","2026-05-31",195]
["97-0045","10","97-0045-100",{"$f":"IF(AND(Config!$B$13<=Tarifs!F5047,Config!$B$13>=Tarifs!E5047),1,0)","v":0},"2026-06-01","2026-06-30",195]
["97-0045","10","97-0045-100",{"$f":"IF(AND(Config!$B$13<=Tarifs!F5048,Config!$B$13>=Tarifs!E5048),1,0)","v":0},"2026-07-01","2026-07-31",195]
["97-0045","10","97-0045-100",{"$f":"IF(AND(Config!$B$13<=Tarifs!F5049,Config!$B$13>=Tarifs!E5049),1,0)","v":0},"2026-08-01","2026-08-31",195]
["97-0045","10","97-0045-100",{"$f":"IF(AND(Config!$B$13<=Tarifs!F5050,Config!$B$13>=Tarifs!E5050),1,0)","v":0},"2026-09-01","2026-09-30",195]
["97-0045","10","97-0045-100",{"$f":"IF(AND(Config!$B$13<=Tarifs!F5051,Config!$B$13>=Tarifs!E5051),1,0)","v":0},"2026-10-01","2026-10-31",195]
["97-0045","10","97-0045-100",{"$f":"IF(AND(Config!$B$13<=Tarifs!F5052,Config!$B$13>=Tarifs!E5052),1,0)","v":0},"2026-11-01","2026-11-30",195]
["97-0045","10","97-0045-100",{"$f":"IF(AND(Config!$B$13<=Tarifs!F5053,Config!$B$13>=Tarifs!E5053),1,0)","v":0},"2026-12-01","2026-12-31",195]
["97-0052","30","97-0052-300",{"$f":"IF(AND(Config!$B$13<=Tarifs!F5054,Config!$B$13>=Tarifs!E5054),1,0)","v":0},"2026-07-01","2026-07-31",8970]
["97-0052","30","97-0052-300",{"$f":"IF(AND(Config!$B$13<=Tarifs!F5055,Config!$B$13>=Tarifs!E5055),1,0)","v":0},"2026-08-01","2026-08-31",8970]
["97-0052","30","97-0052-300",{"$f":"IF(AND(Config!$B$13<=Tarifs!F5056,Config!$B$13>=Tarifs!E5056),1,0)","v":0},"2026-04-01","2026-04-30",5370]
["97-0052","30","97-0052-300",{"$f":"IF(AND(Config!$B$13<=Tarifs!F5057,Config!$B$13>=Tarifs!E5057),1,0)","v":0},"2026-05-01","2026-05-31",5370]
["97-0052","30","97-0052-300",{"$f":"IF(AND(Config!$B$13<=Tarifs!F5058,Config!$B$13>=Tarifs!E5058),1,0)","v":0},"2026-06-01","2026-06-30",5370]
["97-0052","30",{"$f":"A5059&\"-\"&B5059&D5059","v":"97-0052-300"},{"$f":"IF(AND(Config!$B$13<=Tarifs!F5059,Config!$B$13>=Tarifs!E5059),1,0)","v":0},"2026-09-01","2026-09-30",5370]
["97-0052","30","97-0052-300",{"$f":"IF(AND(Config!$B$13<=Tarifs!F5060,Config!$B$13>=Tarifs!E5060),1,0)","v":0},"2026-10-01","2026-10-31",5370]
["97-0052","30","97-0052-301",{"$f":"IF(AND(Config!$B$13<=Tarifs!F5061,Config!$B$13>=Tarifs!E5061),1,0)","v":1},"2026-01-01","2026-01-31",4770]
["97-0052","30","97-0052-300",{"$f":"IF(AND(Config!$B$13<=Tarifs!F5062,Config!$B$13>=Tarifs!E5062),1,0)","v":0},"2026-02-01","2026-02-28",4770]
["97-0052","30","97-0052-300",{"$f":"IF(AND(Config!$B$13<=Tarifs!F5063,Config!$B$13>=Tarifs!E5063),1,0)","v":0},"2026-03-01","2026-03-31",4770]
["97-0052","30","97-0052-300",{"$f":"IF(AND(Config!$B$13<=Tarifs!F5064,Config!$B$13>=Tarifs!E5064),1,0)","v":0},"2026-11-01","2026-11-30",4770]
["97-0052","30","97-0052-300",{"$f":"IF(AND(Config!$B$13<=Tarifs!F5065,Config!$B$13>=Tarifs!E5065),1,0)","v":0},"2026-12-01","2026-12-31",4770]
["97-0052","20","97-0052-200",{"$f":"IF(AND(Config!$B$13<=Tarifs!F5066,Config!$B$13>=Tarifs!E5066),1,0)","v":0},"2026-07-01","2026-07-31",2093]
["97-0052","20","97-0052-200",{"$f":"IF(AND(Config!$B$13<=Tarifs!F5067,Config!$B$13>=Tarifs!E5067),1,0)","v":0},"2026-08-01","2026-08-31",2093]
["97-0052","20","97-0052-200",{"$f":"IF(AND(Config!$B$13<=Tarifs!F5068,Config!$B$13>=Tarifs!E5068),1,0)","v":0},"2026-04-01","2026-04-30",1253]
["97-0052","20","97-0052-200",{"$f":"IF(AND(Config!$B$13<=Tarifs!F5069,Config!$B$13>=Tarifs!E5069),1,0)","v":0},"2026-05-01","2026-05-31",1253]
["97-0052","20","97-0052-200",{"$f":"IF(AND(Config!$B$13<=Tarifs!F5070,Config!$B$13>=Tarifs!E5070),1,0)","v":0},"2026-06-01","2026-06-30",1253]
["97-0052","20","97-0052-200",{"$f":"IF(AND(Config!$B$13<=Tarifs!F5071,Config!$B$13>=Tarifs!E5071),1,0)","v":0},"2026-09-01","2026-09-30",1253]
["97-0052","20","97-0052-200",{"$f":"IF(AND(Config!$B$13<=Tarifs!F5072,Config!$B$13>=Tarifs!E5072),1,0)","v":0},"2026-10-01","2026-10-31",1253]
["97-0052","20","97-0052-201",{"$f":"IF(AND(Config!$B$13<=Tarifs!F5073,Config!$B$13>=Tarifs!E5073),1,0)","v":1},"2026-01-01","2026-01-31",1113]
["97-0052","20","97-0052-200",{"$f":"IF(AND(Config!$B$13<=Tarifs!F5074,Config!$B$13>=Tarifs!E5074),1,0)","v":0},"2026-02-01","2026-02-28",1113]
["97-0052","20","97-0052-200",{"$f":"IF(AND(Config!$B$13<=Tarifs!F5075,Config!$B$13>=Tarifs!E5075),1,0)","v":0},"2026-03-01","2026-03-31",1113]
["97-0052","20","97-0052-200",{"$f":"IF(AND(Config!$B$13<=Tarifs!F5076,Config!$B$13>=Tarifs!E5076),1,0)","v":0},"2026-11-01","2026-11-30",1113]
["97-0052","20","97-0052-200",{"$f":"IF(AND(Config!$B$13<=Tarifs!F5077,Config!$B$13>=Tarifs!E5077),1,0)","v":0},"2026-12-01","2026-12-31",1113]
["97-0052","10","97-0052-100",{"$f":"IF(AND(Config!$B$13<=Tarifs!F5078,Config!$B$13>=Tarifs!E5078),1,0)","v":0},"2026-07-01","2026-07-31",299]
["97-0052","10","97-0052-100",{"$f":"IF(AND(Config!$B$13<=Tarifs!F5079,Config!$B$13>=Tarifs!E5079),1,0)","v":0},"2026-08-01","2026-08-31",299]
["97-0052","10","97-0052-100",{"$f":"IF(AND(Config!$B$13<=Tarifs!F5080,Config!$B$13>=Tarifs!E5080),1,0)","v":0},"2026-04-01","2026-04-30",179]
["97-0052","10","97-0052-100",{"$f":"IF(AND(Config!$B$13<=Tarifs!F5081,Config!$B$13>=Tarifs!E5081),1,0)","v":0},"2026-05-01","2026-05-31",179]
["97-0052","10","97-0052-100",{"$f":"IF(AND(Config!$B$13<=Tarifs!F5082,Config!$B$13>=Tarifs!E5082),1,0)","v":0},"2026-06-01","2026-06-30",179]
["97-0052","10","97-0052-100",{"$f":"IF(AND(Config!$B$13<=Tarifs!F5083,Config!$B$13>=Tarifs!E5083),1,0)","v":0},"2026-09-01","2026-09-30",179]
["97-0052","10","97-0052-100",{"$f":"IF(AND(Config!$B$13<=Tarifs!F5084,Config!$B$13>=Tarifs!E5084),1,0)","v":0},"2026-10-01","2026-10-31",179]
["97-0052","10","97-0052-101",{"$f":"IF(AND(Config!$B$13<=Tarifs!F5085,Config!$B$13>=Tarifs!E5085),1,0)","v":1},"2026-01-01","2026-01-31",159]
["97-0052","10","97-0052-100",{"$f":"IF(AND(Config!$B$13<=Tarifs!F5086,Config!$B$13>=Tarifs!E5086),1,0)","v":0},"2026-02-01","2026-02-28",159]
["97-0052","10","97-0052-100",{"$f":"IF(AND(Config!$B$13<=Tarifs!F5087,Config!$B$13>=Tarifs!E5087),1,0)","v":0},"2026-03-01","2026-03-31",159]
["97-0052","10","97-0052-100",{"$f":"IF(AND(Config!$B$13<=Tarifs!F5088,Config!$B$13>=Tarifs!E5088),1,0)","v":0},"2026-11-01","2026-11-30",159]
["97-0052","10","97-0052-100",{"$f":"IF(AND(Config!$B$13<=Tarifs!F5089,Config!$B$13>=Tarifs!E5089),1,0)","v":0},"2026-12-01","2026-12-31",159]
["97-0054","30","97-0054-300",{"$f":"IF(AND(Config!$B$13<=Tarifs!F5090,Config!$B$13>=Tarifs!E5090),1,0)","v":0},"2026-08-01","2026-08-31",5790]
["97-0054","30","97-0054-300",{"$f":"IF(AND(Config!$B$13<=Tarifs!F5091,Config!$B$13>=Tarifs!E5091),1,0)","v":0},"2026-09-01","2026-09-30",5790]
["97-0054","30","97-0054-300",{"$f":"IF(AND(Config!$B$13<=Tarifs!F5092,Config!$B$13>=Tarifs!E5092),1,0)","v":0},"2026-10-01","2026-10-31",5790]
["97-0054","30","97-0054-300",{"$f":"IF(AND(Config!$B$13<=Tarifs!F5093,Config!$B$13>=Tarifs!E5093),1,0)","v":0},"2026-11-01","2026-11-30",5790]
["97-0054","30","97-0054-300",{"$f":"IF(AND(Config!$B$13<=Tarifs!F5094,Config!$B$13>=Tarifs!E5094),1,0)","v":0},"2026-12-01","2026-12-31",5790]
["97-0054","30","97-0054-301",{"$f":"IF(AND(Config!$B$13<=Tarifs!F5095,Config!$B$13>=Tarifs!E5095),1,0)","v":1},"2026-01-01","2026-01-31",5790]
["97-0054","30","97-0054-300",{"$f":"IF(AND(Config!$B$13<=Tarifs!F5096,Config!$B$13>=Tarifs!E5096),1,0)","v":0},"2026-02-01","2026-02-28",5790]
["97-0054","30","97-0054-300",{"$f":"IF(AND(Config!$B$13<=Tarifs!F5097,Config!$B$13>=Tarifs!E5097),1,0)","v":0},"2026-03-01","2026-03-31",5790]
["97-0054","30","97-0054-300",{"$f":"IF(AND(Config!$B$13<=Tarifs!F5098,Config!$B$13>=Tarifs!E5098),1,0)","v":0},"2026-04-01","2026-04-30",5790]
["97-0054","30","97-0054-300",{"$f":"IF(AND(Config!$B$13<=Tarifs!F5099,Config!$B$13>=Tarifs!E5099),1,0)","v":0},"2026-05-01","2026-05-31",5790]
["97-0054","30","97-0054-300",{"$f":"IF(AND(Config!$B$13<=Tarifs!F5100,Config!$B$13>=Tarifs!E5100),1,0)","v":0},"2026-06-01","2026-06-30",5790]
["97-0054","30","97-0054-300",{"$f":"IF(AND(Config!$B$13<=Tarifs!F5101,Config!$B$13>=Tarifs!E5101),1,0)","v":0},"2026-07-01","2026-07-31",5790]
["97-0054","20","97-0054-200",{"$f":"IF(AND(Config!$B$13<=Tarifs!F5102,Config!$B$13>=Tarifs!E5102),1,0)","v":0},"2026-09-01","2026-09-30",1351]
["97-0054","20","97-0054-200",{"$f":"IF(AND(Config!$B$13<=Tarifs!F5103,Config!$B$13>=Tarifs!E5103),1,0)","v":0},"2026-10-01","2026-10-31",1351]
["97-0054","20","97-0054-200",{"$f":"IF(AND(Config!$B$13<=Tarifs!F5104,Config!$B$13>=Tarifs!E5104),1,0)","v":0},"2026-11-01","2026-11-30",1351]
["97-0054","20","97-0054-200",{"$f":"IF(AND(Config!$B$13<=Tarifs!F5105,Config!$B$13>=Tarifs!E5105),1,0)","v":0},"2026-12-01","2026-12-31",1351]
["97-0054","20","97-0054-201",{"$f":"IF(AND(Config!$B$13<=Tarifs!F5106,Config!$B$13>=Tarifs!E5106),1,0)","v":1},"2026-01-01","2026-01-31",1351]
["97-0054","20","97-0054-200",{"$f":"IF(AND(Config!$B$13<=Tarifs!F5107,Config!$B$13>=Tarifs!E5107),1,0)","v":0},"2026-02-01","2026-02-28",1351]
["97-0054","20","97-0054-200",{"$f":"IF(AND(Config!$B$13<=Tarifs!F5108,Config!$B$13>=Tarifs!E5108),1,0)","v":0},"2026-03-01","2026-03-31",1351]
["97-0054","20","97-0054-200",{"$f":"IF(AND(Config!$B$13<=Tarifs!F5109,Config!$B$13>=Tarifs!E5109),1,0)","v":0},"2026-04-01","2026-04-30",1351]
["97-0054","20","97-0054-200",{"$f":"IF(AND(Config!$B$13<=Tarifs!F5110,Config!$B$13>=Tarifs!E5110),1,0)","v":0},"2026-05-01","2026-05-31",1351]
["97-0054","20","97-0054-200",{"$f":"IF(AND(Config!$B$13<=Tarifs!F5111,Config!$B$13>=Tarifs!E5111),1,0)","v":0},"2026-06-01","2026-06-30",1351]
["97-0054","20","97-0054-200",{"$f":"IF(AND(Config!$B$13<=Tarifs!F5112,Config!$B$13>=Tarifs!E5112),1,0)","v":0},"2026-07-01","2026-07-31",1351]
["97-0054","20","97-0054-200",{"$f":"IF(AND(Config!$B$13<=Tarifs!F5113,Config!$B$13>=Tarifs!E5113),1,0)","v":0},"2026-08-01","2026-08-31",1351]
["97-0054","10","97-0054-100",{"$f":"IF(AND(Config!$B$13<=Tarifs!F5114,Config!$B$13>=Tarifs!E5114),1,0)","v":0},"2026-09-01","2026-09-30",193]
["97-0054","10","97-0054-100",{"$f":"IF(AND(Config!$B$13<=Tarifs!F5115,Config!$B$13>=Tarifs!E5115),1,0)","v":0},"2026-10-01","2026-10-31",193]
["97-0054","10","97-0054-100",{"$f":"IF(AND(Config!$B$13<=Tarifs!F5116,Config!$B$13>=Tarifs!E5116),1,0)","v":0},"2026-11-01","2026-11-30",193]
["97-0054","10","97-0054-100",{"$f":"IF(AND(Config!$B$13<=Tarifs!F5117,Config!$B$13>=Tarifs!E5117),1,0)","v":0},"2026-12-01","2026-12-31",193]
["97-0054","10","97-0054-101",{"$f":"IF(AND(Config!$B$13<=Tarifs!F5118,Config!$B$13>=Tarifs!E5118),1,0)","v":1},"2026-01-01","2026-01-31",193]
["97-0054","10","97-0054-100",{"$f":"IF(AND(Config!$B$13<=Tarifs!F5119,Config!$B$13>=Tarifs!E5119),1,0)","v":0},"2026-02-01","2026-02-28",193]
["97-0054","10","97-0054-100",{"$f":"IF(AND(Config!$B$13<=Tarifs!F5120,Config!$B$13>=Tarifs!E5120),1,0)","v":0},"2026-03-01","2026-03-31",193]
["97-0054","10","97-0054-100",{"$f":"IF(AND(Config!$B$13<=Tarifs!F5121,Config!$B$13>=Tarifs!E5121),1,0)","v":0},"2026-04-01","2026-04-30",193]
["97-0054","10","97-0054-100",{"$f":"IF(AND(Config!$B$13<=Tarifs!F5122,Config!$B$13>=Tarifs!E5122),1,0)","v":0},"2026-05-01","2026-05-31",193]
["97-0054","10",{"$f":"A5123&\"-\"&B5123&D5123","v":"97-0054-100"},{"$f":"IF(AND(Config!$B$13<=Tarifs!F5123,Config!$B$13>=Tarifs!E5123),1,0)","v":0},"2026-06-01","2026-06-30",193]
["97-0054","10","97-0054-100",{"$f":"IF(AND(Config!$B$13<=Tarifs!F5124,Config!$B$13>=Tarifs!E5124),1,0)","v":0},"2026-07-01","2026-07-31",193]
["97-0054","10","97-0054-100",{"$f":"IF(AND(Config!$B$13<=Tarifs!F5125,Config!$B$13>=Tarifs!E5125),1,0)","v":0},"2026-08-01","2026-08-31",193]
["97-0058","30","97-0058-300",{"$f":"IF(AND(Config!$B$13<=Tarifs!F5126,Config!$B$13>=Tarifs!E5126),1,0)","v":0},"2026-07-01","2026-07-31",5370]
["97-0058","30","97-0058-300",{"$f":"IF(AND(Config!$B$13<=Tarifs!F5127,Config!$B$13>=Tarifs!E5127),1,0)","v":0},"2026-08-01","2026-08-31",5370]
["97-0058","30","97-0058-300",{"$f":"IF(AND(Config!$B$13<=Tarifs!F5128,Config!$B$13>=Tarifs!E5128),1,0)","v":0},"2026-06-01","2026-06-30",3150]
["97-0058","30","97-0058-300",{"$f":"IF(AND(Config!$B$13<=Tarifs!F5129,Config!$B$13>=Tarifs!E5129),1,0)","v":0},"2026-09-01","2026-09-30",3150]
["97-0058","30","97-0058-300",{"$f":"IF(AND(Config!$B$13<=Tarifs!F5130,Config!$B$13>=Tarifs!E5130),1,0)","v":0},"2026-10-01","2026-10-31",3150]
["97-0058","30","97-0058-300",{"$f":"IF(AND(Config!$B$13<=Tarifs!F5131,Config!$B$13>=Tarifs!E5131),1,0)","v":0},"2026-11-01","2026-11-30",3150]
["97-0058","30","97-0058-300",{"$f":"IF(AND(Config!$B$13<=Tarifs!F5132,Config!$B$13>=Tarifs!E5132),1,0)","v":0},"2026-12-01","2026-12-31",3150]
["97-0058","30","97-0058-301",{"$f":"IF(AND(Config!$B$13<=Tarifs!F5133,Config!$B$13>=Tarifs!E5133),1,0)","v":1},"2026-01-01","2026-01-31",3060]
["97-0058","30","97-0058-300",{"$f":"IF(AND(Config!$B$13<=Tarifs!F5134,Config!$B$13>=Tarifs!E5134),1,0)","v":0},"2026-02-01","2026-02-28",3060]
["97-0058","30","97-0058-300",{"$f":"IF(AND(Config!$B$13<=Tarifs!F5135,Config!$B$13>=Tarifs!E5135),1,0)","v":0},"2026-03-01","2026-03-31",3060]
["97-0058","30","97-0058-300",{"$f":"IF(AND(Config!$B$13<=Tarifs!F5136,Config!$B$13>=Tarifs!E5136),1,0)","v":0},"2026-04-01","2026-04-30",3060]
["97-0058","30","97-0058-300",{"$f":"IF(AND(Config!$B$13<=Tarifs!F5137,Config!$B$13>=Tarifs!E5137),1,0)","v":0},"2026-05-01","2026-05-31",3060]
["97-0058","20","97-0058-200",{"$f":"IF(AND(Config!$B$13<=Tarifs!F5138,Config!$B$13>=Tarifs!E5138),1,0)","v":0},"2026-07-01","2026-07-31",1253]
["97-0058","20","97-0058-200",{"$f":"IF(AND(Config!$B$13<=Tarifs!F5139,Config!$B$13>=Tarifs!E5139),1,0)","v":0},"2026-08-01","2026-08-31",1253]
["97-0058","20","97-0058-200",{"$f":"IF(AND(Config!$B$13<=Tarifs!F5140,Config!$B$13>=Tarifs!E5140),1,0)","v":0},"2026-06-01","2026-06-30",735]
["97-0058","20","97-0058-200",{"$f":"IF(AND(Config!$B$13<=Tarifs!F5141,Config!$B$13>=Tarifs!E5141),1,0)","v":0},"2026-09-01","2026-09-30",735]
["97-0058","20","97-0058-200",{"$f":"IF(AND(Config!$B$13<=Tarifs!F5142,Config!$B$13>=Tarifs!E5142),1,0)","v":0},"2026-10-01","2026-10-31",735]
["97-0058","20","97-0058-200",{"$f":"IF(AND(Config!$B$13<=Tarifs!F5143,Config!$B$13>=Tarifs!E5143),1,0)","v":0},"2026-11-01","2026-11-30",735]
["97-0058","20","97-0058-200",{"$f":"IF(AND(Config!$B$13<=Tarifs!F5144,Config!$B$13>=Tarifs!E5144),1,0)","v":0},"2026-12-01","2026-12-31",735]
["97-0058","20","97-0058-201",{"$f":"IF(AND(Config!$B$13<=Tarifs!F5145,Config!$B$13>=Tarifs!E5145),1,0)","v":1},"2026-01-01","2026-01-31",714]
["97-0058","20","97-0058-200",{"$f":"IF(AND(Config!$B$13<=Tarifs!F5146,Config!$B$13>=Tarifs!E5146),1,0)","v":0},"2026-02-01","2026-02-28",714]
["97-0058","20","97-0058-200",{"$f":"IF(AND(Config!$B$13<=Tarifs!F5147,Config!$B$13>=Tarifs!E5147),1,0)","v":0},"2026-03-01","2026-03-31",714]
["97-0058","20","97-0058-200",{"$f":"IF(AND(Config!$B$13<=Tarifs!F5148,Config!$B$13>=Tarifs!E5148),1,0)","v":0},"2026-04-01","2026-04-30",714]
["97-0058","20","97-0058-200",{"$f":"IF(AND(Config!$B$13<=Tarifs!F5149,Config!$B$13>=Tarifs!E5149),1,0)","v":0},"2026-05-01","2026-05-31",714]
["97-0058","10","97-0058-100",{"$f":"IF(AND(Config!$B$13<=Tarifs!F5150,Config!$B$13>=Tarifs!E5150),1,0)","v":0},"2026-07-01","2026-07-31",179]
["97-0058","10","97-0058-100",{"$f":"IF(AND(Config!$B$13<=Tarifs!F5151,Config!$B$13>=Tarifs!E5151),1,0)","v":0},"2026-08-01","2026-08-31",179]
["97-0058","10","97-0058-100",{"$f":"IF(AND(Config!$B$13<=Tarifs!F5152,Config!$B$13>=Tarifs!E5152),1,0)","v":0},"2026-06-01","2026-06-30",105]
["97-0058","10","97-0058-100",{"$f":"IF(AND(Config!$B$13<=Tarifs!F5153,Config!$B$13>=Tarifs!E5153),1,0)","v":0},"2026-09-01","2026-09-30",105]
["97-0058","10","97-0058-100",{"$f":"IF(AND(Config!$B$13<=Tarifs!F5154,Config!$B$13>=Tarifs!E5154),1,0)","v":0},"2026-10-01","2026-10-31",105]
["97-0058","10","97-0058-100",{"$f":"IF(AND(Config!$B$13<=Tarifs!F5155,Config!$B$13>=Tarifs!E5155),1,0)","v":0},"2026-11-01","2026-11-30",105]
["97-0058","10","97-0058-100",{"$f":"IF(AND(Config!$B$13<=Tarifs!F5156,Config!$B$13>=Tarifs!E5156),1,0)","v":0},"2026-12-01","2026-12-31",105]
["97-0058","10","97-0058-101",{"$f":"IF(AND(Config!$B$13<=Tarifs!F5157,Config!$B$13>=Tarifs!E5157),1,0)","v":1},"2026-01-01","2026-01-31",102]
["97-0058","10","97-0058-100",{"$f":"IF(AND(Config!$B$13<=Tarifs!F5158,Config!$B$13>=Tarifs!E5158),1,0)","v":0},"2026-02-01","2026-02-28",102]
["97-0058","10","97-0058-100",{"$f":"IF(AND(Config!$B$13<=Tarifs!F5159,Config!$B$13>=Tarifs!E5159),1,0)","v":0},"2026-03-01","2026-03-31",102]
["97-0058","10","97-0058-100",{"$f":"IF(AND(Config!$B$13<=Tarifs!F5160,Config!$B$13>=Tarifs!E5160),1,0)","v":0},"2026-04-01","2026-04-30",102]
["97-0058","10","97-0058-100",{"$f":"IF(AND(Config!$B$13<=Tarifs!F5161,Config!$B$13>=Tarifs!E5161),1,0)","v":0},"2026-05-01","2026-05-31",102]
["97-0060","30","97-0060-300",{"$f":"IF(AND(Config!$B$13<=Tarifs!F5162,Config!$B$13>=Tarifs!E5162),1,0)","v":0},"2026-05-01","2026-05-31",6570]
["97-0060","30","97-0060-300",{"$f":"IF(AND(Config!$B$13<=Tarifs!F5163,Config!$B$13>=Tarifs!E5163),1,0)","v":0},"2026-06-01","2026-06-30",6570]
["97-0060","30","97-0060-300",{"$f":"IF(AND(Config!$B$13<=Tarifs!F5164,Config!$B$13>=Tarifs!E5164),1,0)","v":0},"2026-09-01","2026-09-30",6570]
["97-0060","30","97-0060-300",{"$f":"IF(AND(Config!$B$13<=Tarifs!F5165,Config!$B$13>=Tarifs!E5165),1,0)","v":0},"2026-10-01","2026-10-31",6570]
["97-0060","30","97-0060-300",{"$f":"IF(AND(Config!$B$13<=Tarifs!F5166,Config!$B$13>=Tarifs!E5166),1,0)","v":0},"2026-11-01","2026-11-30",6570]
["97-0060","30","97-0060-300",{"$f":"IF(AND(Config!$B$13<=Tarifs!F5167,Config!$B$13>=Tarifs!E5167),1,0)","v":0},"2026-07-01","2026-07-31",6270]
["97-0060","30","97-0060-300",{"$f":"IF(AND(Config!$B$13<=Tarifs!F5168,Config!$B$13>=Tarifs!E5168),1,0)","v":0},"2026-08-01","2026-08-31",6270]
["97-0060","30","97-0060-300",{"$f":"IF(AND(Config!$B$13<=Tarifs!F5169,Config!$B$13>=Tarifs!E5169),1,0)","v":0},"2026-12-01","2026-12-31",5970]
["97-0060","30","97-0060-301",{"$f":"IF(AND(Config!$B$13<=Tarifs!F5170,Config!$B$13>=Tarifs!E5170),1,0)","v":1},"2026-01-01","2026-01-31",5850]
["97-0060","30","97-0060-300",{"$f":"IF(AND(Config!$B$13<=Tarifs!F5171,Config!$B$13>=Tarifs!E5171),1,0)","v":0},"2026-02-01","2026-02-28",5850]
["97-0060","30","97-0060-300",{"$f":"IF(AND(Config!$B$13<=Tarifs!F5172,Config!$B$13>=Tarifs!E5172),1,0)","v":0},"2026-03-01","2026-03-31",5850]
["97-0060","30","97-0060-300",{"$f":"IF(AND(Config!$B$13<=Tarifs!F5173,Config!$B$13>=Tarifs!E5173),1,0)","v":0},"2026-04-01","2026-04-30",5850]
["97-0060","20","97-0060-200",{"$f":"IF(AND(Config!$B$13<=Tarifs!F5174,Config!$B$13>=Tarifs!E5174),1,0)","v":0},"2026-05-01","2026-05-31",1533]
["97-0060","20","97-0060-200",{"$f":"IF(AND(Config!$B$13<=Tarifs!F5175,Config!$B$13>=Tarifs!E5175),1,0)","v":0},"2026-06-01","2026-06-30",1533]
["97-0060","20","97-0060-200",{"$f":"IF(AND(Config!$B$13<=Tarifs!F5176,Config!$B$13>=Tarifs!E5176),1,0)","v":0},"2026-09-01","2026-09-30",1533]
["97-0060","20","97-0060-200",{"$f":"IF(AND(Config!$B$13<=Tarifs!F5177,Config!$B$13>=Tarifs!E5177),1,0)","v":0},"2026-10-01","2026-10-31",1533]
["97-0060","20","97-0060-200",{"$f":"IF(AND(Config!$B$13<=Tarifs!F5178,Config!$B$13>=Tarifs!E5178),1,0)","v":0},"2026-11-01","2026-11-30",1533]
["97-0060","20","97-0060-200",{"$f":"IF(AND(Config!$B$13<=Tarifs!F5179,Config!$B$13>=Tarifs!E5179),1,0)","v":0},"2026-07-01","2026-07-31",1463]
["97-0060","20","97-0060-200",{"$f":"IF(AND(Config!$B$13<=Tarifs!F5180,Config!$B$13>=Tarifs!E5180),1,0)","v":0},"2026-08-01","2026-08-31",1463]
["97-0060","20","97-0060-201",{"$f":"IF(AND(Config!$B$13<=Tarifs!F5181,Config!$B$13>=Tarifs!E5181),1,0)","v":1},"2026-01-01","2026-01-31",1365]
["97-0060","20","97-0060-200",{"$f":"IF(AND(Config!$B$13<=Tarifs!F5182,Config!$B$13>=Tarifs!E5182),1,0)","v":0},"2026-02-01","2026-02-28",1365]
["97-0060","20","97-0060-200",{"$f":"IF(AND(Config!$B$13<=Tarifs!F5183,Config!$B$13>=Tarifs!E5183),1,0)","v":0},"2026-03-01","2026-03-31",1365]
["97-0060","20","97-0060-200",{"$f":"IF(AND(Config!$B$13<=Tarifs!F5184,Config!$B$13>=Tarifs!E5184),1,0)","v":0},"2026-04-01","2026-04-30",1365]
["97-0060","20","97-0060-200",{"$f":"IF(AND(Config!$B$13<=Tarifs!F5185,Config!$B$13>=Tarifs!E5185),1,0)","v":0},"2026-12-01","2026-12-31",1365]
["97-0060","10","97-0060-100",{"$f":"IF(AND(Config!$B$13<=Tarifs!F5186,Config!$B$13>=Tarifs!E5186),1,0)","v":0},"2026-05-01","2026-05-31",219]
["97-0060","10",{"$f":"A5187&\"-\"&B5187&D5187","v":"97-0060-100"},{"$f":"IF(AND(Config!$B$13<=Tarifs!F5187,Config!$B$13>=Tarifs!E5187),1,0)","v":0},"2026-06-01","2026-06-30",219]
["97-0060","10","97-0060-100",{"$f":"IF(AND(Config!$B$13<=Tarifs!F5188,Config!$B$13>=Tarifs!E5188),1,0)","v":0},"2026-09-01","2026-09-30",219]
["97-0060","10","97-0060-100",{"$f":"IF(AND(Config!$B$13<=Tarifs!F5189,Config!$B$13>=Tarifs!E5189),1,0)","v":0},"2026-10-01","2026-10-31",219]
["97-0060","10","97-0060-100",{"$f":"IF(AND(Config!$B$13<=Tarifs!F5190,Config!$B$13>=Tarifs!E5190),1,0)","v":0},"2026-11-01","2026-11-30",219]
["97-0060","10","97-0060-100",{"$f":"IF(AND(Config!$B$13<=Tarifs!F5191,Config!$B$13>=Tarifs!E5191),1,0)","v":0},"2026-07-01","2026-07-31",209]
["97-0060","10","97-0060-100",{"$f":"IF(AND(Config!$B$13<=Tarifs!F5192,Config!$B$13>=Tarifs!E5192),1,0)","v":0},"2026-08-01","2026-08-31",209]
["97-0060","10","97-0060-100",{"$f":"IF(AND(Config!$B$13<=Tarifs!F5193,Config!$B$13>=Tarifs!E5193),1,0)","v":0},"2026-12-01","2026-12-31",199]
["97-0060","10","97-0060-101",{"$f":"IF(AND(Config!$B$13<=Tarifs!F5194,Config!$B$13>=Tarifs!E5194),1,0)","v":1},"2026-01-01","2026-01-31",195]
["97-0060","10","97-0060-100",{"$f":"IF(AND(Config!$B$13<=Tarifs!F5195,Config!$B$13>=Tarifs!E5195),1,0)","v":0},"2026-02-01","2026-02-28",195]
["97-0060","10","97-0060-100",{"$f":"IF(AND(Config!$B$13<=Tarifs!F5196,Config!$B$13>=Tarifs!E5196),1,0)","v":0},"2026-03-01","2026-03-31",195]
["97-0060","10","97-0060-100",{"$f":"IF(AND(Config!$B$13<=Tarifs!F5197,Config!$B$13>=Tarifs!E5197),1,0)","v":0},"2026-04-01","2026-04-30",195]
["97-0067","30","97-0067-300",{"$f":"IF(AND(Config!$B$13<=Tarifs!F5198,Config!$B$13>=Tarifs!E5198),1,0)","v":0},"2026-05-01","2026-05-31",5850]
["97-0067","30","97-0067-300",{"$f":"IF(AND(Config!$B$13<=Tarifs!F5199,Config!$B$13>=Tarifs!E5199),1,0)","v":0},"2026-06-01","2026-06-30",5850]
["97-0067","30","97-0067-300",{"$f":"IF(AND(Config!$B$13<=Tarifs!F5200,Config!$B$13>=Tarifs!E5200),1,0)","v":0},"2026-07-01","2026-07-31",5850]
["97-0067","30","97-0067-300",{"$f":"IF(AND(Config!$B$13<=Tarifs!F5201,Config!$B$13>=Tarifs!E5201),1,0)","v":0},"2026-08-01","2026-08-31",5850]
["97-0067","30","97-0067-300",{"$f":"IF(AND(Config!$B$13<=Tarifs!F5202,Config!$B$13>=Tarifs!E5202),1,0)","v":0},"2026-09-01","2026-09-30",5850]
["97-0067","30","97-0067-300",{"$f":"IF(AND(Config!$B$13<=Tarifs!F5203,Config!$B$13>=Tarifs!E5203),1,0)","v":0},"2026-10-01","2026-10-31",5850]
["97-0067","30","97-0067-300",{"$f":"IF(AND(Config!$B$13<=Tarifs!F5204,Config!$B$13>=Tarifs!E5204),1,0)","v":0},"2026-11-01","2026-11-30",4650]
["97-0067","30","97-0067-300",{"$f":"IF(AND(Config!$B$13<=Tarifs!F5205,Config!$B$13>=Tarifs!E5205),1,0)","v":0},"2026-04-01","2026-04-30",4350]
["97-0067","30","97-0067-300",{"$f":"IF(AND(Config!$B$13<=Tarifs!F5206,Config!$B$13>=Tarifs!E5206),1,0)","v":0},"2026-12-01","2026-12-31",3870]
["97-0067","30","97-0067-301",{"$f":"IF(AND(Config!$B$13<=Tarifs!F5207,Config!$B$13>=Tarifs!E5207),1,0)","v":1},"2026-01-01","2026-01-31",3750]
["97-0067","30","97-0067-300",{"$f":"IF(AND(Config!$B$13<=Tarifs!F5208,Config!$B$13>=Tarifs!E5208),1,0)","v":0},"2026-02-01","2026-02-28",3750]
["97-0067","30","97-0067-300",{"$f":"IF(AND(Config!$B$13<=Tarifs!F5209,Config!$B$13>=Tarifs!E5209),1,0)","v":0},"2026-03-01","2026-03-31",3750]
["97-0067","20","97-0067-200",{"$f":"IF(AND(Config!$B$13<=Tarifs!F5210,Config!$B$13>=Tarifs!E5210),1,0)","v":0},"2026-05-01","2026-05-31",1365]
["97-0067","20","97-0067-200",{"$f":"IF(AND(Config!$B$13<=Tarifs!F5211,Config!$B$13>=Tarifs!E5211),1,0)","v":0},"2026-06-01","2026-06-30",1365]
["97-0067","20","97-0067-200",{"$f":"IF(AND(Config!$B$13<=Tarifs!F5212,Config!$B$13>=Tarifs!E5212),1,0)","v":0},"2026-07-01","2026-07-31",1365]
["97-0067","20","97-0067-200",{"$f":"IF(AND(Config!$B$13<=Tarifs!F5213,Config!$B$13>=Tarifs!E5213),1,0)","v":0},"2026-08-01","2026-08-31",1365]
["97-0067","20","97-0067-200",{"$f":"IF(AND(Config!$B$13<=Tarifs!F5214,Config!$B$13>=Tarifs!E5214),1,0)","v":0},"2026-09-01","2026-09-30",1365]
["97-0067","20","97-0067-200",{"$f":"IF(AND(Config!$B$13<=Tarifs!F5215,Config!$B$13>=Tarifs!E5215),1,0)","v":0},"2026-10-01","2026-10-31",1365]
["97-0067","20","97-0067-200",{"$f":"IF(AND(Config!$B$13<=Tarifs!F5216,Config!$B$13>=Tarifs!E5216),1,0)","v":0},"2026-11-01","2026-11-30",1085]
["97-0067","20","97-0067-200",{"$f":"IF(AND(Config!$B$13<=Tarifs!F5217,Config!$B$13>=Tarifs!E5217),1,0)","v":0},"2026-04-01","2026-04-30",1015]
["97-0067","20","97-0067-200",{"$f":"IF(AND(Config!$B$13<=Tarifs!F5218,Config!$B$13>=Tarifs!E5218),1,0)","v":0},"2026-12-01","2026-12-31",903]
["97-0067","20","97-0067-201",{"$f":"IF(AND(Config!$B$13<=Tarifs!F5219,Config!$B$13>=Tarifs!E5219),1,0)","v":1},"2026-01-01","2026-01-31",875]
["97-0067","20","97-0067-200",{"$f":"IF(AND(Config!$B$13<=Tarifs!F5220,Config!$B$13>=Tarifs!E5220),1,0)","v":0},"2026-02-01","2026-02-28",875]
["97-0067","20","97-0067-200",{"$f":"IF(AND(Config!$B$13<=Tarifs!F5221,Config!$B$13>=Tarifs!E5221),1,0)","v":0},"2026-03-01","2026-03-31",875]
["97-0067","10","97-0067-100",{"$f":"IF(AND(Config!$B$13<=Tarifs!F5222,Config!$B$13>=Tarifs!E5222),1,0)","v":0},"2026-05-01","2026-05-31",195]
["97-0067","10","97-0067-100",{"$f":"IF(AND(Config!$B$13<=Tarifs!F5223,Config!$B$13>=Tarifs!E5223),1,0)","v":0},"2026-06-01","2026-06-30",195]
["97-0067","10","97-0067-100",{"$f":"IF(AND(Config!$B$13<=Tarifs!F5224,Config!$B$13>=Tarifs!E5224),1,0)","v":0},"2026-07-01","2026-07-31",195]
["97-0067","10","97-0067-100",{"$f":"IF(AND(Config!$B$13<=Tarifs!F5225,Config!$B$13>=Tarifs!E5225),1,0)","v":0},"2026-08-01","2026-08-31",195]
["97-0067","10","97-0067-100",{"$f":"IF(AND(Config!$B$13<=Tarifs!F5226,Config!$B$13>=Tarifs!E5226),1,0)","v":0},"2026-09-01","2026-09-30",195]
["97-0067","10","97-0067-100",{"$f":"IF(AND(Config!$B$13<=Tarifs!F5227,Config!$B$13>=Tarifs!E5227),1,0)","v":0},"2026-10-01","2026-10-31",195]
["97-0067","10","97-0067-100",{"$f":"IF(AND(Config!$B$13<=Tarifs!F5228,Config!$B$13>=Tarifs!E5228),1,0)","v":0},"2026-11-01","2026-11-30",155]
["97-0067","10","97-0067-100",{"$f":"IF(AND(Config!$B$13<=Tarifs!F5229,Config!$B$13>=Tarifs!E5229),1,0)","v":0},"2026-04-01","2026-04-30",145]
["97-0067","10","97-0067-100",{"$f":"IF(AND(Config!$B$13<=Tarifs!F5230,Config!$B$13>=Tarifs!E5230),1,0)","v":0},"2026-12-01","2026-12-31",129]
["97-0067","10","97-0067-101",{"$f":"IF(AND(Config!$B$13<=Tarifs!F5231,Config!$B$13>=Tarifs!E5231),1,0)","v":1},"2026-01-01","2026-01-31",125]
["97-0067","10","97-0067-100",{"$f":"IF(AND(Config!$B$13<=Tarifs!F5232,Config!$B$13>=Tarifs!E5232),1,0)","v":0},"2026-02-01","2026-02-28",125]
["97-0067","10","97-0067-100",{"$f":"IF(AND(Config!$B$13<=Tarifs!F5233,Config!$B$13>=Tarifs!E5233),1,0)","v":0},"2026-03-01","2026-03-31",125]
["97-0068","30","97-0068-300",{"$f":"IF(AND(Config!$B$13<=Tarifs!F5234,Config!$B$13>=Tarifs!E5234),1,0)","v":0},"2026-07-01","2026-07-31",6750]
["97-0068","30","97-0068-300",{"$f":"IF(AND(Config!$B$13<=Tarifs!F5235,Config!$B$13>=Tarifs!E5235),1,0)","v":0},"2026-08-01","2026-08-31",6750]
["97-0068","30","97-0068-300",{"$f":"IF(AND(Config!$B$13<=Tarifs!F5236,Config!$B$13>=Tarifs!E5236),1,0)","v":0},"2026-06-01","2026-06-30",4050]
["97-0068","30","97-0068-300",{"$f":"IF(AND(Config!$B$13<=Tarifs!F5237,Config!$B$13>=Tarifs!E5237),1,0)","v":0},"2026-09-01","2026-09-30",4050]
["97-0068","30","97-0068-300",{"$f":"IF(AND(Config!$B$13<=Tarifs!F5238,Config!$B$13>=Tarifs!E5238),1,0)","v":0},"2026-10-01","2026-10-31",4050]
["97-0068","30","97-0068-301",{"$f":"IF(AND(Config!$B$13<=Tarifs!F5239,Config!$B$13>=Tarifs!E5239),1,0)","v":1},"2026-01-01","2026-01-31",3690]
["97-0068","30","97-0068-300",{"$f":"IF(AND(Config!$B$13<=Tarifs!F5240,Config!$B$13>=Tarifs!E5240),1,0)","v":0},"2026-02-01","2026-02-28",3690]
["97-0068","30","97-0068-300",{"$f":"IF(AND(Config!$B$13<=Tarifs!F5241,Config!$B$13>=Tarifs!E5241),1,0)","v":0},"2026-03-01","2026-03-31",3690]
["97-0068","30","97-0068-300",{"$f":"IF(AND(Config!$B$13<=Tarifs!F5242,Config!$B$13>=Tarifs!E5242),1,0)","v":0},"2026-04-01","2026-04-30",3690]
["97-0068","30","97-0068-300",{"$f":"IF(AND(Config!$B$13<=Tarifs!F5243,Config!$B$13>=Tarifs!E5243),1,0)","v":0},"2026-05-01","2026-05-31",3690]
["97-0068","30","97-0068-300",{"$f":"IF(AND(Config!$B$13<=Tarifs!F5244,Config!$B$13>=Tarifs!E5244),1,0)","v":0},"2026-11-01","2026-11-30",3690]
["97-0068","30","97-0068-300",{"$f":"IF(AND(Config!$B$13<=Tarifs!F5245,Config!$B$13>=Tarifs!E5245),1,0)","v":0},"2026-12-01","2026-12-31",3690]
["97-0068","20","97-0068-200",{"$f":"IF(AND(Config!$B$13<=Tarifs!F5246,Config!$B$13>=Tarifs!E5246),1,0)","v":0},"2026-07-01","2026-07-31",1575]
["97-0068","20","97-0068-200",{"$f":"IF(AND(Config!$B$13<=Tarifs!F5247,Config!$B$13>=Tarifs!E5247),1,0)","v":0},"2026-08-01","2026-08-31",1575]
["97-0068","20","97-0068-200",{"$f":"IF(AND(Config!$B$13<=Tarifs!F5248,Config!$B$13>=Tarifs!E5248),1,0)","v":0},"2026-06-01","2026-06-30",945]
["97-0068","20","97-0068-200",{"$f":"IF(AND(Config!$B$13<=Tarifs!F5249,Config!$B$13>=Tarifs!E5249),1,0)","v":0},"2026-09-01","2026-09-30",945]
["97-0068","20","97-0068-200",{"$f":"IF(AND(Config!$B$13<=Tarifs!F5250,Config!$B$13>=Tarifs!E5250),1,0)","v":0},"2026-10-01","2026-10-31",945]
["97-0068","20",{"$f":"A5251&\"-\"&B5251&D5251","v":"97-0068-201"},{"$f":"IF(AND(Config!$B$13<=Tarifs!F5251,Config!$B$13>=Tarifs!E5251),1,0)","v":1},"2026-01-01","2026-01-31",861]
["97-0068","20","97-0068-200",{"$f":"IF(AND(Config!$B$13<=Tarifs!F5252,Config!$B$13>=Tarifs!E5252),1,0)","v":0},"2026-02-01","2026-02-28",861]
["97-0068","20","97-0068-200",{"$f":"IF(AND(Config!$B$13<=Tarifs!F5253,Config!$B$13>=Tarifs!E5253),1,0)","v":0},"2026-03-01","2026-03-31",861]
["97-0068","20","97-0068-200",{"$f":"IF(AND(Config!$B$13<=Tarifs!F5254,Config!$B$13>=Tarifs!E5254),1,0)","v":0},"2026-04-01","2026-04-30",861]
["97-0068","20","97-0068-200",{"$f":"IF(AND(Config!$B$13<=Tarifs!F5255,Config!$B$13>=Tarifs!E5255),1,0)","v":0},"2026-05-01","2026-05-31",861]
["97-0068","20","97-0068-200",{"$f":"IF(AND(Config!$B$13<=Tarifs!F5256,Config!$B$13>=Tarifs!E5256),1,0)","v":0},"2026-11-01","2026-11-30",861]
["97-0068","20","97-0068-200",{"$f":"IF(AND(Config!$B$13<=Tarifs!F5257,Config!$B$13>=Tarifs!E5257),1,0)","v":0},"2026-12-01","2026-12-31",861]
["97-0068","10","97-0068-100",{"$f":"IF(AND(Config!$B$13<=Tarifs!F5258,Config!$B$13>=Tarifs!E5258),1,0)","v":0},"2026-07-01","2026-07-31",225]
["97-0068","10","97-0068-100",{"$f":"IF(AND(Config!$B$13<=Tarifs!F5259,Config!$B$13>=Tarifs!E5259),1,0)","v":0},"2026-08-01","2026-08-31",225]
["97-0068","10","97-0068-100",{"$f":"IF(AND(Config!$B$13<=Tarifs!F5260,Config!$B$13>=Tarifs!E5260),1,0)","v":0},"2026-06-01","2026-06-30",135]
["97-0068","10","97-0068-100",{"$f":"IF(AND(Config!$B$13<=Tarifs!F5261,Config!$B$13>=Tarifs!E5261),1,0)","v":0},"2026-09-01","2026-09-30",135]
["97-0068","10","97-0068-100",{"$f":"IF(AND(Config!$B$13<=Tarifs!F5262,Config!$B$13>=Tarifs!E5262),1,0)","v":0},"2026-10-01","2026-10-31",135]
["97-0068","10","97-0068-101",{"$f":"IF(AND(Config!$B$13<=Tarifs!F5263,Config!$B$13>=Tarifs!E5263),1,0)","v":1},"2026-01-01","2026-01-31",123]
["97-0068","10","97-0068-100",{"$f":"IF(AND(Config!$B$13<=Tarifs!F5264,Config!$B$13>=Tarifs!E5264),1,0)","v":0},"2026-02-01","2026-02-28",123]
["97-0068","10","97-0068-100",{"$f":"IF(AND(Config!$B$13<=Tarifs!F5265,Config!$B$13>=Tarifs!E5265),1,0)","v":0},"2026-03-01","2026-03-31",123]
["97-0068","10","97-0068-100",{"$f":"IF(AND(Config!$B$13<=Tarifs!F5266,Config!$B$13>=Tarifs!E5266),1,0)","v":0},"2026-04-01","2026-04-30",123]
["97-0068","10","97-0068-100",{"$f":"IF(AND(Config!$B$13<=Tarifs!F5267,Config!$B$13>=Tarifs!E5267),1,0)","v":0},"2026-05-01","2026-05-31",123]
["97-0068","10","97-0068-100",{"$f":"IF(AND(Config!$B$13<=Tarifs!F5268,Config!$B$13>=Tarifs!E5268),1,0)","v":0},"2026-11-01","2026-11-30",123]
["97-0068","10","97-0068-100",{"$f":"IF(AND(Config!$B$13<=Tarifs!F5269,Config!$B$13>=Tarifs!E5269),1,0)","v":0},"2026-12-01","2026-12-31",123]
["97-0073","30","97-0073-300",{"$f":"IF(AND(Config!$B$13<=Tarifs!F5270,Config!$B$13>=Tarifs!E5270),1,0)","v":0},"2026-06-01","2026-06-30",5070]
["97-0073","30","97-0073-300",{"$f":"IF(AND(Config!$B$13<=Tarifs!F5271,Config!$B$13>=Tarifs!E5271),1,0)","v":0},"2026-07-01","2026-07-31",5070]
["97-0073","30","97-0073-300",{"$f":"IF(AND(Config!$B$13<=Tarifs!F5272,Config!$B$13>=Tarifs!E5272),1,0)","v":0},"2026-08-01","2026-08-31",5070]
["97-0073","30","97-0073-300",{"$f":"IF(AND(Config!$B$13<=Tarifs!F5273,Config!$B$13>=Tarifs!E5273),1,0)","v":0},"2026-05-01","2026-05-31",4470]
["97-0073","30","97-0073-300",{"$f":"IF(AND(Config!$B$13<=Tarifs!F5274,Config!$B$13>=Tarifs!E5274),1,0)","v":0},"2026-09-01","2026-09-30",4470]
["97-0073","30","97-0073-300",{"$f":"IF(AND(Config!$B$13<=Tarifs!F5275,Config!$B$13>=Tarifs!E5275),1,0)","v":0},"2026-10-01","2026-10-31",4260]
["97-0073","30","97-0073-300",{"$f":"IF(AND(Config!$B$13<=Tarifs!F5276,Config!$B$13>=Tarifs!E5276),1,0)","v":0},"2026-11-01","2026-11-30",4260]
["97-0073","30","97-0073-300",{"$f":"IF(AND(Config!$B$13<=Tarifs!F5277,Config!$B$13>=Tarifs!E5277),1,0)","v":0},"2026-12-01","2026-12-31",4260]
["97-0073","30","97-0073-301",{"$f":"IF(AND(Config!$B$13<=Tarifs!F5278,Config!$B$13>=Tarifs!E5278),1,0)","v":1},"2026-01-01","2026-01-31",4170]
["97-0073","30","97-0073-300",{"$f":"IF(AND(Config!$B$13<=Tarifs!F5279,Config!$B$13>=Tarifs!E5279),1,0)","v":0},"2026-02-01","2026-02-28",4170]
["97-0073","30","97-0073-300",{"$f":"IF(AND(Config!$B$13<=Tarifs!F5280,Config!$B$13>=Tarifs!E5280),1,0)","v":0},"2026-03-01","2026-03-31",4170]
["97-0073","30","97-0073-300",{"$f":"IF(AND(Config!$B$13<=Tarifs!F5281,Config!$B$13>=Tarifs!E5281),1,0)","v":0},"2026-04-01","2026-04-30",4170]
["97-0073","20","97-0073-200",{"$f":"IF(AND(Config!$B$13<=Tarifs!F5282,Config!$B$13>=Tarifs!E5282),1,0)","v":0},"2026-06-01","2026-06-30",1183]
["97-0073","20","97-0073-200",{"$f":"IF(AND(Config!$B$13<=Tarifs!F5283,Config!$B$13>=Tarifs!E5283),1,0)","v":0},"2026-07-01","2026-07-31",1183]
["97-0073","20","97-0073-200",{"$f":"IF(AND(Config!$B$13<=Tarifs!F5284,Config!$B$13>=Tarifs!E5284),1,0)","v":0},"2026-08-01","2026-08-31",1183]
["97-0073","20","97-0073-200",{"$f":"IF(AND(Config!$B$13<=Tarifs!F5285,Config!$B$13>=Tarifs!E5285),1,0)","v":0},"2026-05-01","2026-05-31",1043]
["97-0073","20","97-0073-200",{"$f":"IF(AND(Config!$B$13<=Tarifs!F5286,Config!$B$13>=Tarifs!E5286),1,0)","v":0},"2026-09-01","2026-09-30",1043]
["97-0073","20","97-0073-200",{"$f":"IF(AND(Config!$B$13<=Tarifs!F5287,Config!$B$13>=Tarifs!E5287),1,0)","v":0},"2026-10-01","2026-10-31",994]
["97-0073","20","97-0073-200",{"$f":"IF(AND(Config!$B$13<=Tarifs!F5288,Config!$B$13>=Tarifs!E5288),1,0)","v":0},"2026-11-01","2026-11-30",994]
["97-0073","20","97-0073-200",{"$f":"IF(AND(Config!$B$13<=Tarifs!F5289,Config!$B$13>=Tarifs!E5289),1,0)","v":0},"2026-12-01","2026-12-31",994]
["97-0073","20","97-0073-201",{"$f":"IF(AND(Config!$B$13<=Tarifs!F5290,Config!$B$13>=Tarifs!E5290),1,0)","v":1},"2026-01-01","2026-01-31",973]
["97-0073","20","97-0073-200",{"$f":"IF(AND(Config!$B$13<=Tarifs!F5291,Config!$B$13>=Tarifs!E5291),1,0)","v":0},"2026-02-01","2026-02-28",973]
["97-0073","20","97-0073-200",{"$f":"IF(AND(Config!$B$13<=Tarifs!F5292,Config!$B$13>=Tarifs!E5292),1,0)","v":0},"2026-03-01","2026-03-31",973]
["97-0073","20","97-0073-200",{"$f":"IF(AND(Config!$B$13<=Tarifs!F5293,Config!$B$13>=Tarifs!E5293),1,0)","v":0},"2026-04-01","2026-04-30",973]
["97-0073","10","97-0073-100",{"$f":"IF(AND(Config!$B$13<=Tarifs!F5294,Config!$B$13>=Tarifs!E5294),1,0)","v":0},"2026-06-01","2026-06-30",169]
["97-0073","10","97-0073-100",{"$f":"IF(AND(Config!$B$13<=Tarifs!F5295,Config!$B$13>=Tarifs!E5295),1,0)","v":0},"2026-07-01","2026-07-31",169]
["97-0073","10","97-0073-100",{"$f":"IF(AND(Config!$B$13<=Tarifs!F5296,Config!$B$13>=Tarifs!E5296),1,0)","v":0},"2026-08-01","2026-08-31",169]
["97-0073","10","97-0073-100",{"$f":"IF(AND(Config!$B$13<=Tarifs!F5297,Config!$B$13>=Tarifs!E5297),1,0)","v":0},"2026-05-01","2026-05-31",149]
["97-0073","10","97-0073-100",{"$f":"IF(AND(Config!$B$13<=Tarifs!F5298,Config!$B$13>=Tarifs!E5298),1,0)","v":0},"2026-09-01","2026-09-30",149]
["97-0073","10","97-0073-100",{"$f":"IF(AND(Config!$B$13<=Tarifs!F5299,Config!$B$13>=Tarifs!E5299),1,0)","v":0},"2026-10-01","2026-10-31",142]
["97-0073","10","97-0073-100",{"$f":"IF(AND(Config!$B$13<=Tarifs!F5300,Config!$B$13>=Tarifs!E5300),1,0)","v":0},"2026-11-01","2026-11-30",142]
["97-0073","10","97-0073-100",{"$f":"IF(AND(Config!$B$13<=Tarifs!F5301,Config!$B$13>=Tarifs!E5301),1,0)","v":0},"2026-12-01","2026-12-31",142]
["97-0073","10","97-0073-101",{"$f":"IF(AND(Config!$B$13<=Tarifs!F5302,Config!$B$13>=Tarifs!E5302),1,0)","v":1},"2026-01-01","2026-01-31",139]
["97-0073","10","97-0073-100",{"$f":"IF(AND(Config!$B$13<=Tarifs!F5303,Config!$B$13>=Tarifs!E5303),1,0)","v":0},"2026-02-01","2026-02-28",139]
["97-0073","10","97-0073-100",{"$f":"IF(AND(Config!$B$13<=Tarifs!F5304,Config!$B$13>=Tarifs!E5304),1,0)","v":0},"2026-03-01","2026-03-31",139]
["97-0073","10","97-0073-100",{"$f":"IF(AND(Config!$B$13<=Tarifs!F5305,Config!$B$13>=Tarifs!E5305),1,0)","v":0},"2026-04-01","2026-04-30",139]
["97-0085","30","97-0085-301",{"$f":"IF(AND(Config!$B$13<=Tarifs!F5306,Config!$B$13>=Tarifs!E5306),1,0)","v":1},"2026-01-01","2026-01-31",2700]
["97-0085","30","97-0085-300",{"$f":"IF(AND(Config!$B$13<=Tarifs!F5307,Config!$B$13>=Tarifs!E5307),1,0)","v":0},"2026-02-01","2026-02-28",2700]
["97-0085","30","97-0085-300",{"$f":"IF(AND(Config!$B$13<=Tarifs!F5308,Config!$B$13>=Tarifs!E5308),1,0)","v":0},"2026-03-01","2026-03-31",2700]
["97-0085","30","97-0085-300",{"$f":"IF(AND(Config!$B$13<=Tarifs!F5309,Config!$B$13>=Tarifs!E5309),1,0)","v":0},"2026-04-01","2026-04-30",2700]
["97-0085","30","97-0085-300",{"$f":"IF(AND(Config!$B$13<=Tarifs!F5310,Config!$B$13>=Tarifs!E5310),1,0)","v":0},"2026-05-01","2026-05-31",2700]
["97-0085","30","97-0085-300",{"$f":"IF(AND(Config!$B$13<=Tarifs!F5311,Config!$B$13>=Tarifs!E5311),1,0)","v":0},"2026-06-01","2026-06-30",2700]
["97-0085","30","97-0085-300",{"$f":"IF(AND(Config!$B$13<=Tarifs!F5312,Config!$B$13>=Tarifs!E5312),1,0)","v":0},"2026-07-01","2026-07-31",2700]
["97-0085","30","97-0085-300",{"$f":"IF(AND(Config!$B$13<=Tarifs!F5313,Config!$B$13>=Tarifs!E5313),1,0)","v":0},"2026-08-01","2026-08-31",2700]
["97-0085","30","97-0085-300",{"$f":"IF(AND(Config!$B$13<=Tarifs!F5314,Config!$B$13>=Tarifs!E5314),1,0)","v":0},"2026-09-01","2026-09-30",2700]
["97-0085","30",{"$f":"A5315&\"-\"&B5315&D5315","v":"97-0085-300"},{"$f":"IF(AND(Config!$B$13<=Tarifs!F5315,Config!$B$13>=Tarifs!E5315),1,0)","v":0},"2026-10-01","2026-10-31",2700]
["97-0085","30","97-0085-300",{"$f":"IF(AND(Config!$B$13<=Tarifs!F5316,Config!$B$13>=Tarifs!E5316),1,0)","v":0},"2026-11-01","2026-11-30",2700]
["97-0085","30","97-0085-300",{"$f":"IF(AND(Config!$B$13<=Tarifs!F5317,Config!$B$13>=Tarifs!E5317),1,0)","v":0},"2026-12-01","2026-12-31",2700]
["97-0085","20","97-0085-201",{"$f":"IF(AND(Config!$B$13<=Tarifs!F5318,Config!$B$13>=Tarifs!E5318),1,0)","v":1},"2026-01-01","2026-01-31",630]
["97-0085","20","97-0085-200",{"$f":"IF(AND(Config!$B$13<=Tarifs!F5319,Config!$B$13>=Tarifs!E5319),1,0)","v":0},"2026-02-01","2026-02-28",630]
["97-0085","20","97-0085-200",{"$f":"IF(AND(Config!$B$13<=Tarifs!F5320,Config!$B$13>=Tarifs!E5320),1,0)","v":0},"2026-03-01","2026-03-31",630]
["97-0085","20","97-0085-200",{"$f":"IF(AND(Config!$B$13<=Tarifs!F5321,Config!$B$13>=Tarifs!E5321),1,0)","v":0},"2026-04-01","2026-04-30",630]
["97-0085","20","97-0085-200",{"$f":"IF(AND(Config!$B$13<=Tarifs!F5322,Config!$B$13>=Tarifs!E5322),1,0)","v":0},"2026-05-01","2026-05-31",630]
["97-0085","20","97-0085-200",{"$f":"IF(AND(Config!$B$13<=Tarifs!F5323,Config!$B$13>=Tarifs!E5323),1,0)","v":0},"2026-06-01","2026-06-30",630]
["97-0085","20","97-0085-200",{"$f":"IF(AND(Config!$B$13<=Tarifs!F5324,Config!$B$13>=Tarifs!E5324),1,0)","v":0},"2026-07-01","2026-07-31",630]
["97-0085","20","97-0085-200",{"$f":"IF(AND(Config!$B$13<=Tarifs!F5325,Config!$B$13>=Tarifs!E5325),1,0)","v":0},"2026-08-01","2026-08-31",630]
["97-0085","20","97-0085-200",{"$f":"IF(AND(Config!$B$13<=Tarifs!F5326,Config!$B$13>=Tarifs!E5326),1,0)","v":0},"2026-09-01","2026-09-30",630]
["97-0085","20","97-0085-200",{"$f":"IF(AND(Config!$B$13<=Tarifs!F5327,Config!$B$13>=Tarifs!E5327),1,0)","v":0},"2026-10-01","2026-10-31",630]
["97-0085","20","97-0085-200",{"$f":"IF(AND(Config!$B$13<=Tarifs!F5328,Config!$B$13>=Tarifs!E5328),1,0)","v":0},"2026-11-01","2026-11-30",630]
["97-0085","20","97-0085-200",{"$f":"IF(AND(Config!$B$13<=Tarifs!F5329,Config!$B$13>=Tarifs!E5329),1,0)","v":0},"2026-12-01","2026-12-31",630]
["97-0085","10","97-0085-101",{"$f":"IF(AND(Config!$B$13<=Tarifs!F5330,Config!$B$13>=Tarifs!E5330),1,0)","v":1},"2026-01-01","2026-01-31",90]
["97-0085","10","97-0085-100",{"$f":"IF(AND(Config!$B$13<=Tarifs!F5331,Config!$B$13>=Tarifs!E5331),1,0)","v":0},"2026-02-01","2026-02-28",90]
["97-0085","10","97-0085-100",{"$f":"IF(AND(Config!$B$13<=Tarifs!F5332,Config!$B$13>=Tarifs!E5332),1,0)","v":0},"2026-03-01","2026-03-31",90]
["97-0085","10","97-0085-100",{"$f":"IF(AND(Config!$B$13<=Tarifs!F5333,Config!$B$13>=Tarifs!E5333),1,0)","v":0},"2026-04-01","2026-04-30",90]
["97-0085","10","97-0085-100",{"$f":"IF(AND(Config!$B$13<=Tarifs!F5334,Config!$B$13>=Tarifs!E5334),1,0)","v":0},"2026-05-01","2026-05-31",90]
["97-0085","10","97-0085-100",{"$f":"IF(AND(Config!$B$13<=Tarifs!F5335,Config!$B$13>=Tarifs!E5335),1,0)","v":0},"2026-06-01","2026-06-30",90]
["97-0085","10","97-0085-100",{"$f":"IF(AND(Config!$B$13<=Tarifs!F5336,Config!$B$13>=Tarifs!E5336),1,0)","v":0},"2026-07-01","2026-07-31",90]
["97-0085","10","97-0085-100",{"$f":"IF(AND(Config!$B$13<=Tarifs!F5337,Config!$B$13>=Tarifs!E5337),1,0)","v":0},"2026-08-01","2026-08-31",90]
["97-0085","10","97-0085-100",{"$f":"IF(AND(Config!$B$13<=Tarifs!F5338,Config!$B$13>=Tarifs!E5338),1,0)","v":0},"2026-09-01","2026-09-30",90]
["97-0085","10","97-0085-100",{"$f":"IF(AND(Config!$B$13<=Tarifs!F5339,Config!$B$13>=Tarifs!E5339),1,0)","v":0},"2026-10-01","2026-10-31",90]
["97-0085","10","97-0085-100",{"$f":"IF(AND(Config!$B$13<=Tarifs!F5340,Config!$B$13>=Tarifs!E5340),1,0)","v":0},"2026-11-01","2026-11-30",90]
["97-0085","10","97-0085-100",{"$f":"IF(AND(Config!$B$13<=Tarifs!F5341,Config!$B$13>=Tarifs!E5341),1,0)","v":0},"2026-12-01","2026-12-31",90]
["97-0090","30","97-0090-300",{"$f":"IF(AND(Config!$B$13<=Tarifs!F5342,Config!$B$13>=Tarifs!E5342),1,0)","v":0},"2026-06-01","2026-06-30",4770]
["97-0090","30","97-0090-300",{"$f":"IF(AND(Config!$B$13<=Tarifs!F5343,Config!$B$13>=Tarifs!E5343),1,0)","v":0},"2026-07-01","2026-07-31",4770]
["97-0090","30","97-0090-300",{"$f":"IF(AND(Config!$B$13<=Tarifs!F5344,Config!$B$13>=Tarifs!E5344),1,0)","v":0},"2026-08-01","2026-08-31",4770]
["97-0090","30","97-0090-300",{"$f":"IF(AND(Config!$B$13<=Tarifs!F5345,Config!$B$13>=Tarifs!E5345),1,0)","v":0},"2026-09-01","2026-09-30",4770]
["97-0090","30","97-0090-300",{"$f":"IF(AND(Config!$B$13<=Tarifs!F5346,Config!$B$13>=Tarifs!E5346),1,0)","v":0},"2026-10-01","2026-10-31",4770]
["97-0090","30","97-0090-301",{"$f":"IF(AND(Config!$B$13<=Tarifs!F5347,Config!$B$13>=Tarifs!E5347),1,0)","v":1},"2026-01-01","2026-01-31",4470]
["97-0090","30","97-0090-300",{"$f":"IF(AND(Config!$B$13<=Tarifs!F5348,Config!$B$13>=Tarifs!E5348),1,0)","v":0},"2026-02-01","2026-02-28",4470]
["97-0090","30","97-0090-300",{"$f":"IF(AND(Config!$B$13<=Tarifs!F5349,Config!$B$13>=Tarifs!E5349),1,0)","v":0},"2026-03-01","2026-03-31",4470]
["97-0090","30","97-0090-300",{"$f":"IF(AND(Config!$B$13<=Tarifs!F5350,Config!$B$13>=Tarifs!E5350),1,0)","v":0},"2026-04-01","2026-04-30",4470]
["97-0090","30","97-0090-300",{"$f":"IF(AND(Config!$B$13<=Tarifs!F5351,Config!$B$13>=Tarifs!E5351),1,0)","v":0},"2026-05-01","2026-05-31",4470]
["97-0090","30","97-0090-300",{"$f":"IF(AND(Config!$B$13<=Tarifs!F5352,Config!$B$13>=Tarifs!E5352),1,0)","v":0},"2026-11-01","2026-11-30",4470]
["97-0090","30","97-0090-300",{"$f":"IF(AND(Config!$B$13<=Tarifs!F5353,Config!$B$13>=Tarifs!E5353),1,0)","v":0},"2026-12-01","2026-12-31",4470]
["97-0090","20","97-0090-200",{"$f":"IF(AND(Config!$B$13<=Tarifs!F5354,Config!$B$13>=Tarifs!E5354),1,0)","v":0},"2026-06-01","2026-06-30",1113]
["97-0090","20","97-0090-200",{"$f":"IF(AND(Config!$B$13<=Tarifs!F5355,Config!$B$13>=Tarifs!E5355),1,0)","v":0},"2026-07-01","2026-07-31",1113]
["97-0090","20","97-0090-200",{"$f":"IF(AND(Config!$B$13<=Tarifs!F5356,Config!$B$13>=Tarifs!E5356),1,0)","v":0},"2026-08-01","2026-08-31",1113]
["97-0090","20","97-0090-200",{"$f":"IF(AND(Config!$B$13<=Tarifs!F5357,Config!$B$13>=Tarifs!E5357),1,0)","v":0},"2026-09-01","2026-09-30",1113]
["97-0090","20","97-0090-200",{"$f":"IF(AND(Config!$B$13<=Tarifs!F5358,Config!$B$13>=Tarifs!E5358),1,0)","v":0},"2026-10-01","2026-10-31",1113]
["97-0090","20","97-0090-201",{"$f":"IF(AND(Config!$B$13<=Tarifs!F5359,Config!$B$13>=Tarifs!E5359),1,0)","v":1},"2026-01-01","2026-01-31",1043]
["97-0090","20","97-0090-200",{"$f":"IF(AND(Config!$B$13<=Tarifs!F5360,Config!$B$13>=Tarifs!E5360),1,0)","v":0},"2026-02-01","2026-02-28",1043]
["97-0090","20","97-0090-200",{"$f":"IF(AND(Config!$B$13<=Tarifs!F5361,Config!$B$13>=Tarifs!E5361),1,0)","v":0},"2026-03-01","2026-03-31",1043]
["97-0090","20","97-0090-200",{"$f":"IF(AND(Config!$B$13<=Tarifs!F5362,Config!$B$13>=Tarifs!E5362),1,0)","v":0},"2026-04-01","2026-04-30",1043]
["97-0090","20","97-0090-200",{"$f":"IF(AND(Config!$B$13<=Tarifs!F5363,Config!$B$13>=Tarifs!E5363),1,0)","v":0},"2026-05-01","2026-05-31",1043]
["97-0090","20","97-0090-200",{"$f":"IF(AND(Config!$B$13<=Tarifs!F5364,Config!$B$13>=Tarifs!E5364),1,0)","v":0},"2026-11-01","2026-11-30",1043]
["97-0090","20","97-0090-200",{"$f":"IF(AND(Config!$B$13<=Tarifs!F5365,Config!$B$13>=Tarifs!E5365),1,0)","v":0},"2026-12-01","2026-12-31",1043]
["97-0090","10","97-0090-100",{"$f":"IF(AND(Config!$B$13<=Tarifs!F5366,Config!$B$13>=Tarifs!E5366),1,0)","v":0},"2026-06-01","2026-06-30",159]
["97-0090","10","97-0090-100",{"$f":"IF(AND(Config!$B$13<=Tarifs!F5367,Config!$B$13>=Tarifs!E5367),1,0)","v":0},"2026-07-01","2026-07-31",159]
["97-0090","10","97-0090-100",{"$f":"IF(AND(Config!$B$13<=Tarifs!F5368,Config!$B$13>=Tarifs!E5368),1,0)","v":0},"2026-08-01","2026-08-31",159]
["97-0090","10","97-0090-100",{"$f":"IF(AND(Config!$B$13<=Tarifs!F5369,Config!$B$13>=Tarifs!E5369),1,0)","v":0},"2026-09-01","2026-09-30",159]
["97-0090","10","97-0090-100",{"$f":"IF(AND(Config!$B$13<=Tarifs!F5370,Config!$B$13>=Tarifs!E5370),1,0)","v":0},"2026-10-01","2026-10-31",159]
["97-0090","10","97-0090-101",{"$f":"IF(AND(Config!$B$13<=Tarifs!F5371,Config!$B$13>=Tarifs!E5371),1,0)","v":1},"2026-01-01","2026-01-31",149]
["97-0090","10","97-0090-100",{"$f":"IF(AND(Config!$B$13<=Tarifs!F5372,Config!$B$13>=Tarifs!E5372),1,0)","v":0},"2026-02-01","2026-02-28",149]
["97-0090","10","97-0090-100",{"$f":"IF(AND(Config!$B$13<=Tarifs!F5373,Config!$B$13>=Tarifs!E5373),1,0)","v":0},"2026-03-01","2026-03-31",149]
["97-0090","10","97-0090-100",{"$f":"IF(AND(Config!$B$13<=Tarifs!F5374,Config!$B$13>=Tarifs!E5374),1,0)","v":0},"2026-04-01","2026-04-30",149]
["97-0090","10","97-0090-100",{"$f":"IF(AND(Config!$B$13<=Tarifs!F5375,Config!$B$13>=Tarifs!E5375),1,0)","v":0},"2026-05-01","2026-05-31",149]
["97-0090","10","97-0090-100",{"$f":"IF(AND(Config!$B$13<=Tarifs!F5376,Config!$B$13>=Tarifs!E5376),1,0)","v":0},"2026-11-01","2026-11-30",149]
["97-0090","10","97-0090-100",{"$f":"IF(AND(Config!$B$13<=Tarifs!F5377,Config!$B$13>=Tarifs!E5377),1,0)","v":0},"2026-12-01","2026-12-31",149]
["97-0095","30","97-0095-300",{"$f":"IF(AND(Config!$B$13<=Tarifs!F5378,Config!$B$13>=Tarifs!E5378),1,0)","v":0},"2026-07-01","2026-07-31",5670]
["97-0095","30",{"$f":"A5379&\"-\"&B5379&D5379","v":"97-0095-300"},{"$f":"IF(AND(Config!$B$13<=Tarifs!F5379,Config!$B$13>=Tarifs!E5379),1,0)","v":0},"2026-08-01","2026-08-31",5670]
["97-0095","30","97-0095-300",{"$f":"IF(AND(Config!$B$13<=Tarifs!F5380,Config!$B$13>=Tarifs!E5380),1,0)","v":0},"2026-05-01","2026-05-31",4470]
["97-0095","30","97-0095-300",{"$f":"IF(AND(Config!$B$13<=Tarifs!F5381,Config!$B$13>=Tarifs!E5381),1,0)","v":0},"2026-06-01","2026-06-30",4470]
["97-0095","30","97-0095-300",{"$f":"IF(AND(Config!$B$13<=Tarifs!F5382,Config!$B$13>=Tarifs!E5382),1,0)","v":0},"2026-09-01","2026-09-30",4470]
["97-0095","30","97-0095-300",{"$f":"IF(AND(Config!$B$13<=Tarifs!F5383,Config!$B$13>=Tarifs!E5383),1,0)","v":0},"2026-10-01","2026-10-31",4470]
["97-0095","30","97-0095-301",{"$f":"IF(AND(Config!$B$13<=Tarifs!F5384,Config!$B$13>=Tarifs!E5384),1,0)","v":1},"2026-01-01","2026-01-31",3450]
["97-0095","30","97-0095-300",{"$f":"IF(AND(Config!$B$13<=Tarifs!F5385,Config!$B$13>=Tarifs!E5385),1,0)","v":0},"2026-02-01","2026-02-28",3450]
["97-0095","30","97-0095-300",{"$f":"IF(AND(Config!$B$13<=Tarifs!F5386,Config!$B$13>=Tarifs!E5386),1,0)","v":0},"2026-03-01","2026-03-31",3450]
["97-0095","30","97-0095-300",{"$f":"IF(AND(Config!$B$13<=Tarifs!F5387,Config!$B$13>=Tarifs!E5387),1,0)","v":0},"2026-04-01","2026-04-30",3450]
["97-0095","30","97-0095-300",{"$f":"IF(AND(Config!$B$13<=Tarifs!F5388,Config!$B$13>=Tarifs!E5388),1,0)","v":0},"2026-11-01","2026-11-30",3450]
["97-0095","30","97-0095-300",{"$f":"IF(AND(Config!$B$13<=Tarifs!F5389,Config!$B$13>=Tarifs!E5389),1,0)","v":0},"2026-12-01","2026-12-31",3450]
["97-0095","20","97-0095-200",{"$f":"IF(AND(Config!$B$13<=Tarifs!F5390,Config!$B$13>=Tarifs!E5390),1,0)","v":0},"2026-07-01","2026-07-31",1323]
["97-0095","20","97-0095-200",{"$f":"IF(AND(Config!$B$13<=Tarifs!F5391,Config!$B$13>=Tarifs!E5391),1,0)","v":0},"2026-08-01","2026-08-31",1323]
["97-0095","20","97-0095-200",{"$f":"IF(AND(Config!$B$13<=Tarifs!F5392,Config!$B$13>=Tarifs!E5392),1,0)","v":0},"2026-05-01","2026-05-31",1043]
["97-0095","20","97-0095-200",{"$f":"IF(AND(Config!$B$13<=Tarifs!F5393,Config!$B$13>=Tarifs!E5393),1,0)","v":0},"2026-06-01","2026-06-30",1043]
["97-0095","20","97-0095-200",{"$f":"IF(AND(Config!$B$13<=Tarifs!F5394,Config!$B$13>=Tarifs!E5394),1,0)","v":0},"2026-09-01","2026-09-30",1043]
["97-0095","20","97-0095-200",{"$f":"IF(AND(Config!$B$13<=Tarifs!F5395,Config!$B$13>=Tarifs!E5395),1,0)","v":0},"2026-10-01","2026-10-31",1043]
["97-0095","20","97-0095-201",{"$f":"IF(AND(Config!$B$13<=Tarifs!F5396,Config!$B$13>=Tarifs!E5396),1,0)","v":1},"2026-01-01","2026-01-31",805]
["97-0095","20","97-0095-200",{"$f":"IF(AND(Config!$B$13<=Tarifs!F5397,Config!$B$13>=Tarifs!E5397),1,0)","v":0},"2026-02-01","2026-02-28",805]
["97-0095","20","97-0095-200",{"$f":"IF(AND(Config!$B$13<=Tarifs!F5398,Config!$B$13>=Tarifs!E5398),1,0)","v":0},"2026-03-01","2026-03-31",805]
["97-0095","20","97-0095-200",{"$f":"IF(AND(Config!$B$13<=Tarifs!F5399,Config!$B$13>=Tarifs!E5399),1,0)","v":0},"2026-04-01","2026-04-30",805]
["97-0095","20","97-0095-200",{"$f":"IF(AND(Config!$B$13<=Tarifs!F5400,Config!$B$13>=Tarifs!E5400),1,0)","v":0},"2026-11-01","2026-11-30",805]
["97-0095","20","97-0095-200",{"$f":"IF(AND(Config!$B$13<=Tarifs!F5401,Config!$B$13>=Tarifs!E5401),1,0)","v":0},"2026-12-01","2026-12-31",805]
["97-0095","10","97-0095-100",{"$f":"IF(AND(Config!$B$13<=Tarifs!F5402,Config!$B$13>=Tarifs!E5402),1,0)","v":0},"2026-07-01","2026-07-31",189]
["97-0095","10","97-0095-100",{"$f":"IF(AND(Config!$B$13<=Tarifs!F5403,Config!$B$13>=Tarifs!E5403),1,0)","v":0},"2026-08-01","2026-08-31",189]
["97-0095","10","97-0095-100",{"$f":"IF(AND(Config!$B$13<=Tarifs!F5404,Config!$B$13>=Tarifs!E5404),1,0)","v":0},"2026-05-01","2026-05-31",149]
["97-0095","10","97-0095-100",{"$f":"IF(AND(Config!$B$13<=Tarifs!F5405,Config!$B$13>=Tarifs!E5405),1,0)","v":0},"2026-06-01","2026-06-30",149]
["97-0095","10","97-0095-100",{"$f":"IF(AND(Config!$B$13<=Tarifs!F5406,Config!$B$13>=Tarifs!E5406),1,0)","v":0},"2026-09-01","2026-09-30",149]
["97-0095","10","97-0095-100",{"$f":"IF(AND(Config!$B$13<=Tarifs!F5407,Config!$B$13>=Tarifs!E5407),1,0)","v":0},"2026-10-01","2026-10-31",149]
["97-0095","10","97-0095-101",{"$f":"IF(AND(Config!$B$13<=Tarifs!F5408,Config!$B$13>=Tarifs!E5408),1,0)","v":1},"2026-01-01","2026-01-31",115]
["97-0095","10","97-0095-100",{"$f":"IF(AND(Config!$B$13<=Tarifs!F5409,Config!$B$13>=Tarifs!E5409),1,0)","v":0},"2026-02-01","2026-02-28",115]
["97-0095","10","97-0095-100",{"$f":"IF(AND(Config!$B$13<=Tarifs!F5410,Config!$B$13>=Tarifs!E5410),1,0)","v":0},"2026-03-01","2026-03-31",115]
["97-0095","10","97-0095-100",{"$f":"IF(AND(Config!$B$13<=Tarifs!F5411,Config!$B$13>=Tarifs!E5411),1,0)","v":0},"2026-04-01","2026-04-30",115]
["97-0095","10","97-0095-100",{"$f":"IF(AND(Config!$B$13<=Tarifs!F5412,Config!$B$13>=Tarifs!E5412),1,0)","v":0},"2026-11-01","2026-11-30",115]
["97-0095","10","97-0095-100",{"$f":"IF(AND(Config!$B$13<=Tarifs!F5413,Config!$B$13>=Tarifs!E5413),1,0)","v":0},"2026-12-01","2026-12-31",115]
["97-0101","30","97-0101-300",{"$f":"IF(AND(Config!$B$13<=Tarifs!F5414,Config!$B$13>=Tarifs!E5414),1,0)","v":0},"2026-11-01","2026-11-30",2400]
["97-0101","30","97-0101-301",{"$f":"IF(AND(Config!$B$13<=Tarifs!F5415,Config!$B$13>=Tarifs!E5415),1,0)","v":1},"2026-01-01","2026-01-31",2400]
["97-0101","30","97-0101-300",{"$f":"IF(AND(Config!$B$13<=Tarifs!F5416,Config!$B$13>=Tarifs!E5416),1,0)","v":0},"2026-02-01","2026-02-28",2400]
["97-0101","30","97-0101-300",{"$f":"IF(AND(Config!$B$13<=Tarifs!F5417,Config!$B$13>=Tarifs!E5417),1,0)","v":0},"2026-03-01","2026-03-31",2400]
["97-0101","30","97-0101-300",{"$f":"IF(AND(Config!$B$13<=Tarifs!F5418,Config!$B$13>=Tarifs!E5418),1,0)","v":0},"2026-04-01","2026-04-30",2400]
["97-0101","30","97-0101-300",{"$f":"IF(AND(Config!$B$13<=Tarifs!F5419,Config!$B$13>=Tarifs!E5419),1,0)","v":0},"2026-05-01","2026-05-31",2400]
["97-0101","30","97-0101-300",{"$f":"IF(AND(Config!$B$13<=Tarifs!F5420,Config!$B$13>=Tarifs!E5420),1,0)","v":0},"2026-06-01","2026-06-30",2400]
["97-0101","30","97-0101-300",{"$f":"IF(AND(Config!$B$13<=Tarifs!F5421,Config!$B$13>=Tarifs!E5421),1,0)","v":0},"2026-07-01","2026-07-31",2400]
["97-0101","30","97-0101-300",{"$f":"IF(AND(Config!$B$13<=Tarifs!F5422,Config!$B$13>=Tarifs!E5422),1,0)","v":0},"2026-08-01","2026-08-31",2400]
["97-0101","30","97-0101-300",{"$f":"IF(AND(Config!$B$13<=Tarifs!F5423,Config!$B$13>=Tarifs!E5423),1,0)","v":0},"2026-09-01","2026-09-30",2400]
["97-0101","30","97-0101-300",{"$f":"IF(AND(Config!$B$13<=Tarifs!F5424,Config!$B$13>=Tarifs!E5424),1,0)","v":0},"2026-10-01","2026-10-31",2400]
["97-0101","30","97-0101-300",{"$f":"IF(AND(Config!$B$13<=Tarifs!F5425,Config!$B$13>=Tarifs!E5425),1,0)","v":0},"2026-12-01","2026-12-31",2400]
["97-0101","20","97-0101-200",{"$f":"IF(AND(Config!$B$13<=Tarifs!F5426,Config!$B$13>=Tarifs!E5426),1,0)","v":0},"2026-11-01","2026-11-30",700]
["97-0101","20","97-0101-200",{"$f":"IF(AND(Config!$B$13<=Tarifs!F5427,Config!$B$13>=Tarifs!E5427),1,0)","v":0},"2026-06-01","2026-06-30",700]
["97-0101","20","97-0101-200",{"$f":"IF(AND(Config!$B$13<=Tarifs!F5428,Config!$B$13>=Tarifs!E5428),1,0)","v":0},"2026-07-01","2026-07-31",700]
["97-0101","20","97-0101-200",{"$f":"IF(AND(Config!$B$13<=Tarifs!F5429,Config!$B$13>=Tarifs!E5429),1,0)","v":0},"2026-08-01","2026-08-31",700]
["97-0101","20","97-0101-200",{"$f":"IF(AND(Config!$B$13<=Tarifs!F5430,Config!$B$13>=Tarifs!E5430),1,0)","v":0},"2026-09-01","2026-09-30",700]
["97-0101","20","97-0101-200",{"$f":"IF(AND(Config!$B$13<=Tarifs!F5431,Config!$B$13>=Tarifs!E5431),1,0)","v":0},"2026-10-01","2026-10-31",700]
["97-0101","20","97-0101-200",{"$f":"IF(AND(Config!$B$13<=Tarifs!F5432,Config!$B$13>=Tarifs!E5432),1,0)","v":0},"2026-12-01","2026-12-31",630]
["97-0101","20","97-0101-201",{"$f":"IF(AND(Config!$B$13<=Tarifs!F5433,Config!$B$13>=Tarifs!E5433),1,0)","v":1},"2026-01-01","2026-01-31",630]
["97-0101","20","97-0101-200",{"$f":"IF(AND(Config!$B$13<=Tarifs!F5434,Config!$B$13>=Tarifs!E5434),1,0)","v":0},"2026-02-01","2026-02-28",630]
["97-0101","20","97-0101-200",{"$f":"IF(AND(Config!$B$13<=Tarifs!F5435,Config!$B$13>=Tarifs!E5435),1,0)","v":0},"2026-03-01","2026-03-31",630]
["97-0101","20","97-0101-200",{"$f":"IF(AND(Config!$B$13<=Tarifs!F5436,Config!$B$13>=Tarifs!E5436),1,0)","v":0},"2026-04-01","2026-04-30",630]
["97-0101","20","97-0101-200",{"$f":"IF(AND(Config!$B$13<=Tarifs!F5437,Config!$B$13>=Tarifs!E5437),1,0)","v":0},"2026-05-01","2026-05-31",630]
["97-0101","10","97-0101-100",{"$f":"IF(AND(Config!$B$13<=Tarifs!F5438,Config!$B$13>=Tarifs!E5438),1,0)","v":0},"2026-11-01","2026-11-30",100]
["97-0101","10","97-0101-100",{"$f":"IF(AND(Config!$B$13<=Tarifs!F5439,Config!$B$13>=Tarifs!E5439),1,0)","v":0},"2026-06-01","2026-06-30",100]
["97-0101","10","97-0101-100",{"$f":"IF(AND(Config!$B$13<=Tarifs!F5440,Config!$B$13>=Tarifs!E5440),1,0)","v":0},"2026-07-01","2026-07-31",100]
["97-0101","10","97-0101-100",{"$f":"IF(AND(Config!$B$13<=Tarifs!F5441,Config!$B$13>=Tarifs!E5441),1,0)","v":0},"2026-08-01","2026-08-31",100]
["97-0101","10","97-0101-100",{"$f":"IF(AND(Config!$B$13<=Tarifs!F5442,Config!$B$13>=Tarifs!E5442),1,0)","v":0},"2026-09-01","2026-09-30",100]
["97-0101","10",{"$f":"A5443&\"-\"&B5443&D5443","v":"97-0101-100"},{"$f":"IF(AND(Config!$B$13<=Tarifs!F5443,Config!$B$13>=Tarifs!E5443),1,0)","v":0},"2026-10-01","2026-10-31",100]
["97-0101","10","97-0101-100",{"$f":"IF(AND(Config!$B$13<=Tarifs!F5444,Config!$B$13>=Tarifs!E5444),1,0)","v":0},"2026-12-01","2026-12-31",90]
["97-0101","10","97-0101-101",{"$f":"IF(AND(Config!$B$13<=Tarifs!F5445,Config!$B$13>=Tarifs!E5445),1,0)","v":1},"2026-01-01","2026-01-31",90]
["97-0101","10","97-0101-100",{"$f":"IF(AND(Config!$B$13<=Tarifs!F5446,Config!$B$13>=Tarifs!E5446),1,0)","v":0},"2026-02-01","2026-02-28",90]
["97-0101","10","97-0101-100",{"$f":"IF(AND(Config!$B$13<=Tarifs!F5447,Config!$B$13>=Tarifs!E5447),1,0)","v":0},"2026-03-01","2026-03-31",90]
["97-0101","10","97-0101-100",{"$f":"IF(AND(Config!$B$13<=Tarifs!F5448,Config!$B$13>=Tarifs!E5448),1,0)","v":0},"2026-04-01","2026-04-30",90]
["97-0101","10","97-0101-100",{"$f":"IF(AND(Config!$B$13<=Tarifs!F5449,Config!$B$13>=Tarifs!E5449),1,0)","v":0},"2026-05-01","2026-05-31",90]
["97-0105","30","97-0105-300",{"$f":"IF(AND(Config!$B$13<=Tarifs!F5450,Config!$B$13>=Tarifs!E5450),1,0)","v":0},"2026-07-01","2026-07-31",6150]
["97-0105","30","97-0105-300",{"$f":"IF(AND(Config!$B$13<=Tarifs!F5451,Config!$B$13>=Tarifs!E5451),1,0)","v":0},"2026-08-01","2026-08-31",6150]
["97-0105","30","97-0105-301",{"$f":"IF(AND(Config!$B$13<=Tarifs!F5452,Config!$B$13>=Tarifs!E5452),1,0)","v":1},"2026-01-01","2026-01-31",5250]
["97-0105","30","97-0105-300",{"$f":"IF(AND(Config!$B$13<=Tarifs!F5453,Config!$B$13>=Tarifs!E5453),1,0)","v":0},"2026-02-01","2026-02-28",5250]
["97-0105","30","97-0105-300",{"$f":"IF(AND(Config!$B$13<=Tarifs!F5454,Config!$B$13>=Tarifs!E5454),1,0)","v":0},"2026-03-01","2026-03-31",5250]
["97-0105","30","97-0105-300",{"$f":"IF(AND(Config!$B$13<=Tarifs!F5455,Config!$B$13>=Tarifs!E5455),1,0)","v":0},"2026-04-01","2026-04-30",5250]
["97-0105","30","97-0105-300",{"$f":"IF(AND(Config!$B$13<=Tarifs!F5456,Config!$B$13>=Tarifs!E5456),1,0)","v":0},"2026-05-01","2026-05-31",5250]
["97-0105","30","97-0105-300",{"$f":"IF(AND(Config!$B$13<=Tarifs!F5457,Config!$B$13>=Tarifs!E5457),1,0)","v":0},"2026-06-01","2026-06-30",5250]
["97-0105","30","97-0105-300",{"$f":"IF(AND(Config!$B$13<=Tarifs!F5458,Config!$B$13>=Tarifs!E5458),1,0)","v":0},"2026-09-01","2026-09-30",5250]
["97-0105","30","97-0105-300",{"$f":"IF(AND(Config!$B$13<=Tarifs!F5459,Config!$B$13>=Tarifs!E5459),1,0)","v":0},"2026-10-01","2026-10-31",5250]
["97-0105","30","97-0105-300",{"$f":"IF(AND(Config!$B$13<=Tarifs!F5460,Config!$B$13>=Tarifs!E5460),1,0)","v":0},"2026-11-01","2026-11-30",5250]
["97-0105","30","97-0105-300",{"$f":"IF(AND(Config!$B$13<=Tarifs!F5461,Config!$B$13>=Tarifs!E5461),1,0)","v":0},"2026-12-01","2026-12-31",5250]
["97-0105","20","97-0105-200",{"$f":"IF(AND(Config!$B$13<=Tarifs!F5462,Config!$B$13>=Tarifs!E5462),1,0)","v":0},"2026-07-01","2026-07-31",1435]
["97-0105","20","97-0105-200",{"$f":"IF(AND(Config!$B$13<=Tarifs!F5463,Config!$B$13>=Tarifs!E5463),1,0)","v":0},"2026-08-01","2026-08-31",1435]
["97-0105","20","97-0105-201",{"$f":"IF(AND(Config!$B$13<=Tarifs!F5464,Config!$B$13>=Tarifs!E5464),1,0)","v":1},"2026-01-01","2026-01-31",1225]
["97-0105","20","97-0105-200",{"$f":"IF(AND(Config!$B$13<=Tarifs!F5465,Config!$B$13>=Tarifs!E5465),1,0)","v":0},"2026-02-01","2026-02-28",1225]
["97-0105","20","97-0105-200",{"$f":"IF(AND(Config!$B$13<=Tarifs!F5466,Config!$B$13>=Tarifs!E5466),1,0)","v":0},"2026-03-01","2026-03-31",1225]
["97-0105","20","97-0105-200",{"$f":"IF(AND(Config!$B$13<=Tarifs!F5467,Config!$B$13>=Tarifs!E5467),1,0)","v":0},"2026-04-01","2026-04-30",1225]
["97-0105","20","97-0105-200",{"$f":"IF(AND(Config!$B$13<=Tarifs!F5468,Config!$B$13>=Tarifs!E5468),1,0)","v":0},"2026-05-01","2026-05-31",1225]
["97-0105","20","97-0105-200",{"$f":"IF(AND(Config!$B$13<=Tarifs!F5469,Config!$B$13>=Tarifs!E5469),1,0)","v":0},"2026-06-01","2026-06-30",1225]
["97-0105","20","97-0105-200",{"$f":"IF(AND(Config!$B$13<=Tarifs!F5470,Config!$B$13>=Tarifs!E5470),1,0)","v":0},"2026-09-01","2026-09-30",1225]
["97-0105","20","97-0105-200",{"$f":"IF(AND(Config!$B$13<=Tarifs!F5471,Config!$B$13>=Tarifs!E5471),1,0)","v":0},"2026-10-01","2026-10-31",1225]
["97-0105","20","97-0105-200",{"$f":"IF(AND(Config!$B$13<=Tarifs!F5472,Config!$B$13>=Tarifs!E5472),1,0)","v":0},"2026-11-01","2026-11-30",1225]
["97-0105","20","97-0105-200",{"$f":"IF(AND(Config!$B$13<=Tarifs!F5473,Config!$B$13>=Tarifs!E5473),1,0)","v":0},"2026-12-01","2026-12-31",1225]
["97-0105","10","97-0105-100",{"$f":"IF(AND(Config!$B$13<=Tarifs!F5474,Config!$B$13>=Tarifs!E5474),1,0)","v":0},"2026-07-01","2026-07-31",205]
["97-0105","10","97-0105-100",{"$f":"IF(AND(Config!$B$13<=Tarifs!F5475,Config!$B$13>=Tarifs!E5475),1,0)","v":0},"2026-08-01","2026-08-31",205]
["97-0105","10","97-0105-101",{"$f":"IF(AND(Config!$B$13<=Tarifs!F5476,Config!$B$13>=Tarifs!E5476),1,0)","v":1},"2026-01-01","2026-01-31",175]
["97-0105","10","97-0105-100",{"$f":"IF(AND(Config!$B$13<=Tarifs!F5477,Config!$B$13>=Tarifs!E5477),1,0)","v":0},"2026-02-01","2026-02-28",175]
["97-0105","10","97-0105-100",{"$f":"IF(AND(Config!$B$13<=Tarifs!F5478,Config!$B$13>=Tarifs!E5478),1,0)","v":0},"2026-03-01","2026-03-31",175]
["97-0105","10","97-0105-100",{"$f":"IF(AND(Config!$B$13<=Tarifs!F5479,Config!$B$13>=Tarifs!E5479),1,0)","v":0},"2026-04-01","2026-04-30",175]
["97-0105","10","97-0105-100",{"$f":"IF(AND(Config!$B$13<=Tarifs!F5480,Config!$B$13>=Tarifs!E5480),1,0)","v":0},"2026-05-01","2026-05-31",175]
["97-0105","10","97-0105-100",{"$f":"IF(AND(Config!$B$13<=Tarifs!F5481,Config!$B$13>=Tarifs!E5481),1,0)","v":0},"2026-06-01","2026-06-30",175]
["97-0105","10","97-0105-100",{"$f":"IF(AND(Config!$B$13<=Tarifs!F5482,Config!$B$13>=Tarifs!E5482),1,0)","v":0},"2026-09-01","2026-09-30",175]
["97-0105","10","97-0105-100",{"$f":"IF(AND(Config!$B$13<=Tarifs!F5483,Config!$B$13>=Tarifs!E5483),1,0)","v":0},"2026-10-01","2026-10-31",175]
["97-0105","10","97-0105-100",{"$f":"IF(AND(Config!$B$13<=Tarifs!F5484,Config!$B$13>=Tarifs!E5484),1,0)","v":0},"2026-11-01","2026-11-30",175]
["97-0105","10","97-0105-100",{"$f":"IF(AND(Config!$B$13<=Tarifs!F5485,Config!$B$13>=Tarifs!E5485),1,0)","v":0},"2026-12-01","2026-12-31",175]
["97-0106","30","97-0106-300",{"$f":"IF(AND(Config!$B$13<=Tarifs!F5486,Config!$B$13>=Tarifs!E5486),1,0)","v":0},"2026-05-01","2026-05-31",6975]
["97-0106","30","97-0106-300",{"$f":"IF(AND(Config!$B$13<=Tarifs!F5487,Config!$B$13>=Tarifs!E5487),1,0)","v":0},"2026-07-01","2026-07-31",6975]
["97-0106","30","97-0106-300",{"$f":"IF(AND(Config!$B$13<=Tarifs!F5488,Config!$B$13>=Tarifs!E5488),1,0)","v":0},"2026-08-01","2026-08-31",6975]
["97-0106","30","97-0106-300",{"$f":"IF(AND(Config!$B$13<=Tarifs!F5489,Config!$B$13>=Tarifs!E5489),1,0)","v":0},"2026-10-01","2026-10-31",6975]
["97-0106","30","97-0106-300",{"$f":"IF(AND(Config!$B$13<=Tarifs!F5490,Config!$B$13>=Tarifs!E5490),1,0)","v":0},"2026-06-01","2026-06-30",6750]
["97-0106","30","97-0106-300",{"$f":"IF(AND(Config!$B$13<=Tarifs!F5491,Config!$B$13>=Tarifs!E5491),1,0)","v":0},"2026-09-01","2026-09-30",6750]
["97-0106","30","97-0106-300",{"$f":"IF(AND(Config!$B$13<=Tarifs!F5492,Config!$B$13>=Tarifs!E5492),1,0)","v":0},"2026-12-01","2026-12-31",6696]
["97-0106","30","97-0106-300",{"$f":"IF(AND(Config!$B$13<=Tarifs!F5493,Config!$B$13>=Tarifs!E5493),1,0)","v":0},"2026-11-01","2026-11-30",6480]
["97-0106","30","97-0106-301",{"$f":"IF(AND(Config!$B$13<=Tarifs!F5494,Config!$B$13>=Tarifs!E5494),1,0)","v":1},"2026-01-01","2026-01-31",6355]
["97-0106","30","97-0106-300",{"$f":"IF(AND(Config!$B$13<=Tarifs!F5495,Config!$B$13>=Tarifs!E5495),1,0)","v":0},"2026-03-01","2026-03-31",6355]
["97-0106","30","97-0106-300",{"$f":"IF(AND(Config!$B$13<=Tarifs!F5496,Config!$B$13>=Tarifs!E5496),1,0)","v":0},"2026-04-01","2026-04-30",6150]
["97-0106","30","97-0106-300",{"$f":"IF(AND(Config!$B$13<=Tarifs!F5497,Config!$B$13>=Tarifs!E5497),1,0)","v":0},"2026-02-01","2026-02-28",5740]
["97-0106","20","97-0106-200",{"$f":"IF(AND(Config!$B$13<=Tarifs!F5498,Config!$B$13>=Tarifs!E5498),1,0)","v":0},"2026-05-01","2026-05-31",1575]
["97-0106","20","97-0106-200",{"$f":"IF(AND(Config!$B$13<=Tarifs!F5499,Config!$B$13>=Tarifs!E5499),1,0)","v":0},"2026-06-01","2026-06-30",1575]
["97-0106","20","97-0106-200",{"$f":"IF(AND(Config!$B$13<=Tarifs!F5500,Config!$B$13>=Tarifs!E5500),1,0)","v":0},"2026-07-01","2026-07-31",1575]
["97-0106","20","97-0106-200",{"$f":"IF(AND(Config!$B$13<=Tarifs!F5501,Config!$B$13>=Tarifs!E5501),1,0)","v":0},"2026-08-01","2026-08-31",1575]
["97-0106","20","97-0106-200",{"$f":"IF(AND(Config!$B$13<=Tarifs!F5502,Config!$B$13>=Tarifs!E5502),1,0)","v":0},"2026-09-01","2026-09-30",1575]
["97-0106","20","97-0106-200",{"$f":"IF(AND(Config!$B$13<=Tarifs!F5503,Config!$B$13>=Tarifs!E5503),1,0)","v":0},"2026-10-01","2026-10-31",1575]
["97-0106","20","97-0106-200",{"$f":"IF(AND(Config!$B$13<=Tarifs!F5504,Config!$B$13>=Tarifs!E5504),1,0)","v":0},"2026-11-01","2026-11-30",1512]
["97-0106","20","97-0106-200",{"$f":"IF(AND(Config!$B$13<=Tarifs!F5505,Config!$B$13>=Tarifs!E5505),1,0)","v":0},"2026-12-01","2026-12-31",1512]
["97-0106","20","97-0106-201",{"$f":"IF(AND(Config!$B$13<=Tarifs!F5506,Config!$B$13>=Tarifs!E5506),1,0)","v":1},"2026-01-01","2026-01-31",1435]
["97-0106","20",{"$f":"A5507&\"-\"&B5507&D5507","v":"97-0106-200"},{"$f":"IF(AND(Config!$B$13<=Tarifs!F5507,Config!$B$13>=Tarifs!E5507),1,0)","v":0},"2026-02-01","2026-02-28",1435]
["97-0106","20","97-0106-200",{"$f":"IF(AND(Config!$B$13<=Tarifs!F5508,Config!$B$13>=Tarifs!E5508),1,0)","v":0},"2026-03-01","2026-03-31",1435]
["97-0106","20","97-0106-200",{"$f":"IF(AND(Config!$B$13<=Tarifs!F5509,Config!$B$13>=Tarifs!E5509),1,0)","v":0},"2026-04-01","2026-04-30",1435]
["97-0106","10","97-0106-100",{"$f":"IF(AND(Config!$B$13<=Tarifs!F5510,Config!$B$13>=Tarifs!E5510),1,0)","v":0},"2026-05-01","2026-05-31",225]
["97-0106","10","97-0106-100",{"$f":"IF(AND(Config!$B$13<=Tarifs!F5511,Config!$B$13>=Tarifs!E5511),1,0)","v":0},"2026-06-01","2026-06-30",225]
["97-0106","10","97-0106-100",{"$f":"IF(AND(Config!$B$13<=Tarifs!F5512,Config!$B$13>=Tarifs!E5512),1,0)","v":0},"2026-07-01","2026-07-31",225]
["97-0106","10","97-0106-100",{"$f":"IF(AND(Config!$B$13<=Tarifs!F5513,Config!$B$13>=Tarifs!E5513),1,0)","v":0},"2026-08-01","2026-08-31",225]
["97-0106","10","97-0106-100",{"$f":"IF(AND(Config!$B$13<=Tarifs!F5514,Config!$B$13>=Tarifs!E5514),1,0)","v":0},"2026-09-01","2026-09-30",225]
["97-0106","10","97-0106-100",{"$f":"IF(AND(Config!$B$13<=Tarifs!F5515,Config!$B$13>=Tarifs!E5515),1,0)","v":0},"2026-10-01","2026-10-31",225]
["97-0106","10","97-0106-100",{"$f":"IF(AND(Config!$B$13<=Tarifs!F5516,Config!$B$13>=Tarifs!E5516),1,0)","v":0},"2026-11-01","2026-11-30",216]
["97-0106","10","97-0106-100",{"$f":"IF(AND(Config!$B$13<=Tarifs!F5517,Config!$B$13>=Tarifs!E5517),1,0)","v":0},"2026-12-01","2026-12-31",216]
["97-0106","10","97-0106-101",{"$f":"IF(AND(Config!$B$13<=Tarifs!F5518,Config!$B$13>=Tarifs!E5518),1,0)","v":1},"2026-01-01","2026-01-31",205]
["97-0106","10","97-0106-100",{"$f":"IF(AND(Config!$B$13<=Tarifs!F5519,Config!$B$13>=Tarifs!E5519),1,0)","v":0},"2026-02-01","2026-02-28",205]
["97-0106","10","97-0106-100",{"$f":"IF(AND(Config!$B$13<=Tarifs!F5520,Config!$B$13>=Tarifs!E5520),1,0)","v":0},"2026-03-01","2026-03-31",205]
["97-0106","10","97-0106-100",{"$f":"IF(AND(Config!$B$13<=Tarifs!F5521,Config!$B$13>=Tarifs!E5521),1,0)","v":0},"2026-04-01","2026-04-30",205]
["97-0116","30","97-0116-301",{"$f":"IF(AND(Config!$B$13<=Tarifs!F5522,Config!$B$13>=Tarifs!E5522),1,0)","v":1},"2026-01-01","2026-01-31",5098.5]
["97-0116","30","97-0116-300",{"$f":"IF(AND(Config!$B$13<=Tarifs!F5523,Config!$B$13>=Tarifs!E5523),1,0)","v":0},"2026-02-01","2026-02-28",5098.5]
["97-0116","30","97-0116-300",{"$f":"IF(AND(Config!$B$13<=Tarifs!F5524,Config!$B$13>=Tarifs!E5524),1,0)","v":0},"2026-03-01","2026-03-31",5098.5]
["97-0116","30","97-0116-300",{"$f":"IF(AND(Config!$B$13<=Tarifs!F5525,Config!$B$13>=Tarifs!E5525),1,0)","v":0},"2026-04-01","2026-04-30",5098.5]
["97-0116","30","97-0116-300",{"$f":"IF(AND(Config!$B$13<=Tarifs!F5526,Config!$B$13>=Tarifs!E5526),1,0)","v":0},"2026-05-01","2026-05-31",5098.5]
["97-0116","30","97-0116-300",{"$f":"IF(AND(Config!$B$13<=Tarifs!F5527,Config!$B$13>=Tarifs!E5527),1,0)","v":0},"2026-06-01","2026-06-30",5098.5]
["97-0116","30","97-0116-300",{"$f":"IF(AND(Config!$B$13<=Tarifs!F5528,Config!$B$13>=Tarifs!E5528),1,0)","v":0},"2026-07-01","2026-07-31",5098.5]
["97-0116","30","97-0116-300",{"$f":"IF(AND(Config!$B$13<=Tarifs!F5529,Config!$B$13>=Tarifs!E5529),1,0)","v":0},"2026-08-01","2026-08-31",5098.5]
["97-0116","30","97-0116-300",{"$f":"IF(AND(Config!$B$13<=Tarifs!F5530,Config!$B$13>=Tarifs!E5530),1,0)","v":0},"2026-09-01","2026-09-30",5098.5]
["97-0116","30","97-0116-300",{"$f":"IF(AND(Config!$B$13<=Tarifs!F5531,Config!$B$13>=Tarifs!E5531),1,0)","v":0},"2026-10-01","2026-10-31",5098.5]
["97-0116","30","97-0116-300",{"$f":"IF(AND(Config!$B$13<=Tarifs!F5532,Config!$B$13>=Tarifs!E5532),1,0)","v":0},"2026-11-01","2026-11-30",5098.5]
["97-0116","30","97-0116-300",{"$f":"IF(AND(Config!$B$13<=Tarifs!F5533,Config!$B$13>=Tarifs!E5533),1,0)","v":0},"2026-12-01","2026-12-31",5098.5]
["97-0116","20","97-0116-201",{"$f":"IF(AND(Config!$B$13<=Tarifs!F5534,Config!$B$13>=Tarifs!E5534),1,0)","v":1},"2026-01-01","2026-01-31",1189.6500000000001]
["97-0116","20","97-0116-200",{"$f":"IF(AND(Config!$B$13<=Tarifs!F5535,Config!$B$13>=Tarifs!E5535),1,0)","v":0},"2026-02-01","2026-02-28",1189.6500000000001]
["97-0116","20","97-0116-200",{"$f":"IF(AND(Config!$B$13<=Tarifs!F5536,Config!$B$13>=Tarifs!E5536),1,0)","v":0},"2026-03-01","2026-03-31",1189.6500000000001]
["97-0116","20","97-0116-200",{"$f":"IF(AND(Config!$B$13<=Tarifs!F5537,Config!$B$13>=Tarifs!E5537),1,0)","v":0},"2026-04-01","2026-04-30",1189.6500000000001]
["97-0116","20","97-0116-200",{"$f":"IF(AND(Config!$B$13<=Tarifs!F5538,Config!$B$13>=Tarifs!E5538),1,0)","v":0},"2026-05-01","2026-05-31",1189.6500000000001]
["97-0116","20","97-0116-200",{"$f":"IF(AND(Config!$B$13<=Tarifs!F5539,Config!$B$13>=Tarifs!E5539),1,0)","v":0},"2026-06-01","2026-06-30",1189.6500000000001]
["97-0116","20","97-0116-200",{"$f":"IF(AND(Config!$B$13<=Tarifs!F5540,Config!$B$13>=Tarifs!E5540),1,0)","v":0},"2026-07-01","2026-07-31",1189.6500000000001]
["97-0116","20","97-0116-200",{"$f":"IF(AND(Config!$B$13<=Tarifs!F5541,Config!$B$13>=Tarifs!E5541),1,0)","v":0},"2026-08-01","2026-08-31",1189.6500000000001]
["97-0116","20","97-0116-200",{"$f":"IF(AND(Config!$B$13<=Tarifs!F5542,Config!$B$13>=Tarifs!E5542),1,0)","v":0},"2026-09-01","2026-09-30",1189.6500000000001]
["97-0116","20","97-0116-200",{"$f":"IF(AND(Config!$B$13<=Tarifs!F5543,Config!$B$13>=Tarifs!E5543),1,0)","v":0},"2026-10-01","2026-10-31",1189.6500000000001]
["97-0116","20","97-0116-200",{"$f":"IF(AND(Config!$B$13<=Tarifs!F5544,Config!$B$13>=Tarifs!E5544),1,0)","v":0},"2026-11-01","2026-11-30",1189.6500000000001]
["97-0116","20","97-0116-200",{"$f":"IF(AND(Config!$B$13<=Tarifs!F5545,Config!$B$13>=Tarifs!E5545),1,0)","v":0},"2026-12-01","2026-12-31",1189.6500000000001]
["97-0116","10","97-0116-101",{"$f":"IF(AND(Config!$B$13<=Tarifs!F5546,Config!$B$13>=Tarifs!E5546),1,0)","v":1},"2026-01-01","2026-01-31",169.95]
["97-0116","10","97-0116-100",{"$f":"IF(AND(Config!$B$13<=Tarifs!F5547,Config!$B$13>=Tarifs!E5547),1,0)","v":0},"2026-02-01","2026-02-28",169.95]
["97-0116","10","97-0116-100",{"$f":"IF(AND(Config!$B$13<=Tarifs!F5548,Config!$B$13>=Tarifs!E5548),1,0)","v":0},"2026-03-01","2026-03-31",169.95]
["97-0116","10","97-0116-100",{"$f":"IF(AND(Config!$B$13<=Tarifs!F5549,Config!$B$13>=Tarifs!E5549),1,0)","v":0},"2026-04-01","2026-04-30",169.95]
["97-0116","10","97-0116-100",{"$f":"IF(AND(Config!$B$13<=Tarifs!F5550,Config!$B$13>=Tarifs!E5550),1,0)","v":0},"2026-05-01","2026-05-31",169.95]
["97-0116","10","97-0116-100",{"$f":"IF(AND(Config!$B$13<=Tarifs!F5551,Config!$B$13>=Tarifs!E5551),1,0)","v":0},"2026-06-01","2026-06-30",169.95]
["97-0116","10","97-0116-100",{"$f":"IF(AND(Config!$B$13<=Tarifs!F5552,Config!$B$13>=Tarifs!E5552),1,0)","v":0},"2026-07-01","2026-07-31",169.95]
["97-0116","10","97-0116-100",{"$f":"IF(AND(Config!$B$13<=Tarifs!F5553,Config!$B$13>=Tarifs!E5553),1,0)","v":0},"2026-08-01","2026-08-31",169.95]
["97-0116","10","97-0116-100",{"$f":"IF(AND(Config!$B$13<=Tarifs!F5554,Config!$B$13>=Tarifs!E5554),1,0)","v":0},"2026-09-01","2026-09-30",169.95]
["97-0116","10","97-0116-100",{"$f":"IF(AND(Config!$B$13<=Tarifs!F5555,Config!$B$13>=Tarifs!E5555),1,0)","v":0},"2026-10-01","2026-10-31",169.95]
["97-0116","10","97-0116-100",{"$f":"IF(AND(Config!$B$13<=Tarifs!F5556,Config!$B$13>=Tarifs!E5556),1,0)","v":0},"2026-11-01","2026-11-30",169.95]
["97-0116","10","97-0116-100",{"$f":"IF(AND(Config!$B$13<=Tarifs!F5557,Config!$B$13>=Tarifs!E5557),1,0)","v":0},"2026-12-01","2026-12-31",169.95]
["97-0117","30","97-0117-300",{"$f":"IF(AND(Config!$B$13<=Tarifs!F5558,Config!$B$13>=Tarifs!E5558),1,0)","v":0},"2026-10-01","2026-10-31",5698.5]
["97-0117","30","97-0117-300",{"$f":"IF(AND(Config!$B$13<=Tarifs!F5559,Config!$B$13>=Tarifs!E5559),1,0)","v":0},"2026-11-01","2026-11-30",5698.5]
["97-0117","30","97-0117-300",{"$f":"IF(AND(Config!$B$13<=Tarifs!F5560,Config!$B$13>=Tarifs!E5560),1,0)","v":0},"2026-12-01","2026-12-31",5698.5]
["97-0117","30","97-0117-301",{"$f":"IF(AND(Config!$B$13<=Tarifs!F5561,Config!$B$13>=Tarifs!E5561),1,0)","v":1},"2026-01-01","2026-01-31",5698.5]
["97-0117","30","97-0117-300",{"$f":"IF(AND(Config!$B$13<=Tarifs!F5562,Config!$B$13>=Tarifs!E5562),1,0)","v":0},"2026-02-01","2026-02-28",5698.5]
["97-0117","30","97-0117-300",{"$f":"IF(AND(Config!$B$13<=Tarifs!F5563,Config!$B$13>=Tarifs!E5563),1,0)","v":0},"2026-03-01","2026-03-31",5698.5]
["97-0117","30","97-0117-300",{"$f":"IF(AND(Config!$B$13<=Tarifs!F5564,Config!$B$13>=Tarifs!E5564),1,0)","v":0},"2026-04-01","2026-04-30",5698.5]
["97-0117","30","97-0117-300",{"$f":"IF(AND(Config!$B$13<=Tarifs!F5565,Config!$B$13>=Tarifs!E5565),1,0)","v":0},"2026-05-01","2026-05-31",5698.5]
["97-0117","30","97-0117-300",{"$f":"IF(AND(Config!$B$13<=Tarifs!F5566,Config!$B$13>=Tarifs!E5566),1,0)","v":0},"2026-06-01","2026-06-30",5698.5]
["97-0117","30","97-0117-300",{"$f":"IF(AND(Config!$B$13<=Tarifs!F5567,Config!$B$13>=Tarifs!E5567),1,0)","v":0},"2026-07-01","2026-07-31",5698.5]
["97-0117","30","97-0117-300",{"$f":"IF(AND(Config!$B$13<=Tarifs!F5568,Config!$B$13>=Tarifs!E5568),1,0)","v":0},"2026-08-01","2026-08-31",5698.5]
["97-0117","30","97-0117-300",{"$f":"IF(AND(Config!$B$13<=Tarifs!F5569,Config!$B$13>=Tarifs!E5569),1,0)","v":0},"2026-09-01","2026-09-30",5698.5]
["97-0117","20","97-0117-200",{"$f":"IF(AND(Config!$B$13<=Tarifs!F5570,Config!$B$13>=Tarifs!E5570),1,0)","v":0},"2026-11-01","2026-11-30",1329.65]
["97-0117","20",{"$f":"A5571&\"-\"&B5571&D5571","v":"97-0117-200"},{"$f":"IF(AND(Config!$B$13<=Tarifs!F5571,Config!$B$13>=Tarifs!E5571),1,0)","v":0},"2026-12-01","2026-12-31",1329.65]
["97-0117","20","97-0117-201",{"$f":"IF(AND(Config!$B$13<=Tarifs!F5572,Config!$B$13>=Tarifs!E5572),1,0)","v":1},"2026-01-01","2026-01-31",1329.65]
["97-0117","20","97-0117-200",{"$f":"IF(AND(Config!$B$13<=Tarifs!F5573,Config!$B$13>=Tarifs!E5573),1,0)","v":0},"2026-02-01","2026-02-28",1329.65]
["97-0117","20","97-0117-200",{"$f":"IF(AND(Config!$B$13<=Tarifs!F5574,Config!$B$13>=Tarifs!E5574),1,0)","v":0},"2026-03-01","2026-03-31",1329.65]
["97-0117","20","97-0117-200",{"$f":"IF(AND(Config!$B$13<=Tarifs!F5575,Config!$B$13>=Tarifs!E5575),1,0)","v":0},"2026-04-01","2026-04-30",1329.65]
["97-0117","20","97-0117-200",{"$f":"IF(AND(Config!$B$13<=Tarifs!F5576,Config!$B$13>=Tarifs!E5576),1,0)","v":0},"2026-05-01","2026-05-31",1329.65]
["97-0117","20","97-0117-200",{"$f":"IF(AND(Config!$B$13<=Tarifs!F5577,Config!$B$13>=Tarifs!E5577),1,0)","v":0},"2026-06-01","2026-06-30",1329.65]
["97-0117","20","97-0117-200",{"$f":"IF(AND(Config!$B$13<=Tarifs!F5578,Config!$B$13>=Tarifs!E5578),1,0)","v":0},"2026-07-01","2026-07-31",1329.65]
["97-0117","20","97-0117-200",{"$f":"IF(AND(Config!$B$13<=Tarifs!F5579,Config!$B$13>=Tarifs!E5579),1,0)","v":0},"2026-08-01","2026-08-31",1329.65]
["97-0117","20","97-0117-200",{"$f":"IF(AND(Config!$B$13<=Tarifs!F5580,Config!$B$13>=Tarifs!E5580),1,0)","v":0},"2026-09-01","2026-09-30",1329.65]
["97-0117","20","97-0117-200",{"$f":"IF(AND(Config!$B$13<=Tarifs!F5581,Config!$B$13>=Tarifs!E5581),1,0)","v":0},"2026-10-01","2026-10-31",1329.65]
["97-0117","10","97-0117-100",{"$f":"IF(AND(Config!$B$13<=Tarifs!F5582,Config!$B$13>=Tarifs!E5582),1,0)","v":0},"2026-11-01","2026-11-30",189.95]
["97-0117","10","97-0117-100",{"$f":"IF(AND(Config!$B$13<=Tarifs!F5583,Config!$B$13>=Tarifs!E5583),1,0)","v":0},"2026-12-01","2026-12-31",189.95]
["97-0117","10","97-0117-101",{"$f":"IF(AND(Config!$B$13<=Tarifs!F5584,Config!$B$13>=Tarifs!E5584),1,0)","v":1},"2026-01-01","2026-01-31",189.95]
["97-0117","10","97-0117-100",{"$f":"IF(AND(Config!$B$13<=Tarifs!F5585,Config!$B$13>=Tarifs!E5585),1,0)","v":0},"2026-02-01","2026-02-28",189.95]
["97-0117","10","97-0117-100",{"$f":"IF(AND(Config!$B$13<=Tarifs!F5586,Config!$B$13>=Tarifs!E5586),1,0)","v":0},"2026-03-01","2026-03-31",189.95]
["97-0117","10","97-0117-100",{"$f":"IF(AND(Config!$B$13<=Tarifs!F5587,Config!$B$13>=Tarifs!E5587),1,0)","v":0},"2026-04-01","2026-04-30",189.95]
["97-0117","10","97-0117-100",{"$f":"IF(AND(Config!$B$13<=Tarifs!F5588,Config!$B$13>=Tarifs!E5588),1,0)","v":0},"2026-05-01","2026-05-31",189.95]
["97-0117","10","97-0117-100",{"$f":"IF(AND(Config!$B$13<=Tarifs!F5589,Config!$B$13>=Tarifs!E5589),1,0)","v":0},"2026-06-01","2026-06-30",189.95]
["97-0117","10","97-0117-100",{"$f":"IF(AND(Config!$B$13<=Tarifs!F5590,Config!$B$13>=Tarifs!E5590),1,0)","v":0},"2026-07-01","2026-07-31",189.95]
["97-0117","10","97-0117-100",{"$f":"IF(AND(Config!$B$13<=Tarifs!F5591,Config!$B$13>=Tarifs!E5591),1,0)","v":0},"2026-08-01","2026-08-31",189.95]
["97-0117","10","97-0117-100",{"$f":"IF(AND(Config!$B$13<=Tarifs!F5592,Config!$B$13>=Tarifs!E5592),1,0)","v":0},"2026-09-01","2026-09-30",189.95]
["97-0117","10","97-0117-100",{"$f":"IF(AND(Config!$B$13<=Tarifs!F5593,Config!$B$13>=Tarifs!E5593),1,0)","v":0},"2026-10-01","2026-10-31",189.95]
["97-0123","30","97-0123-301",{"$f":"IF(AND(Config!$B$13<=Tarifs!F5594,Config!$B$13>=Tarifs!E5594),1,0)","v":1},"2026-01-01","2026-01-31",3810]
["97-0123","30","97-0123-300",{"$f":"IF(AND(Config!$B$13<=Tarifs!F5595,Config!$B$13>=Tarifs!E5595),1,0)","v":0},"2026-02-01","2026-02-28",3810]
["97-0123","30","97-0123-300",{"$f":"IF(AND(Config!$B$13<=Tarifs!F5596,Config!$B$13>=Tarifs!E5596),1,0)","v":0},"2026-03-01","2026-03-31",3810]
["97-0123","30","97-0123-300",{"$f":"IF(AND(Config!$B$13<=Tarifs!F5597,Config!$B$13>=Tarifs!E5597),1,0)","v":0},"2026-04-01","2026-04-30",3810]
["97-0123","30","97-0123-300",{"$f":"IF(AND(Config!$B$13<=Tarifs!F5598,Config!$B$13>=Tarifs!E5598),1,0)","v":0},"2026-05-01","2026-05-31",3810]
["97-0123","30","97-0123-300",{"$f":"IF(AND(Config!$B$13<=Tarifs!F5599,Config!$B$13>=Tarifs!E5599),1,0)","v":0},"2026-06-01","2026-06-30",3810]
["97-0123","30","97-0123-300",{"$f":"IF(AND(Config!$B$13<=Tarifs!F5600,Config!$B$13>=Tarifs!E5600),1,0)","v":0},"2026-07-01","2026-07-31",3810]
["97-0123","30","97-0123-300",{"$f":"IF(AND(Config!$B$13<=Tarifs!F5601,Config!$B$13>=Tarifs!E5601),1,0)","v":0},"2026-08-01","2026-08-31",3810]
["97-0123","30","97-0123-300",{"$f":"IF(AND(Config!$B$13<=Tarifs!F5602,Config!$B$13>=Tarifs!E5602),1,0)","v":0},"2026-09-01","2026-09-30",3810]
["97-0123","30","97-0123-300",{"$f":"IF(AND(Config!$B$13<=Tarifs!F5603,Config!$B$13>=Tarifs!E5603),1,0)","v":0},"2026-10-01","2026-10-31",3810]
["97-0123","30","97-0123-300",{"$f":"IF(AND(Config!$B$13<=Tarifs!F5604,Config!$B$13>=Tarifs!E5604),1,0)","v":0},"2026-11-01","2026-11-30",3810]
["97-0123","30","97-0123-300",{"$f":"IF(AND(Config!$B$13<=Tarifs!F5605,Config!$B$13>=Tarifs!E5605),1,0)","v":0},"2026-12-01","2026-12-31",3810]
["97-0123","20","97-0123-201",{"$f":"IF(AND(Config!$B$13<=Tarifs!F5606,Config!$B$13>=Tarifs!E5606),1,0)","v":1},"2026-01-01","2026-01-31",889]
["97-0123","20","97-0123-200",{"$f":"IF(AND(Config!$B$13<=Tarifs!F5607,Config!$B$13>=Tarifs!E5607),1,0)","v":0},"2026-02-01","2026-02-28",889]
["97-0123","20","97-0123-200",{"$f":"IF(AND(Config!$B$13<=Tarifs!F5608,Config!$B$13>=Tarifs!E5608),1,0)","v":0},"2026-03-01","2026-03-31",889]
["97-0123","20","97-0123-200",{"$f":"IF(AND(Config!$B$13<=Tarifs!F5609,Config!$B$13>=Tarifs!E5609),1,0)","v":0},"2026-04-01","2026-04-30",889]
["97-0123","20","97-0123-200",{"$f":"IF(AND(Config!$B$13<=Tarifs!F5610,Config!$B$13>=Tarifs!E5610),1,0)","v":0},"2026-05-01","2026-05-31",889]
["97-0123","20","97-0123-200",{"$f":"IF(AND(Config!$B$13<=Tarifs!F5611,Config!$B$13>=Tarifs!E5611),1,0)","v":0},"2026-06-01","2026-06-30",889]
["97-0123","20","97-0123-200",{"$f":"IF(AND(Config!$B$13<=Tarifs!F5612,Config!$B$13>=Tarifs!E5612),1,0)","v":0},"2026-07-01","2026-07-31",889]
["97-0123","20","97-0123-200",{"$f":"IF(AND(Config!$B$13<=Tarifs!F5613,Config!$B$13>=Tarifs!E5613),1,0)","v":0},"2026-08-01","2026-08-31",889]
["97-0123","20","97-0123-200",{"$f":"IF(AND(Config!$B$13<=Tarifs!F5614,Config!$B$13>=Tarifs!E5614),1,0)","v":0},"2026-09-01","2026-09-30",889]
["97-0123","20","97-0123-200",{"$f":"IF(AND(Config!$B$13<=Tarifs!F5615,Config!$B$13>=Tarifs!E5615),1,0)","v":0},"2026-10-01","2026-10-31",889]
["97-0123","20","97-0123-200",{"$f":"IF(AND(Config!$B$13<=Tarifs!F5616,Config!$B$13>=Tarifs!E5616),1,0)","v":0},"2026-11-01","2026-11-30",889]
["97-0123","20","97-0123-200",{"$f":"IF(AND(Config!$B$13<=Tarifs!F5617,Config!$B$13>=Tarifs!E5617),1,0)","v":0},"2026-12-01","2026-12-31",889]
["97-0123","10","97-0123-101",{"$f":"IF(AND(Config!$B$13<=Tarifs!F5618,Config!$B$13>=Tarifs!E5618),1,0)","v":1},"2026-01-01","2026-01-31",127]
["97-0123","10","97-0123-100",{"$f":"IF(AND(Config!$B$13<=Tarifs!F5619,Config!$B$13>=Tarifs!E5619),1,0)","v":0},"2026-02-01","2026-02-28",127]
["97-0123","10","97-0123-100",{"$f":"IF(AND(Config!$B$13<=Tarifs!F5620,Config!$B$13>=Tarifs!E5620),1,0)","v":0},"2026-03-01","2026-03-31",127]
["97-0123","10","97-0123-100",{"$f":"IF(AND(Config!$B$13<=Tarifs!F5621,Config!$B$13>=Tarifs!E5621),1,0)","v":0},"2026-04-01","2026-04-30",127]
["97-0123","10","97-0123-100",{"$f":"IF(AND(Config!$B$13<=Tarifs!F5622,Config!$B$13>=Tarifs!E5622),1,0)","v":0},"2026-05-01","2026-05-31",127]
["97-0123","10","97-0123-100",{"$f":"IF(AND(Config!$B$13<=Tarifs!F5623,Config!$B$13>=Tarifs!E5623),1,0)","v":0},"2026-06-01","2026-06-30",127]
["97-0123","10","97-0123-100",{"$f":"IF(AND(Config!$B$13<=Tarifs!F5624,Config!$B$13>=Tarifs!E5624),1,0)","v":0},"2026-07-01","2026-07-31",127]
["97-0123","10","97-0123-100",{"$f":"IF(AND(Config!$B$13<=Tarifs!F5625,Config!$B$13>=Tarifs!E5625),1,0)","v":0},"2026-08-01","2026-08-31",127]
["97-0123","10","97-0123-100",{"$f":"IF(AND(Config!$B$13<=Tarifs!F5626,Config!$B$13>=Tarifs!E5626),1,0)","v":0},"2026-09-01","2026-09-30",127]
["97-0123","10","97-0123-100",{"$f":"IF(AND(Config!$B$13<=Tarifs!F5627,Config!$B$13>=Tarifs!E5627),1,0)","v":0},"2026-10-01","2026-10-31",127]
["97-0123","10","97-0123-100",{"$f":"IF(AND(Config!$B$13<=Tarifs!F5628,Config!$B$13>=Tarifs!E5628),1,0)","v":0},"2026-11-01","2026-11-30",127]
["97-0123","10","97-0123-100",{"$f":"IF(AND(Config!$B$13<=Tarifs!F5629,Config!$B$13>=Tarifs!E5629),1,0)","v":0},"2026-12-01","2026-12-31",127]
["97-0155","30","97-0155-301",{"$f":"IF(AND(Config!$B$13<=Tarifs!F5630,Config!$B$13>=Tarifs!E5630),1,0)","v":1},"2026-01-01","2026-01-31",5098.5]
["97-0155","30","97-0155-300",{"$f":"IF(AND(Config!$B$13<=Tarifs!F5631,Config!$B$13>=Tarifs!E5631),1,0)","v":0},"2026-02-01","2026-02-28",5098.5]
["97-0155","30","97-0155-300",{"$f":"IF(AND(Config!$B$13<=Tarifs!F5632,Config!$B$13>=Tarifs!E5632),1,0)","v":0},"2026-03-01","2026-03-31",5098.5]
["97-0155","30","97-0155-300",{"$f":"IF(AND(Config!$B$13<=Tarifs!F5633,Config!$B$13>=Tarifs!E5633),1,0)","v":0},"2026-04-01","2026-04-30",5098.5]
["97-0155","30","97-0155-300",{"$f":"IF(AND(Config!$B$13<=Tarifs!F5634,Config!$B$13>=Tarifs!E5634),1,0)","v":0},"2026-05-01","2026-05-31",5098.5]
["97-0155","30",{"$f":"A5635&\"-\"&B5635&D5635","v":"97-0155-300"},{"$f":"IF(AND(Config!$B$13<=Tarifs!F5635,Config!$B$13>=Tarifs!E5635),1,0)","v":0},"2026-06-01","2026-06-30",5098.5]
["97-0155","30","97-0155-300",{"$f":"IF(AND(Config!$B$13<=Tarifs!F5636,Config!$B$13>=Tarifs!E5636),1,0)","v":0},"2026-07-01","2026-07-31",5098.5]
["97-0155","30","97-0155-300",{"$f":"IF(AND(Config!$B$13<=Tarifs!F5637,Config!$B$13>=Tarifs!E5637),1,0)","v":0},"2026-08-01","2026-08-31",5098.5]
["97-0155","30","97-0155-300",{"$f":"IF(AND(Config!$B$13<=Tarifs!F5638,Config!$B$13>=Tarifs!E5638),1,0)","v":0},"2026-09-01","2026-09-30",5098.5]
["97-0155","30","97-0155-300",{"$f":"IF(AND(Config!$B$13<=Tarifs!F5639,Config!$B$13>=Tarifs!E5639),1,0)","v":0},"2026-10-01","2026-10-31",5098.5]
["97-0155","30","97-0155-300",{"$f":"IF(AND(Config!$B$13<=Tarifs!F5640,Config!$B$13>=Tarifs!E5640),1,0)","v":0},"2026-11-01","2026-11-30",5098.5]
["97-0155","30","97-0155-300",{"$f":"IF(AND(Config!$B$13<=Tarifs!F5641,Config!$B$13>=Tarifs!E5641),1,0)","v":0},"2026-12-01","2026-12-31",5098.5]
["97-0155","20","97-0155-201",{"$f":"IF(AND(Config!$B$13<=Tarifs!F5642,Config!$B$13>=Tarifs!E5642),1,0)","v":1},"2026-01-01","2026-01-31",1189.6500000000001]
["97-0155","20","97-0155-200",{"$f":"IF(AND(Config!$B$13<=Tarifs!F5643,Config!$B$13>=Tarifs!E5643),1,0)","v":0},"2026-02-01","2026-02-28",1189.6500000000001]
["97-0155","20","97-0155-200",{"$f":"IF(AND(Config!$B$13<=Tarifs!F5644,Config!$B$13>=Tarifs!E5644),1,0)","v":0},"2026-03-01","2026-03-31",1189.6500000000001]
["97-0155","20","97-0155-200",{"$f":"IF(AND(Config!$B$13<=Tarifs!F5645,Config!$B$13>=Tarifs!E5645),1,0)","v":0},"2026-04-01","2026-04-30",1189.6500000000001]
["97-0155","20","97-0155-200",{"$f":"IF(AND(Config!$B$13<=Tarifs!F5646,Config!$B$13>=Tarifs!E5646),1,0)","v":0},"2026-05-01","2026-05-31",1189.6500000000001]
["97-0155","20","97-0155-200",{"$f":"IF(AND(Config!$B$13<=Tarifs!F5647,Config!$B$13>=Tarifs!E5647),1,0)","v":0},"2026-06-01","2026-06-30",1189.6500000000001]
["97-0155","20","97-0155-200",{"$f":"IF(AND(Config!$B$13<=Tarifs!F5648,Config!$B$13>=Tarifs!E5648),1,0)","v":0},"2026-07-01","2026-07-31",1189.6500000000001]
["97-0155","20","97-0155-200",{"$f":"IF(AND(Config!$B$13<=Tarifs!F5649,Config!$B$13>=Tarifs!E5649),1,0)","v":0},"2026-08-01","2026-08-31",1189.6500000000001]
["97-0155","20","97-0155-200",{"$f":"IF(AND(Config!$B$13<=Tarifs!F5650,Config!$B$13>=Tarifs!E5650),1,0)","v":0},"2026-09-01","2026-09-30",1189.6500000000001]
["97-0155","20","97-0155-200",{"$f":"IF(AND(Config!$B$13<=Tarifs!F5651,Config!$B$13>=Tarifs!E5651),1,0)","v":0},"2026-10-01","2026-10-31",1189.6500000000001]
["97-0155","20","97-0155-200",{"$f":"IF(AND(Config!$B$13<=Tarifs!F5652,Config!$B$13>=Tarifs!E5652),1,0)","v":0},"2026-11-01","2026-11-30",1189.6500000000001]
["97-0155","20","97-0155-200",{"$f":"IF(AND(Config!$B$13<=Tarifs!F5653,Config!$B$13>=Tarifs!E5653),1,0)","v":0},"2026-12-01","2026-12-31",1189.6500000000001]
["97-0155","10","97-0155-101",{"$f":"IF(AND(Config!$B$13<=Tarifs!F5654,Config!$B$13>=Tarifs!E5654),1,0)","v":1},"2026-01-01","2026-01-31",169.95]
["97-0155","10","97-0155-100",{"$f":"IF(AND(Config!$B$13<=Tarifs!F5655,Config!$B$13>=Tarifs!E5655),1,0)","v":0},"2026-02-01","2026-02-28",169.95]
["97-0155","10","97-0155-100",{"$f":"IF(AND(Config!$B$13<=Tarifs!F5656,Config!$B$13>=Tarifs!E5656),1,0)","v":0},"2026-03-01","2026-03-31",169.95]
["97-0155","10","97-0155-100",{"$f":"IF(AND(Config!$B$13<=Tarifs!F5657,Config!$B$13>=Tarifs!E5657),1,0)","v":0},"2026-04-01","2026-04-30",169.95]
["97-0155","10","97-0155-100",{"$f":"IF(AND(Config!$B$13<=Tarifs!F5658,Config!$B$13>=Tarifs!E5658),1,0)","v":0},"2026-05-01","2026-05-31",169.95]
["97-0155","10","97-0155-100",{"$f":"IF(AND(Config!$B$13<=Tarifs!F5659,Config!$B$13>=Tarifs!E5659),1,0)","v":0},"2026-06-01","2026-06-30",169.95]
["97-0155","10","97-0155-100",{"$f":"IF(AND(Config!$B$13<=Tarifs!F5660,Config!$B$13>=Tarifs!E5660),1,0)","v":0},"2026-07-01","2026-07-31",169.95]
["97-0155","10","97-0155-100",{"$f":"IF(AND(Config!$B$13<=Tarifs!F5661,Config!$B$13>=Tarifs!E5661),1,0)","v":0},"2026-08-01","2026-08-31",169.95]
["97-0155","10","97-0155-100",{"$f":"IF(AND(Config!$B$13<=Tarifs!F5662,Config!$B$13>=Tarifs!E5662),1,0)","v":0},"2026-09-01","2026-09-30",169.95]
["97-0155","10","97-0155-100",{"$f":"IF(AND(Config!$B$13<=Tarifs!F5663,Config!$B$13>=Tarifs!E5663),1,0)","v":0},"2026-10-01","2026-10-31",169.95]
["97-0155","10","97-0155-100",{"$f":"IF(AND(Config!$B$13<=Tarifs!F5664,Config!$B$13>=Tarifs!E5664),1,0)","v":0},"2026-11-01","2026-11-30",169.95]
["97-0155","10","97-0155-100",{"$f":"IF(AND(Config!$B$13<=Tarifs!F5665,Config!$B$13>=Tarifs!E5665),1,0)","v":0},"2026-12-01","2026-12-31",169.95]
["97-0158","30","97-0158-300",{"$f":"IF(AND(Config!$B$13<=Tarifs!F5666,Config!$B$13>=Tarifs!E5666),1,0)","v":0},"2026-07-01","2026-07-31",5520]
["97-0158","30","97-0158-300",{"$f":"IF(AND(Config!$B$13<=Tarifs!F5667,Config!$B$13>=Tarifs!E5667),1,0)","v":0},"2026-08-01","2026-08-31",5520]
["97-0158","30","97-0158-300",{"$f":"IF(AND(Config!$B$13<=Tarifs!F5668,Config!$B$13>=Tarifs!E5668),1,0)","v":0},"2026-06-01","2026-06-30",4170]
["97-0158","30","97-0158-300",{"$f":"IF(AND(Config!$B$13<=Tarifs!F5669,Config!$B$13>=Tarifs!E5669),1,0)","v":0},"2026-09-01","2026-09-30",4170]
["97-0158","30","97-0158-300",{"$f":"IF(AND(Config!$B$13<=Tarifs!F5670,Config!$B$13>=Tarifs!E5670),1,0)","v":0},"2026-05-01","2026-05-31",3870]
["97-0158","30","97-0158-301",{"$f":"IF(AND(Config!$B$13<=Tarifs!F5671,Config!$B$13>=Tarifs!E5671),1,0)","v":1},"2026-01-01","2026-01-31",3660]
["97-0158","30","97-0158-300",{"$f":"IF(AND(Config!$B$13<=Tarifs!F5672,Config!$B$13>=Tarifs!E5672),1,0)","v":0},"2026-03-01","2026-03-31",3660]
["97-0158","30","97-0158-300",{"$f":"IF(AND(Config!$B$13<=Tarifs!F5673,Config!$B$13>=Tarifs!E5673),1,0)","v":0},"2026-04-01","2026-04-30",3660]
["97-0158","30","97-0158-300",{"$f":"IF(AND(Config!$B$13<=Tarifs!F5674,Config!$B$13>=Tarifs!E5674),1,0)","v":0},"2026-10-01","2026-10-31",3660]
["97-0158","30","97-0158-300",{"$f":"IF(AND(Config!$B$13<=Tarifs!F5675,Config!$B$13>=Tarifs!E5675),1,0)","v":0},"2026-11-01","2026-11-30",3660]
["97-0158","30","97-0158-300",{"$f":"IF(AND(Config!$B$13<=Tarifs!F5676,Config!$B$13>=Tarifs!E5676),1,0)","v":0},"2026-12-01","2026-12-31",3660]
["97-0158","30","97-0158-300",{"$f":"IF(AND(Config!$B$13<=Tarifs!F5677,Config!$B$13>=Tarifs!E5677),1,0)","v":0},"2026-02-01","2026-02-28",3660]
["97-0158","20","97-0158-200",{"$f":"IF(AND(Config!$B$13<=Tarifs!F5678,Config!$B$13>=Tarifs!E5678),1,0)","v":0},"2026-07-01","2026-07-31",1288]
["97-0158","20","97-0158-200",{"$f":"IF(AND(Config!$B$13<=Tarifs!F5679,Config!$B$13>=Tarifs!E5679),1,0)","v":0},"2026-08-01","2026-08-31",1288]
["97-0158","20","97-0158-200",{"$f":"IF(AND(Config!$B$13<=Tarifs!F5680,Config!$B$13>=Tarifs!E5680),1,0)","v":0},"2026-06-01","2026-06-30",973]
["97-0158","20","97-0158-200",{"$f":"IF(AND(Config!$B$13<=Tarifs!F5681,Config!$B$13>=Tarifs!E5681),1,0)","v":0},"2026-09-01","2026-09-30",973]
["97-0158","20","97-0158-200",{"$f":"IF(AND(Config!$B$13<=Tarifs!F5682,Config!$B$13>=Tarifs!E5682),1,0)","v":0},"2026-05-01","2026-05-31",903]
["97-0158","20","97-0158-201",{"$f":"IF(AND(Config!$B$13<=Tarifs!F5683,Config!$B$13>=Tarifs!E5683),1,0)","v":1},"2026-01-01","2026-01-31",854]
["97-0158","20","97-0158-200",{"$f":"IF(AND(Config!$B$13<=Tarifs!F5684,Config!$B$13>=Tarifs!E5684),1,0)","v":0},"2026-02-01","2026-02-28",854]
["97-0158","20","97-0158-200",{"$f":"IF(AND(Config!$B$13<=Tarifs!F5685,Config!$B$13>=Tarifs!E5685),1,0)","v":0},"2026-04-01","2026-04-30",854]
["97-0158","20","97-0158-200",{"$f":"IF(AND(Config!$B$13<=Tarifs!F5686,Config!$B$13>=Tarifs!E5686),1,0)","v":0},"2026-10-01","2026-10-31",854]
["97-0158","20","97-0158-200",{"$f":"IF(AND(Config!$B$13<=Tarifs!F5687,Config!$B$13>=Tarifs!E5687),1,0)","v":0},"2026-11-01","2026-11-30",854]
["97-0158","20","97-0158-200",{"$f":"IF(AND(Config!$B$13<=Tarifs!F5688,Config!$B$13>=Tarifs!E5688),1,0)","v":0},"2026-12-01","2026-12-31",854]
["97-0158","20","97-0158-200",{"$f":"IF(AND(Config!$B$13<=Tarifs!F5689,Config!$B$13>=Tarifs!E5689),1,0)","v":0},"2026-03-01","2026-03-31",854]
["97-0158","10","97-0158-100",{"$f":"IF(AND(Config!$B$13<=Tarifs!F5690,Config!$B$13>=Tarifs!E5690),1,0)","v":0},"2026-08-01","2026-08-31",184]
["97-0158","10","97-0158-100",{"$f":"IF(AND(Config!$B$13<=Tarifs!F5691,Config!$B$13>=Tarifs!E5691),1,0)","v":0},"2026-06-01","2026-06-30",139]
["97-0158","10","97-0158-100",{"$f":"IF(AND(Config!$B$13<=Tarifs!F5692,Config!$B$13>=Tarifs!E5692),1,0)","v":0},"2026-09-01","2026-09-30",139]
["97-0158","10","97-0158-100",{"$f":"IF(AND(Config!$B$13<=Tarifs!F5693,Config!$B$13>=Tarifs!E5693),1,0)","v":0},"2026-05-01","2026-05-31",129]
["97-0158","10","97-0158-101",{"$f":"IF(AND(Config!$B$13<=Tarifs!F5694,Config!$B$13>=Tarifs!E5694),1,0)","v":1},"2026-01-01","2026-01-31",122]
["97-0158","10","97-0158-100",{"$f":"IF(AND(Config!$B$13<=Tarifs!F5695,Config!$B$13>=Tarifs!E5695),1,0)","v":0},"2026-02-01","2026-02-28",122]
["97-0158","10","97-0158-100",{"$f":"IF(AND(Config!$B$13<=Tarifs!F5696,Config!$B$13>=Tarifs!E5696),1,0)","v":0},"2026-04-01","2026-04-30",122]
["97-0158","10","97-0158-100",{"$f":"IF(AND(Config!$B$13<=Tarifs!F5697,Config!$B$13>=Tarifs!E5697),1,0)","v":0},"2026-10-01","2026-10-31",122]
["97-0158","10","97-0158-100",{"$f":"IF(AND(Config!$B$13<=Tarifs!F5698,Config!$B$13>=Tarifs!E5698),1,0)","v":0},"2026-11-01","2026-11-30",122]
["97-0158","10",{"$f":"A5699&\"-\"&B5699&D5699","v":"97-0158-100"},{"$f":"IF(AND(Config!$B$13<=Tarifs!F5699,Config!$B$13>=Tarifs!E5699),1,0)","v":0},"2026-12-01","2026-12-31",122]
["97-0158","10","97-0158-100",{"$f":"IF(AND(Config!$B$13<=Tarifs!F5700,Config!$B$13>=Tarifs!E5700),1,0)","v":0},"2026-03-01","2026-03-31",122]
["97-0159","30","97-0159-300",{"$f":"IF(AND(Config!$B$13<=Tarifs!F5701,Config!$B$13>=Tarifs!E5701),1,0)","v":0},"2026-07-01","2026-07-31",5520]
["97-0159","30","97-0159-300",{"$f":"IF(AND(Config!$B$13<=Tarifs!F5702,Config!$B$13>=Tarifs!E5702),1,0)","v":0},"2026-08-01","2026-08-31",5520]
["97-0159","30","97-0159-300",{"$f":"IF(AND(Config!$B$13<=Tarifs!F5703,Config!$B$13>=Tarifs!E5703),1,0)","v":0},"2026-06-01","2026-06-30",4170]
["97-0159","30","97-0159-300",{"$f":"IF(AND(Config!$B$13<=Tarifs!F5704,Config!$B$13>=Tarifs!E5704),1,0)","v":0},"2026-09-01","2026-09-30",4170]
["97-0159","30","97-0159-300",{"$f":"IF(AND(Config!$B$13<=Tarifs!F5705,Config!$B$13>=Tarifs!E5705),1,0)","v":0},"2026-05-01","2026-05-31",3870]
["97-0159","30","97-0159-301",{"$f":"IF(AND(Config!$B$13<=Tarifs!F5706,Config!$B$13>=Tarifs!E5706),1,0)","v":1},"2026-01-01","2026-01-31",3660]
["97-0159","30","97-0159-300",{"$f":"IF(AND(Config!$B$13<=Tarifs!F5707,Config!$B$13>=Tarifs!E5707),1,0)","v":0},"2026-02-01","2026-02-28",3660]
["97-0159","30","97-0159-300",{"$f":"IF(AND(Config!$B$13<=Tarifs!F5708,Config!$B$13>=Tarifs!E5708),1,0)","v":0},"2026-03-01","2026-03-31",3660]
["97-0159","30","97-0159-300",{"$f":"IF(AND(Config!$B$13<=Tarifs!F5709,Config!$B$13>=Tarifs!E5709),1,0)","v":0},"2026-04-01","2026-04-30",3660]
["97-0159","30","97-0159-300",{"$f":"IF(AND(Config!$B$13<=Tarifs!F5710,Config!$B$13>=Tarifs!E5710),1,0)","v":0},"2026-10-01","2026-10-31",3660]
["97-0159","30","97-0159-300",{"$f":"IF(AND(Config!$B$13<=Tarifs!F5711,Config!$B$13>=Tarifs!E5711),1,0)","v":0},"2026-11-01","2026-11-30",3660]
["97-0159","30","97-0159-300",{"$f":"IF(AND(Config!$B$13<=Tarifs!F5712,Config!$B$13>=Tarifs!E5712),1,0)","v":0},"2026-12-01","2026-12-31",3660]
["97-0159","20","97-0159-200",{"$f":"IF(AND(Config!$B$13<=Tarifs!F5713,Config!$B$13>=Tarifs!E5713),1,0)","v":0},"2026-07-01","2026-07-31",1288]
["97-0159","20","97-0159-200",{"$f":"IF(AND(Config!$B$13<=Tarifs!F5714,Config!$B$13>=Tarifs!E5714),1,0)","v":0},"2026-08-01","2026-08-31",1288]
["97-0159","20","97-0159-200",{"$f":"IF(AND(Config!$B$13<=Tarifs!F5715,Config!$B$13>=Tarifs!E5715),1,0)","v":0},"2026-06-01","2026-06-30",973]
["97-0159","20","97-0159-200",{"$f":"IF(AND(Config!$B$13<=Tarifs!F5716,Config!$B$13>=Tarifs!E5716),1,0)","v":0},"2026-09-01","2026-09-30",973]
["97-0159","20","97-0159-200",{"$f":"IF(AND(Config!$B$13<=Tarifs!F5717,Config!$B$13>=Tarifs!E5717),1,0)","v":0},"2026-05-01","2026-05-31",903]
["97-0159","20","97-0159-201",{"$f":"IF(AND(Config!$B$13<=Tarifs!F5718,Config!$B$13>=Tarifs!E5718),1,0)","v":1},"2026-01-01","2026-01-31",854]
["97-0159","20","97-0159-200",{"$f":"IF(AND(Config!$B$13<=Tarifs!F5719,Config!$B$13>=Tarifs!E5719),1,0)","v":0},"2026-02-01","2026-02-28",854]
["97-0159","20","97-0159-200",{"$f":"IF(AND(Config!$B$13<=Tarifs!F5720,Config!$B$13>=Tarifs!E5720),1,0)","v":0},"2026-03-01","2026-03-31",854]
["97-0159","20","97-0159-200",{"$f":"IF(AND(Config!$B$13<=Tarifs!F5721,Config!$B$13>=Tarifs!E5721),1,0)","v":0},"2026-04-01","2026-04-30",854]
["97-0159","20","97-0159-200",{"$f":"IF(AND(Config!$B$13<=Tarifs!F5722,Config!$B$13>=Tarifs!E5722),1,0)","v":0},"2026-10-01","2026-10-31",854]
["97-0159","20","97-0159-200",{"$f":"IF(AND(Config!$B$13<=Tarifs!F5723,Config!$B$13>=Tarifs!E5723),1,0)","v":0},"2026-11-01","2026-11-30",854]
["97-0159","20","97-0159-200",{"$f":"IF(AND(Config!$B$13<=Tarifs!F5724,Config!$B$13>=Tarifs!E5724),1,0)","v":0},"2026-12-01","2026-12-31",854]
["97-0159","10","97-0159-100",{"$f":"IF(AND(Config!$B$13<=Tarifs!F5725,Config!$B$13>=Tarifs!E5725),1,0)","v":0},"2026-07-01","2026-07-31",184]
["97-0159","10","97-0159-100",{"$f":"IF(AND(Config!$B$13<=Tarifs!F5726,Config!$B$13>=Tarifs!E5726),1,0)","v":0},"2026-08-01","2026-08-31",184]
["97-0159","10","97-0159-100",{"$f":"IF(AND(Config!$B$13<=Tarifs!F5727,Config!$B$13>=Tarifs!E5727),1,0)","v":0},"2026-06-01","2026-06-30",139]
["97-0159","10","97-0159-100",{"$f":"IF(AND(Config!$B$13<=Tarifs!F5728,Config!$B$13>=Tarifs!E5728),1,0)","v":0},"2026-09-01","2026-09-30",139]
["97-0159","10","97-0159-100",{"$f":"IF(AND(Config!$B$13<=Tarifs!F5729,Config!$B$13>=Tarifs!E5729),1,0)","v":0},"2026-05-01","2026-05-31",129]
["97-0159","10","97-0159-101",{"$f":"IF(AND(Config!$B$13<=Tarifs!F5730,Config!$B$13>=Tarifs!E5730),1,0)","v":1},"2026-01-01","2026-01-31",122]
["97-0159","10","97-0159-100",{"$f":"IF(AND(Config!$B$13<=Tarifs!F5731,Config!$B$13>=Tarifs!E5731),1,0)","v":0},"2026-02-01","2026-02-28",122]
["97-0159","10","97-0159-100",{"$f":"IF(AND(Config!$B$13<=Tarifs!F5732,Config!$B$13>=Tarifs!E5732),1,0)","v":0},"2026-03-01","2026-03-31",122]
["97-0159","10","97-0159-100",{"$f":"IF(AND(Config!$B$13<=Tarifs!F5733,Config!$B$13>=Tarifs!E5733),1,0)","v":0},"2026-04-01","2026-04-30",122]
["97-0159","10","97-0159-100",{"$f":"IF(AND(Config!$B$13<=Tarifs!F5734,Config!$B$13>=Tarifs!E5734),1,0)","v":0},"2026-10-01","2026-10-31",122]
["97-0159","10","97-0159-100",{"$f":"IF(AND(Config!$B$13<=Tarifs!F5735,Config!$B$13>=Tarifs!E5735),1,0)","v":0},"2026-11-01","2026-11-30",122]
["97-0159","10","97-0159-100",{"$f":"IF(AND(Config!$B$13<=Tarifs!F5736,Config!$B$13>=Tarifs!E5736),1,0)","v":0},"2026-12-01","2026-12-31",122]
["97-0166","30","97-0166-300",{"$f":"IF(AND(Config!$B$13<=Tarifs!F5737,Config!$B$13>=Tarifs!E5737),1,0)","v":0},"2026-05-01","2026-05-31",7170]
["97-0166","30","97-0166-300",{"$f":"IF(AND(Config!$B$13<=Tarifs!F5738,Config!$B$13>=Tarifs!E5738),1,0)","v":0},"2026-06-01","2026-06-30",7170]
["97-0166","30","97-0166-300",{"$f":"IF(AND(Config!$B$13<=Tarifs!F5739,Config!$B$13>=Tarifs!E5739),1,0)","v":0},"2026-07-01","2026-07-31",7170]
["97-0166","30","97-0166-300",{"$f":"IF(AND(Config!$B$13<=Tarifs!F5740,Config!$B$13>=Tarifs!E5740),1,0)","v":0},"2026-08-01","2026-08-31",7170]
["97-0166","30","97-0166-300",{"$f":"IF(AND(Config!$B$13<=Tarifs!F5741,Config!$B$13>=Tarifs!E5741),1,0)","v":0},"2026-09-01","2026-09-30",7170]
["97-0166","30","97-0166-300",{"$f":"IF(AND(Config!$B$13<=Tarifs!F5742,Config!$B$13>=Tarifs!E5742),1,0)","v":0},"2026-10-01","2026-10-31",5670]
["97-0166","30","97-0166-300",{"$f":"IF(AND(Config!$B$13<=Tarifs!F5743,Config!$B$13>=Tarifs!E5743),1,0)","v":0},"2026-04-01","2026-04-30",5370]
["97-0166","30","97-0166-301",{"$f":"IF(AND(Config!$B$13<=Tarifs!F5744,Config!$B$13>=Tarifs!E5744),1,0)","v":1},"2026-01-01","2026-01-31",5070]
["97-0166","30","97-0166-300",{"$f":"IF(AND(Config!$B$13<=Tarifs!F5745,Config!$B$13>=Tarifs!E5745),1,0)","v":0},"2026-02-01","2026-02-28",5070]
["97-0166","30","97-0166-300",{"$f":"IF(AND(Config!$B$13<=Tarifs!F5746,Config!$B$13>=Tarifs!E5746),1,0)","v":0},"2026-03-01","2026-03-31",5070]
["97-0166","30","97-0166-300",{"$f":"IF(AND(Config!$B$13<=Tarifs!F5747,Config!$B$13>=Tarifs!E5747),1,0)","v":0},"2026-11-01","2026-11-30",5070]
["97-0166","30","97-0166-300",{"$f":"IF(AND(Config!$B$13<=Tarifs!F5748,Config!$B$13>=Tarifs!E5748),1,0)","v":0},"2026-12-01","2026-12-31",5070]
["97-0166","20","97-0166-200",{"$f":"IF(AND(Config!$B$13<=Tarifs!F5749,Config!$B$13>=Tarifs!E5749),1,0)","v":0},"2026-05-01","2026-05-31",1673]
["97-0166","20","97-0166-200",{"$f":"IF(AND(Config!$B$13<=Tarifs!F5750,Config!$B$13>=Tarifs!E5750),1,0)","v":0},"2026-06-01","2026-06-30",1673]
["97-0166","20","97-0166-200",{"$f":"IF(AND(Config!$B$13<=Tarifs!F5751,Config!$B$13>=Tarifs!E5751),1,0)","v":0},"2026-07-01","2026-07-31",1673]
["97-0166","20","97-0166-200",{"$f":"IF(AND(Config!$B$13<=Tarifs!F5752,Config!$B$13>=Tarifs!E5752),1,0)","v":0},"2026-08-01","2026-08-31",1673]
["97-0166","20","97-0166-200",{"$f":"IF(AND(Config!$B$13<=Tarifs!F5753,Config!$B$13>=Tarifs!E5753),1,0)","v":0},"2026-09-01","2026-09-30",1673]
["97-0166","20","97-0166-200",{"$f":"IF(AND(Config!$B$13<=Tarifs!F5754,Config!$B$13>=Tarifs!E5754),1,0)","v":0},"2026-04-01","2026-04-30",1253]
["97-0166","20","97-0166-201",{"$f":"IF(AND(Config!$B$13<=Tarifs!F5755,Config!$B$13>=Tarifs!E5755),1,0)","v":1},"2026-01-01","2026-01-31",1183]
["97-0166","20","97-0166-200",{"$f":"IF(AND(Config!$B$13<=Tarifs!F5756,Config!$B$13>=Tarifs!E5756),1,0)","v":0},"2026-02-01","2026-02-28",1183]
["97-0166","20","97-0166-200",{"$f":"IF(AND(Config!$B$13<=Tarifs!F5757,Config!$B$13>=Tarifs!E5757),1,0)","v":0},"2026-03-01","2026-03-31",1183]
["97-0166","20","97-0166-200",{"$f":"IF(AND(Config!$B$13<=Tarifs!F5758,Config!$B$13>=Tarifs!E5758),1,0)","v":0},"2026-10-01","2026-10-31",1183]
["97-0166","20","97-0166-200",{"$f":"IF(AND(Config!$B$13<=Tarifs!F5759,Config!$B$13>=Tarifs!E5759),1,0)","v":0},"2026-11-01","2026-11-30",1183]
["97-0166","20","97-0166-200",{"$f":"IF(AND(Config!$B$13<=Tarifs!F5760,Config!$B$13>=Tarifs!E5760),1,0)","v":0},"2026-12-01","2026-12-31",1183]
["97-0166","10","97-0166-100",{"$f":"IF(AND(Config!$B$13<=Tarifs!F5761,Config!$B$13>=Tarifs!E5761),1,0)","v":0},"2026-05-01","2026-05-31",239]
["97-0166","10","97-0166-100",{"$f":"IF(AND(Config!$B$13<=Tarifs!F5762,Config!$B$13>=Tarifs!E5762),1,0)","v":0},"2026-06-01","2026-06-30",239]
["97-0166","10",{"$f":"A5763&\"-\"&B5763&D5763","v":"97-0166-100"},{"$f":"IF(AND(Config!$B$13<=Tarifs!F5763,Config!$B$13>=Tarifs!E5763),1,0)","v":0},"2026-07-01","2026-07-31",239]
["97-0166","10","97-0166-100",{"$f":"IF(AND(Config!$B$13<=Tarifs!F5764,Config!$B$13>=Tarifs!E5764),1,0)","v":0},"2026-08-01","2026-08-31",239]
["97-0166","10","97-0166-100",{"$f":"IF(AND(Config!$B$13<=Tarifs!F5765,Config!$B$13>=Tarifs!E5765),1,0)","v":0},"2026-09-01","2026-09-30",239]
["97-0166","10","97-0166-100",{"$f":"IF(AND(Config!$B$13<=Tarifs!F5766,Config!$B$13>=Tarifs!E5766),1,0)","v":0},"2026-10-01","2026-10-31",189]
["97-0166","10","97-0166-100",{"$f":"IF(AND(Config!$B$13<=Tarifs!F5767,Config!$B$13>=Tarifs!E5767),1,0)","v":0},"2026-04-01","2026-04-30",179]
["97-0166","10","97-0166-101",{"$f":"IF(AND(Config!$B$13<=Tarifs!F5768,Config!$B$13>=Tarifs!E5768),1,0)","v":1},"2026-01-01","2026-01-31",169]
["97-0166","10","97-0166-100",{"$f":"IF(AND(Config!$B$13<=Tarifs!F5769,Config!$B$13>=Tarifs!E5769),1,0)","v":0},"2026-02-01","2026-02-28",169]
["97-0166","10","97-0166-100",{"$f":"IF(AND(Config!$B$13<=Tarifs!F5770,Config!$B$13>=Tarifs!E5770),1,0)","v":0},"2026-03-01","2026-03-31",169]
["97-0166","10","97-0166-100",{"$f":"IF(AND(Config!$B$13<=Tarifs!F5771,Config!$B$13>=Tarifs!E5771),1,0)","v":0},"2026-11-01","2026-11-30",169]
["97-0166","10","97-0166-100",{"$f":"IF(AND(Config!$B$13<=Tarifs!F5772,Config!$B$13>=Tarifs!E5772),1,0)","v":0},"2026-12-01","2026-12-31",169]
["97-0186","30","97-0186-301",{"$f":"IF(AND(Config!$B$13<=Tarifs!F5773,Config!$B$13>=Tarifs!E5773),1,0)","v":1},"2026-01-01","2026-01-31",4470]
["97-0186","30","97-0186-300",{"$f":"IF(AND(Config!$B$13<=Tarifs!F5774,Config!$B$13>=Tarifs!E5774),1,0)","v":0},"2026-03-01","2026-03-31",4470]
["97-0186","30","97-0186-300",{"$f":"IF(AND(Config!$B$13<=Tarifs!F5775,Config!$B$13>=Tarifs!E5775),1,0)","v":0},"2026-04-01","2026-04-30",4470]
["97-0186","30","97-0186-300",{"$f":"IF(AND(Config!$B$13<=Tarifs!F5776,Config!$B$13>=Tarifs!E5776),1,0)","v":0},"2026-05-01","2026-05-31",4470]
["97-0186","30","97-0186-300",{"$f":"IF(AND(Config!$B$13<=Tarifs!F5777,Config!$B$13>=Tarifs!E5777),1,0)","v":0},"2026-06-01","2026-06-30",4470]
["97-0186","30","97-0186-300",{"$f":"IF(AND(Config!$B$13<=Tarifs!F5778,Config!$B$13>=Tarifs!E5778),1,0)","v":0},"2026-07-01","2026-07-31",4470]
["97-0186","30","97-0186-300",{"$f":"IF(AND(Config!$B$13<=Tarifs!F5779,Config!$B$13>=Tarifs!E5779),1,0)","v":0},"2026-08-01","2026-08-31",4470]
["97-0186","30","97-0186-300",{"$f":"IF(AND(Config!$B$13<=Tarifs!F5780,Config!$B$13>=Tarifs!E5780),1,0)","v":0},"2026-09-01","2026-09-30",4470]
["97-0186","30","97-0186-300",{"$f":"IF(AND(Config!$B$13<=Tarifs!F5781,Config!$B$13>=Tarifs!E5781),1,0)","v":0},"2026-10-01","2026-10-31",4470]
["97-0186","30","97-0186-300",{"$f":"IF(AND(Config!$B$13<=Tarifs!F5782,Config!$B$13>=Tarifs!E5782),1,0)","v":0},"2026-11-01","2026-11-30",4470]
["97-0186","30","97-0186-300",{"$f":"IF(AND(Config!$B$13<=Tarifs!F5783,Config!$B$13>=Tarifs!E5783),1,0)","v":0},"2026-12-01","2026-12-31",4470]
["97-0186","30","97-0186-300",{"$f":"IF(AND(Config!$B$13<=Tarifs!F5784,Config!$B$13>=Tarifs!E5784),1,0)","v":0},"2026-02-01","2026-02-28",4470]
["97-0186","20","97-0186-201",{"$f":"IF(AND(Config!$B$13<=Tarifs!F5785,Config!$B$13>=Tarifs!E5785),1,0)","v":1},"2026-01-01","2026-01-31",1043]
["97-0186","20","97-0186-200",{"$f":"IF(AND(Config!$B$13<=Tarifs!F5786,Config!$B$13>=Tarifs!E5786),1,0)","v":0},"2026-02-01","2026-02-28",1043]
["97-0186","20","97-0186-200",{"$f":"IF(AND(Config!$B$13<=Tarifs!F5787,Config!$B$13>=Tarifs!E5787),1,0)","v":0},"2026-03-01","2026-03-31",1043]
["97-0186","20","97-0186-200",{"$f":"IF(AND(Config!$B$13<=Tarifs!F5788,Config!$B$13>=Tarifs!E5788),1,0)","v":0},"2026-04-01","2026-04-30",1043]
["97-0186","20","97-0186-200",{"$f":"IF(AND(Config!$B$13<=Tarifs!F5789,Config!$B$13>=Tarifs!E5789),1,0)","v":0},"2026-05-01","2026-05-31",1043]
["97-0186","20","97-0186-200",{"$f":"IF(AND(Config!$B$13<=Tarifs!F5790,Config!$B$13>=Tarifs!E5790),1,0)","v":0},"2026-06-01","2026-06-30",1043]
["97-0186","20","97-0186-200",{"$f":"IF(AND(Config!$B$13<=Tarifs!F5791,Config!$B$13>=Tarifs!E5791),1,0)","v":0},"2026-07-01","2026-07-31",1043]
["97-0186","20","97-0186-200",{"$f":"IF(AND(Config!$B$13<=Tarifs!F5792,Config!$B$13>=Tarifs!E5792),1,0)","v":0},"2026-08-01","2026-08-31",1043]
["97-0186","20","97-0186-200",{"$f":"IF(AND(Config!$B$13<=Tarifs!F5793,Config!$B$13>=Tarifs!E5793),1,0)","v":0},"2026-09-01","2026-09-30",1043]
["97-0186","20","97-0186-200",{"$f":"IF(AND(Config!$B$13<=Tarifs!F5794,Config!$B$13>=Tarifs!E5794),1,0)","v":0},"2026-10-01","2026-10-31",1043]
["97-0186","20","97-0186-200",{"$f":"IF(AND(Config!$B$13<=Tarifs!F5795,Config!$B$13>=Tarifs!E5795),1,0)","v":0},"2026-11-01","2026-11-30",1043]
["97-0186","20","97-0186-200",{"$f":"IF(AND(Config!$B$13<=Tarifs!F5796,Config!$B$13>=Tarifs!E5796),1,0)","v":0},"2026-12-01","2026-12-31",1043]
["97-0186","10","97-0186-101",{"$f":"IF(AND(Config!$B$13<=Tarifs!F5797,Config!$B$13>=Tarifs!E5797),1,0)","v":1},"2026-01-01","2026-01-31",149]
["97-0186","10","97-0186-100",{"$f":"IF(AND(Config!$B$13<=Tarifs!F5798,Config!$B$13>=Tarifs!E5798),1,0)","v":0},"2026-02-01","2026-02-28",149]
["97-0186","10","97-0186-100",{"$f":"IF(AND(Config!$B$13<=Tarifs!F5799,Config!$B$13>=Tarifs!E5799),1,0)","v":0},"2026-04-01","2026-04-30",149]
["97-0186","10","97-0186-100",{"$f":"IF(AND(Config!$B$13<=Tarifs!F5800,Config!$B$13>=Tarifs!E5800),1,0)","v":0},"2026-05-01","2026-05-31",149]
["97-0186","10","97-0186-100",{"$f":"IF(AND(Config!$B$13<=Tarifs!F5801,Config!$B$13>=Tarifs!E5801),1,0)","v":0},"2026-06-01","2026-06-30",149]
["97-0186","10","97-0186-100",{"$f":"IF(AND(Config!$B$13<=Tarifs!F5802,Config!$B$13>=Tarifs!E5802),1,0)","v":0},"2026-07-01","2026-07-31",149]
["97-0186","10","97-0186-100",{"$f":"IF(AND(Config!$B$13<=Tarifs!F5803,Config!$B$13>=Tarifs!E5803),1,0)","v":0},"2026-08-01","2026-08-31",149]
["97-0186","10","97-0186-100",{"$f":"IF(AND(Config!$B$13<=Tarifs!F5804,Config!$B$13>=Tarifs!E5804),1,0)","v":0},"2026-09-01","2026-09-30",149]
["97-0186","10","97-0186-100",{"$f":"IF(AND(Config!$B$13<=Tarifs!F5805,Config!$B$13>=Tarifs!E5805),1,0)","v":0},"2026-10-01","2026-10-31",149]
["97-0186","10","97-0186-100",{"$f":"IF(AND(Config!$B$13<=Tarifs!F5806,Config!$B$13>=Tarifs!E5806),1,0)","v":0},"2026-11-01","2026-11-30",149]
["97-0186","10","97-0186-100",{"$f":"IF(AND(Config!$B$13<=Tarifs!F5807,Config!$B$13>=Tarifs!E5807),1,0)","v":0},"2026-12-01","2026-12-31",149]
["97-0186","10","97-0186-100",{"$f":"IF(AND(Config!$B$13<=Tarifs!F5808,Config!$B$13>=Tarifs!E5808),1,0)","v":0},"2026-03-01","2026-03-31",149]
["97-0187","30","97-0187-300",{"$f":"IF(AND(Config!$B$13<=Tarifs!F5809,Config!$B$13>=Tarifs!E5809),1,0)","v":0},"2026-05-01","2026-05-31",7050]
["97-0187","30","97-0187-300",{"$f":"IF(AND(Config!$B$13<=Tarifs!F5810,Config!$B$13>=Tarifs!E5810),1,0)","v":0},"2026-06-01","2026-06-30",7050]
["97-0187","30","97-0187-300",{"$f":"IF(AND(Config!$B$13<=Tarifs!F5811,Config!$B$13>=Tarifs!E5811),1,0)","v":0},"2026-07-01","2026-07-31",7050]
["97-0187","30","97-0187-300",{"$f":"IF(AND(Config!$B$13<=Tarifs!F5812,Config!$B$13>=Tarifs!E5812),1,0)","v":0},"2026-08-01","2026-08-31",7050]
["97-0187","30","97-0187-300",{"$f":"IF(AND(Config!$B$13<=Tarifs!F5813,Config!$B$13>=Tarifs!E5813),1,0)","v":0},"2026-09-01","2026-09-30",7050]
["97-0187","30","97-0187-300",{"$f":"IF(AND(Config!$B$13<=Tarifs!F5814,Config!$B$13>=Tarifs!E5814),1,0)","v":0},"2026-10-01","2026-10-31",7050]
["97-0187","30","97-0187-300",{"$f":"IF(AND(Config!$B$13<=Tarifs!F5815,Config!$B$13>=Tarifs!E5815),1,0)","v":0},"2026-11-01","2026-11-30",5760]
["97-0187","30","97-0187-300",{"$f":"IF(AND(Config!$B$13<=Tarifs!F5816,Config!$B$13>=Tarifs!E5816),1,0)","v":0},"2026-12-01","2026-12-31",5760]
["97-0187","30","97-0187-301",{"$f":"IF(AND(Config!$B$13<=Tarifs!F5817,Config!$B$13>=Tarifs!E5817),1,0)","v":1},"2026-01-01","2026-01-31",5670]
["97-0187","30","97-0187-300",{"$f":"IF(AND(Config!$B$13<=Tarifs!F5818,Config!$B$13>=Tarifs!E5818),1,0)","v":0},"2026-02-01","2026-02-28",5670]
["97-0187","30","97-0187-300",{"$f":"IF(AND(Config!$B$13<=Tarifs!F5819,Config!$B$13>=Tarifs!E5819),1,0)","v":0},"2026-03-01","2026-03-31",5670]
["97-0187","30","97-0187-300",{"$f":"IF(AND(Config!$B$13<=Tarifs!F5820,Config!$B$13>=Tarifs!E5820),1,0)","v":0},"2026-04-01","2026-04-30",5670]
["97-0187","20","97-0187-200",{"$f":"IF(AND(Config!$B$13<=Tarifs!F5821,Config!$B$13>=Tarifs!E5821),1,0)","v":0},"2026-05-01","2026-05-31",1645]
["97-0187","20","97-0187-200",{"$f":"IF(AND(Config!$B$13<=Tarifs!F5822,Config!$B$13>=Tarifs!E5822),1,0)","v":0},"2026-06-01","2026-06-30",1645]
["97-0187","20","97-0187-200",{"$f":"IF(AND(Config!$B$13<=Tarifs!F5823,Config!$B$13>=Tarifs!E5823),1,0)","v":0},"2026-07-01","2026-07-31",1645]
["97-0187","20","97-0187-200",{"$f":"IF(AND(Config!$B$13<=Tarifs!F5824,Config!$B$13>=Tarifs!E5824),1,0)","v":0},"2026-08-01","2026-08-31",1645]
["97-0187","20","97-0187-200",{"$f":"IF(AND(Config!$B$13<=Tarifs!F5825,Config!$B$13>=Tarifs!E5825),1,0)","v":0},"2026-09-01","2026-09-30",1645]
["97-0187","20","97-0187-200",{"$f":"IF(AND(Config!$B$13<=Tarifs!F5826,Config!$B$13>=Tarifs!E5826),1,0)","v":0},"2026-10-01","2026-10-31",1645]
["97-0187","20",{"$f":"A5827&\"-\"&B5827&D5827","v":"97-0187-200"},{"$f":"IF(AND(Config!$B$13<=Tarifs!F5827,Config!$B$13>=Tarifs!E5827),1,0)","v":0},"2026-11-01","2026-11-30",1344]
["97-0187","20","97-0187-200",{"$f":"IF(AND(Config!$B$13<=Tarifs!F5828,Config!$B$13>=Tarifs!E5828),1,0)","v":0},"2026-12-01","2026-12-31",1344]
["97-0187","20","97-0187-201",{"$f":"IF(AND(Config!$B$13<=Tarifs!F5829,Config!$B$13>=Tarifs!E5829),1,0)","v":1},"2026-01-01","2026-01-31",1323]
["97-0187","20","97-0187-200",{"$f":"IF(AND(Config!$B$13<=Tarifs!F5830,Config!$B$13>=Tarifs!E5830),1,0)","v":0},"2026-02-01","2026-02-28",1323]
["97-0187","20","97-0187-200",{"$f":"IF(AND(Config!$B$13<=Tarifs!F5831,Config!$B$13>=Tarifs!E5831),1,0)","v":0},"2026-03-01","2026-03-31",1323]
["97-0187","20","97-0187-200",{"$f":"IF(AND(Config!$B$13<=Tarifs!F5832,Config!$B$13>=Tarifs!E5832),1,0)","v":0},"2026-04-01","2026-04-30",1323]
["97-0187","10","97-0187-100",{"$f":"IF(AND(Config!$B$13<=Tarifs!F5833,Config!$B$13>=Tarifs!E5833),1,0)","v":0},"2026-05-01","2026-05-31",235]
["97-0187","10","97-0187-100",{"$f":"IF(AND(Config!$B$13<=Tarifs!F5834,Config!$B$13>=Tarifs!E5834),1,0)","v":0},"2026-06-01","2026-06-30",235]
["97-0187","10","97-0187-100",{"$f":"IF(AND(Config!$B$13<=Tarifs!F5835,Config!$B$13>=Tarifs!E5835),1,0)","v":0},"2026-07-01","2026-07-31",235]
["97-0187","10","97-0187-100",{"$f":"IF(AND(Config!$B$13<=Tarifs!F5836,Config!$B$13>=Tarifs!E5836),1,0)","v":0},"2026-08-01","2026-08-31",235]
["97-0187","10","97-0187-100",{"$f":"IF(AND(Config!$B$13<=Tarifs!F5837,Config!$B$13>=Tarifs!E5837),1,0)","v":0},"2026-09-01","2026-09-30",235]
["97-0187","10","97-0187-100",{"$f":"IF(AND(Config!$B$13<=Tarifs!F5838,Config!$B$13>=Tarifs!E5838),1,0)","v":0},"2026-10-01","2026-10-31",235]
["97-0187","10","97-0187-100",{"$f":"IF(AND(Config!$B$13<=Tarifs!F5839,Config!$B$13>=Tarifs!E5839),1,0)","v":0},"2026-11-01","2026-11-30",192]
["97-0187","10","97-0187-100",{"$f":"IF(AND(Config!$B$13<=Tarifs!F5840,Config!$B$13>=Tarifs!E5840),1,0)","v":0},"2026-12-01","2026-12-31",192]
["97-0187","10","97-0187-101",{"$f":"IF(AND(Config!$B$13<=Tarifs!F5841,Config!$B$13>=Tarifs!E5841),1,0)","v":1},"2026-01-01","2026-01-31",189]
["97-0187","10","97-0187-100",{"$f":"IF(AND(Config!$B$13<=Tarifs!F5842,Config!$B$13>=Tarifs!E5842),1,0)","v":0},"2026-02-01","2026-02-28",189]
["97-0187","10","97-0187-100",{"$f":"IF(AND(Config!$B$13<=Tarifs!F5843,Config!$B$13>=Tarifs!E5843),1,0)","v":0},"2026-03-01","2026-03-31",189]
["97-0187","10","97-0187-100",{"$f":"IF(AND(Config!$B$13<=Tarifs!F5844,Config!$B$13>=Tarifs!E5844),1,0)","v":0},"2026-04-01","2026-04-30",189]
["97-0196","30","97-0196-300",{"$f":"IF(AND(Config!$B$13<=Tarifs!F5845,Config!$B$13>=Tarifs!E5845),1,0)","v":0},"2026-07-01","2026-07-31",4030]
["97-0196","30","97-0196-300",{"$f":"IF(AND(Config!$B$13<=Tarifs!F5846,Config!$B$13>=Tarifs!E5846),1,0)","v":0},"2026-08-01","2026-08-31",4030]
["97-0196","30","97-0196-300",{"$f":"IF(AND(Config!$B$13<=Tarifs!F5847,Config!$B$13>=Tarifs!E5847),1,0)","v":0},"2026-10-01","2026-10-31",4030]
["97-0196","30","97-0196-300",{"$f":"IF(AND(Config!$B$13<=Tarifs!F5848,Config!$B$13>=Tarifs!E5848),1,0)","v":0},"2026-09-01","2026-09-30",3900]
["97-0196","30","97-0196-300",{"$f":"IF(AND(Config!$B$13<=Tarifs!F5849,Config!$B$13>=Tarifs!E5849),1,0)","v":0},"2026-05-01","2026-05-31",3720]
["97-0196","30","97-0196-300",{"$f":"IF(AND(Config!$B$13<=Tarifs!F5850,Config!$B$13>=Tarifs!E5850),1,0)","v":0},"2026-12-01","2026-12-31",3720]
["97-0196","30","97-0196-300",{"$f":"IF(AND(Config!$B$13<=Tarifs!F5851,Config!$B$13>=Tarifs!E5851),1,0)","v":0},"2026-06-01","2026-06-30",3600]
["97-0196","30","97-0196-300",{"$f":"IF(AND(Config!$B$13<=Tarifs!F5852,Config!$B$13>=Tarifs!E5852),1,0)","v":0},"2026-11-01","2026-11-30",3600]
["97-0196","30","97-0196-301",{"$f":"IF(AND(Config!$B$13<=Tarifs!F5853,Config!$B$13>=Tarifs!E5853),1,0)","v":1},"2026-01-01","2026-01-31",3565]
["97-0196","30","97-0196-300",{"$f":"IF(AND(Config!$B$13<=Tarifs!F5854,Config!$B$13>=Tarifs!E5854),1,0)","v":0},"2026-03-01","2026-03-31",3565]
["97-0196","30","97-0196-300",{"$f":"IF(AND(Config!$B$13<=Tarifs!F5855,Config!$B$13>=Tarifs!E5855),1,0)","v":0},"2026-04-01","2026-04-30",3450]
["97-0196","30","97-0196-300",{"$f":"IF(AND(Config!$B$13<=Tarifs!F5856,Config!$B$13>=Tarifs!E5856),1,0)","v":0},"2026-02-01","2026-02-28",3220]
["97-0196","20","97-0196-200",{"$f":"IF(AND(Config!$B$13<=Tarifs!F5857,Config!$B$13>=Tarifs!E5857),1,0)","v":0},"2026-07-01","2026-07-31",910]
["97-0196","20","97-0196-200",{"$f":"IF(AND(Config!$B$13<=Tarifs!F5858,Config!$B$13>=Tarifs!E5858),1,0)","v":0},"2026-08-01","2026-08-31",910]
["97-0196","20","97-0196-200",{"$f":"IF(AND(Config!$B$13<=Tarifs!F5859,Config!$B$13>=Tarifs!E5859),1,0)","v":0},"2026-09-01","2026-09-30",910]
["97-0196","20","97-0196-200",{"$f":"IF(AND(Config!$B$13<=Tarifs!F5860,Config!$B$13>=Tarifs!E5860),1,0)","v":0},"2026-10-01","2026-10-31",910]
["97-0196","20","97-0196-200",{"$f":"IF(AND(Config!$B$13<=Tarifs!F5861,Config!$B$13>=Tarifs!E5861),1,0)","v":0},"2026-05-01","2026-05-31",840]
["97-0196","20","97-0196-200",{"$f":"IF(AND(Config!$B$13<=Tarifs!F5862,Config!$B$13>=Tarifs!E5862),1,0)","v":0},"2026-06-01","2026-06-30",840]
["97-0196","20","97-0196-200",{"$f":"IF(AND(Config!$B$13<=Tarifs!F5863,Config!$B$13>=Tarifs!E5863),1,0)","v":0},"2026-11-01","2026-11-30",840]
["97-0196","20","97-0196-200",{"$f":"IF(AND(Config!$B$13<=Tarifs!F5864,Config!$B$13>=Tarifs!E5864),1,0)","v":0},"2026-12-01","2026-12-31",840]
["97-0196","20","97-0196-201",{"$f":"IF(AND(Config!$B$13<=Tarifs!F5865,Config!$B$13>=Tarifs!E5865),1,0)","v":1},"2026-01-01","2026-01-31",805]
["97-0196","20","97-0196-200",{"$f":"IF(AND(Config!$B$13<=Tarifs!F5866,Config!$B$13>=Tarifs!E5866),1,0)","v":0},"2026-02-01","2026-02-28",805]
["97-0196","20","97-0196-200",{"$f":"IF(AND(Config!$B$13<=Tarifs!F5867,Config!$B$13>=Tarifs!E5867),1,0)","v":0},"2026-03-01","2026-03-31",805]
["97-0196","20","97-0196-200",{"$f":"IF(AND(Config!$B$13<=Tarifs!F5868,Config!$B$13>=Tarifs!E5868),1,0)","v":0},"2026-04-01","2026-04-30",805]
["97-0196","10","97-0196-100",{"$f":"IF(AND(Config!$B$13<=Tarifs!F5869,Config!$B$13>=Tarifs!E5869),1,0)","v":0},"2026-07-01","2026-07-31",130]
["97-0196","10","97-0196-100",{"$f":"IF(AND(Config!$B$13<=Tarifs!F5870,Config!$B$13>=Tarifs!E5870),1,0)","v":0},"2026-08-01","2026-08-31",130]
["97-0196","10","97-0196-100",{"$f":"IF(AND(Config!$B$13<=Tarifs!F5871,Config!$B$13>=Tarifs!E5871),1,0)","v":0},"2026-09-01","2026-09-30",130]
["97-0196","10","97-0196-100",{"$f":"IF(AND(Config!$B$13<=Tarifs!F5872,Config!$B$13>=Tarifs!E5872),1,0)","v":0},"2026-10-01","2026-10-31",130]
["97-0196","10","97-0196-100",{"$f":"IF(AND(Config!$B$13<=Tarifs!F5873,Config!$B$13>=Tarifs!E5873),1,0)","v":0},"2026-05-01","2026-05-31",120]
["97-0196","10","97-0196-100",{"$f":"IF(AND(Config!$B$13<=Tarifs!F5874,Config!$B$13>=Tarifs!E5874),1,0)","v":0},"2026-06-01","2026-06-30",120]
["97-0196","10","97-0196-100",{"$f":"IF(AND(Config!$B$13<=Tarifs!F5875,Config!$B$13>=Tarifs!E5875),1,0)","v":0},"2026-11-01","2026-11-30",120]
["97-0196","10","97-0196-100",{"$f":"IF(AND(Config!$B$13<=Tarifs!F5876,Config!$B$13>=Tarifs!E5876),1,0)","v":0},"2026-12-01","2026-12-31",120]
["97-0196","10","97-0196-101",{"$f":"IF(AND(Config!$B$13<=Tarifs!F5877,Config!$B$13>=Tarifs!E5877),1,0)","v":1},"2026-01-01","2026-01-31",115]
["97-0196","10","97-0196-100",{"$f":"IF(AND(Config!$B$13<=Tarifs!F5878,Config!$B$13>=Tarifs!E5878),1,0)","v":0},"2026-02-01","2026-02-28",115]
["97-0196","10","97-0196-100",{"$f":"IF(AND(Config!$B$13<=Tarifs!F5879,Config!$B$13>=Tarifs!E5879),1,0)","v":0},"2026-03-01","2026-03-31",115]
["97-0196","10","97-0196-100",{"$f":"IF(AND(Config!$B$13<=Tarifs!F5880,Config!$B$13>=Tarifs!E5880),1,0)","v":0},"2026-04-01","2026-04-30",115]
["97-0204","30","97-0204-300",{"$f":"IF(AND(Config!$B$13<=Tarifs!F5881,Config!$B$13>=Tarifs!E5881),1,0)","v":0},"2026-05-01","2026-05-31",3000]
["97-0204","30","97-0204-300",{"$f":"IF(AND(Config!$B$13<=Tarifs!F5882,Config!$B$13>=Tarifs!E5882),1,0)","v":0},"2026-06-01","2026-06-30",3000]
["97-0204","30","97-0204-300",{"$f":"IF(AND(Config!$B$13<=Tarifs!F5883,Config!$B$13>=Tarifs!E5883),1,0)","v":0},"2026-07-01","2026-07-31",3000]
["97-0204","30","97-0204-300",{"$f":"IF(AND(Config!$B$13<=Tarifs!F5884,Config!$B$13>=Tarifs!E5884),1,0)","v":0},"2026-08-01","2026-08-31",3000]
["97-0204","30","97-0204-300",{"$f":"IF(AND(Config!$B$13<=Tarifs!F5885,Config!$B$13>=Tarifs!E5885),1,0)","v":0},"2026-09-01","2026-09-30",3000]
["97-0204","30","97-0204-301",{"$f":"IF(AND(Config!$B$13<=Tarifs!F5886,Config!$B$13>=Tarifs!E5886),1,0)","v":1},"2026-01-01","2026-01-31",1500]
["97-0204","30","97-0204-300",{"$f":"IF(AND(Config!$B$13<=Tarifs!F5887,Config!$B$13>=Tarifs!E5887),1,0)","v":0},"2026-02-01","2026-02-28",1500]
["97-0204","30","97-0204-300",{"$f":"IF(AND(Config!$B$13<=Tarifs!F5888,Config!$B$13>=Tarifs!E5888),1,0)","v":0},"2026-03-01","2026-03-31",1500]
["97-0204","30","97-0204-300",{"$f":"IF(AND(Config!$B$13<=Tarifs!F5889,Config!$B$13>=Tarifs!E5889),1,0)","v":0},"2026-04-01","2026-04-30",1500]
["97-0204","30","97-0204-300",{"$f":"IF(AND(Config!$B$13<=Tarifs!F5890,Config!$B$13>=Tarifs!E5890),1,0)","v":0},"2026-10-01","2026-10-31",1500]
["97-0204","30",{"$f":"A5891&\"-\"&B5891&D5891","v":"97-0204-300"},{"$f":"IF(AND(Config!$B$13<=Tarifs!F5891,Config!$B$13>=Tarifs!E5891),1,0)","v":0},"2026-11-01","2026-11-30",1500]
["97-0204","30","97-0204-300",{"$f":"IF(AND(Config!$B$13<=Tarifs!F5892,Config!$B$13>=Tarifs!E5892),1,0)","v":0},"2026-12-01","2026-12-31",1500]
["97-0204","20","97-0204-200",{"$f":"IF(AND(Config!$B$13<=Tarifs!F5893,Config!$B$13>=Tarifs!E5893),1,0)","v":0},"2026-05-01","2026-05-31",1000]
["97-0204","20","97-0204-200",{"$f":"IF(AND(Config!$B$13<=Tarifs!F5894,Config!$B$13>=Tarifs!E5894),1,0)","v":0},"2026-06-01","2026-06-30",1000]
["97-0204","20","97-0204-200",{"$f":"IF(AND(Config!$B$13<=Tarifs!F5895,Config!$B$13>=Tarifs!E5895),1,0)","v":0},"2026-07-01","2026-07-31",1000]
["97-0204","20","97-0204-200",{"$f":"IF(AND(Config!$B$13<=Tarifs!F5896,Config!$B$13>=Tarifs!E5896),1,0)","v":0},"2026-08-01","2026-08-31",1000]
["97-0204","20","97-0204-200",{"$f":"IF(AND(Config!$B$13<=Tarifs!F5897,Config!$B$13>=Tarifs!E5897),1,0)","v":0},"2026-09-01","2026-09-30",1000]
["97-0204","20","97-0204-201",{"$f":"IF(AND(Config!$B$13<=Tarifs!F5898,Config!$B$13>=Tarifs!E5898),1,0)","v":1},"2026-01-01","2026-01-31",700]
["97-0204","20","97-0204-200",{"$f":"IF(AND(Config!$B$13<=Tarifs!F5899,Config!$B$13>=Tarifs!E5899),1,0)","v":0},"2026-02-01","2026-02-28",700]
["97-0204","20","97-0204-200",{"$f":"IF(AND(Config!$B$13<=Tarifs!F5900,Config!$B$13>=Tarifs!E5900),1,0)","v":0},"2026-03-01","2026-03-31",700]
["97-0204","20","97-0204-200",{"$f":"IF(AND(Config!$B$13<=Tarifs!F5901,Config!$B$13>=Tarifs!E5901),1,0)","v":0},"2026-04-01","2026-04-30",700]
["97-0204","20","97-0204-200",{"$f":"IF(AND(Config!$B$13<=Tarifs!F5902,Config!$B$13>=Tarifs!E5902),1,0)","v":0},"2026-10-01","2026-10-31",700]
["97-0204","20","97-0204-200",{"$f":"IF(AND(Config!$B$13<=Tarifs!F5903,Config!$B$13>=Tarifs!E5903),1,0)","v":0},"2026-11-01","2026-11-30",700]
["97-0204","20","97-0204-200",{"$f":"IF(AND(Config!$B$13<=Tarifs!F5904,Config!$B$13>=Tarifs!E5904),1,0)","v":0},"2026-12-01","2026-12-31",700]
["97-0204","10","97-0204-100",{"$f":"IF(AND(Config!$B$13<=Tarifs!F5905,Config!$B$13>=Tarifs!E5905),1,0)","v":0},"2026-05-01","2026-05-31",199]
["97-0204","10","97-0204-100",{"$f":"IF(AND(Config!$B$13<=Tarifs!F5906,Config!$B$13>=Tarifs!E5906),1,0)","v":0},"2026-06-01","2026-06-30",199]
["97-0204","10","97-0204-100",{"$f":"IF(AND(Config!$B$13<=Tarifs!F5907,Config!$B$13>=Tarifs!E5907),1,0)","v":0},"2026-07-01","2026-07-31",199]
["97-0204","10","97-0204-100",{"$f":"IF(AND(Config!$B$13<=Tarifs!F5908,Config!$B$13>=Tarifs!E5908),1,0)","v":0},"2026-08-01","2026-08-31",199]
["97-0204","10","97-0204-100",{"$f":"IF(AND(Config!$B$13<=Tarifs!F5909,Config!$B$13>=Tarifs!E5909),1,0)","v":0},"2026-09-01","2026-09-30",199]
["97-0204","10","97-0204-101",{"$f":"IF(AND(Config!$B$13<=Tarifs!F5910,Config!$B$13>=Tarifs!E5910),1,0)","v":1},"2026-01-01","2026-01-31",149]
["97-0204","10","97-0204-100",{"$f":"IF(AND(Config!$B$13<=Tarifs!F5911,Config!$B$13>=Tarifs!E5911),1,0)","v":0},"2026-02-01","2026-02-28",149]
["97-0204","10","97-0204-100",{"$f":"IF(AND(Config!$B$13<=Tarifs!F5912,Config!$B$13>=Tarifs!E5912),1,0)","v":0},"2026-03-01","2026-03-31",149]
["97-0204","10","97-0204-100",{"$f":"IF(AND(Config!$B$13<=Tarifs!F5913,Config!$B$13>=Tarifs!E5913),1,0)","v":0},"2026-04-01","2026-04-30",149]
["97-0204","10","97-0204-100",{"$f":"IF(AND(Config!$B$13<=Tarifs!F5914,Config!$B$13>=Tarifs!E5914),1,0)","v":0},"2026-10-01","2026-10-31",149]
["97-0204","10","97-0204-100",{"$f":"IF(AND(Config!$B$13<=Tarifs!F5915,Config!$B$13>=Tarifs!E5915),1,0)","v":0},"2026-11-01","2026-11-30",149]
["97-0204","10","97-0204-100",{"$f":"IF(AND(Config!$B$13<=Tarifs!F5916,Config!$B$13>=Tarifs!E5916),1,0)","v":0},"2026-12-01","2026-12-31",149]
["97-0207","30","97-0207-300",{"$f":"IF(AND(Config!$B$13<=Tarifs!F5917,Config!$B$13>=Tarifs!E5917),1,0)","v":0},"2026-06-01","2026-06-30",4650]
["97-0207","30","97-0207-300",{"$f":"IF(AND(Config!$B$13<=Tarifs!F5918,Config!$B$13>=Tarifs!E5918),1,0)","v":0},"2026-07-01","2026-07-31",4650]
["97-0207","30","97-0207-300",{"$f":"IF(AND(Config!$B$13<=Tarifs!F5919,Config!$B$13>=Tarifs!E5919),1,0)","v":0},"2026-08-01","2026-08-31",4650]
["97-0207","30","97-0207-300",{"$f":"IF(AND(Config!$B$13<=Tarifs!F5920,Config!$B$13>=Tarifs!E5920),1,0)","v":0},"2026-09-01","2026-09-30",4650]
["97-0207","30","97-0207-300",{"$f":"IF(AND(Config!$B$13<=Tarifs!F5921,Config!$B$13>=Tarifs!E5921),1,0)","v":0},"2026-12-01","2026-12-31",4050]
["97-0207","30","97-0207-301",{"$f":"IF(AND(Config!$B$13<=Tarifs!F5922,Config!$B$13>=Tarifs!E5922),1,0)","v":1},"2026-01-01","2026-01-31",4050]
["97-0207","30","97-0207-300",{"$f":"IF(AND(Config!$B$13<=Tarifs!F5923,Config!$B$13>=Tarifs!E5923),1,0)","v":0},"2026-02-01","2026-02-28",4050]
["97-0207","30","97-0207-300",{"$f":"IF(AND(Config!$B$13<=Tarifs!F5924,Config!$B$13>=Tarifs!E5924),1,0)","v":0},"2026-03-01","2026-03-31",4050]
["97-0207","30","97-0207-300",{"$f":"IF(AND(Config!$B$13<=Tarifs!F5925,Config!$B$13>=Tarifs!E5925),1,0)","v":0},"2026-04-01","2026-04-30",4050]
["97-0207","30","97-0207-300",{"$f":"IF(AND(Config!$B$13<=Tarifs!F5926,Config!$B$13>=Tarifs!E5926),1,0)","v":0},"2026-05-01","2026-05-31",4050]
["97-0207","30","97-0207-300",{"$f":"IF(AND(Config!$B$13<=Tarifs!F5927,Config!$B$13>=Tarifs!E5927),1,0)","v":0},"2026-10-01","2026-10-31",4050]
["97-0207","30","97-0207-300",{"$f":"IF(AND(Config!$B$13<=Tarifs!F5928,Config!$B$13>=Tarifs!E5928),1,0)","v":0},"2026-11-01","2026-11-30",4050]
["97-0207","20","97-0207-200",{"$f":"IF(AND(Config!$B$13<=Tarifs!F5929,Config!$B$13>=Tarifs!E5929),1,0)","v":0},"2026-06-01","2026-06-30",1085]
["97-0207","20","97-0207-200",{"$f":"IF(AND(Config!$B$13<=Tarifs!F5930,Config!$B$13>=Tarifs!E5930),1,0)","v":0},"2026-07-01","2026-07-31",1085]
["97-0207","20","97-0207-200",{"$f":"IF(AND(Config!$B$13<=Tarifs!F5931,Config!$B$13>=Tarifs!E5931),1,0)","v":0},"2026-08-01","2026-08-31",1085]
["97-0207","20","97-0207-200",{"$f":"IF(AND(Config!$B$13<=Tarifs!F5932,Config!$B$13>=Tarifs!E5932),1,0)","v":0},"2026-09-01","2026-09-30",1085]
["97-0207","20","97-0207-200",{"$f":"IF(AND(Config!$B$13<=Tarifs!F5933,Config!$B$13>=Tarifs!E5933),1,0)","v":0},"2026-12-01","2026-12-31",945]
["97-0207","20","97-0207-201",{"$f":"IF(AND(Config!$B$13<=Tarifs!F5934,Config!$B$13>=Tarifs!E5934),1,0)","v":1},"2026-01-01","2026-01-31",945]
["97-0207","20","97-0207-200",{"$f":"IF(AND(Config!$B$13<=Tarifs!F5935,Config!$B$13>=Tarifs!E5935),1,0)","v":0},"2026-02-01","2026-02-28",945]
["97-0207","20","97-0207-200",{"$f":"IF(AND(Config!$B$13<=Tarifs!F5936,Config!$B$13>=Tarifs!E5936),1,0)","v":0},"2026-03-01","2026-03-31",945]
["97-0207","20","97-0207-200",{"$f":"IF(AND(Config!$B$13<=Tarifs!F5937,Config!$B$13>=Tarifs!E5937),1,0)","v":0},"2026-04-01","2026-04-30",945]
["97-0207","20","97-0207-200",{"$f":"IF(AND(Config!$B$13<=Tarifs!F5938,Config!$B$13>=Tarifs!E5938),1,0)","v":0},"2026-05-01","2026-05-31",945]
["97-0207","20","97-0207-200",{"$f":"IF(AND(Config!$B$13<=Tarifs!F5939,Config!$B$13>=Tarifs!E5939),1,0)","v":0},"2026-10-01","2026-10-31",945]
["97-0207","20","97-0207-200",{"$f":"IF(AND(Config!$B$13<=Tarifs!F5940,Config!$B$13>=Tarifs!E5940),1,0)","v":0},"2026-11-01","2026-11-30",945]
["97-0207","10","97-0207-100",{"$f":"IF(AND(Config!$B$13<=Tarifs!F5941,Config!$B$13>=Tarifs!E5941),1,0)","v":0},"2026-06-01","2026-06-30",155]
["97-0207","10","97-0207-100",{"$f":"IF(AND(Config!$B$13<=Tarifs!F5942,Config!$B$13>=Tarifs!E5942),1,0)","v":0},"2026-07-01","2026-07-31",155]
["97-0207","10","97-0207-100",{"$f":"IF(AND(Config!$B$13<=Tarifs!F5943,Config!$B$13>=Tarifs!E5943),1,0)","v":0},"2026-08-01","2026-08-31",155]
["97-0207","10","97-0207-100",{"$f":"IF(AND(Config!$B$13<=Tarifs!F5944,Config!$B$13>=Tarifs!E5944),1,0)","v":0},"2026-09-01","2026-09-30",155]
["97-0207","10","97-0207-100",{"$f":"IF(AND(Config!$B$13<=Tarifs!F5945,Config!$B$13>=Tarifs!E5945),1,0)","v":0},"2026-12-01","2026-12-31",135]
["97-0207","10","97-0207-101",{"$f":"IF(AND(Config!$B$13<=Tarifs!F5946,Config!$B$13>=Tarifs!E5946),1,0)","v":1},"2026-01-01","2026-01-31",135]
["97-0207","10","97-0207-100",{"$f":"IF(AND(Config!$B$13<=Tarifs!F5947,Config!$B$13>=Tarifs!E5947),1,0)","v":0},"2026-02-01","2026-02-28",135]
["97-0207","10","97-0207-100",{"$f":"IF(AND(Config!$B$13<=Tarifs!F5948,Config!$B$13>=Tarifs!E5948),1,0)","v":0},"2026-03-01","2026-03-31",135]
["97-0207","10","97-0207-100",{"$f":"IF(AND(Config!$B$13<=Tarifs!F5949,Config!$B$13>=Tarifs!E5949),1,0)","v":0},"2026-04-01","2026-04-30",135]
["97-0207","10","97-0207-100",{"$f":"IF(AND(Config!$B$13<=Tarifs!F5950,Config!$B$13>=Tarifs!E5950),1,0)","v":0},"2026-05-01","2026-05-31",135]
["97-0207","10","97-0207-100",{"$f":"IF(AND(Config!$B$13<=Tarifs!F5951,Config!$B$13>=Tarifs!E5951),1,0)","v":0},"2026-10-01","2026-10-31",135]
["97-0207","10","97-0207-100",{"$f":"IF(AND(Config!$B$13<=Tarifs!F5952,Config!$B$13>=Tarifs!E5952),1,0)","v":0},"2026-11-01","2026-11-30",135]
["97-0209","30","97-0209-300",{"$f":"IF(AND(Config!$B$13<=Tarifs!F5953,Config!$B$13>=Tarifs!E5953),1,0)","v":0},"2026-07-01","2026-07-31",5520]
["97-0209","30","97-0209-300",{"$f":"IF(AND(Config!$B$13<=Tarifs!F5954,Config!$B$13>=Tarifs!E5954),1,0)","v":0},"2026-08-01","2026-08-31",5520]
["97-0209","30",{"$f":"A5955&\"-\"&B5955&D5955","v":"97-0209-300"},{"$f":"IF(AND(Config!$B$13<=Tarifs!F5955,Config!$B$13>=Tarifs!E5955),1,0)","v":0},"2026-09-01","2026-09-30",4050]
["97-0209","30","97-0209-300",{"$f":"IF(AND(Config!$B$13<=Tarifs!F5956,Config!$B$13>=Tarifs!E5956),1,0)","v":0},"2026-10-01","2026-10-31",4050]
["97-0209","30","97-0209-300",{"$f":"IF(AND(Config!$B$13<=Tarifs!F5957,Config!$B$13>=Tarifs!E5957),1,0)","v":0},"2026-11-01","2026-11-30",4050]
["97-0209","30","97-0209-301",{"$f":"IF(AND(Config!$B$13<=Tarifs!F5958,Config!$B$13>=Tarifs!E5958),1,0)","v":1},"2026-01-01","2026-01-31",4050]
["97-0209","30","97-0209-300",{"$f":"IF(AND(Config!$B$13<=Tarifs!F5959,Config!$B$13>=Tarifs!E5959),1,0)","v":0},"2026-02-01","2026-02-28",4050]
["97-0209","30","97-0209-300",{"$f":"IF(AND(Config!$B$13<=Tarifs!F5960,Config!$B$13>=Tarifs!E5960),1,0)","v":0},"2026-03-01","2026-03-31",4050]
["97-0209","30","97-0209-300",{"$f":"IF(AND(Config!$B$13<=Tarifs!F5961,Config!$B$13>=Tarifs!E5961),1,0)","v":0},"2026-04-01","2026-04-30",4050]
["97-0209","30","97-0209-300",{"$f":"IF(AND(Config!$B$13<=Tarifs!F5962,Config!$B$13>=Tarifs!E5962),1,0)","v":0},"2026-05-01","2026-05-31",4050]
["97-0209","30","97-0209-300",{"$f":"IF(AND(Config!$B$13<=Tarifs!F5963,Config!$B$13>=Tarifs!E5963),1,0)","v":0},"2026-06-01","2026-06-30",4050]
["97-0209","30","97-0209-300",{"$f":"IF(AND(Config!$B$13<=Tarifs!F5964,Config!$B$13>=Tarifs!E5964),1,0)","v":0},"2026-12-01","2026-12-31",4050]
["97-0209","20","97-0209-200",{"$f":"IF(AND(Config!$B$13<=Tarifs!F5965,Config!$B$13>=Tarifs!E5965),1,0)","v":0},"2026-07-01","2026-07-31",1288]
["97-0209","20","97-0209-200",{"$f":"IF(AND(Config!$B$13<=Tarifs!F5966,Config!$B$13>=Tarifs!E5966),1,0)","v":0},"2026-08-01","2026-08-31",1288]
["97-0209","20","97-0209-200",{"$f":"IF(AND(Config!$B$13<=Tarifs!F5967,Config!$B$13>=Tarifs!E5967),1,0)","v":0},"2026-11-01","2026-11-30",945]
["97-0209","20","97-0209-201",{"$f":"IF(AND(Config!$B$13<=Tarifs!F5968,Config!$B$13>=Tarifs!E5968),1,0)","v":1},"2026-01-01","2026-01-31",945]
["97-0209","20","97-0209-200",{"$f":"IF(AND(Config!$B$13<=Tarifs!F5969,Config!$B$13>=Tarifs!E5969),1,0)","v":0},"2026-02-01","2026-02-28",945]
["97-0209","20","97-0209-200",{"$f":"IF(AND(Config!$B$13<=Tarifs!F5970,Config!$B$13>=Tarifs!E5970),1,0)","v":0},"2026-03-01","2026-03-31",945]
["97-0209","20","97-0209-200",{"$f":"IF(AND(Config!$B$13<=Tarifs!F5971,Config!$B$13>=Tarifs!E5971),1,0)","v":0},"2026-04-01","2026-04-30",945]
["97-0209","20","97-0209-200",{"$f":"IF(AND(Config!$B$13<=Tarifs!F5972,Config!$B$13>=Tarifs!E5972),1,0)","v":0},"2026-05-01","2026-05-31",945]
["97-0209","20","97-0209-200",{"$f":"IF(AND(Config!$B$13<=Tarifs!F5973,Config!$B$13>=Tarifs!E5973),1,0)","v":0},"2026-06-01","2026-06-30",945]
["97-0209","20","97-0209-200",{"$f":"IF(AND(Config!$B$13<=Tarifs!F5974,Config!$B$13>=Tarifs!E5974),1,0)","v":0},"2026-09-01","2026-09-30",945]
["97-0209","20","97-0209-200",{"$f":"IF(AND(Config!$B$13<=Tarifs!F5975,Config!$B$13>=Tarifs!E5975),1,0)","v":0},"2026-10-01","2026-10-31",945]
["97-0209","20","97-0209-200",{"$f":"IF(AND(Config!$B$13<=Tarifs!F5976,Config!$B$13>=Tarifs!E5976),1,0)","v":0},"2026-12-01","2026-12-31",945]
["97-0209","10","97-0209-100",{"$f":"IF(AND(Config!$B$13<=Tarifs!F5977,Config!$B$13>=Tarifs!E5977),1,0)","v":0},"2026-07-01","2026-07-31",184]
["97-0209","10","97-0209-100",{"$f":"IF(AND(Config!$B$13<=Tarifs!F5978,Config!$B$13>=Tarifs!E5978),1,0)","v":0},"2026-08-01","2026-08-31",184]
["97-0209","10","97-0209-100",{"$f":"IF(AND(Config!$B$13<=Tarifs!F5979,Config!$B$13>=Tarifs!E5979),1,0)","v":0},"2026-09-01","2026-09-30",135]
["97-0209","10","97-0209-100",{"$f":"IF(AND(Config!$B$13<=Tarifs!F5980,Config!$B$13>=Tarifs!E5980),1,0)","v":0},"2026-10-01","2026-10-31",135]
["97-0209","10","97-0209-100",{"$f":"IF(AND(Config!$B$13<=Tarifs!F5981,Config!$B$13>=Tarifs!E5981),1,0)","v":0},"2026-11-01","2026-11-30",135]
["97-0209","10","97-0209-101",{"$f":"IF(AND(Config!$B$13<=Tarifs!F5982,Config!$B$13>=Tarifs!E5982),1,0)","v":1},"2026-01-01","2026-01-31",135]
["97-0209","10","97-0209-100",{"$f":"IF(AND(Config!$B$13<=Tarifs!F5983,Config!$B$13>=Tarifs!E5983),1,0)","v":0},"2026-02-01","2026-02-28",135]
["97-0209","10","97-0209-100",{"$f":"IF(AND(Config!$B$13<=Tarifs!F5984,Config!$B$13>=Tarifs!E5984),1,0)","v":0},"2026-03-01","2026-03-31",135]
["97-0209","10","97-0209-100",{"$f":"IF(AND(Config!$B$13<=Tarifs!F5985,Config!$B$13>=Tarifs!E5985),1,0)","v":0},"2026-04-01","2026-04-30",135]
["97-0209","10","97-0209-100",{"$f":"IF(AND(Config!$B$13<=Tarifs!F5986,Config!$B$13>=Tarifs!E5986),1,0)","v":0},"2026-05-01","2026-05-31",135]
["97-0209","10","97-0209-100",{"$f":"IF(AND(Config!$B$13<=Tarifs!F5987,Config!$B$13>=Tarifs!E5987),1,0)","v":0},"2026-06-01","2026-06-30",135]
["97-0209","10","97-0209-100",{"$f":"IF(AND(Config!$B$13<=Tarifs!F5988,Config!$B$13>=Tarifs!E5988),1,0)","v":0},"2026-12-01","2026-12-31",135]
["97-0210","30","97-0210-300",{"$f":"IF(AND(Config!$B$13<=Tarifs!F5989,Config!$B$13>=Tarifs!E5989),1,0)","v":0},"2026-05-01","2026-05-31",7950]
["97-0210","30","97-0210-300",{"$f":"IF(AND(Config!$B$13<=Tarifs!F5990,Config!$B$13>=Tarifs!E5990),1,0)","v":0},"2026-06-01","2026-06-30",7950]
["97-0210","30","97-0210-300",{"$f":"IF(AND(Config!$B$13<=Tarifs!F5991,Config!$B$13>=Tarifs!E5991),1,0)","v":0},"2026-07-01","2026-07-31",7950]
["97-0210","30","97-0210-300",{"$f":"IF(AND(Config!$B$13<=Tarifs!F5992,Config!$B$13>=Tarifs!E5992),1,0)","v":0},"2026-08-01","2026-08-31",7950]
["97-0210","30","97-0210-300",{"$f":"IF(AND(Config!$B$13<=Tarifs!F5993,Config!$B$13>=Tarifs!E5993),1,0)","v":0},"2026-09-01","2026-09-30",7950]
["97-0210","30","97-0210-300",{"$f":"IF(AND(Config!$B$13<=Tarifs!F5994,Config!$B$13>=Tarifs!E5994),1,0)","v":0},"2026-10-01","2026-10-31",7950]
["97-0210","30","97-0210-300",{"$f":"IF(AND(Config!$B$13<=Tarifs!F5995,Config!$B$13>=Tarifs!E5995),1,0)","v":0},"2026-04-01","2026-04-30",6870]
["97-0210","30","97-0210-300",{"$f":"IF(AND(Config!$B$13<=Tarifs!F5996,Config!$B$13>=Tarifs!E5996),1,0)","v":0},"2026-11-01","2026-11-30",6450]
["97-0210","30","97-0210-300",{"$f":"IF(AND(Config!$B$13<=Tarifs!F5997,Config!$B$13>=Tarifs!E5997),1,0)","v":0},"2026-12-01","2026-12-31",6450]
["97-0210","30","97-0210-301",{"$f":"IF(AND(Config!$B$13<=Tarifs!F5998,Config!$B$13>=Tarifs!E5998),1,0)","v":1},"2026-01-01","2026-01-31",5970]
["97-0210","30","97-0210-300",{"$f":"IF(AND(Config!$B$13<=Tarifs!F5999,Config!$B$13>=Tarifs!E5999),1,0)","v":0},"2026-02-01","2026-02-28",5970]
["97-0210","30","97-0210-300",{"$f":"IF(AND(Config!$B$13<=Tarifs!F6000,Config!$B$13>=Tarifs!E6000),1,0)","v":0},"2026-03-01","2026-03-31",5970]
["97-0210","20","97-0210-200",{"$f":"IF(AND(Config!$B$13<=Tarifs!F6001,Config!$B$13>=Tarifs!E6001),1,0)","v":0},"2026-05-01","2026-05-31",1855]
["97-0210","20","97-0210-200",{"$f":"IF(AND(Config!$B$13<=Tarifs!F6002,Config!$B$13>=Tarifs!E6002),1,0)","v":0},"2026-06-01","2026-06-30",1855]
["97-0210","20","97-0210-200",{"$f":"IF(AND(Config!$B$13<=Tarifs!F6003,Config!$B$13>=Tarifs!E6003),1,0)","v":0},"2026-07-01","2026-07-31",1855]
["97-0210","20","97-0210-200",{"$f":"IF(AND(Config!$B$13<=Tarifs!F6004,Config!$B$13>=Tarifs!E6004),1,0)","v":0},"2026-08-01","2026-08-31",1855]
["97-0210","20","97-0210-200",{"$f":"IF(AND(Config!$B$13<=Tarifs!F6005,Config!$B$13>=Tarifs!E6005),1,0)","v":0},"2026-09-01","2026-09-30",1855]
["97-0210","20","97-0210-200",{"$f":"IF(AND(Config!$B$13<=Tarifs!F6006,Config!$B$13>=Tarifs!E6006),1,0)","v":0},"2026-10-01","2026-10-31",1855]
["97-0210","20","97-0210-200",{"$f":"IF(AND(Config!$B$13<=Tarifs!F6007,Config!$B$13>=Tarifs!E6007),1,0)","v":0},"2026-04-01","2026-04-30",1603]
["97-0210","20","97-0210-200",{"$f":"IF(AND(Config!$B$13<=Tarifs!F6008,Config!$B$13>=Tarifs!E6008),1,0)","v":0},"2026-11-01","2026-11-30",1505]
["97-0210","20","97-0210-200",{"$f":"IF(AND(Config!$B$13<=Tarifs!F6009,Config!$B$13>=Tarifs!E6009),1,0)","v":0},"2026-12-01","2026-12-31",1505]
["97-0210","20","97-0210-201",{"$f":"IF(AND(Config!$B$13<=Tarifs!F6010,Config!$B$13>=Tarifs!E6010),1,0)","v":1},"2026-01-01","2026-01-31",1393]
["97-0210","20","97-0210-200",{"$f":"IF(AND(Config!$B$13<=Tarifs!F6011,Config!$B$13>=Tarifs!E6011),1,0)","v":0},"2026-02-01","2026-02-28",1393]
["97-0210","20","97-0210-200",{"$f":"IF(AND(Config!$B$13<=Tarifs!F6012,Config!$B$13>=Tarifs!E6012),1,0)","v":0},"2026-03-01","2026-03-31",1393]
["97-0210","10","97-0210-100",{"$f":"IF(AND(Config!$B$13<=Tarifs!F6013,Config!$B$13>=Tarifs!E6013),1,0)","v":0},"2026-05-01","2026-05-31",265]
["97-0210","10","97-0210-100",{"$f":"IF(AND(Config!$B$13<=Tarifs!F6014,Config!$B$13>=Tarifs!E6014),1,0)","v":0},"2026-06-01","2026-06-30",265]
["97-0210","10","97-0210-100",{"$f":"IF(AND(Config!$B$13<=Tarifs!F6015,Config!$B$13>=Tarifs!E6015),1,0)","v":0},"2026-07-01","2026-07-31",265]
["97-0210","10","97-0210-100",{"$f":"IF(AND(Config!$B$13<=Tarifs!F6016,Config!$B$13>=Tarifs!E6016),1,0)","v":0},"2026-08-01","2026-08-31",265]
["97-0210","10","97-0210-100",{"$f":"IF(AND(Config!$B$13<=Tarifs!F6017,Config!$B$13>=Tarifs!E6017),1,0)","v":0},"2026-09-01","2026-09-30",265]
["97-0210","10","97-0210-100",{"$f":"IF(AND(Config!$B$13<=Tarifs!F6018,Config!$B$13>=Tarifs!E6018),1,0)","v":0},"2026-10-01","2026-10-31",265]
["97-0210","10",{"$f":"A6019&\"-\"&B6019&D6019","v":"97-0210-100"},{"$f":"IF(AND(Config!$B$13<=Tarifs!F6019,Config!$B$13>=Tarifs!E6019),1,0)","v":0},"2026-04-01","2026-04-30",229]
["97-0210","10","97-0210-100",{"$f":"IF(AND(Config!$B$13<=Tarifs!F6020,Config!$B$13>=Tarifs!E6020),1,0)","v":0},"2026-11-01","2026-11-30",215]
["97-0210","10","97-0210-100",{"$f":"IF(AND(Config!$B$13<=Tarifs!F6021,Config!$B$13>=Tarifs!E6021),1,0)","v":0},"2026-12-01","2026-12-31",215]
["97-0210","10","97-0210-101",{"$f":"IF(AND(Config!$B$13<=Tarifs!F6022,Config!$B$13>=Tarifs!E6022),1,0)","v":1},"2026-01-01","2026-01-31",199]
["97-0210","10","97-0210-100",{"$f":"IF(AND(Config!$B$13<=Tarifs!F6023,Config!$B$13>=Tarifs!E6023),1,0)","v":0},"2026-02-01","2026-02-28",199]
["97-0210","10","97-0210-100",{"$f":"IF(AND(Config!$B$13<=Tarifs!F6024,Config!$B$13>=Tarifs!E6024),1,0)","v":0},"2026-03-01","2026-03-31",199]
["97-0217","30","97-0217-301",{"$f":"IF(AND(Config!$B$13<=Tarifs!F6025,Config!$B$13>=Tarifs!E6025),1,0)","v":1},"2026-01-01","2026-01-31",4800]
["97-0217","30","97-0217-300",{"$f":"IF(AND(Config!$B$13<=Tarifs!F6026,Config!$B$13>=Tarifs!E6026),1,0)","v":0},"2026-02-01","2026-02-28",4800]
["97-0217","30","97-0217-300",{"$f":"IF(AND(Config!$B$13<=Tarifs!F6027,Config!$B$13>=Tarifs!E6027),1,0)","v":0},"2026-03-01","2026-03-31",4800]
["97-0217","30","97-0217-300",{"$f":"IF(AND(Config!$B$13<=Tarifs!F6028,Config!$B$13>=Tarifs!E6028),1,0)","v":0},"2026-04-01","2026-04-30",4800]
["97-0217","30","97-0217-300",{"$f":"IF(AND(Config!$B$13<=Tarifs!F6029,Config!$B$13>=Tarifs!E6029),1,0)","v":0},"2026-05-01","2026-05-31",4800]
["97-0217","30","97-0217-300",{"$f":"IF(AND(Config!$B$13<=Tarifs!F6030,Config!$B$13>=Tarifs!E6030),1,0)","v":0},"2026-06-01","2026-06-30",4800]
["97-0217","30","97-0217-300",{"$f":"IF(AND(Config!$B$13<=Tarifs!F6031,Config!$B$13>=Tarifs!E6031),1,0)","v":0},"2026-07-01","2026-07-31",4800]
["97-0217","30","97-0217-300",{"$f":"IF(AND(Config!$B$13<=Tarifs!F6032,Config!$B$13>=Tarifs!E6032),1,0)","v":0},"2026-08-01","2026-08-31",4800]
["97-0217","30","97-0217-300",{"$f":"IF(AND(Config!$B$13<=Tarifs!F6033,Config!$B$13>=Tarifs!E6033),1,0)","v":0},"2026-09-01","2026-09-30",4800]
["97-0217","30","97-0217-300",{"$f":"IF(AND(Config!$B$13<=Tarifs!F6034,Config!$B$13>=Tarifs!E6034),1,0)","v":0},"2026-10-01","2026-10-31",4800]
["97-0217","30","97-0217-300",{"$f":"IF(AND(Config!$B$13<=Tarifs!F6035,Config!$B$13>=Tarifs!E6035),1,0)","v":0},"2026-11-01","2026-11-30",4800]
["97-0217","30","97-0217-300",{"$f":"IF(AND(Config!$B$13<=Tarifs!F6036,Config!$B$13>=Tarifs!E6036),1,0)","v":0},"2026-12-01","2026-12-31",4800]
["97-0217","20","97-0217-200",{"$f":"IF(AND(Config!$B$13<=Tarifs!F6037,Config!$B$13>=Tarifs!E6037),1,0)","v":0},"2026-09-01","2026-09-30",1220]
["97-0217","20","97-0217-200",{"$f":"IF(AND(Config!$B$13<=Tarifs!F6038,Config!$B$13>=Tarifs!E6038),1,0)","v":0},"2026-10-01","2026-10-31",1220]
["97-0217","20","97-0217-200",{"$f":"IF(AND(Config!$B$13<=Tarifs!F6039,Config!$B$13>=Tarifs!E6039),1,0)","v":0},"2026-11-01","2026-11-30",1220]
["97-0217","20","97-0217-200",{"$f":"IF(AND(Config!$B$13<=Tarifs!F6040,Config!$B$13>=Tarifs!E6040),1,0)","v":0},"2026-12-01","2026-12-31",1220]
["97-0217","20","97-0217-201",{"$f":"IF(AND(Config!$B$13<=Tarifs!F6041,Config!$B$13>=Tarifs!E6041),1,0)","v":1},"2026-01-01","2026-01-31",1120]
["97-0217","20","97-0217-200",{"$f":"IF(AND(Config!$B$13<=Tarifs!F6042,Config!$B$13>=Tarifs!E6042),1,0)","v":0},"2026-02-01","2026-02-28",1120]
["97-0217","20","97-0217-200",{"$f":"IF(AND(Config!$B$13<=Tarifs!F6043,Config!$B$13>=Tarifs!E6043),1,0)","v":0},"2026-03-01","2026-03-31",1120]
["97-0217","20","97-0217-200",{"$f":"IF(AND(Config!$B$13<=Tarifs!F6044,Config!$B$13>=Tarifs!E6044),1,0)","v":0},"2026-04-01","2026-04-30",1120]
["97-0217","20","97-0217-200",{"$f":"IF(AND(Config!$B$13<=Tarifs!F6045,Config!$B$13>=Tarifs!E6045),1,0)","v":0},"2026-05-01","2026-05-31",1120]
["97-0217","20","97-0217-200",{"$f":"IF(AND(Config!$B$13<=Tarifs!F6046,Config!$B$13>=Tarifs!E6046),1,0)","v":0},"2026-06-01","2026-06-30",1120]
["97-0217","20","97-0217-200",{"$f":"IF(AND(Config!$B$13<=Tarifs!F6047,Config!$B$13>=Tarifs!E6047),1,0)","v":0},"2026-07-01","2026-07-31",1120]
["97-0217","20","97-0217-200",{"$f":"IF(AND(Config!$B$13<=Tarifs!F6048,Config!$B$13>=Tarifs!E6048),1,0)","v":0},"2026-08-01","2026-08-31",1120]
["97-0217","10","97-0217-101",{"$f":"IF(AND(Config!$B$13<=Tarifs!F6049,Config!$B$13>=Tarifs!E6049),1,0)","v":1},"2026-01-01","2026-01-31",160]
["97-0217","10","97-0217-100",{"$f":"IF(AND(Config!$B$13<=Tarifs!F6050,Config!$B$13>=Tarifs!E6050),1,0)","v":0},"2026-02-01","2026-02-28",160]
["97-0217","10","97-0217-100",{"$f":"IF(AND(Config!$B$13<=Tarifs!F6051,Config!$B$13>=Tarifs!E6051),1,0)","v":0},"2026-03-01","2026-03-31",160]
["97-0217","10","97-0217-100",{"$f":"IF(AND(Config!$B$13<=Tarifs!F6052,Config!$B$13>=Tarifs!E6052),1,0)","v":0},"2026-04-01","2026-04-30",160]
["97-0217","10","97-0217-100",{"$f":"IF(AND(Config!$B$13<=Tarifs!F6053,Config!$B$13>=Tarifs!E6053),1,0)","v":0},"2026-05-01","2026-05-31",160]
["97-0217","10","97-0217-100",{"$f":"IF(AND(Config!$B$13<=Tarifs!F6054,Config!$B$13>=Tarifs!E6054),1,0)","v":0},"2026-06-01","2026-06-30",160]
["97-0217","10","97-0217-100",{"$f":"IF(AND(Config!$B$13<=Tarifs!F6055,Config!$B$13>=Tarifs!E6055),1,0)","v":0},"2026-07-01","2026-07-31",160]
["97-0217","10","97-0217-100",{"$f":"IF(AND(Config!$B$13<=Tarifs!F6056,Config!$B$13>=Tarifs!E6056),1,0)","v":0},"2026-08-01","2026-08-31",160]
["97-0217","10","97-0217-100",{"$f":"IF(AND(Config!$B$13<=Tarifs!F6057,Config!$B$13>=Tarifs!E6057),1,0)","v":0},"2026-09-01","2026-09-30",160]
["97-0217","10","97-0217-100",{"$f":"IF(AND(Config!$B$13<=Tarifs!F6058,Config!$B$13>=Tarifs!E6058),1,0)","v":0},"2026-10-01","2026-10-31",160]
["97-0217","10","97-0217-100",{"$f":"IF(AND(Config!$B$13<=Tarifs!F6059,Config!$B$13>=Tarifs!E6059),1,0)","v":0},"2026-11-01","2026-11-30",160]
["97-0217","10","97-0217-100",{"$f":"IF(AND(Config!$B$13<=Tarifs!F6060,Config!$B$13>=Tarifs!E6060),1,0)","v":0},"2026-12-01","2026-12-31",160]
["97-0221","30","97-0221-301",{"$f":"IF(AND(Config!$B$13<=Tarifs!F6061,Config!$B$13>=Tarifs!E6061),1,0)","v":1},"2026-01-01","2026-01-31",3690]
["97-0221","30","97-0221-300",{"$f":"IF(AND(Config!$B$13<=Tarifs!F6062,Config!$B$13>=Tarifs!E6062),1,0)","v":0},"2026-02-01","2026-02-28",3690]
["97-0221","30","97-0221-300",{"$f":"IF(AND(Config!$B$13<=Tarifs!F6063,Config!$B$13>=Tarifs!E6063),1,0)","v":0},"2026-03-01","2026-03-31",3690]
["97-0221","30","97-0221-300",{"$f":"IF(AND(Config!$B$13<=Tarifs!F6064,Config!$B$13>=Tarifs!E6064),1,0)","v":0},"2026-04-01","2026-04-30",3690]
["97-0221","30","97-0221-300",{"$f":"IF(AND(Config!$B$13<=Tarifs!F6065,Config!$B$13>=Tarifs!E6065),1,0)","v":0},"2026-05-01","2026-05-31",3690]
["97-0221","30","97-0221-300",{"$f":"IF(AND(Config!$B$13<=Tarifs!F6066,Config!$B$13>=Tarifs!E6066),1,0)","v":0},"2026-06-01","2026-06-30",3690]
["97-0221","30","97-0221-300",{"$f":"IF(AND(Config!$B$13<=Tarifs!F6067,Config!$B$13>=Tarifs!E6067),1,0)","v":0},"2026-07-01","2026-07-31",3690]
["97-0221","30","97-0221-300",{"$f":"IF(AND(Config!$B$13<=Tarifs!F6068,Config!$B$13>=Tarifs!E6068),1,0)","v":0},"2026-08-01","2026-08-31",3690]
["97-0221","30","97-0221-300",{"$f":"IF(AND(Config!$B$13<=Tarifs!F6069,Config!$B$13>=Tarifs!E6069),1,0)","v":0},"2026-09-01","2026-09-30",3690]
["97-0221","30","97-0221-300",{"$f":"IF(AND(Config!$B$13<=Tarifs!F6070,Config!$B$13>=Tarifs!E6070),1,0)","v":0},"2026-10-01","2026-10-31",3690]
["97-0221","30","97-0221-300",{"$f":"IF(AND(Config!$B$13<=Tarifs!F6071,Config!$B$13>=Tarifs!E6071),1,0)","v":0},"2026-11-01","2026-11-30",3690]
["97-0221","30","97-0221-300",{"$f":"IF(AND(Config!$B$13<=Tarifs!F6072,Config!$B$13>=Tarifs!E6072),1,0)","v":0},"2026-12-01","2026-12-31",3690]
["97-0221","20","97-0221-201",{"$f":"IF(AND(Config!$B$13<=Tarifs!F6073,Config!$B$13>=Tarifs!E6073),1,0)","v":1},"2026-01-01","2026-01-31",861]
["97-0221","20","97-0221-200",{"$f":"IF(AND(Config!$B$13<=Tarifs!F6074,Config!$B$13>=Tarifs!E6074),1,0)","v":0},"2026-02-01","2026-02-28",861]
["97-0221","20","97-0221-200",{"$f":"IF(AND(Config!$B$13<=Tarifs!F6075,Config!$B$13>=Tarifs!E6075),1,0)","v":0},"2026-03-01","2026-03-31",861]
["97-0221","20","97-0221-200",{"$f":"IF(AND(Config!$B$13<=Tarifs!F6076,Config!$B$13>=Tarifs!E6076),1,0)","v":0},"2026-04-01","2026-04-30",861]
["97-0221","20","97-0221-200",{"$f":"IF(AND(Config!$B$13<=Tarifs!F6077,Config!$B$13>=Tarifs!E6077),1,0)","v":0},"2026-05-01","2026-05-31",861]
["97-0221","20","97-0221-200",{"$f":"IF(AND(Config!$B$13<=Tarifs!F6078,Config!$B$13>=Tarifs!E6078),1,0)","v":0},"2026-06-01","2026-06-30",861]
["97-0221","20","97-0221-200",{"$f":"IF(AND(Config!$B$13<=Tarifs!F6079,Config!$B$13>=Tarifs!E6079),1,0)","v":0},"2026-07-01","2026-07-31",861]
["97-0221","20","97-0221-200",{"$f":"IF(AND(Config!$B$13<=Tarifs!F6080,Config!$B$13>=Tarifs!E6080),1,0)","v":0},"2026-08-01","2026-08-31",861]
["97-0221","20","97-0221-200",{"$f":"IF(AND(Config!$B$13<=Tarifs!F6081,Config!$B$13>=Tarifs!E6081),1,0)","v":0},"2026-09-01","2026-09-30",861]
["97-0221","20","97-0221-200",{"$f":"IF(AND(Config!$B$13<=Tarifs!F6082,Config!$B$13>=Tarifs!E6082),1,0)","v":0},"2026-10-01","2026-10-31",861]
["97-0221","20",{"$f":"A6083&\"-\"&B6083&D6083","v":"97-0221-200"},{"$f":"IF(AND(Config!$B$13<=Tarifs!F6083,Config!$B$13>=Tarifs!E6083),1,0)","v":0},"2026-11-01","2026-11-30",861]
["97-0221","20","97-0221-200",{"$f":"IF(AND(Config!$B$13<=Tarifs!F6084,Config!$B$13>=Tarifs!E6084),1,0)","v":0},"2026-12-01","2026-12-31",861]
["97-0221","10","97-0221-101",{"$f":"IF(AND(Config!$B$13<=Tarifs!F6085,Config!$B$13>=Tarifs!E6085),1,0)","v":1},"2026-01-01","2026-01-31",123]
["97-0221","10","97-0221-100",{"$f":"IF(AND(Config!$B$13<=Tarifs!F6086,Config!$B$13>=Tarifs!E6086),1,0)","v":0},"2026-02-01","2026-02-28",123]
["97-0221","10","97-0221-100",{"$f":"IF(AND(Config!$B$13<=Tarifs!F6087,Config!$B$13>=Tarifs!E6087),1,0)","v":0},"2026-03-01","2026-03-31",123]
["97-0221","10","97-0221-100",{"$f":"IF(AND(Config!$B$13<=Tarifs!F6088,Config!$B$13>=Tarifs!E6088),1,0)","v":0},"2026-04-01","2026-04-30",123]
["97-0221","10","97-0221-100",{"$f":"IF(AND(Config!$B$13<=Tarifs!F6089,Config!$B$13>=Tarifs!E6089),1,0)","v":0},"2026-05-01","2026-05-31",123]
["97-0221","10","97-0221-100",{"$f":"IF(AND(Config!$B$13<=Tarifs!F6090,Config!$B$13>=Tarifs!E6090),1,0)","v":0},"2026-06-01","2026-06-30",123]
["97-0221","10","97-0221-100",{"$f":"IF(AND(Config!$B$13<=Tarifs!F6091,Config!$B$13>=Tarifs!E6091),1,0)","v":0},"2026-07-01","2026-07-31",123]
["97-0221","10","97-0221-100",{"$f":"IF(AND(Config!$B$13<=Tarifs!F6092,Config!$B$13>=Tarifs!E6092),1,0)","v":0},"2026-08-01","2026-08-31",123]
["97-0221","10","97-0221-100",{"$f":"IF(AND(Config!$B$13<=Tarifs!F6093,Config!$B$13>=Tarifs!E6093),1,0)","v":0},"2026-09-01","2026-09-30",123]
["97-0221","10","97-0221-100",{"$f":"IF(AND(Config!$B$13<=Tarifs!F6094,Config!$B$13>=Tarifs!E6094),1,0)","v":0},"2026-10-01","2026-10-31",123]
["97-0221","10","97-0221-100",{"$f":"IF(AND(Config!$B$13<=Tarifs!F6095,Config!$B$13>=Tarifs!E6095),1,0)","v":0},"2026-11-01","2026-11-30",123]
["97-0221","10","97-0221-100",{"$f":"IF(AND(Config!$B$13<=Tarifs!F6096,Config!$B$13>=Tarifs!E6096),1,0)","v":0},"2026-12-01","2026-12-31",123]
["97-0222","30","97-0222-300",{"$f":"IF(AND(Config!$B$13<=Tarifs!F6097,Config!$B$13>=Tarifs!E6097),1,0)","v":0},"2026-07-01","2026-07-31",4620]
["97-0222","30","97-0222-300",{"$f":"IF(AND(Config!$B$13<=Tarifs!F6098,Config!$B$13>=Tarifs!E6098),1,0)","v":0},"2026-08-01","2026-08-31",4620]
["97-0222","30","97-0222-300",{"$f":"IF(AND(Config!$B$13<=Tarifs!F6099,Config!$B$13>=Tarifs!E6099),1,0)","v":0},"2026-06-01","2026-06-30",4020]
["97-0222","30","97-0222-300",{"$f":"IF(AND(Config!$B$13<=Tarifs!F6100,Config!$B$13>=Tarifs!E6100),1,0)","v":0},"2026-09-01","2026-09-30",3840]
["97-0222","30","97-0222-300",{"$f":"IF(AND(Config!$B$13<=Tarifs!F6101,Config!$B$13>=Tarifs!E6101),1,0)","v":0},"2026-10-01","2026-10-31",3840]
["97-0222","30","97-0222-300",{"$f":"IF(AND(Config!$B$13<=Tarifs!F6102,Config!$B$13>=Tarifs!E6102),1,0)","v":0},"2026-11-01","2026-11-30",3840]
["97-0222","30","97-0222-300",{"$f":"IF(AND(Config!$B$13<=Tarifs!F6103,Config!$B$13>=Tarifs!E6103),1,0)","v":0},"2026-12-01","2026-12-31",3840]
["97-0222","30","97-0222-301",{"$f":"IF(AND(Config!$B$13<=Tarifs!F6104,Config!$B$13>=Tarifs!E6104),1,0)","v":1},"2026-01-01","2026-01-31",3750]
["97-0222","30","97-0222-300",{"$f":"IF(AND(Config!$B$13<=Tarifs!F6105,Config!$B$13>=Tarifs!E6105),1,0)","v":0},"2026-02-01","2026-02-28",3750]
["97-0222","30","97-0222-300",{"$f":"IF(AND(Config!$B$13<=Tarifs!F6106,Config!$B$13>=Tarifs!E6106),1,0)","v":0},"2026-03-01","2026-03-31",3750]
["97-0222","30","97-0222-300",{"$f":"IF(AND(Config!$B$13<=Tarifs!F6107,Config!$B$13>=Tarifs!E6107),1,0)","v":0},"2026-04-01","2026-04-30",3750]
["97-0222","30","97-0222-300",{"$f":"IF(AND(Config!$B$13<=Tarifs!F6108,Config!$B$13>=Tarifs!E6108),1,0)","v":0},"2026-05-01","2026-05-31",3750]
["97-0222","20","97-0222-200",{"$f":"IF(AND(Config!$B$13<=Tarifs!F6109,Config!$B$13>=Tarifs!E6109),1,0)","v":0},"2026-07-01","2026-07-31",1078]
["97-0222","20","97-0222-200",{"$f":"IF(AND(Config!$B$13<=Tarifs!F6110,Config!$B$13>=Tarifs!E6110),1,0)","v":0},"2026-08-01","2026-08-31",1078]
["97-0222","20","97-0222-200",{"$f":"IF(AND(Config!$B$13<=Tarifs!F6111,Config!$B$13>=Tarifs!E6111),1,0)","v":0},"2026-06-01","2026-06-30",938]
["97-0222","20","97-0222-200",{"$f":"IF(AND(Config!$B$13<=Tarifs!F6112,Config!$B$13>=Tarifs!E6112),1,0)","v":0},"2026-09-01","2026-09-30",896]
["97-0222","20","97-0222-200",{"$f":"IF(AND(Config!$B$13<=Tarifs!F6113,Config!$B$13>=Tarifs!E6113),1,0)","v":0},"2026-10-01","2026-10-31",896]
["97-0222","20","97-0222-200",{"$f":"IF(AND(Config!$B$13<=Tarifs!F6114,Config!$B$13>=Tarifs!E6114),1,0)","v":0},"2026-11-01","2026-11-30",896]
["97-0222","20","97-0222-200",{"$f":"IF(AND(Config!$B$13<=Tarifs!F6115,Config!$B$13>=Tarifs!E6115),1,0)","v":0},"2026-12-01","2026-12-31",896]
["97-0222","20","97-0222-201",{"$f":"IF(AND(Config!$B$13<=Tarifs!F6116,Config!$B$13>=Tarifs!E6116),1,0)","v":1},"2026-01-01","2026-01-31",875]
["97-0222","20","97-0222-200",{"$f":"IF(AND(Config!$B$13<=Tarifs!F6117,Config!$B$13>=Tarifs!E6117),1,0)","v":0},"2026-02-01","2026-02-28",875]
["97-0222","20","97-0222-200",{"$f":"IF(AND(Config!$B$13<=Tarifs!F6118,Config!$B$13>=Tarifs!E6118),1,0)","v":0},"2026-03-01","2026-03-31",875]
["97-0222","20","97-0222-200",{"$f":"IF(AND(Config!$B$13<=Tarifs!F6119,Config!$B$13>=Tarifs!E6119),1,0)","v":0},"2026-04-01","2026-04-30",875]
["97-0222","20","97-0222-200",{"$f":"IF(AND(Config!$B$13<=Tarifs!F6120,Config!$B$13>=Tarifs!E6120),1,0)","v":0},"2026-05-01","2026-05-31",875]
["97-0222","10","97-0222-100",{"$f":"IF(AND(Config!$B$13<=Tarifs!F6121,Config!$B$13>=Tarifs!E6121),1,0)","v":0},"2026-07-01","2026-07-31",154]
["97-0222","10","97-0222-100",{"$f":"IF(AND(Config!$B$13<=Tarifs!F6122,Config!$B$13>=Tarifs!E6122),1,0)","v":0},"2026-08-01","2026-08-31",154]
["97-0222","10","97-0222-100",{"$f":"IF(AND(Config!$B$13<=Tarifs!F6123,Config!$B$13>=Tarifs!E6123),1,0)","v":0},"2026-06-01","2026-06-30",134]
["97-0222","10","97-0222-100",{"$f":"IF(AND(Config!$B$13<=Tarifs!F6124,Config!$B$13>=Tarifs!E6124),1,0)","v":0},"2026-09-01","2026-09-30",128]
["97-0222","10","97-0222-100",{"$f":"IF(AND(Config!$B$13<=Tarifs!F6125,Config!$B$13>=Tarifs!E6125),1,0)","v":0},"2026-10-01","2026-10-31",128]
["97-0222","10","97-0222-100",{"$f":"IF(AND(Config!$B$13<=Tarifs!F6126,Config!$B$13>=Tarifs!E6126),1,0)","v":0},"2026-11-01","2026-11-30",128]
["97-0222","10","97-0222-100",{"$f":"IF(AND(Config!$B$13<=Tarifs!F6127,Config!$B$13>=Tarifs!E6127),1,0)","v":0},"2026-12-01","2026-12-31",128]
["97-0222","10","97-0222-101",{"$f":"IF(AND(Config!$B$13<=Tarifs!F6128,Config!$B$13>=Tarifs!E6128),1,0)","v":1},"2026-01-01","2026-01-31",125]
["97-0222","10","97-0222-100",{"$f":"IF(AND(Config!$B$13<=Tarifs!F6129,Config!$B$13>=Tarifs!E6129),1,0)","v":0},"2026-02-01","2026-02-28",125]
["97-0222","10","97-0222-100",{"$f":"IF(AND(Config!$B$13<=Tarifs!F6130,Config!$B$13>=Tarifs!E6130),1,0)","v":0},"2026-03-01","2026-03-31",125]
["97-0222","10","97-0222-100",{"$f":"IF(AND(Config!$B$13<=Tarifs!F6131,Config!$B$13>=Tarifs!E6131),1,0)","v":0},"2026-04-01","2026-04-30",125]
["97-0222","10","97-0222-100",{"$f":"IF(AND(Config!$B$13<=Tarifs!F6132,Config!$B$13>=Tarifs!E6132),1,0)","v":0},"2026-05-01","2026-05-31",125]
["97-0223","30","97-0223-300",{"$f":"IF(AND(Config!$B$13<=Tarifs!F6133,Config!$B$13>=Tarifs!E6133),1,0)","v":0},"2026-07-01","2026-07-31",5670]
["97-0223","30","97-0223-300",{"$f":"IF(AND(Config!$B$13<=Tarifs!F6134,Config!$B$13>=Tarifs!E6134),1,0)","v":0},"2026-08-01","2026-08-31",5670]
["97-0223","30","97-0223-301",{"$f":"IF(AND(Config!$B$13<=Tarifs!F6135,Config!$B$13>=Tarifs!E6135),1,0)","v":1},"2026-01-01","2026-01-31",4770]
["97-0223","30","97-0223-300",{"$f":"IF(AND(Config!$B$13<=Tarifs!F6136,Config!$B$13>=Tarifs!E6136),1,0)","v":0},"2026-02-01","2026-02-28",4770]
["97-0223","30","97-0223-300",{"$f":"IF(AND(Config!$B$13<=Tarifs!F6137,Config!$B$13>=Tarifs!E6137),1,0)","v":0},"2026-03-01","2026-03-31",4770]
["97-0223","30","97-0223-300",{"$f":"IF(AND(Config!$B$13<=Tarifs!F6138,Config!$B$13>=Tarifs!E6138),1,0)","v":0},"2026-04-01","2026-04-30",4770]
["97-0223","30","97-0223-300",{"$f":"IF(AND(Config!$B$13<=Tarifs!F6139,Config!$B$13>=Tarifs!E6139),1,0)","v":0},"2026-05-01","2026-05-31",4770]
["97-0223","30","97-0223-300",{"$f":"IF(AND(Config!$B$13<=Tarifs!F6140,Config!$B$13>=Tarifs!E6140),1,0)","v":0},"2026-06-01","2026-06-30",4770]
["97-0223","30","97-0223-300",{"$f":"IF(AND(Config!$B$13<=Tarifs!F6141,Config!$B$13>=Tarifs!E6141),1,0)","v":0},"2026-09-01","2026-09-30",4770]
["97-0223","30","97-0223-300",{"$f":"IF(AND(Config!$B$13<=Tarifs!F6142,Config!$B$13>=Tarifs!E6142),1,0)","v":0},"2026-10-01","2026-10-31",4770]
["97-0223","30","97-0223-300",{"$f":"IF(AND(Config!$B$13<=Tarifs!F6143,Config!$B$13>=Tarifs!E6143),1,0)","v":0},"2026-11-01","2026-11-30",4770]
["97-0223","30","97-0223-300",{"$f":"IF(AND(Config!$B$13<=Tarifs!F6144,Config!$B$13>=Tarifs!E6144),1,0)","v":0},"2026-12-01","2026-12-31",4770]
["97-0223","20","97-0223-200",{"$f":"IF(AND(Config!$B$13<=Tarifs!F6145,Config!$B$13>=Tarifs!E6145),1,0)","v":0},"2026-07-01","2026-07-31",1323]
["97-0223","20","97-0223-200",{"$f":"IF(AND(Config!$B$13<=Tarifs!F6146,Config!$B$13>=Tarifs!E6146),1,0)","v":0},"2026-08-01","2026-08-31",1323]
["97-0223","20",{"$f":"A6147&\"-\"&B6147&D6147","v":"97-0223-201"},{"$f":"IF(AND(Config!$B$13<=Tarifs!F6147,Config!$B$13>=Tarifs!E6147),1,0)","v":1},"2026-01-01","2026-01-31",1113]
["97-0223","20","97-0223-200",{"$f":"IF(AND(Config!$B$13<=Tarifs!F6148,Config!$B$13>=Tarifs!E6148),1,0)","v":0},"2026-02-01","2026-02-28",1113]
["97-0223","20","97-0223-200",{"$f":"IF(AND(Config!$B$13<=Tarifs!F6149,Config!$B$13>=Tarifs!E6149),1,0)","v":0},"2026-03-01","2026-03-31",1113]
["97-0223","20","97-0223-200",{"$f":"IF(AND(Config!$B$13<=Tarifs!F6150,Config!$B$13>=Tarifs!E6150),1,0)","v":0},"2026-04-01","2026-04-30",1113]
["97-0223","20","97-0223-200",{"$f":"IF(AND(Config!$B$13<=Tarifs!F6151,Config!$B$13>=Tarifs!E6151),1,0)","v":0},"2026-05-01","2026-05-31",1113]
["97-0223","20","97-0223-200",{"$f":"IF(AND(Config!$B$13<=Tarifs!F6152,Config!$B$13>=Tarifs!E6152),1,0)","v":0},"2026-06-01","2026-06-30",1113]
["97-0223","20","97-0223-200",{"$f":"IF(AND(Config!$B$13<=Tarifs!F6153,Config!$B$13>=Tarifs!E6153),1,0)","v":0},"2026-09-01","2026-09-30",1113]
["97-0223","20","97-0223-200",{"$f":"IF(AND(Config!$B$13<=Tarifs!F6154,Config!$B$13>=Tarifs!E6154),1,0)","v":0},"2026-10-01","2026-10-31",1113]
["97-0223","20","97-0223-200",{"$f":"IF(AND(Config!$B$13<=Tarifs!F6155,Config!$B$13>=Tarifs!E6155),1,0)","v":0},"2026-11-01","2026-11-30",1113]
["97-0223","20","97-0223-200",{"$f":"IF(AND(Config!$B$13<=Tarifs!F6156,Config!$B$13>=Tarifs!E6156),1,0)","v":0},"2026-12-01","2026-12-31",1113]
["97-0223","10","97-0223-100",{"$f":"IF(AND(Config!$B$13<=Tarifs!F6157,Config!$B$13>=Tarifs!E6157),1,0)","v":0},"2026-07-01","2026-07-31",189]
["97-0223","10","97-0223-100",{"$f":"IF(AND(Config!$B$13<=Tarifs!F6158,Config!$B$13>=Tarifs!E6158),1,0)","v":0},"2026-08-01","2026-08-31",189]
["97-0223","10","97-0223-101",{"$f":"IF(AND(Config!$B$13<=Tarifs!F6159,Config!$B$13>=Tarifs!E6159),1,0)","v":1},"2026-01-01","2026-01-31",159]
["97-0223","10","97-0223-100",{"$f":"IF(AND(Config!$B$13<=Tarifs!F6160,Config!$B$13>=Tarifs!E6160),1,0)","v":0},"2026-02-01","2026-02-28",159]
["97-0223","10","97-0223-100",{"$f":"IF(AND(Config!$B$13<=Tarifs!F6161,Config!$B$13>=Tarifs!E6161),1,0)","v":0},"2026-03-01","2026-03-31",159]
["97-0223","10","97-0223-100",{"$f":"IF(AND(Config!$B$13<=Tarifs!F6162,Config!$B$13>=Tarifs!E6162),1,0)","v":0},"2026-04-01","2026-04-30",159]
["97-0223","10","97-0223-100",{"$f":"IF(AND(Config!$B$13<=Tarifs!F6163,Config!$B$13>=Tarifs!E6163),1,0)","v":0},"2026-05-01","2026-05-31",159]
["97-0223","10","97-0223-100",{"$f":"IF(AND(Config!$B$13<=Tarifs!F6164,Config!$B$13>=Tarifs!E6164),1,0)","v":0},"2026-06-01","2026-06-30",159]
["97-0223","10","97-0223-100",{"$f":"IF(AND(Config!$B$13<=Tarifs!F6165,Config!$B$13>=Tarifs!E6165),1,0)","v":0},"2026-09-01","2026-09-30",159]
["97-0223","10","97-0223-100",{"$f":"IF(AND(Config!$B$13<=Tarifs!F6166,Config!$B$13>=Tarifs!E6166),1,0)","v":0},"2026-10-01","2026-10-31",159]
["97-0223","10","97-0223-100",{"$f":"IF(AND(Config!$B$13<=Tarifs!F6167,Config!$B$13>=Tarifs!E6167),1,0)","v":0},"2026-11-01","2026-11-30",159]
["97-0223","10","97-0223-100",{"$f":"IF(AND(Config!$B$13<=Tarifs!F6168,Config!$B$13>=Tarifs!E6168),1,0)","v":0},"2026-12-01","2026-12-31",159]
["97-0226","30","97-0226-301",{"$f":"IF(AND(Config!$B$13<=Tarifs!F6169,Config!$B$13>=Tarifs!E6169),1,0)","v":1},"2026-01-01","2026-01-31",4320]
["97-0226","30","97-0226-300",{"$f":"IF(AND(Config!$B$13<=Tarifs!F6170,Config!$B$13>=Tarifs!E6170),1,0)","v":0},"2026-02-01","2026-02-28",4320]
["97-0226","30","97-0226-300",{"$f":"IF(AND(Config!$B$13<=Tarifs!F6171,Config!$B$13>=Tarifs!E6171),1,0)","v":0},"2026-03-01","2026-03-31",4320]
["97-0226","30","97-0226-300",{"$f":"IF(AND(Config!$B$13<=Tarifs!F6172,Config!$B$13>=Tarifs!E6172),1,0)","v":0},"2026-04-01","2026-04-30",4320]
["97-0226","30","97-0226-300",{"$f":"IF(AND(Config!$B$13<=Tarifs!F6173,Config!$B$13>=Tarifs!E6173),1,0)","v":0},"2026-05-01","2026-05-31",4320]
["97-0226","30","97-0226-300",{"$f":"IF(AND(Config!$B$13<=Tarifs!F6174,Config!$B$13>=Tarifs!E6174),1,0)","v":0},"2026-06-01","2026-06-30",4320]
["97-0226","30","97-0226-300",{"$f":"IF(AND(Config!$B$13<=Tarifs!F6175,Config!$B$13>=Tarifs!E6175),1,0)","v":0},"2026-07-01","2026-07-31",4320]
["97-0226","30","97-0226-300",{"$f":"IF(AND(Config!$B$13<=Tarifs!F6176,Config!$B$13>=Tarifs!E6176),1,0)","v":0},"2026-08-01","2026-08-31",4320]
["97-0226","30","97-0226-300",{"$f":"IF(AND(Config!$B$13<=Tarifs!F6177,Config!$B$13>=Tarifs!E6177),1,0)","v":0},"2026-09-01","2026-09-30",4320]
["97-0226","30","97-0226-300",{"$f":"IF(AND(Config!$B$13<=Tarifs!F6178,Config!$B$13>=Tarifs!E6178),1,0)","v":0},"2026-10-01","2026-10-31",4320]
["97-0226","30","97-0226-300",{"$f":"IF(AND(Config!$B$13<=Tarifs!F6179,Config!$B$13>=Tarifs!E6179),1,0)","v":0},"2026-11-01","2026-11-30",4320]
["97-0226","30","97-0226-300",{"$f":"IF(AND(Config!$B$13<=Tarifs!F6180,Config!$B$13>=Tarifs!E6180),1,0)","v":0},"2026-12-01","2026-12-31",4320]
["97-0226","20","97-0226-201",{"$f":"IF(AND(Config!$B$13<=Tarifs!F6181,Config!$B$13>=Tarifs!E6181),1,0)","v":1},"2026-01-01","2026-01-31",1008]
["97-0226","20","97-0226-200",{"$f":"IF(AND(Config!$B$13<=Tarifs!F6182,Config!$B$13>=Tarifs!E6182),1,0)","v":0},"2026-02-01","2026-02-28",1008]
["97-0226","20","97-0226-200",{"$f":"IF(AND(Config!$B$13<=Tarifs!F6183,Config!$B$13>=Tarifs!E6183),1,0)","v":0},"2026-03-01","2026-03-31",1008]
["97-0226","20","97-0226-200",{"$f":"IF(AND(Config!$B$13<=Tarifs!F6184,Config!$B$13>=Tarifs!E6184),1,0)","v":0},"2026-04-01","2026-04-30",1008]
["97-0226","20","97-0226-200",{"$f":"IF(AND(Config!$B$13<=Tarifs!F6185,Config!$B$13>=Tarifs!E6185),1,0)","v":0},"2026-05-01","2026-05-31",1008]
["97-0226","20","97-0226-200",{"$f":"IF(AND(Config!$B$13<=Tarifs!F6186,Config!$B$13>=Tarifs!E6186),1,0)","v":0},"2026-06-01","2026-06-30",1008]
["97-0226","20","97-0226-200",{"$f":"IF(AND(Config!$B$13<=Tarifs!F6187,Config!$B$13>=Tarifs!E6187),1,0)","v":0},"2026-07-01","2026-07-31",1008]
["97-0226","20","97-0226-200",{"$f":"IF(AND(Config!$B$13<=Tarifs!F6188,Config!$B$13>=Tarifs!E6188),1,0)","v":0},"2026-08-01","2026-08-31",1008]
["97-0226","20","97-0226-200",{"$f":"IF(AND(Config!$B$13<=Tarifs!F6189,Config!$B$13>=Tarifs!E6189),1,0)","v":0},"2026-09-01","2026-09-30",1008]
["97-0226","20","97-0226-200",{"$f":"IF(AND(Config!$B$13<=Tarifs!F6190,Config!$B$13>=Tarifs!E6190),1,0)","v":0},"2026-10-01","2026-10-31",1008]
["97-0226","20","97-0226-200",{"$f":"IF(AND(Config!$B$13<=Tarifs!F6191,Config!$B$13>=Tarifs!E6191),1,0)","v":0},"2026-11-01","2026-11-30",1008]
["97-0226","20","97-0226-200",{"$f":"IF(AND(Config!$B$13<=Tarifs!F6192,Config!$B$13>=Tarifs!E6192),1,0)","v":0},"2026-12-01","2026-12-31",1008]
["97-0226","10","97-0226-101",{"$f":"IF(AND(Config!$B$13<=Tarifs!F6193,Config!$B$13>=Tarifs!E6193),1,0)","v":1},"2026-01-01","2026-01-31",144]
["97-0226","10","97-0226-100",{"$f":"IF(AND(Config!$B$13<=Tarifs!F6194,Config!$B$13>=Tarifs!E6194),1,0)","v":0},"2026-02-01","2026-02-28",144]
["97-0226","10","97-0226-100",{"$f":"IF(AND(Config!$B$13<=Tarifs!F6195,Config!$B$13>=Tarifs!E6195),1,0)","v":0},"2026-03-01","2026-03-31",144]
["97-0226","10","97-0226-100",{"$f":"IF(AND(Config!$B$13<=Tarifs!F6196,Config!$B$13>=Tarifs!E6196),1,0)","v":0},"2026-04-01","2026-04-30",144]
["97-0226","10","97-0226-100",{"$f":"IF(AND(Config!$B$13<=Tarifs!F6197,Config!$B$13>=Tarifs!E6197),1,0)","v":0},"2026-05-01","2026-05-31",144]
["97-0226","10","97-0226-100",{"$f":"IF(AND(Config!$B$13<=Tarifs!F6198,Config!$B$13>=Tarifs!E6198),1,0)","v":0},"2026-06-01","2026-06-30",144]
["97-0226","10","97-0226-100",{"$f":"IF(AND(Config!$B$13<=Tarifs!F6199,Config!$B$13>=Tarifs!E6199),1,0)","v":0},"2026-07-01","2026-07-31",144]
["97-0226","10","97-0226-100",{"$f":"IF(AND(Config!$B$13<=Tarifs!F6200,Config!$B$13>=Tarifs!E6200),1,0)","v":0},"2026-08-01","2026-08-31",144]
["97-0226","10","97-0226-100",{"$f":"IF(AND(Config!$B$13<=Tarifs!F6201,Config!$B$13>=Tarifs!E6201),1,0)","v":0},"2026-09-01","2026-09-30",144]
["97-0226","10","97-0226-100",{"$f":"IF(AND(Config!$B$13<=Tarifs!F6202,Config!$B$13>=Tarifs!E6202),1,0)","v":0},"2026-10-01","2026-10-31",144]
["97-0226","10","97-0226-100",{"$f":"IF(AND(Config!$B$13<=Tarifs!F6203,Config!$B$13>=Tarifs!E6203),1,0)","v":0},"2026-11-01","2026-11-30",144]
["97-0226","10","97-0226-100",{"$f":"IF(AND(Config!$B$13<=Tarifs!F6204,Config!$B$13>=Tarifs!E6204),1,0)","v":0},"2026-12-01","2026-12-31",144]
["97-0227","30","97-0227-300",{"$f":"IF(AND(Config!$B$13<=Tarifs!F6205,Config!$B$13>=Tarifs!E6205),1,0)","v":0},"2026-07-01","2026-07-31",5970]
["97-0227","30","97-0227-300",{"$f":"IF(AND(Config!$B$13<=Tarifs!F6206,Config!$B$13>=Tarifs!E6206),1,0)","v":0},"2026-08-01","2026-08-31",5970]
["97-0227","30","97-0227-301",{"$f":"IF(AND(Config!$B$13<=Tarifs!F6207,Config!$B$13>=Tarifs!E6207),1,0)","v":1},"2026-01-01","2026-01-31",4050]
["97-0227","30","97-0227-300",{"$f":"IF(AND(Config!$B$13<=Tarifs!F6208,Config!$B$13>=Tarifs!E6208),1,0)","v":0},"2026-02-01","2026-02-28",4050]
["97-0227","30","97-0227-300",{"$f":"IF(AND(Config!$B$13<=Tarifs!F6209,Config!$B$13>=Tarifs!E6209),1,0)","v":0},"2026-03-01","2026-03-31",4050]
["97-0227","30","97-0227-300",{"$f":"IF(AND(Config!$B$13<=Tarifs!F6210,Config!$B$13>=Tarifs!E6210),1,0)","v":0},"2026-04-01","2026-04-30",4050]
["97-0227","30",{"$f":"A6211&\"-\"&B6211&D6211","v":"97-0227-300"},{"$f":"IF(AND(Config!$B$13<=Tarifs!F6211,Config!$B$13>=Tarifs!E6211),1,0)","v":0},"2026-05-01","2026-05-31",4050]
["97-0227","30","97-0227-300",{"$f":"IF(AND(Config!$B$13<=Tarifs!F6212,Config!$B$13>=Tarifs!E6212),1,0)","v":0},"2026-06-01","2026-06-30",4050]
["97-0227","30","97-0227-300",{"$f":"IF(AND(Config!$B$13<=Tarifs!F6213,Config!$B$13>=Tarifs!E6213),1,0)","v":0},"2026-09-01","2026-09-30",4050]
["97-0227","30","97-0227-300",{"$f":"IF(AND(Config!$B$13<=Tarifs!F6214,Config!$B$13>=Tarifs!E6214),1,0)","v":0},"2026-10-01","2026-10-31",4050]
["97-0227","30","97-0227-300",{"$f":"IF(AND(Config!$B$13<=Tarifs!F6215,Config!$B$13>=Tarifs!E6215),1,0)","v":0},"2026-11-01","2026-11-30",4050]
["97-0227","30","97-0227-300",{"$f":"IF(AND(Config!$B$13<=Tarifs!F6216,Config!$B$13>=Tarifs!E6216),1,0)","v":0},"2026-12-01","2026-12-31",4050]
["97-0227","20","97-0227-200",{"$f":"IF(AND(Config!$B$13<=Tarifs!F6217,Config!$B$13>=Tarifs!E6217),1,0)","v":0},"2026-07-01","2026-07-31",1393]
["97-0227","20","97-0227-200",{"$f":"IF(AND(Config!$B$13<=Tarifs!F6218,Config!$B$13>=Tarifs!E6218),1,0)","v":0},"2026-08-01","2026-08-31",1393]
["97-0227","20","97-0227-201",{"$f":"IF(AND(Config!$B$13<=Tarifs!F6219,Config!$B$13>=Tarifs!E6219),1,0)","v":1},"2026-01-01","2026-01-31",945]
["97-0227","20","97-0227-200",{"$f":"IF(AND(Config!$B$13<=Tarifs!F6220,Config!$B$13>=Tarifs!E6220),1,0)","v":0},"2026-02-01","2026-02-28",945]
["97-0227","20","97-0227-200",{"$f":"IF(AND(Config!$B$13<=Tarifs!F6221,Config!$B$13>=Tarifs!E6221),1,0)","v":0},"2026-03-01","2026-03-31",945]
["97-0227","20","97-0227-200",{"$f":"IF(AND(Config!$B$13<=Tarifs!F6222,Config!$B$13>=Tarifs!E6222),1,0)","v":0},"2026-04-01","2026-04-30",945]
["97-0227","20","97-0227-200",{"$f":"IF(AND(Config!$B$13<=Tarifs!F6223,Config!$B$13>=Tarifs!E6223),1,0)","v":0},"2026-05-01","2026-05-31",945]
["97-0227","20","97-0227-200",{"$f":"IF(AND(Config!$B$13<=Tarifs!F6224,Config!$B$13>=Tarifs!E6224),1,0)","v":0},"2026-06-01","2026-06-30",945]
["97-0227","20","97-0227-200",{"$f":"IF(AND(Config!$B$13<=Tarifs!F6225,Config!$B$13>=Tarifs!E6225),1,0)","v":0},"2026-09-01","2026-09-30",945]
["97-0227","20","97-0227-200",{"$f":"IF(AND(Config!$B$13<=Tarifs!F6226,Config!$B$13>=Tarifs!E6226),1,0)","v":0},"2026-10-01","2026-10-31",945]
["97-0227","20","97-0227-200",{"$f":"IF(AND(Config!$B$13<=Tarifs!F6227,Config!$B$13>=Tarifs!E6227),1,0)","v":0},"2026-11-01","2026-11-30",945]
["97-0227","20","97-0227-200",{"$f":"IF(AND(Config!$B$13<=Tarifs!F6228,Config!$B$13>=Tarifs!E6228),1,0)","v":0},"2026-12-01","2026-12-31",945]
["97-0227","10","97-0227-100",{"$f":"IF(AND(Config!$B$13<=Tarifs!F6229,Config!$B$13>=Tarifs!E6229),1,0)","v":0},"2026-07-01","2026-07-31",199]
["97-0227","10","97-0227-100",{"$f":"IF(AND(Config!$B$13<=Tarifs!F6230,Config!$B$13>=Tarifs!E6230),1,0)","v":0},"2026-08-01","2026-08-31",199]
["97-0227","10","97-0227-101",{"$f":"IF(AND(Config!$B$13<=Tarifs!F6231,Config!$B$13>=Tarifs!E6231),1,0)","v":1},"2026-01-01","2026-01-31",135]
["97-0227","10","97-0227-100",{"$f":"IF(AND(Config!$B$13<=Tarifs!F6232,Config!$B$13>=Tarifs!E6232),1,0)","v":0},"2026-02-01","2026-02-28",135]
["97-0227","10","97-0227-100",{"$f":"IF(AND(Config!$B$13<=Tarifs!F6233,Config!$B$13>=Tarifs!E6233),1,0)","v":0},"2026-03-01","2026-03-31",135]
["97-0227","10","97-0227-100",{"$f":"IF(AND(Config!$B$13<=Tarifs!F6234,Config!$B$13>=Tarifs!E6234),1,0)","v":0},"2026-04-01","2026-04-30",135]
["97-0227","10","97-0227-100",{"$f":"IF(AND(Config!$B$13<=Tarifs!F6235,Config!$B$13>=Tarifs!E6235),1,0)","v":0},"2026-05-01","2026-05-31",135]
["97-0227","10","97-0227-100",{"$f":"IF(AND(Config!$B$13<=Tarifs!F6236,Config!$B$13>=Tarifs!E6236),1,0)","v":0},"2026-06-01","2026-06-30",135]
["97-0227","10","97-0227-100",{"$f":"IF(AND(Config!$B$13<=Tarifs!F6237,Config!$B$13>=Tarifs!E6237),1,0)","v":0},"2026-09-01","2026-09-30",135]
["97-0227","10","97-0227-100",{"$f":"IF(AND(Config!$B$13<=Tarifs!F6238,Config!$B$13>=Tarifs!E6238),1,0)","v":0},"2026-10-01","2026-10-31",135]
["97-0227","10","97-0227-100",{"$f":"IF(AND(Config!$B$13<=Tarifs!F6239,Config!$B$13>=Tarifs!E6239),1,0)","v":0},"2026-11-01","2026-11-30",135]
["97-0227","10","97-0227-100",{"$f":"IF(AND(Config!$B$13<=Tarifs!F6240,Config!$B$13>=Tarifs!E6240),1,0)","v":0},"2026-12-01","2026-12-31",135]
["97-0231","30","97-0231-300",{"$f":"IF(AND(Config!$B$13<=Tarifs!F6241,Config!$B$13>=Tarifs!E6241),1,0)","v":0},"2026-08-01","2026-08-31",5310]
["97-0231","30","97-0231-300",{"$f":"IF(AND(Config!$B$13<=Tarifs!F6242,Config!$B$13>=Tarifs!E6242),1,0)","v":0},"2026-09-01","2026-09-30",5310]
["97-0231","30","97-0231-300",{"$f":"IF(AND(Config!$B$13<=Tarifs!F6243,Config!$B$13>=Tarifs!E6243),1,0)","v":0},"2026-10-01","2026-10-31",5310]
["97-0231","30","97-0231-300",{"$f":"IF(AND(Config!$B$13<=Tarifs!F6244,Config!$B$13>=Tarifs!E6244),1,0)","v":0},"2026-05-01","2026-05-31",5310]
["97-0231","30","97-0231-300",{"$f":"IF(AND(Config!$B$13<=Tarifs!F6245,Config!$B$13>=Tarifs!E6245),1,0)","v":0},"2026-06-01","2026-06-30",5310]
["97-0231","30","97-0231-300",{"$f":"IF(AND(Config!$B$13<=Tarifs!F6246,Config!$B$13>=Tarifs!E6246),1,0)","v":0},"2026-07-01","2026-07-31",5310]
["97-0231","30","97-0231-300",{"$f":"IF(AND(Config!$B$13<=Tarifs!F6247,Config!$B$13>=Tarifs!E6247),1,0)","v":0},"2026-11-01","2026-11-30",4620]
["97-0231","30","97-0231-300",{"$f":"IF(AND(Config!$B$13<=Tarifs!F6248,Config!$B$13>=Tarifs!E6248),1,0)","v":0},"2026-12-01","2026-12-31",4620]
["97-0231","30","97-0231-301",{"$f":"IF(AND(Config!$B$13<=Tarifs!F6249,Config!$B$13>=Tarifs!E6249),1,0)","v":1},"2026-01-01","2026-01-31",4620]
["97-0231","30","97-0231-300",{"$f":"IF(AND(Config!$B$13<=Tarifs!F6250,Config!$B$13>=Tarifs!E6250),1,0)","v":0},"2026-02-01","2026-02-28",4620]
["97-0231","30","97-0231-300",{"$f":"IF(AND(Config!$B$13<=Tarifs!F6251,Config!$B$13>=Tarifs!E6251),1,0)","v":0},"2026-03-01","2026-03-31",4620]
["97-0231","30","97-0231-300",{"$f":"IF(AND(Config!$B$13<=Tarifs!F6252,Config!$B$13>=Tarifs!E6252),1,0)","v":0},"2026-04-01","2026-04-30",4620]
["97-0231","20","97-0231-200",{"$f":"IF(AND(Config!$B$13<=Tarifs!F6253,Config!$B$13>=Tarifs!E6253),1,0)","v":0},"2026-08-01","2026-08-31",1239]
["97-0231","20","97-0231-200",{"$f":"IF(AND(Config!$B$13<=Tarifs!F6254,Config!$B$13>=Tarifs!E6254),1,0)","v":0},"2026-09-01","2026-09-30",1239]
["97-0231","20","97-0231-200",{"$f":"IF(AND(Config!$B$13<=Tarifs!F6255,Config!$B$13>=Tarifs!E6255),1,0)","v":0},"2026-10-01","2026-10-31",1239]
["97-0231","20","97-0231-200",{"$f":"IF(AND(Config!$B$13<=Tarifs!F6256,Config!$B$13>=Tarifs!E6256),1,0)","v":0},"2026-05-01","2026-05-31",1239]
["97-0231","20","97-0231-200",{"$f":"IF(AND(Config!$B$13<=Tarifs!F6257,Config!$B$13>=Tarifs!E6257),1,0)","v":0},"2026-06-01","2026-06-30",1239]
["97-0231","20","97-0231-200",{"$f":"IF(AND(Config!$B$13<=Tarifs!F6258,Config!$B$13>=Tarifs!E6258),1,0)","v":0},"2026-07-01","2026-07-31",1239]
["97-0231","20","97-0231-200",{"$f":"IF(AND(Config!$B$13<=Tarifs!F6259,Config!$B$13>=Tarifs!E6259),1,0)","v":0},"2026-11-01","2026-11-30",1078]
["97-0231","20","97-0231-200",{"$f":"IF(AND(Config!$B$13<=Tarifs!F6260,Config!$B$13>=Tarifs!E6260),1,0)","v":0},"2026-12-01","2026-12-31",1078]
["97-0231","20","97-0231-201",{"$f":"IF(AND(Config!$B$13<=Tarifs!F6261,Config!$B$13>=Tarifs!E6261),1,0)","v":1},"2026-01-01","2026-01-31",1078]
["97-0231","20","97-0231-200",{"$f":"IF(AND(Config!$B$13<=Tarifs!F6262,Config!$B$13>=Tarifs!E6262),1,0)","v":0},"2026-02-01","2026-02-28",1078]
["97-0231","20","97-0231-200",{"$f":"IF(AND(Config!$B$13<=Tarifs!F6263,Config!$B$13>=Tarifs!E6263),1,0)","v":0},"2026-03-01","2026-03-31",1078]
["97-0231","20","97-0231-200",{"$f":"IF(AND(Config!$B$13<=Tarifs!F6264,Config!$B$13>=Tarifs!E6264),1,0)","v":0},"2026-04-01","2026-04-30",1078]
["97-0231","10","97-0231-100",{"$f":"IF(AND(Config!$B$13<=Tarifs!F6265,Config!$B$13>=Tarifs!E6265),1,0)","v":0},"2026-08-01","2026-08-31",177]
["97-0231","10","97-0231-100",{"$f":"IF(AND(Config!$B$13<=Tarifs!F6266,Config!$B$13>=Tarifs!E6266),1,0)","v":0},"2026-09-01","2026-09-30",177]
["97-0231","10","97-0231-100",{"$f":"IF(AND(Config!$B$13<=Tarifs!F6267,Config!$B$13>=Tarifs!E6267),1,0)","v":0},"2026-10-01","2026-10-31",177]
["97-0231","10","97-0231-100",{"$f":"IF(AND(Config!$B$13<=Tarifs!F6268,Config!$B$13>=Tarifs!E6268),1,0)","v":0},"2026-05-01","2026-05-31",177]
["97-0231","10","97-0231-100",{"$f":"IF(AND(Config!$B$13<=Tarifs!F6269,Config!$B$13>=Tarifs!E6269),1,0)","v":0},"2026-06-01","2026-06-30",177]
["97-0231","10","97-0231-100",{"$f":"IF(AND(Config!$B$13<=Tarifs!F6270,Config!$B$13>=Tarifs!E6270),1,0)","v":0},"2026-07-01","2026-07-31",177]
["97-0231","10","97-0231-100",{"$f":"IF(AND(Config!$B$13<=Tarifs!F6271,Config!$B$13>=Tarifs!E6271),1,0)","v":0},"2026-11-01","2026-11-30",154]
["97-0231","10","97-0231-100",{"$f":"IF(AND(Config!$B$13<=Tarifs!F6272,Config!$B$13>=Tarifs!E6272),1,0)","v":0},"2026-12-01","2026-12-31",154]
["97-0231","10","97-0231-101",{"$f":"IF(AND(Config!$B$13<=Tarifs!F6273,Config!$B$13>=Tarifs!E6273),1,0)","v":1},"2026-01-01","2026-01-31",154]
["97-0231","10","97-0231-100",{"$f":"IF(AND(Config!$B$13<=Tarifs!F6274,Config!$B$13>=Tarifs!E6274),1,0)","v":0},"2026-02-01","2026-02-28",154]
["97-0231","10",{"$f":"A6275&\"-\"&B6275&D6275","v":"97-0231-100"},{"$f":"IF(AND(Config!$B$13<=Tarifs!F6275,Config!$B$13>=Tarifs!E6275),1,0)","v":0},"2026-03-01","2026-03-31",154]
["97-0231","10","97-0231-100",{"$f":"IF(AND(Config!$B$13<=Tarifs!F6276,Config!$B$13>=Tarifs!E6276),1,0)","v":0},"2026-04-01","2026-04-30",154]
["97-0232","30","97-0232-300",{"$f":"IF(AND(Config!$B$13<=Tarifs!F6277,Config!$B$13>=Tarifs!E6277),1,0)","v":0},"2026-07-01","2026-07-31",5819.7]
["97-0232","30","97-0232-300",{"$f":"IF(AND(Config!$B$13<=Tarifs!F6278,Config!$B$13>=Tarifs!E6278),1,0)","v":0},"2026-08-01","2026-08-31",5819.7]
["97-0232","30","97-0232-300",{"$f":"IF(AND(Config!$B$13<=Tarifs!F6279,Config!$B$13>=Tarifs!E6279),1,0)","v":0},"2026-05-01","2026-05-31",5399.7]
["97-0232","30","97-0232-300",{"$f":"IF(AND(Config!$B$13<=Tarifs!F6280,Config!$B$13>=Tarifs!E6280),1,0)","v":0},"2026-06-01","2026-06-30",5399.7]
["97-0232","30","97-0232-300",{"$f":"IF(AND(Config!$B$13<=Tarifs!F6281,Config!$B$13>=Tarifs!E6281),1,0)","v":0},"2026-09-01","2026-09-30",5399.7]
["97-0232","30","97-0232-300",{"$f":"IF(AND(Config!$B$13<=Tarifs!F6282,Config!$B$13>=Tarifs!E6282),1,0)","v":0},"2026-10-01","2026-10-31",5399.7]
["97-0232","30","97-0232-301",{"$f":"IF(AND(Config!$B$13<=Tarifs!F6283,Config!$B$13>=Tarifs!E6283),1,0)","v":1},"2026-01-01","2026-01-31",5099.7]
["97-0232","30","97-0232-300",{"$f":"IF(AND(Config!$B$13<=Tarifs!F6284,Config!$B$13>=Tarifs!E6284),1,0)","v":0},"2026-02-01","2026-02-28",5099.7]
["97-0232","30","97-0232-300",{"$f":"IF(AND(Config!$B$13<=Tarifs!F6285,Config!$B$13>=Tarifs!E6285),1,0)","v":0},"2026-03-01","2026-03-31",5099.7]
["97-0232","30","97-0232-300",{"$f":"IF(AND(Config!$B$13<=Tarifs!F6286,Config!$B$13>=Tarifs!E6286),1,0)","v":0},"2026-04-01","2026-04-30",5099.7]
["97-0232","30","97-0232-300",{"$f":"IF(AND(Config!$B$13<=Tarifs!F6287,Config!$B$13>=Tarifs!E6287),1,0)","v":0},"2026-11-01","2026-11-30",5099.7]
["97-0232","30","97-0232-300",{"$f":"IF(AND(Config!$B$13<=Tarifs!F6288,Config!$B$13>=Tarifs!E6288),1,0)","v":0},"2026-12-01","2026-12-31",5099.7]
["97-0232","20","97-0232-200",{"$f":"IF(AND(Config!$B$13<=Tarifs!F6289,Config!$B$13>=Tarifs!E6289),1,0)","v":0},"2026-07-01","2026-07-31",1357.93]
["97-0232","20","97-0232-200",{"$f":"IF(AND(Config!$B$13<=Tarifs!F6290,Config!$B$13>=Tarifs!E6290),1,0)","v":0},"2026-08-01","2026-08-31",1357.93]
["97-0232","20","97-0232-200",{"$f":"IF(AND(Config!$B$13<=Tarifs!F6291,Config!$B$13>=Tarifs!E6291),1,0)","v":0},"2026-05-01","2026-05-31",1259.93]
["97-0232","20","97-0232-200",{"$f":"IF(AND(Config!$B$13<=Tarifs!F6292,Config!$B$13>=Tarifs!E6292),1,0)","v":0},"2026-06-01","2026-06-30",1259.93]
["97-0232","20","97-0232-200",{"$f":"IF(AND(Config!$B$13<=Tarifs!F6293,Config!$B$13>=Tarifs!E6293),1,0)","v":0},"2026-09-01","2026-09-30",1259.93]
["97-0232","20","97-0232-200",{"$f":"IF(AND(Config!$B$13<=Tarifs!F6294,Config!$B$13>=Tarifs!E6294),1,0)","v":0},"2026-10-01","2026-10-31",1259.93]
["97-0232","20","97-0232-201",{"$f":"IF(AND(Config!$B$13<=Tarifs!F6295,Config!$B$13>=Tarifs!E6295),1,0)","v":1},"2026-01-01","2026-01-31",1189.93]
["97-0232","20","97-0232-200",{"$f":"IF(AND(Config!$B$13<=Tarifs!F6296,Config!$B$13>=Tarifs!E6296),1,0)","v":0},"2026-02-01","2026-02-28",1189.93]
["97-0232","20","97-0232-200",{"$f":"IF(AND(Config!$B$13<=Tarifs!F6297,Config!$B$13>=Tarifs!E6297),1,0)","v":0},"2026-03-01","2026-03-31",1189.93]
["97-0232","20","97-0232-200",{"$f":"IF(AND(Config!$B$13<=Tarifs!F6298,Config!$B$13>=Tarifs!E6298),1,0)","v":0},"2026-04-01","2026-04-30",1189.93]
["97-0232","20","97-0232-200",{"$f":"IF(AND(Config!$B$13<=Tarifs!F6299,Config!$B$13>=Tarifs!E6299),1,0)","v":0},"2026-11-01","2026-11-30",1189.93]
["97-0232","20","97-0232-200",{"$f":"IF(AND(Config!$B$13<=Tarifs!F6300,Config!$B$13>=Tarifs!E6300),1,0)","v":0},"2026-12-01","2026-12-31",1189.93]
["97-0232","10","97-0232-100",{"$f":"IF(AND(Config!$B$13<=Tarifs!F6301,Config!$B$13>=Tarifs!E6301),1,0)","v":0},"2026-07-01","2026-07-31",193.99]
["97-0232","10","97-0232-100",{"$f":"IF(AND(Config!$B$13<=Tarifs!F6302,Config!$B$13>=Tarifs!E6302),1,0)","v":0},"2026-08-01","2026-08-31",193.99]
["97-0232","10","97-0232-100",{"$f":"IF(AND(Config!$B$13<=Tarifs!F6303,Config!$B$13>=Tarifs!E6303),1,0)","v":0},"2026-05-01","2026-05-31",179.99]
["97-0232","10","97-0232-100",{"$f":"IF(AND(Config!$B$13<=Tarifs!F6304,Config!$B$13>=Tarifs!E6304),1,0)","v":0},"2026-06-01","2026-06-30",179.99]
["97-0232","10","97-0232-100",{"$f":"IF(AND(Config!$B$13<=Tarifs!F6305,Config!$B$13>=Tarifs!E6305),1,0)","v":0},"2026-09-01","2026-09-30",179.99]
["97-0232","10","97-0232-100",{"$f":"IF(AND(Config!$B$13<=Tarifs!F6306,Config!$B$13>=Tarifs!E6306),1,0)","v":0},"2026-10-01","2026-10-31",179.99]
["97-0232","10","97-0232-101",{"$f":"IF(AND(Config!$B$13<=Tarifs!F6307,Config!$B$13>=Tarifs!E6307),1,0)","v":1},"2026-01-01","2026-01-31",169.99]
["97-0232","10","97-0232-100",{"$f":"IF(AND(Config!$B$13<=Tarifs!F6308,Config!$B$13>=Tarifs!E6308),1,0)","v":0},"2026-02-01","2026-02-28",169.99]
["97-0232","10","97-0232-100",{"$f":"IF(AND(Config!$B$13<=Tarifs!F6309,Config!$B$13>=Tarifs!E6309),1,0)","v":0},"2026-03-01","2026-03-31",169.99]
["97-0232","10","97-0232-100",{"$f":"IF(AND(Config!$B$13<=Tarifs!F6310,Config!$B$13>=Tarifs!E6310),1,0)","v":0},"2026-04-01","2026-04-30",169.99]
["97-0232","10","97-0232-100",{"$f":"IF(AND(Config!$B$13<=Tarifs!F6311,Config!$B$13>=Tarifs!E6311),1,0)","v":0},"2026-11-01","2026-11-30",169.99]
["97-0232","10","97-0232-100",{"$f":"IF(AND(Config!$B$13<=Tarifs!F6312,Config!$B$13>=Tarifs!E6312),1,0)","v":0},"2026-12-01","2026-12-31",169.99]
["97-0236","30","97-0236-300",{"$f":"IF(AND(Config!$B$13<=Tarifs!F6313,Config!$B$13>=Tarifs!E6313),1,0)","v":0},"2026-07-01","2026-07-31",5070]
["97-0236","30","97-0236-300",{"$f":"IF(AND(Config!$B$13<=Tarifs!F6314,Config!$B$13>=Tarifs!E6314),1,0)","v":0},"2026-08-01","2026-08-31",5070]
["97-0236","30","97-0236-300",{"$f":"IF(AND(Config!$B$13<=Tarifs!F6315,Config!$B$13>=Tarifs!E6315),1,0)","v":0},"2026-09-01","2026-09-30",4770]
["97-0236","30","97-0236-301",{"$f":"IF(AND(Config!$B$13<=Tarifs!F6316,Config!$B$13>=Tarifs!E6316),1,0)","v":1},"2026-01-01","2026-01-31",4050]
["97-0236","30","97-0236-300",{"$f":"IF(AND(Config!$B$13<=Tarifs!F6317,Config!$B$13>=Tarifs!E6317),1,0)","v":0},"2026-02-01","2026-02-28",4050]
["97-0236","30","97-0236-300",{"$f":"IF(AND(Config!$B$13<=Tarifs!F6318,Config!$B$13>=Tarifs!E6318),1,0)","v":0},"2026-03-01","2026-03-31",4050]
["97-0236","30","97-0236-300",{"$f":"IF(AND(Config!$B$13<=Tarifs!F6319,Config!$B$13>=Tarifs!E6319),1,0)","v":0},"2026-04-01","2026-04-30",4050]
["97-0236","30","97-0236-300",{"$f":"IF(AND(Config!$B$13<=Tarifs!F6320,Config!$B$13>=Tarifs!E6320),1,0)","v":0},"2026-05-01","2026-05-31",4050]
["97-0236","30","97-0236-300",{"$f":"IF(AND(Config!$B$13<=Tarifs!F6321,Config!$B$13>=Tarifs!E6321),1,0)","v":0},"2026-06-01","2026-06-30",4050]
["97-0236","30","97-0236-300",{"$f":"IF(AND(Config!$B$13<=Tarifs!F6322,Config!$B$13>=Tarifs!E6322),1,0)","v":0},"2026-10-01","2026-10-31",4050]
["97-0236","30","97-0236-300",{"$f":"IF(AND(Config!$B$13<=Tarifs!F6323,Config!$B$13>=Tarifs!E6323),1,0)","v":0},"2026-11-01","2026-11-30",4050]
["97-0236","30","97-0236-300",{"$f":"IF(AND(Config!$B$13<=Tarifs!F6324,Config!$B$13>=Tarifs!E6324),1,0)","v":0},"2026-12-01","2026-12-31",4050]
["97-0236","20","97-0236-200",{"$f":"IF(AND(Config!$B$13<=Tarifs!F6325,Config!$B$13>=Tarifs!E6325),1,0)","v":0},"2026-07-01","2026-07-31",1183]
["97-0236","20","97-0236-200",{"$f":"IF(AND(Config!$B$13<=Tarifs!F6326,Config!$B$13>=Tarifs!E6326),1,0)","v":0},"2026-08-01","2026-08-31",1183]
["97-0236","20","97-0236-200",{"$f":"IF(AND(Config!$B$13<=Tarifs!F6327,Config!$B$13>=Tarifs!E6327),1,0)","v":0},"2026-09-01","2026-09-30",1113]
["97-0236","20","97-0236-201",{"$f":"IF(AND(Config!$B$13<=Tarifs!F6328,Config!$B$13>=Tarifs!E6328),1,0)","v":1},"2026-01-01","2026-01-31",945]
["97-0236","20","97-0236-200",{"$f":"IF(AND(Config!$B$13<=Tarifs!F6329,Config!$B$13>=Tarifs!E6329),1,0)","v":0},"2026-02-01","2026-02-28",945]
["97-0236","20","97-0236-200",{"$f":"IF(AND(Config!$B$13<=Tarifs!F6330,Config!$B$13>=Tarifs!E6330),1,0)","v":0},"2026-03-01","2026-03-31",945]
["97-0236","20","97-0236-200",{"$f":"IF(AND(Config!$B$13<=Tarifs!F6331,Config!$B$13>=Tarifs!E6331),1,0)","v":0},"2026-04-01","2026-04-30",945]
["97-0236","20","97-0236-200",{"$f":"IF(AND(Config!$B$13<=Tarifs!F6332,Config!$B$13>=Tarifs!E6332),1,0)","v":0},"2026-05-01","2026-05-31",945]
["97-0236","20","97-0236-200",{"$f":"IF(AND(Config!$B$13<=Tarifs!F6333,Config!$B$13>=Tarifs!E6333),1,0)","v":0},"2026-06-01","2026-06-30",945]
["97-0236","20","97-0236-200",{"$f":"IF(AND(Config!$B$13<=Tarifs!F6334,Config!$B$13>=Tarifs!E6334),1,0)","v":0},"2026-10-01","2026-10-31",945]
["97-0236","20","97-0236-200",{"$f":"IF(AND(Config!$B$13<=Tarifs!F6335,Config!$B$13>=Tarifs!E6335),1,0)","v":0},"2026-11-01","2026-11-30",945]
["97-0236","20","97-0236-200",{"$f":"IF(AND(Config!$B$13<=Tarifs!F6336,Config!$B$13>=Tarifs!E6336),1,0)","v":0},"2026-12-01","2026-12-31",945]
["97-0236","10","97-0236-100",{"$f":"IF(AND(Config!$B$13<=Tarifs!F6337,Config!$B$13>=Tarifs!E6337),1,0)","v":0},"2026-07-01","2026-07-31",169]
["97-0236","10","97-0236-100",{"$f":"IF(AND(Config!$B$13<=Tarifs!F6338,Config!$B$13>=Tarifs!E6338),1,0)","v":0},"2026-08-01","2026-08-31",169]
["97-0236","10",{"$f":"A6339&\"-\"&B6339&D6339","v":"97-0236-100"},{"$f":"IF(AND(Config!$B$13<=Tarifs!F6339,Config!$B$13>=Tarifs!E6339),1,0)","v":0},"2026-09-01","2026-09-30",159]
["97-0236","10","97-0236-101",{"$f":"IF(AND(Config!$B$13<=Tarifs!F6340,Config!$B$13>=Tarifs!E6340),1,0)","v":1},"2026-01-01","2026-01-31",135]
["97-0236","10","97-0236-100",{"$f":"IF(AND(Config!$B$13<=Tarifs!F6341,Config!$B$13>=Tarifs!E6341),1,0)","v":0},"2026-02-01","2026-02-28",135]
["97-0236","10","97-0236-100",{"$f":"IF(AND(Config!$B$13<=Tarifs!F6342,Config!$B$13>=Tarifs!E6342),1,0)","v":0},"2026-03-01","2026-03-31",135]
["97-0236","10","97-0236-100",{"$f":"IF(AND(Config!$B$13<=Tarifs!F6343,Config!$B$13>=Tarifs!E6343),1,0)","v":0},"2026-04-01","2026-04-30",135]
["97-0236","10","97-0236-100",{"$f":"IF(AND(Config!$B$13<=Tarifs!F6344,Config!$B$13>=Tarifs!E6344),1,0)","v":0},"2026-05-01","2026-05-31",135]
["97-0236","10","97-0236-100",{"$f":"IF(AND(Config!$B$13<=Tarifs!F6345,Config!$B$13>=Tarifs!E6345),1,0)","v":0},"2026-06-01","2026-06-30",135]
["97-0236","10","97-0236-100",{"$f":"IF(AND(Config!$B$13<=Tarifs!F6346,Config!$B$13>=Tarifs!E6346),1,0)","v":0},"2026-10-01","2026-10-31",135]
["97-0236","10","97-0236-100",{"$f":"IF(AND(Config!$B$13<=Tarifs!F6347,Config!$B$13>=Tarifs!E6347),1,0)","v":0},"2026-11-01","2026-11-30",135]
["97-0236","10","97-0236-100",{"$f":"IF(AND(Config!$B$13<=Tarifs!F6348,Config!$B$13>=Tarifs!E6348),1,0)","v":0},"2026-12-01","2026-12-31",135]
["97-0237","30","97-0237-300",{"$f":"IF(AND(Config!$B$13<=Tarifs!F6349,Config!$B$13>=Tarifs!E6349),1,0)","v":0},"2026-05-01","2026-05-31",4890]
["97-0237","30","97-0237-300",{"$f":"IF(AND(Config!$B$13<=Tarifs!F6350,Config!$B$13>=Tarifs!E6350),1,0)","v":0},"2026-06-01","2026-06-30",4890]
["97-0237","30","97-0237-300",{"$f":"IF(AND(Config!$B$13<=Tarifs!F6351,Config!$B$13>=Tarifs!E6351),1,0)","v":0},"2026-07-01","2026-07-31",4890]
["97-0237","30","97-0237-300",{"$f":"IF(AND(Config!$B$13<=Tarifs!F6352,Config!$B$13>=Tarifs!E6352),1,0)","v":0},"2026-08-01","2026-08-31",4890]
["97-0237","30","97-0237-300",{"$f":"IF(AND(Config!$B$13<=Tarifs!F6353,Config!$B$13>=Tarifs!E6353),1,0)","v":0},"2026-09-01","2026-09-30",4890]
["97-0237","30","97-0237-300",{"$f":"IF(AND(Config!$B$13<=Tarifs!F6354,Config!$B$13>=Tarifs!E6354),1,0)","v":0},"2026-10-01","2026-10-31",4890]
["97-0237","30","97-0237-300",{"$f":"IF(AND(Config!$B$13<=Tarifs!F6355,Config!$B$13>=Tarifs!E6355),1,0)","v":0},"2026-11-01","2026-11-30",4230]
["97-0237","30","97-0237-300",{"$f":"IF(AND(Config!$B$13<=Tarifs!F6356,Config!$B$13>=Tarifs!E6356),1,0)","v":0},"2026-12-01","2026-12-31",4230]
["97-0237","30","97-0237-301",{"$f":"IF(AND(Config!$B$13<=Tarifs!F6357,Config!$B$13>=Tarifs!E6357),1,0)","v":1},"2026-01-01","2026-01-31",4170]
["97-0237","30","97-0237-300",{"$f":"IF(AND(Config!$B$13<=Tarifs!F6358,Config!$B$13>=Tarifs!E6358),1,0)","v":0},"2026-02-01","2026-02-28",4170]
["97-0237","30","97-0237-300",{"$f":"IF(AND(Config!$B$13<=Tarifs!F6359,Config!$B$13>=Tarifs!E6359),1,0)","v":0},"2026-03-01","2026-03-31",4170]
["97-0237","30","97-0237-300",{"$f":"IF(AND(Config!$B$13<=Tarifs!F6360,Config!$B$13>=Tarifs!E6360),1,0)","v":0},"2026-04-01","2026-04-30",4170]
["97-0237","20","97-0237-200",{"$f":"IF(AND(Config!$B$13<=Tarifs!F6361,Config!$B$13>=Tarifs!E6361),1,0)","v":0},"2026-05-01","2026-05-31",1141]
["97-0237","20","97-0237-200",{"$f":"IF(AND(Config!$B$13<=Tarifs!F6362,Config!$B$13>=Tarifs!E6362),1,0)","v":0},"2026-06-01","2026-06-30",1141]
["97-0237","20","97-0237-200",{"$f":"IF(AND(Config!$B$13<=Tarifs!F6363,Config!$B$13>=Tarifs!E6363),1,0)","v":0},"2026-07-01","2026-07-31",1141]
["97-0237","20","97-0237-200",{"$f":"IF(AND(Config!$B$13<=Tarifs!F6364,Config!$B$13>=Tarifs!E6364),1,0)","v":0},"2026-08-01","2026-08-31",1141]
["97-0237","20","97-0237-200",{"$f":"IF(AND(Config!$B$13<=Tarifs!F6365,Config!$B$13>=Tarifs!E6365),1,0)","v":0},"2026-09-01","2026-09-30",1141]
["97-0237","20","97-0237-200",{"$f":"IF(AND(Config!$B$13<=Tarifs!F6366,Config!$B$13>=Tarifs!E6366),1,0)","v":0},"2026-10-01","2026-10-31",1141]
["97-0237","20","97-0237-201",{"$f":"IF(AND(Config!$B$13<=Tarifs!F6367,Config!$B$13>=Tarifs!E6367),1,0)","v":1},"2026-01-01","2026-01-31",973]
["97-0237","20","97-0237-200",{"$f":"IF(AND(Config!$B$13<=Tarifs!F6368,Config!$B$13>=Tarifs!E6368),1,0)","v":0},"2026-02-01","2026-02-28",973]
["97-0237","20","97-0237-200",{"$f":"IF(AND(Config!$B$13<=Tarifs!F6369,Config!$B$13>=Tarifs!E6369),1,0)","v":0},"2026-03-01","2026-03-31",973]
["97-0237","20","97-0237-200",{"$f":"IF(AND(Config!$B$13<=Tarifs!F6370,Config!$B$13>=Tarifs!E6370),1,0)","v":0},"2026-04-01","2026-04-30",973]
["97-0237","20","97-0237-200",{"$f":"IF(AND(Config!$B$13<=Tarifs!F6371,Config!$B$13>=Tarifs!E6371),1,0)","v":0},"2026-11-01","2026-11-30",973]
["97-0237","20","97-0237-200",{"$f":"IF(AND(Config!$B$13<=Tarifs!F6372,Config!$B$13>=Tarifs!E6372),1,0)","v":0},"2026-12-01","2026-12-31",973]
["97-0237","10","97-0237-100",{"$f":"IF(AND(Config!$B$13<=Tarifs!F6373,Config!$B$13>=Tarifs!E6373),1,0)","v":0},"2026-05-01","2026-05-31",163]
["97-0237","10","97-0237-100",{"$f":"IF(AND(Config!$B$13<=Tarifs!F6374,Config!$B$13>=Tarifs!E6374),1,0)","v":0},"2026-06-01","2026-06-30",163]
["97-0237","10","97-0237-100",{"$f":"IF(AND(Config!$B$13<=Tarifs!F6375,Config!$B$13>=Tarifs!E6375),1,0)","v":0},"2026-07-01","2026-07-31",163]
["97-0237","10","97-0237-100",{"$f":"IF(AND(Config!$B$13<=Tarifs!F6376,Config!$B$13>=Tarifs!E6376),1,0)","v":0},"2026-08-01","2026-08-31",163]
["97-0237","10","97-0237-100",{"$f":"IF(AND(Config!$B$13<=Tarifs!F6377,Config!$B$13>=Tarifs!E6377),1,0)","v":0},"2026-09-01","2026-09-30",163]
["97-0237","10","97-0237-100",{"$f":"IF(AND(Config!$B$13<=Tarifs!F6378,Config!$B$13>=Tarifs!E6378),1,0)","v":0},"2026-10-01","2026-10-31",163]
["97-0237","10","97-0237-100",{"$f":"IF(AND(Config!$B$13<=Tarifs!F6379,Config!$B$13>=Tarifs!E6379),1,0)","v":0},"2026-11-01","2026-11-30",141]
["97-0237","10","97-0237-100",{"$f":"IF(AND(Config!$B$13<=Tarifs!F6380,Config!$B$13>=Tarifs!E6380),1,0)","v":0},"2026-12-01","2026-12-31",141]
["97-0237","10","97-0237-101",{"$f":"IF(AND(Config!$B$13<=Tarifs!F6381,Config!$B$13>=Tarifs!E6381),1,0)","v":1},"2026-01-01","2026-01-31",139]
["97-0237","10","97-0237-100",{"$f":"IF(AND(Config!$B$13<=Tarifs!F6382,Config!$B$13>=Tarifs!E6382),1,0)","v":0},"2026-02-01","2026-02-28",139]
["97-0237","10","97-0237-100",{"$f":"IF(AND(Config!$B$13<=Tarifs!F6383,Config!$B$13>=Tarifs!E6383),1,0)","v":0},"2026-03-01","2026-03-31",139]
["97-0237","10","97-0237-100",{"$f":"IF(AND(Config!$B$13<=Tarifs!F6384,Config!$B$13>=Tarifs!E6384),1,0)","v":0},"2026-04-01","2026-04-30",139]
["97-0239","30","97-0239-300",{"$f":"IF(AND(Config!$B$13<=Tarifs!F6385,Config!$B$13>=Tarifs!E6385),1,0)","v":0},"2026-07-01","2026-07-31",6929.7]
["97-0239","30","97-0239-300",{"$f":"IF(AND(Config!$B$13<=Tarifs!F6386,Config!$B$13>=Tarifs!E6386),1,0)","v":0},"2026-08-01","2026-08-31",6929.7]
["97-0239","30","97-0239-300",{"$f":"IF(AND(Config!$B$13<=Tarifs!F6387,Config!$B$13>=Tarifs!E6387),1,0)","v":0},"2026-04-01","2026-04-30",5309.7]
["97-0239","30","97-0239-300",{"$f":"IF(AND(Config!$B$13<=Tarifs!F6388,Config!$B$13>=Tarifs!E6388),1,0)","v":0},"2026-05-01","2026-05-31",5309.7]
["97-0239","30","97-0239-300",{"$f":"IF(AND(Config!$B$13<=Tarifs!F6389,Config!$B$13>=Tarifs!E6389),1,0)","v":0},"2026-06-01","2026-06-30",5309.7]
["97-0239","30","97-0239-300",{"$f":"IF(AND(Config!$B$13<=Tarifs!F6390,Config!$B$13>=Tarifs!E6390),1,0)","v":0},"2026-09-01","2026-09-30",5309.7]
["97-0239","30","97-0239-300",{"$f":"IF(AND(Config!$B$13<=Tarifs!F6391,Config!$B$13>=Tarifs!E6391),1,0)","v":0},"2026-10-01","2026-10-31",5309.7]
["97-0239","30","97-0239-301",{"$f":"IF(AND(Config!$B$13<=Tarifs!F6392,Config!$B$13>=Tarifs!E6392),1,0)","v":1},"2026-01-01","2026-01-31",4649.7]
["97-0239","30","97-0239-300",{"$f":"IF(AND(Config!$B$13<=Tarifs!F6393,Config!$B$13>=Tarifs!E6393),1,0)","v":0},"2026-02-01","2026-02-28",4649.7]
["97-0239","30","97-0239-300",{"$f":"IF(AND(Config!$B$13<=Tarifs!F6394,Config!$B$13>=Tarifs!E6394),1,0)","v":0},"2026-03-01","2026-03-31",4649.7]
["97-0239","30","97-0239-300",{"$f":"IF(AND(Config!$B$13<=Tarifs!F6395,Config!$B$13>=Tarifs!E6395),1,0)","v":0},"2026-11-01","2026-11-30",4649.7]
["97-0239","30","97-0239-300",{"$f":"IF(AND(Config!$B$13<=Tarifs!F6396,Config!$B$13>=Tarifs!E6396),1,0)","v":0},"2026-12-01","2026-12-31",4649.7]
["97-0239","20","97-0239-200",{"$f":"IF(AND(Config!$B$13<=Tarifs!F6397,Config!$B$13>=Tarifs!E6397),1,0)","v":0},"2026-07-01","2026-07-31",1616.93]
["97-0239","20","97-0239-200",{"$f":"IF(AND(Config!$B$13<=Tarifs!F6398,Config!$B$13>=Tarifs!E6398),1,0)","v":0},"2026-08-01","2026-08-31",1616.93]
["97-0239","20","97-0239-200",{"$f":"IF(AND(Config!$B$13<=Tarifs!F6399,Config!$B$13>=Tarifs!E6399),1,0)","v":0},"2026-04-01","2026-04-30",1238.93]
["97-0239","20","97-0239-200",{"$f":"IF(AND(Config!$B$13<=Tarifs!F6400,Config!$B$13>=Tarifs!E6400),1,0)","v":0},"2026-05-01","2026-05-31",1238.93]
["97-0239","20","97-0239-200",{"$f":"IF(AND(Config!$B$13<=Tarifs!F6401,Config!$B$13>=Tarifs!E6401),1,0)","v":0},"2026-06-01","2026-06-30",1238.93]
["97-0239","20","97-0239-200",{"$f":"IF(AND(Config!$B$13<=Tarifs!F6402,Config!$B$13>=Tarifs!E6402),1,0)","v":0},"2026-09-01","2026-09-30",1238.93]
["97-0239","20",{"$f":"A6403&\"-\"&B6403&D6403","v":"97-0239-200"},{"$f":"IF(AND(Config!$B$13<=Tarifs!F6403,Config!$B$13>=Tarifs!E6403),1,0)","v":0},"2026-10-01","2026-10-31",1238.93]
["97-0239","20","97-0239-201",{"$f":"IF(AND(Config!$B$13<=Tarifs!F6404,Config!$B$13>=Tarifs!E6404),1,0)","v":1},"2026-01-01","2026-01-31",1084.93]
["97-0239","20","97-0239-200",{"$f":"IF(AND(Config!$B$13<=Tarifs!F6405,Config!$B$13>=Tarifs!E6405),1,0)","v":0},"2026-02-01","2026-02-28",1084.93]
["97-0239","20","97-0239-200",{"$f":"IF(AND(Config!$B$13<=Tarifs!F6406,Config!$B$13>=Tarifs!E6406),1,0)","v":0},"2026-03-01","2026-03-31",1084.93]
["97-0239","20","97-0239-200",{"$f":"IF(AND(Config!$B$13<=Tarifs!F6407,Config!$B$13>=Tarifs!E6407),1,0)","v":0},"2026-11-01","2026-11-30",1084.93]
["97-0239","20","97-0239-200",{"$f":"IF(AND(Config!$B$13<=Tarifs!F6408,Config!$B$13>=Tarifs!E6408),1,0)","v":0},"2026-12-01","2026-12-31",1084.93]
["97-0239","10","97-0239-100",{"$f":"IF(AND(Config!$B$13<=Tarifs!F6409,Config!$B$13>=Tarifs!E6409),1,0)","v":0},"2026-07-01","2026-07-31",230.99]
["97-0239","10","97-0239-100",{"$f":"IF(AND(Config!$B$13<=Tarifs!F6410,Config!$B$13>=Tarifs!E6410),1,0)","v":0},"2026-08-01","2026-08-31",230.99]
["97-0239","10","97-0239-100",{"$f":"IF(AND(Config!$B$13<=Tarifs!F6411,Config!$B$13>=Tarifs!E6411),1,0)","v":0},"2026-04-01","2026-04-30",176.99]
["97-0239","10","97-0239-100",{"$f":"IF(AND(Config!$B$13<=Tarifs!F6412,Config!$B$13>=Tarifs!E6412),1,0)","v":0},"2026-05-01","2026-05-31",176.99]
["97-0239","10","97-0239-100",{"$f":"IF(AND(Config!$B$13<=Tarifs!F6413,Config!$B$13>=Tarifs!E6413),1,0)","v":0},"2026-06-01","2026-06-30",176.99]
["97-0239","10","97-0239-100",{"$f":"IF(AND(Config!$B$13<=Tarifs!F6414,Config!$B$13>=Tarifs!E6414),1,0)","v":0},"2026-09-01","2026-09-30",176.99]
["97-0239","10","97-0239-100",{"$f":"IF(AND(Config!$B$13<=Tarifs!F6415,Config!$B$13>=Tarifs!E6415),1,0)","v":0},"2026-10-01","2026-10-31",176.99]
["97-0239","10","97-0239-101",{"$f":"IF(AND(Config!$B$13<=Tarifs!F6416,Config!$B$13>=Tarifs!E6416),1,0)","v":1},"2026-01-01","2026-01-31",154.99]
["97-0239","10","97-0239-100",{"$f":"IF(AND(Config!$B$13<=Tarifs!F6417,Config!$B$13>=Tarifs!E6417),1,0)","v":0},"2026-02-01","2026-02-28",154.99]
["97-0239","10","97-0239-100",{"$f":"IF(AND(Config!$B$13<=Tarifs!F6418,Config!$B$13>=Tarifs!E6418),1,0)","v":0},"2026-03-01","2026-03-31",154.99]
["97-0239","10","97-0239-100",{"$f":"IF(AND(Config!$B$13<=Tarifs!F6419,Config!$B$13>=Tarifs!E6419),1,0)","v":0},"2026-11-01","2026-11-30",154.99]
["97-0239","10","97-0239-100",{"$f":"IF(AND(Config!$B$13<=Tarifs!F6420,Config!$B$13>=Tarifs!E6420),1,0)","v":0},"2026-12-01","2026-12-31",154.99]
["97-0240","30","97-0240-301",{"$f":"IF(AND(Config!$B$13<=Tarifs!F6421,Config!$B$13>=Tarifs!E6421),1,0)","v":1},"2026-01-01","2026-01-31",4740]
["97-0240","30","97-0240-300",{"$f":"IF(AND(Config!$B$13<=Tarifs!F6422,Config!$B$13>=Tarifs!E6422),1,0)","v":0},"2026-02-01","2026-02-28",4740]
["97-0240","30","97-0240-300",{"$f":"IF(AND(Config!$B$13<=Tarifs!F6423,Config!$B$13>=Tarifs!E6423),1,0)","v":0},"2026-03-01","2026-03-31",4740]
["97-0240","30","97-0240-300",{"$f":"IF(AND(Config!$B$13<=Tarifs!F6424,Config!$B$13>=Tarifs!E6424),1,0)","v":0},"2026-04-01","2026-04-30",4740]
["97-0240","30","97-0240-300",{"$f":"IF(AND(Config!$B$13<=Tarifs!F6425,Config!$B$13>=Tarifs!E6425),1,0)","v":0},"2026-05-01","2026-05-31",4740]
["97-0240","30","97-0240-300",{"$f":"IF(AND(Config!$B$13<=Tarifs!F6426,Config!$B$13>=Tarifs!E6426),1,0)","v":0},"2026-06-01","2026-06-30",4740]
["97-0240","30","97-0240-300",{"$f":"IF(AND(Config!$B$13<=Tarifs!F6427,Config!$B$13>=Tarifs!E6427),1,0)","v":0},"2026-07-01","2026-07-31",4740]
["97-0240","30","97-0240-300",{"$f":"IF(AND(Config!$B$13<=Tarifs!F6428,Config!$B$13>=Tarifs!E6428),1,0)","v":0},"2026-08-01","2026-08-31",4740]
["97-0240","30","97-0240-300",{"$f":"IF(AND(Config!$B$13<=Tarifs!F6429,Config!$B$13>=Tarifs!E6429),1,0)","v":0},"2026-09-01","2026-09-30",4740]
["97-0240","30","97-0240-300",{"$f":"IF(AND(Config!$B$13<=Tarifs!F6430,Config!$B$13>=Tarifs!E6430),1,0)","v":0},"2026-10-01","2026-10-31",4740]
["97-0240","30","97-0240-300",{"$f":"IF(AND(Config!$B$13<=Tarifs!F6431,Config!$B$13>=Tarifs!E6431),1,0)","v":0},"2026-11-01","2026-11-30",4740]
["97-0240","30","97-0240-300",{"$f":"IF(AND(Config!$B$13<=Tarifs!F6432,Config!$B$13>=Tarifs!E6432),1,0)","v":0},"2026-12-01","2026-12-31",4740]
["97-0240","20","97-0240-201",{"$f":"IF(AND(Config!$B$13<=Tarifs!F6433,Config!$B$13>=Tarifs!E6433),1,0)","v":1},"2026-01-01","2026-01-31",1106]
["97-0240","20","97-0240-200",{"$f":"IF(AND(Config!$B$13<=Tarifs!F6434,Config!$B$13>=Tarifs!E6434),1,0)","v":0},"2026-02-01","2026-02-28",1106]
["97-0240","20","97-0240-200",{"$f":"IF(AND(Config!$B$13<=Tarifs!F6435,Config!$B$13>=Tarifs!E6435),1,0)","v":0},"2026-03-01","2026-03-31",1106]
["97-0240","20","97-0240-200",{"$f":"IF(AND(Config!$B$13<=Tarifs!F6436,Config!$B$13>=Tarifs!E6436),1,0)","v":0},"2026-04-01","2026-04-30",1106]
["97-0240","20","97-0240-200",{"$f":"IF(AND(Config!$B$13<=Tarifs!F6437,Config!$B$13>=Tarifs!E6437),1,0)","v":0},"2026-05-01","2026-05-31",1106]
["97-0240","20","97-0240-200",{"$f":"IF(AND(Config!$B$13<=Tarifs!F6438,Config!$B$13>=Tarifs!E6438),1,0)","v":0},"2026-06-01","2026-06-30",1106]
["97-0240","20","97-0240-200",{"$f":"IF(AND(Config!$B$13<=Tarifs!F6439,Config!$B$13>=Tarifs!E6439),1,0)","v":0},"2026-07-01","2026-07-31",1106]
["97-0240","20","97-0240-200",{"$f":"IF(AND(Config!$B$13<=Tarifs!F6440,Config!$B$13>=Tarifs!E6440),1,0)","v":0},"2026-08-01","2026-08-31",1106]
["97-0240","20","97-0240-200",{"$f":"IF(AND(Config!$B$13<=Tarifs!F6441,Config!$B$13>=Tarifs!E6441),1,0)","v":0},"2026-09-01","2026-09-30",1106]
["97-0240","20","97-0240-200",{"$f":"IF(AND(Config!$B$13<=Tarifs!F6442,Config!$B$13>=Tarifs!E6442),1,0)","v":0},"2026-10-01","2026-10-31",1106]
["97-0240","20","97-0240-200",{"$f":"IF(AND(Config!$B$13<=Tarifs!F6443,Config!$B$13>=Tarifs!E6443),1,0)","v":0},"2026-11-01","2026-11-30",1106]
["97-0240","20","97-0240-200",{"$f":"IF(AND(Config!$B$13<=Tarifs!F6444,Config!$B$13>=Tarifs!E6444),1,0)","v":0},"2026-12-01","2026-12-31",1106]
["97-0240","10","97-0240-101",{"$f":"IF(AND(Config!$B$13<=Tarifs!F6445,Config!$B$13>=Tarifs!E6445),1,0)","v":1},"2026-01-01","2026-01-31",158]
["97-0240","10","97-0240-100",{"$f":"IF(AND(Config!$B$13<=Tarifs!F6446,Config!$B$13>=Tarifs!E6446),1,0)","v":0},"2026-02-01","2026-02-28",158]
["97-0240","10","97-0240-100",{"$f":"IF(AND(Config!$B$13<=Tarifs!F6447,Config!$B$13>=Tarifs!E6447),1,0)","v":0},"2026-03-01","2026-03-31",158]
["97-0240","10","97-0240-100",{"$f":"IF(AND(Config!$B$13<=Tarifs!F6448,Config!$B$13>=Tarifs!E6448),1,0)","v":0},"2026-04-01","2026-04-30",158]
["97-0240","10","97-0240-100",{"$f":"IF(AND(Config!$B$13<=Tarifs!F6449,Config!$B$13>=Tarifs!E6449),1,0)","v":0},"2026-05-01","2026-05-31",158]
["97-0240","10","97-0240-100",{"$f":"IF(AND(Config!$B$13<=Tarifs!F6450,Config!$B$13>=Tarifs!E6450),1,0)","v":0},"2026-06-01","2026-06-30",158]
["97-0240","10","97-0240-100",{"$f":"IF(AND(Config!$B$13<=Tarifs!F6451,Config!$B$13>=Tarifs!E6451),1,0)","v":0},"2026-07-01","2026-07-31",158]
["97-0240","10","97-0240-100",{"$f":"IF(AND(Config!$B$13<=Tarifs!F6452,Config!$B$13>=Tarifs!E6452),1,0)","v":0},"2026-08-01","2026-08-31",158]
["97-0240","10","97-0240-100",{"$f":"IF(AND(Config!$B$13<=Tarifs!F6453,Config!$B$13>=Tarifs!E6453),1,0)","v":0},"2026-09-01","2026-09-30",158]
["97-0240","10","97-0240-100",{"$f":"IF(AND(Config!$B$13<=Tarifs!F6454,Config!$B$13>=Tarifs!E6454),1,0)","v":0},"2026-10-01","2026-10-31",158]
["97-0240","10","97-0240-100",{"$f":"IF(AND(Config!$B$13<=Tarifs!F6455,Config!$B$13>=Tarifs!E6455),1,0)","v":0},"2026-11-01","2026-11-30",158]
["97-0240","10","97-0240-100",{"$f":"IF(AND(Config!$B$13<=Tarifs!F6456,Config!$B$13>=Tarifs!E6456),1,0)","v":0},"2026-12-01","2026-12-31",158]
["97-0241","30","97-0241-300",{"$f":"IF(AND(Config!$B$13<=Tarifs!F6457,Config!$B$13>=Tarifs!E6457),1,0)","v":0},"2026-07-01","2026-07-31",5070]
["97-0241","30","97-0241-300",{"$f":"IF(AND(Config!$B$13<=Tarifs!F6458,Config!$B$13>=Tarifs!E6458),1,0)","v":0},"2026-08-01","2026-08-31",5070]
["97-0241","30","97-0241-300",{"$f":"IF(AND(Config!$B$13<=Tarifs!F6459,Config!$B$13>=Tarifs!E6459),1,0)","v":0},"2026-06-01","2026-06-30",4500]
["97-0241","30","97-0241-301",{"$f":"IF(AND(Config!$B$13<=Tarifs!F6460,Config!$B$13>=Tarifs!E6460),1,0)","v":1},"2026-01-01","2026-01-31",3780]
["97-0241","30","97-0241-300",{"$f":"IF(AND(Config!$B$13<=Tarifs!F6461,Config!$B$13>=Tarifs!E6461),1,0)","v":0},"2026-02-01","2026-02-28",3780]
["97-0241","30","97-0241-300",{"$f":"IF(AND(Config!$B$13<=Tarifs!F6462,Config!$B$13>=Tarifs!E6462),1,0)","v":0},"2026-03-01","2026-03-31",3780]
["97-0241","30","97-0241-300",{"$f":"IF(AND(Config!$B$13<=Tarifs!F6463,Config!$B$13>=Tarifs!E6463),1,0)","v":0},"2026-04-01","2026-04-30",3780]
["97-0241","30","97-0241-300",{"$f":"IF(AND(Config!$B$13<=Tarifs!F6464,Config!$B$13>=Tarifs!E6464),1,0)","v":0},"2026-05-01","2026-05-31",3780]
["97-0241","30","97-0241-300",{"$f":"IF(AND(Config!$B$13<=Tarifs!F6465,Config!$B$13>=Tarifs!E6465),1,0)","v":0},"2026-09-01","2026-09-30",3780]
["97-0241","30","97-0241-300",{"$f":"IF(AND(Config!$B$13<=Tarifs!F6466,Config!$B$13>=Tarifs!E6466),1,0)","v":0},"2026-10-01","2026-10-31",3780]
["97-0241","30",{"$f":"A6467&\"-\"&B6467&D6467","v":"97-0241-300"},{"$f":"IF(AND(Config!$B$13<=Tarifs!F6467,Config!$B$13>=Tarifs!E6467),1,0)","v":0},"2026-11-01","2026-11-30",3780]
["97-0241","30","97-0241-300",{"$f":"IF(AND(Config!$B$13<=Tarifs!F6468,Config!$B$13>=Tarifs!E6468),1,0)","v":0},"2026-12-01","2026-12-31",3780]
["97-0241","20","97-0241-200",{"$f":"IF(AND(Config!$B$13<=Tarifs!F6469,Config!$B$13>=Tarifs!E6469),1,0)","v":0},"2026-07-01","2026-07-31",1183]
["97-0241","20","97-0241-200",{"$f":"IF(AND(Config!$B$13<=Tarifs!F6470,Config!$B$13>=Tarifs!E6470),1,0)","v":0},"2026-08-01","2026-08-31",1183]
["97-0241","20","97-0241-200",{"$f":"IF(AND(Config!$B$13<=Tarifs!F6471,Config!$B$13>=Tarifs!E6471),1,0)","v":0},"2026-06-01","2026-06-30",1050]
["97-0241","20","97-0241-201",{"$f":"IF(AND(Config!$B$13<=Tarifs!F6472,Config!$B$13>=Tarifs!E6472),1,0)","v":1},"2026-01-01","2026-01-31",882]
["97-0241","20","97-0241-200",{"$f":"IF(AND(Config!$B$13<=Tarifs!F6473,Config!$B$13>=Tarifs!E6473),1,0)","v":0},"2026-02-01","2026-02-28",882]
["97-0241","20","97-0241-200",{"$f":"IF(AND(Config!$B$13<=Tarifs!F6474,Config!$B$13>=Tarifs!E6474),1,0)","v":0},"2026-03-01","2026-03-31",882]
["97-0241","20","97-0241-200",{"$f":"IF(AND(Config!$B$13<=Tarifs!F6475,Config!$B$13>=Tarifs!E6475),1,0)","v":0},"2026-04-01","2026-04-30",882]
["97-0241","20","97-0241-200",{"$f":"IF(AND(Config!$B$13<=Tarifs!F6476,Config!$B$13>=Tarifs!E6476),1,0)","v":0},"2026-05-01","2026-05-31",882]
["97-0241","20","97-0241-200",{"$f":"IF(AND(Config!$B$13<=Tarifs!F6477,Config!$B$13>=Tarifs!E6477),1,0)","v":0},"2026-09-01","2026-09-30",882]
["97-0241","20","97-0241-200",{"$f":"IF(AND(Config!$B$13<=Tarifs!F6478,Config!$B$13>=Tarifs!E6478),1,0)","v":0},"2026-10-01","2026-10-31",882]
["97-0241","20","97-0241-200",{"$f":"IF(AND(Config!$B$13<=Tarifs!F6479,Config!$B$13>=Tarifs!E6479),1,0)","v":0},"2026-11-01","2026-11-30",882]
["97-0241","20","97-0241-200",{"$f":"IF(AND(Config!$B$13<=Tarifs!F6480,Config!$B$13>=Tarifs!E6480),1,0)","v":0},"2026-12-01","2026-12-31",882]
["97-0241","10","97-0241-100",{"$f":"IF(AND(Config!$B$13<=Tarifs!F6481,Config!$B$13>=Tarifs!E6481),1,0)","v":0},"2026-07-01","2026-07-31",169]
["97-0241","10","97-0241-100",{"$f":"IF(AND(Config!$B$13<=Tarifs!F6482,Config!$B$13>=Tarifs!E6482),1,0)","v":0},"2026-08-01","2026-08-31",169]
["97-0241","10","97-0241-100",{"$f":"IF(AND(Config!$B$13<=Tarifs!F6483,Config!$B$13>=Tarifs!E6483),1,0)","v":0},"2026-06-01","2026-06-30",150]
["97-0241","10","97-0241-101",{"$f":"IF(AND(Config!$B$13<=Tarifs!F6484,Config!$B$13>=Tarifs!E6484),1,0)","v":1},"2026-01-01","2026-01-31",126]
["97-0241","10","97-0241-100",{"$f":"IF(AND(Config!$B$13<=Tarifs!F6485,Config!$B$13>=Tarifs!E6485),1,0)","v":0},"2026-02-01","2026-02-28",126]
["97-0241","10","97-0241-100",{"$f":"IF(AND(Config!$B$13<=Tarifs!F6486,Config!$B$13>=Tarifs!E6486),1,0)","v":0},"2026-03-01","2026-03-31",126]
["97-0241","10","97-0241-100",{"$f":"IF(AND(Config!$B$13<=Tarifs!F6487,Config!$B$13>=Tarifs!E6487),1,0)","v":0},"2026-04-01","2026-04-30",126]
["97-0241","10","97-0241-100",{"$f":"IF(AND(Config!$B$13<=Tarifs!F6488,Config!$B$13>=Tarifs!E6488),1,0)","v":0},"2026-05-01","2026-05-31",126]
["97-0241","10","97-0241-100",{"$f":"IF(AND(Config!$B$13<=Tarifs!F6489,Config!$B$13>=Tarifs!E6489),1,0)","v":0},"2026-09-01","2026-09-30",126]
["97-0241","10","97-0241-100",{"$f":"IF(AND(Config!$B$13<=Tarifs!F6490,Config!$B$13>=Tarifs!E6490),1,0)","v":0},"2026-10-01","2026-10-31",126]
["97-0241","10","97-0241-100",{"$f":"IF(AND(Config!$B$13<=Tarifs!F6491,Config!$B$13>=Tarifs!E6491),1,0)","v":0},"2026-11-01","2026-11-30",126]
["97-0241","10","97-0241-100",{"$f":"IF(AND(Config!$B$13<=Tarifs!F6492,Config!$B$13>=Tarifs!E6492),1,0)","v":0},"2026-12-01","2026-12-31",126]
["97-0243","30","97-0243-300",{"$f":"IF(AND(Config!$B$13<=Tarifs!F6493,Config!$B$13>=Tarifs!E6493),1,0)","v":0},"2026-05-01","2026-05-31",6570]
["97-0243","30","97-0243-300",{"$f":"IF(AND(Config!$B$13<=Tarifs!F6494,Config!$B$13>=Tarifs!E6494),1,0)","v":0},"2026-06-01","2026-06-30",6570]
["97-0243","30","97-0243-300",{"$f":"IF(AND(Config!$B$13<=Tarifs!F6495,Config!$B$13>=Tarifs!E6495),1,0)","v":0},"2026-09-01","2026-09-30",6570]
["97-0243","30","97-0243-300",{"$f":"IF(AND(Config!$B$13<=Tarifs!F6496,Config!$B$13>=Tarifs!E6496),1,0)","v":0},"2026-10-01","2026-10-31",6570]
["97-0243","30","97-0243-301",{"$f":"IF(AND(Config!$B$13<=Tarifs!F6497,Config!$B$13>=Tarifs!E6497),1,0)","v":1},"2026-01-01","2026-01-31",6270]
["97-0243","30","97-0243-300",{"$f":"IF(AND(Config!$B$13<=Tarifs!F6498,Config!$B$13>=Tarifs!E6498),1,0)","v":0},"2026-02-01","2026-02-28",6270]
["97-0243","30","97-0243-300",{"$f":"IF(AND(Config!$B$13<=Tarifs!F6499,Config!$B$13>=Tarifs!E6499),1,0)","v":0},"2026-03-01","2026-03-31",6270]
["97-0243","30","97-0243-300",{"$f":"IF(AND(Config!$B$13<=Tarifs!F6500,Config!$B$13>=Tarifs!E6500),1,0)","v":0},"2026-04-01","2026-04-30",6270]
["97-0243","30","97-0243-300",{"$f":"IF(AND(Config!$B$13<=Tarifs!F6501,Config!$B$13>=Tarifs!E6501),1,0)","v":0},"2026-07-01","2026-07-31",6270]
["97-0243","30","97-0243-300",{"$f":"IF(AND(Config!$B$13<=Tarifs!F6502,Config!$B$13>=Tarifs!E6502),1,0)","v":0},"2026-08-01","2026-08-31",6270]
["97-0243","30","97-0243-300",{"$f":"IF(AND(Config!$B$13<=Tarifs!F6503,Config!$B$13>=Tarifs!E6503),1,0)","v":0},"2026-11-01","2026-11-30",6270]
["97-0243","30","97-0243-300",{"$f":"IF(AND(Config!$B$13<=Tarifs!F6504,Config!$B$13>=Tarifs!E6504),1,0)","v":0},"2026-12-01","2026-12-31",6270]
["97-0243","20","97-0243-200",{"$f":"IF(AND(Config!$B$13<=Tarifs!F6505,Config!$B$13>=Tarifs!E6505),1,0)","v":0},"2026-05-01","2026-05-31",1533]
["97-0243","20","97-0243-200",{"$f":"IF(AND(Config!$B$13<=Tarifs!F6506,Config!$B$13>=Tarifs!E6506),1,0)","v":0},"2026-06-01","2026-06-30",1533]
["97-0243","20","97-0243-200",{"$f":"IF(AND(Config!$B$13<=Tarifs!F6507,Config!$B$13>=Tarifs!E6507),1,0)","v":0},"2026-09-01","2026-09-30",1533]
["97-0243","20","97-0243-200",{"$f":"IF(AND(Config!$B$13<=Tarifs!F6508,Config!$B$13>=Tarifs!E6508),1,0)","v":0},"2026-10-01","2026-10-31",1533]
["97-0243","20","97-0243-201",{"$f":"IF(AND(Config!$B$13<=Tarifs!F6509,Config!$B$13>=Tarifs!E6509),1,0)","v":1},"2026-01-01","2026-01-31",1463]
["97-0243","20","97-0243-200",{"$f":"IF(AND(Config!$B$13<=Tarifs!F6510,Config!$B$13>=Tarifs!E6510),1,0)","v":0},"2026-02-01","2026-02-28",1463]
["97-0243","20","97-0243-200",{"$f":"IF(AND(Config!$B$13<=Tarifs!F6511,Config!$B$13>=Tarifs!E6511),1,0)","v":0},"2026-03-01","2026-03-31",1463]
["97-0243","20","97-0243-200",{"$f":"IF(AND(Config!$B$13<=Tarifs!F6512,Config!$B$13>=Tarifs!E6512),1,0)","v":0},"2026-04-01","2026-04-30",1463]
["97-0243","20","97-0243-200",{"$f":"IF(AND(Config!$B$13<=Tarifs!F6513,Config!$B$13>=Tarifs!E6513),1,0)","v":0},"2026-07-01","2026-07-31",1463]
["97-0243","20","97-0243-200",{"$f":"IF(AND(Config!$B$13<=Tarifs!F6514,Config!$B$13>=Tarifs!E6514),1,0)","v":0},"2026-08-01","2026-08-31",1463]
["97-0243","20","97-0243-200",{"$f":"IF(AND(Config!$B$13<=Tarifs!F6515,Config!$B$13>=Tarifs!E6515),1,0)","v":0},"2026-11-01","2026-11-30",1463]
["97-0243","20","97-0243-200",{"$f":"IF(AND(Config!$B$13<=Tarifs!F6516,Config!$B$13>=Tarifs!E6516),1,0)","v":0},"2026-12-01","2026-12-31",1463]
["97-0243","10","97-0243-100",{"$f":"IF(AND(Config!$B$13<=Tarifs!F6517,Config!$B$13>=Tarifs!E6517),1,0)","v":0},"2026-05-01","2026-05-31",219]
["97-0243","10","97-0243-100",{"$f":"IF(AND(Config!$B$13<=Tarifs!F6518,Config!$B$13>=Tarifs!E6518),1,0)","v":0},"2026-06-01","2026-06-30",219]
["97-0243","10","97-0243-100",{"$f":"IF(AND(Config!$B$13<=Tarifs!F6519,Config!$B$13>=Tarifs!E6519),1,0)","v":0},"2026-09-01","2026-09-30",219]
["97-0243","10","97-0243-100",{"$f":"IF(AND(Config!$B$13<=Tarifs!F6520,Config!$B$13>=Tarifs!E6520),1,0)","v":0},"2026-10-01","2026-10-31",219]
["97-0243","10","97-0243-101",{"$f":"IF(AND(Config!$B$13<=Tarifs!F6521,Config!$B$13>=Tarifs!E6521),1,0)","v":1},"2026-01-01","2026-01-31",209]
["97-0243","10","97-0243-100",{"$f":"IF(AND(Config!$B$13<=Tarifs!F6522,Config!$B$13>=Tarifs!E6522),1,0)","v":0},"2026-02-01","2026-02-28",209]
["97-0243","10","97-0243-100",{"$f":"IF(AND(Config!$B$13<=Tarifs!F6523,Config!$B$13>=Tarifs!E6523),1,0)","v":0},"2026-03-01","2026-03-31",209]
["97-0243","10","97-0243-100",{"$f":"IF(AND(Config!$B$13<=Tarifs!F6524,Config!$B$13>=Tarifs!E6524),1,0)","v":0},"2026-04-01","2026-04-30",209]
["97-0243","10","97-0243-100",{"$f":"IF(AND(Config!$B$13<=Tarifs!F6525,Config!$B$13>=Tarifs!E6525),1,0)","v":0},"2026-07-01","2026-07-31",209]
["97-0243","10","97-0243-100",{"$f":"IF(AND(Config!$B$13<=Tarifs!F6526,Config!$B$13>=Tarifs!E6526),1,0)","v":0},"2026-08-01","2026-08-31",209]
["97-0243","10","97-0243-100",{"$f":"IF(AND(Config!$B$13<=Tarifs!F6527,Config!$B$13>=Tarifs!E6527),1,0)","v":0},"2026-11-01","2026-11-30",209]
["97-0243","10","97-0243-100",{"$f":"IF(AND(Config!$B$13<=Tarifs!F6528,Config!$B$13>=Tarifs!E6528),1,0)","v":0},"2026-12-01","2026-12-31",209]
["97-0249","30","97-0249-300",{"$f":"IF(AND(Config!$B$13<=Tarifs!F6529,Config!$B$13>=Tarifs!E6529),1,0)","v":0},"2026-07-01","2026-07-31",8370]
["97-0249","30","97-0249-300",{"$f":"IF(AND(Config!$B$13<=Tarifs!F6530,Config!$B$13>=Tarifs!E6530),1,0)","v":0},"2026-08-01","2026-08-31",8370]
["97-0249","30",{"$f":"A6531&\"-\"&B6531&D6531","v":"97-0249-300"},{"$f":"IF(AND(Config!$B$13<=Tarifs!F6531,Config!$B$13>=Tarifs!E6531),1,0)","v":0},"2026-09-01","2026-09-30",8370]
["97-0249","30","97-0249-300",{"$f":"IF(AND(Config!$B$13<=Tarifs!F6532,Config!$B$13>=Tarifs!E6532),1,0)","v":0},"2026-06-01","2026-06-30",6870]
["97-0249","30","97-0249-300",{"$f":"IF(AND(Config!$B$13<=Tarifs!F6533,Config!$B$13>=Tarifs!E6533),1,0)","v":0},"2026-10-01","2026-10-31",6870]
["97-0249","30","97-0249-300",{"$f":"IF(AND(Config!$B$13<=Tarifs!F6534,Config!$B$13>=Tarifs!E6534),1,0)","v":0},"2026-05-01","2026-05-31",6270]
["97-0249","30","97-0249-301",{"$f":"IF(AND(Config!$B$13<=Tarifs!F6535,Config!$B$13>=Tarifs!E6535),1,0)","v":1},"2026-01-01","2026-01-31",5370]
["97-0249","30","97-0249-300",{"$f":"IF(AND(Config!$B$13<=Tarifs!F6536,Config!$B$13>=Tarifs!E6536),1,0)","v":0},"2026-02-01","2026-02-28",5370]
["97-0249","30","97-0249-300",{"$f":"IF(AND(Config!$B$13<=Tarifs!F6537,Config!$B$13>=Tarifs!E6537),1,0)","v":0},"2026-03-01","2026-03-31",5370]
["97-0249","30","97-0249-300",{"$f":"IF(AND(Config!$B$13<=Tarifs!F6538,Config!$B$13>=Tarifs!E6538),1,0)","v":0},"2026-04-01","2026-04-30",5370]
["97-0249","30","97-0249-300",{"$f":"IF(AND(Config!$B$13<=Tarifs!F6539,Config!$B$13>=Tarifs!E6539),1,0)","v":0},"2026-11-01","2026-11-30",5370]
["97-0249","30","97-0249-300",{"$f":"IF(AND(Config!$B$13<=Tarifs!F6540,Config!$B$13>=Tarifs!E6540),1,0)","v":0},"2026-12-01","2026-12-31",5370]
["97-0249","20","97-0249-200",{"$f":"IF(AND(Config!$B$13<=Tarifs!F6541,Config!$B$13>=Tarifs!E6541),1,0)","v":0},"2026-07-01","2026-07-31",1953]
["97-0249","20","97-0249-200",{"$f":"IF(AND(Config!$B$13<=Tarifs!F6542,Config!$B$13>=Tarifs!E6542),1,0)","v":0},"2026-08-01","2026-08-31",1953]
["97-0249","20","97-0249-200",{"$f":"IF(AND(Config!$B$13<=Tarifs!F6543,Config!$B$13>=Tarifs!E6543),1,0)","v":0},"2026-09-01","2026-09-30",1953]
["97-0249","20","97-0249-200",{"$f":"IF(AND(Config!$B$13<=Tarifs!F6544,Config!$B$13>=Tarifs!E6544),1,0)","v":0},"2026-06-01","2026-06-30",1603]
["97-0249","20","97-0249-200",{"$f":"IF(AND(Config!$B$13<=Tarifs!F6545,Config!$B$13>=Tarifs!E6545),1,0)","v":0},"2026-10-01","2026-10-31",1603]
["97-0249","20","97-0249-200",{"$f":"IF(AND(Config!$B$13<=Tarifs!F6546,Config!$B$13>=Tarifs!E6546),1,0)","v":0},"2026-05-01","2026-05-31",1463]
["97-0249","20","97-0249-201",{"$f":"IF(AND(Config!$B$13<=Tarifs!F6547,Config!$B$13>=Tarifs!E6547),1,0)","v":1},"2026-01-01","2026-01-31",1253]
["97-0249","20","97-0249-200",{"$f":"IF(AND(Config!$B$13<=Tarifs!F6548,Config!$B$13>=Tarifs!E6548),1,0)","v":0},"2026-02-01","2026-02-28",1253]
["97-0249","20","97-0249-200",{"$f":"IF(AND(Config!$B$13<=Tarifs!F6549,Config!$B$13>=Tarifs!E6549),1,0)","v":0},"2026-03-01","2026-03-31",1253]
["97-0249","20","97-0249-200",{"$f":"IF(AND(Config!$B$13<=Tarifs!F6550,Config!$B$13>=Tarifs!E6550),1,0)","v":0},"2026-04-01","2026-04-30",1253]
["97-0249","20","97-0249-200",{"$f":"IF(AND(Config!$B$13<=Tarifs!F6551,Config!$B$13>=Tarifs!E6551),1,0)","v":0},"2026-11-01","2026-11-30",1253]
["97-0249","20","97-0249-200",{"$f":"IF(AND(Config!$B$13<=Tarifs!F6552,Config!$B$13>=Tarifs!E6552),1,0)","v":0},"2026-12-01","2026-12-31",1253]
["97-0249","10","97-0249-100",{"$f":"IF(AND(Config!$B$13<=Tarifs!F6553,Config!$B$13>=Tarifs!E6553),1,0)","v":0},"2026-07-01","2026-07-31",279]
["97-0249","10","97-0249-100",{"$f":"IF(AND(Config!$B$13<=Tarifs!F6554,Config!$B$13>=Tarifs!E6554),1,0)","v":0},"2026-08-01","2026-08-31",279]
["97-0249","10","97-0249-100",{"$f":"IF(AND(Config!$B$13<=Tarifs!F6555,Config!$B$13>=Tarifs!E6555),1,0)","v":0},"2026-09-01","2026-09-30",279]
["97-0249","10","97-0249-100",{"$f":"IF(AND(Config!$B$13<=Tarifs!F6556,Config!$B$13>=Tarifs!E6556),1,0)","v":0},"2026-06-01","2026-06-30",229]
["97-0249","10","97-0249-100",{"$f":"IF(AND(Config!$B$13<=Tarifs!F6557,Config!$B$13>=Tarifs!E6557),1,0)","v":0},"2026-10-01","2026-10-31",229]
["97-0249","10","97-0249-100",{"$f":"IF(AND(Config!$B$13<=Tarifs!F6558,Config!$B$13>=Tarifs!E6558),1,0)","v":0},"2026-05-01","2026-05-31",209]
["97-0249","10","97-0249-101",{"$f":"IF(AND(Config!$B$13<=Tarifs!F6559,Config!$B$13>=Tarifs!E6559),1,0)","v":1},"2026-01-01","2026-01-31",179]
["97-0249","10","97-0249-100",{"$f":"IF(AND(Config!$B$13<=Tarifs!F6560,Config!$B$13>=Tarifs!E6560),1,0)","v":0},"2026-02-01","2026-02-28",179]
["97-0249","10","97-0249-100",{"$f":"IF(AND(Config!$B$13<=Tarifs!F6561,Config!$B$13>=Tarifs!E6561),1,0)","v":0},"2026-03-01","2026-03-31",179]
["97-0249","10","97-0249-100",{"$f":"IF(AND(Config!$B$13<=Tarifs!F6562,Config!$B$13>=Tarifs!E6562),1,0)","v":0},"2026-04-01","2026-04-30",179]
["97-0249","10","97-0249-100",{"$f":"IF(AND(Config!$B$13<=Tarifs!F6563,Config!$B$13>=Tarifs!E6563),1,0)","v":0},"2026-11-01","2026-11-30",179]
["97-0249","10","97-0249-100",{"$f":"IF(AND(Config!$B$13<=Tarifs!F6564,Config!$B$13>=Tarifs!E6564),1,0)","v":0},"2026-12-01","2026-12-31",179]
["97-0250","30","97-0250-300",{"$f":"IF(AND(Config!$B$13<=Tarifs!F6565,Config!$B$13>=Tarifs!E6565),1,0)","v":0},"2026-05-01","2026-05-31",4380]
["97-0250","30","97-0250-300",{"$f":"IF(AND(Config!$B$13<=Tarifs!F6566,Config!$B$13>=Tarifs!E6566),1,0)","v":0},"2026-06-01","2026-06-30",4380]
["97-0250","30","97-0250-300",{"$f":"IF(AND(Config!$B$13<=Tarifs!F6567,Config!$B$13>=Tarifs!E6567),1,0)","v":0},"2026-07-01","2026-07-31",4380]
["97-0250","30","97-0250-300",{"$f":"IF(AND(Config!$B$13<=Tarifs!F6568,Config!$B$13>=Tarifs!E6568),1,0)","v":0},"2026-08-01","2026-08-31",4380]
["97-0250","30","97-0250-300",{"$f":"IF(AND(Config!$B$13<=Tarifs!F6569,Config!$B$13>=Tarifs!E6569),1,0)","v":0},"2026-09-01","2026-09-30",4380]
["97-0250","30","97-0250-300",{"$f":"IF(AND(Config!$B$13<=Tarifs!F6570,Config!$B$13>=Tarifs!E6570),1,0)","v":0},"2026-04-01","2026-04-30",4230]
["97-0250","30","97-0250-300",{"$f":"IF(AND(Config!$B$13<=Tarifs!F6571,Config!$B$13>=Tarifs!E6571),1,0)","v":0},"2026-10-01","2026-10-31",4230]
["97-0250","30","97-0250-300",{"$f":"IF(AND(Config!$B$13<=Tarifs!F6572,Config!$B$13>=Tarifs!E6572),1,0)","v":0},"2026-11-01","2026-11-30",4230]
["97-0250","30","97-0250-300",{"$f":"IF(AND(Config!$B$13<=Tarifs!F6573,Config!$B$13>=Tarifs!E6573),1,0)","v":0},"2026-12-01","2026-12-31",4230]
["97-0250","30","97-0250-301",{"$f":"IF(AND(Config!$B$13<=Tarifs!F6574,Config!$B$13>=Tarifs!E6574),1,0)","v":1},"2026-01-01","2026-01-31",4230]
["97-0250","30","97-0250-300",{"$f":"IF(AND(Config!$B$13<=Tarifs!F6575,Config!$B$13>=Tarifs!E6575),1,0)","v":0},"2026-02-01","2026-02-28",4230]
["97-0250","30","97-0250-300",{"$f":"IF(AND(Config!$B$13<=Tarifs!F6576,Config!$B$13>=Tarifs!E6576),1,0)","v":0},"2026-03-01","2026-03-31",4230]
["97-0250","20","97-0250-200",{"$f":"IF(AND(Config!$B$13<=Tarifs!F6577,Config!$B$13>=Tarifs!E6577),1,0)","v":0},"2026-05-01","2026-05-31",1022]
["97-0250","20","97-0250-200",{"$f":"IF(AND(Config!$B$13<=Tarifs!F6578,Config!$B$13>=Tarifs!E6578),1,0)","v":0},"2026-06-01","2026-06-30",1022]
["97-0250","20","97-0250-200",{"$f":"IF(AND(Config!$B$13<=Tarifs!F6579,Config!$B$13>=Tarifs!E6579),1,0)","v":0},"2026-07-01","2026-07-31",1022]
["97-0250","20","97-0250-200",{"$f":"IF(AND(Config!$B$13<=Tarifs!F6580,Config!$B$13>=Tarifs!E6580),1,0)","v":0},"2026-08-01","2026-08-31",1022]
["97-0250","20","97-0250-200",{"$f":"IF(AND(Config!$B$13<=Tarifs!F6581,Config!$B$13>=Tarifs!E6581),1,0)","v":0},"2026-09-01","2026-09-30",1022]
["97-0250","20","97-0250-200",{"$f":"IF(AND(Config!$B$13<=Tarifs!F6582,Config!$B$13>=Tarifs!E6582),1,0)","v":0},"2026-10-01","2026-10-31",987]
["97-0250","20","97-0250-200",{"$f":"IF(AND(Config!$B$13<=Tarifs!F6583,Config!$B$13>=Tarifs!E6583),1,0)","v":0},"2026-11-01","2026-11-30",987]
["97-0250","20","97-0250-200",{"$f":"IF(AND(Config!$B$13<=Tarifs!F6584,Config!$B$13>=Tarifs!E6584),1,0)","v":0},"2026-12-01","2026-12-31",987]
["97-0250","20","97-0250-201",{"$f":"IF(AND(Config!$B$13<=Tarifs!F6585,Config!$B$13>=Tarifs!E6585),1,0)","v":1},"2026-01-01","2026-01-31",987]
["97-0250","20","97-0250-200",{"$f":"IF(AND(Config!$B$13<=Tarifs!F6586,Config!$B$13>=Tarifs!E6586),1,0)","v":0},"2026-02-01","2026-02-28",987]
["97-0250","20","97-0250-200",{"$f":"IF(AND(Config!$B$13<=Tarifs!F6587,Config!$B$13>=Tarifs!E6587),1,0)","v":0},"2026-03-01","2026-03-31",987]
["97-0250","20","97-0250-200",{"$f":"IF(AND(Config!$B$13<=Tarifs!F6588,Config!$B$13>=Tarifs!E6588),1,0)","v":0},"2026-04-01","2026-04-30",987]
["97-0250","10","97-0250-100",{"$f":"IF(AND(Config!$B$13<=Tarifs!F6589,Config!$B$13>=Tarifs!E6589),1,0)","v":0},"2026-05-01","2026-05-31",146]
["97-0250","10","97-0250-100",{"$f":"IF(AND(Config!$B$13<=Tarifs!F6590,Config!$B$13>=Tarifs!E6590),1,0)","v":0},"2026-06-01","2026-06-30",146]
["97-0250","10","97-0250-100",{"$f":"IF(AND(Config!$B$13<=Tarifs!F6591,Config!$B$13>=Tarifs!E6591),1,0)","v":0},"2026-07-01","2026-07-31",146]
["97-0250","10","97-0250-100",{"$f":"IF(AND(Config!$B$13<=Tarifs!F6592,Config!$B$13>=Tarifs!E6592),1,0)","v":0},"2026-08-01","2026-08-31",146]
["97-0250","10","97-0250-100",{"$f":"IF(AND(Config!$B$13<=Tarifs!F6593,Config!$B$13>=Tarifs!E6593),1,0)","v":0},"2026-09-01","2026-09-30",146]
["97-0250","10","97-0250-100",{"$f":"IF(AND(Config!$B$13<=Tarifs!F6594,Config!$B$13>=Tarifs!E6594),1,0)","v":0},"2026-10-01","2026-10-31",141]
["97-0250","10",{"$f":"A6595&\"-\"&B6595&D6595","v":"97-0250-100"},{"$f":"IF(AND(Config!$B$13<=Tarifs!F6595,Config!$B$13>=Tarifs!E6595),1,0)","v":0},"2026-11-01","2026-11-30",141]
["97-0250","10","97-0250-100",{"$f":"IF(AND(Config!$B$13<=Tarifs!F6596,Config!$B$13>=Tarifs!E6596),1,0)","v":0},"2026-12-01","2026-12-31",141]
["97-0250","10","97-0250-101",{"$f":"IF(AND(Config!$B$13<=Tarifs!F6597,Config!$B$13>=Tarifs!E6597),1,0)","v":1},"2026-01-01","2026-01-31",141]
["97-0250","10","97-0250-100",{"$f":"IF(AND(Config!$B$13<=Tarifs!F6598,Config!$B$13>=Tarifs!E6598),1,0)","v":0},"2026-02-01","2026-02-28",141]
["97-0250","10","97-0250-100",{"$f":"IF(AND(Config!$B$13<=Tarifs!F6599,Config!$B$13>=Tarifs!E6599),1,0)","v":0},"2026-03-01","2026-03-31",141]
["97-0250","10","97-0250-100",{"$f":"IF(AND(Config!$B$13<=Tarifs!F6600,Config!$B$13>=Tarifs!E6600),1,0)","v":0},"2026-04-01","2026-04-30",141]
["97-0251","30","97-0251-300",{"$f":"IF(AND(Config!$B$13<=Tarifs!F6601,Config!$B$13>=Tarifs!E6601),1,0)","v":0},"2026-07-01","2026-07-31",4650]
["97-0251","30","97-0251-300",{"$f":"IF(AND(Config!$B$13<=Tarifs!F6602,Config!$B$13>=Tarifs!E6602),1,0)","v":0},"2026-08-01","2026-08-31",4650]
["97-0251","30","97-0251-300",{"$f":"IF(AND(Config!$B$13<=Tarifs!F6603,Config!$B$13>=Tarifs!E6603),1,0)","v":0},"2026-06-01","2026-06-30",3990]
["97-0251","30","97-0251-300",{"$f":"IF(AND(Config!$B$13<=Tarifs!F6604,Config!$B$13>=Tarifs!E6604),1,0)","v":0},"2026-09-01","2026-09-30",3930]
["97-0251","30","97-0251-300",{"$f":"IF(AND(Config!$B$13<=Tarifs!F6605,Config!$B$13>=Tarifs!E6605),1,0)","v":0},"2026-10-01","2026-10-31",3930]
["97-0251","30","97-0251-300",{"$f":"IF(AND(Config!$B$13<=Tarifs!F6606,Config!$B$13>=Tarifs!E6606),1,0)","v":0},"2026-11-01","2026-11-30",3930]
["97-0251","30","97-0251-300",{"$f":"IF(AND(Config!$B$13<=Tarifs!F6607,Config!$B$13>=Tarifs!E6607),1,0)","v":0},"2026-12-01","2026-12-31",3930]
["97-0251","30","97-0251-301",{"$f":"IF(AND(Config!$B$13<=Tarifs!F6608,Config!$B$13>=Tarifs!E6608),1,0)","v":1},"2026-01-01","2026-01-31",3810]
["97-0251","30","97-0251-300",{"$f":"IF(AND(Config!$B$13<=Tarifs!F6609,Config!$B$13>=Tarifs!E6609),1,0)","v":0},"2026-02-01","2026-02-28",3810]
["97-0251","30","97-0251-300",{"$f":"IF(AND(Config!$B$13<=Tarifs!F6610,Config!$B$13>=Tarifs!E6610),1,0)","v":0},"2026-03-01","2026-03-31",3810]
["97-0251","30","97-0251-300",{"$f":"IF(AND(Config!$B$13<=Tarifs!F6611,Config!$B$13>=Tarifs!E6611),1,0)","v":0},"2026-04-01","2026-04-30",3810]
["97-0251","30","97-0251-300",{"$f":"IF(AND(Config!$B$13<=Tarifs!F6612,Config!$B$13>=Tarifs!E6612),1,0)","v":0},"2026-05-01","2026-05-31",3810]
["97-0251","20","97-0251-200",{"$f":"IF(AND(Config!$B$13<=Tarifs!F6613,Config!$B$13>=Tarifs!E6613),1,0)","v":0},"2026-07-01","2026-07-31",1085]
["97-0251","20","97-0251-200",{"$f":"IF(AND(Config!$B$13<=Tarifs!F6614,Config!$B$13>=Tarifs!E6614),1,0)","v":0},"2026-08-01","2026-08-31",1085]
["97-0251","20","97-0251-200",{"$f":"IF(AND(Config!$B$13<=Tarifs!F6615,Config!$B$13>=Tarifs!E6615),1,0)","v":0},"2026-06-01","2026-06-30",931]
["97-0251","20","97-0251-200",{"$f":"IF(AND(Config!$B$13<=Tarifs!F6616,Config!$B$13>=Tarifs!E6616),1,0)","v":0},"2026-09-01","2026-09-30",917]
["97-0251","20","97-0251-200",{"$f":"IF(AND(Config!$B$13<=Tarifs!F6617,Config!$B$13>=Tarifs!E6617),1,0)","v":0},"2026-10-01","2026-10-31",917]
["97-0251","20","97-0251-200",{"$f":"IF(AND(Config!$B$13<=Tarifs!F6618,Config!$B$13>=Tarifs!E6618),1,0)","v":0},"2026-11-01","2026-11-30",917]
["97-0251","20","97-0251-200",{"$f":"IF(AND(Config!$B$13<=Tarifs!F6619,Config!$B$13>=Tarifs!E6619),1,0)","v":0},"2026-12-01","2026-12-31",917]
["97-0251","20","97-0251-201",{"$f":"IF(AND(Config!$B$13<=Tarifs!F6620,Config!$B$13>=Tarifs!E6620),1,0)","v":1},"2026-01-01","2026-01-31",889]
["97-0251","20","97-0251-200",{"$f":"IF(AND(Config!$B$13<=Tarifs!F6621,Config!$B$13>=Tarifs!E6621),1,0)","v":0},"2026-02-01","2026-02-28",889]
["97-0251","20","97-0251-200",{"$f":"IF(AND(Config!$B$13<=Tarifs!F6622,Config!$B$13>=Tarifs!E6622),1,0)","v":0},"2026-03-01","2026-03-31",889]
["97-0251","20","97-0251-200",{"$f":"IF(AND(Config!$B$13<=Tarifs!F6623,Config!$B$13>=Tarifs!E6623),1,0)","v":0},"2026-04-01","2026-04-30",889]
["97-0251","20","97-0251-200",{"$f":"IF(AND(Config!$B$13<=Tarifs!F6624,Config!$B$13>=Tarifs!E6624),1,0)","v":0},"2026-05-01","2026-05-31",889]
["97-0251","10","97-0251-100",{"$f":"IF(AND(Config!$B$13<=Tarifs!F6625,Config!$B$13>=Tarifs!E6625),1,0)","v":0},"2026-07-01","2026-07-31",155]
["97-0251","10","97-0251-100",{"$f":"IF(AND(Config!$B$13<=Tarifs!F6626,Config!$B$13>=Tarifs!E6626),1,0)","v":0},"2026-08-01","2026-08-31",155]
["97-0251","10","97-0251-100",{"$f":"IF(AND(Config!$B$13<=Tarifs!F6627,Config!$B$13>=Tarifs!E6627),1,0)","v":0},"2026-06-01","2026-06-30",133]
["97-0251","10","97-0251-100",{"$f":"IF(AND(Config!$B$13<=Tarifs!F6628,Config!$B$13>=Tarifs!E6628),1,0)","v":0},"2026-09-01","2026-09-30",131]
["97-0251","10","97-0251-100",{"$f":"IF(AND(Config!$B$13<=Tarifs!F6629,Config!$B$13>=Tarifs!E6629),1,0)","v":0},"2026-10-01","2026-10-31",131]
["97-0251","10","97-0251-100",{"$f":"IF(AND(Config!$B$13<=Tarifs!F6630,Config!$B$13>=Tarifs!E6630),1,0)","v":0},"2026-11-01","2026-11-30",131]
["97-0251","10","97-0251-100",{"$f":"IF(AND(Config!$B$13<=Tarifs!F6631,Config!$B$13>=Tarifs!E6631),1,0)","v":0},"2026-12-01","2026-12-31",131]
["97-0251","10","97-0251-101",{"$f":"IF(AND(Config!$B$13<=Tarifs!F6632,Config!$B$13>=Tarifs!E6632),1,0)","v":1},"2026-01-01","2026-01-31",127]
["97-0251","10","97-0251-100",{"$f":"IF(AND(Config!$B$13<=Tarifs!F6633,Config!$B$13>=Tarifs!E6633),1,0)","v":0},"2026-02-01","2026-02-28",127]
["97-0251","10","97-0251-100",{"$f":"IF(AND(Config!$B$13<=Tarifs!F6634,Config!$B$13>=Tarifs!E6634),1,0)","v":0},"2026-03-01","2026-03-31",127]
["97-0251","10","97-0251-100",{"$f":"IF(AND(Config!$B$13<=Tarifs!F6635,Config!$B$13>=Tarifs!E6635),1,0)","v":0},"2026-04-01","2026-04-30",127]
["97-0251","10","97-0251-100",{"$f":"IF(AND(Config!$B$13<=Tarifs!F6636,Config!$B$13>=Tarifs!E6636),1,0)","v":0},"2026-05-01","2026-05-31",127]
["97-0253","30","97-0253-300",{"$f":"IF(AND(Config!$B$13<=Tarifs!F6637,Config!$B$13>=Tarifs!E6637),1,0)","v":0},"2026-06-01","2026-06-30",3300]
["97-0253","30","97-0253-300",{"$f":"IF(AND(Config!$B$13<=Tarifs!F6638,Config!$B$13>=Tarifs!E6638),1,0)","v":0},"2026-07-01","2026-07-31",3300]
["97-0253","30","97-0253-300",{"$f":"IF(AND(Config!$B$13<=Tarifs!F6639,Config!$B$13>=Tarifs!E6639),1,0)","v":0},"2026-08-01","2026-08-31",3300]
["97-0253","30","97-0253-300",{"$f":"IF(AND(Config!$B$13<=Tarifs!F6640,Config!$B$13>=Tarifs!E6640),1,0)","v":0},"2026-09-01","2026-09-30",3300]
["97-0253","30","97-0253-300",{"$f":"IF(AND(Config!$B$13<=Tarifs!F6641,Config!$B$13>=Tarifs!E6641),1,0)","v":0},"2026-10-01","2026-10-31",3300]
["97-0253","30","97-0253-301",{"$f":"IF(AND(Config!$B$13<=Tarifs!F6642,Config!$B$13>=Tarifs!E6642),1,0)","v":1},"2026-01-01","2026-01-31",3000]
["97-0253","30","97-0253-300",{"$f":"IF(AND(Config!$B$13<=Tarifs!F6643,Config!$B$13>=Tarifs!E6643),1,0)","v":0},"2026-02-01","2026-02-28",3000]
["97-0253","30","97-0253-300",{"$f":"IF(AND(Config!$B$13<=Tarifs!F6644,Config!$B$13>=Tarifs!E6644),1,0)","v":0},"2026-03-01","2026-03-31",3000]
["97-0253","30","97-0253-300",{"$f":"IF(AND(Config!$B$13<=Tarifs!F6645,Config!$B$13>=Tarifs!E6645),1,0)","v":0},"2026-04-01","2026-04-30",3000]
["97-0253","30","97-0253-300",{"$f":"IF(AND(Config!$B$13<=Tarifs!F6646,Config!$B$13>=Tarifs!E6646),1,0)","v":0},"2026-05-01","2026-05-31",3000]
["97-0253","30","97-0253-300",{"$f":"IF(AND(Config!$B$13<=Tarifs!F6647,Config!$B$13>=Tarifs!E6647),1,0)","v":0},"2026-11-01","2026-11-30",3000]
["97-0253","30","97-0253-300",{"$f":"IF(AND(Config!$B$13<=Tarifs!F6648,Config!$B$13>=Tarifs!E6648),1,0)","v":0},"2026-12-01","2026-12-31",3000]
["97-0253","20","97-0253-200",{"$f":"IF(AND(Config!$B$13<=Tarifs!F6649,Config!$B$13>=Tarifs!E6649),1,0)","v":0},"2026-06-01","2026-06-30",770]
["97-0253","20","97-0253-200",{"$f":"IF(AND(Config!$B$13<=Tarifs!F6650,Config!$B$13>=Tarifs!E6650),1,0)","v":0},"2026-07-01","2026-07-31",770]
["97-0253","20","97-0253-200",{"$f":"IF(AND(Config!$B$13<=Tarifs!F6651,Config!$B$13>=Tarifs!E6651),1,0)","v":0},"2026-08-01","2026-08-31",770]
["97-0253","20","97-0253-200",{"$f":"IF(AND(Config!$B$13<=Tarifs!F6652,Config!$B$13>=Tarifs!E6652),1,0)","v":0},"2026-09-01","2026-09-30",770]
["97-0253","20","97-0253-200",{"$f":"IF(AND(Config!$B$13<=Tarifs!F6653,Config!$B$13>=Tarifs!E6653),1,0)","v":0},"2026-10-01","2026-10-31",770]
["97-0253","20","97-0253-201",{"$f":"IF(AND(Config!$B$13<=Tarifs!F6654,Config!$B$13>=Tarifs!E6654),1,0)","v":1},"2026-01-01","2026-01-31",700]
["97-0253","20","97-0253-200",{"$f":"IF(AND(Config!$B$13<=Tarifs!F6655,Config!$B$13>=Tarifs!E6655),1,0)","v":0},"2026-02-01","2026-02-28",700]
["97-0253","20","97-0253-200",{"$f":"IF(AND(Config!$B$13<=Tarifs!F6656,Config!$B$13>=Tarifs!E6656),1,0)","v":0},"2026-03-01","2026-03-31",700]
["97-0253","20","97-0253-200",{"$f":"IF(AND(Config!$B$13<=Tarifs!F6657,Config!$B$13>=Tarifs!E6657),1,0)","v":0},"2026-04-01","2026-04-30",700]
["97-0253","20","97-0253-200",{"$f":"IF(AND(Config!$B$13<=Tarifs!F6658,Config!$B$13>=Tarifs!E6658),1,0)","v":0},"2026-05-01","2026-05-31",700]
["97-0253","20",{"$f":"A6659&\"-\"&B6659&D6659","v":"97-0253-200"},{"$f":"IF(AND(Config!$B$13<=Tarifs!F6659,Config!$B$13>=Tarifs!E6659),1,0)","v":0},"2026-11-01","2026-11-30",700]
["97-0253","20","97-0253-200",{"$f":"IF(AND(Config!$B$13<=Tarifs!F6660,Config!$B$13>=Tarifs!E6660),1,0)","v":0},"2026-12-01","2026-12-31",700]
["97-0253","10","97-0253-100",{"$f":"IF(AND(Config!$B$13<=Tarifs!F6661,Config!$B$13>=Tarifs!E6661),1,0)","v":0},"2026-06-01","2026-06-30",110]
["97-0253","10","97-0253-100",{"$f":"IF(AND(Config!$B$13<=Tarifs!F6662,Config!$B$13>=Tarifs!E6662),1,0)","v":0},"2026-07-01","2026-07-31",110]
["97-0253","10","97-0253-100",{"$f":"IF(AND(Config!$B$13<=Tarifs!F6663,Config!$B$13>=Tarifs!E6663),1,0)","v":0},"2026-08-01","2026-08-31",110]
["97-0253","10","97-0253-100",{"$f":"IF(AND(Config!$B$13<=Tarifs!F6664,Config!$B$13>=Tarifs!E6664),1,0)","v":0},"2026-09-01","2026-09-30",110]
["97-0253","10","97-0253-100",{"$f":"IF(AND(Config!$B$13<=Tarifs!F6665,Config!$B$13>=Tarifs!E6665),1,0)","v":0},"2026-10-01","2026-10-31",110]
["97-0253","10","97-0253-101",{"$f":"IF(AND(Config!$B$13<=Tarifs!F6666,Config!$B$13>=Tarifs!E6666),1,0)","v":1},"2026-01-01","2026-01-31",100]
["97-0253","10","97-0253-100",{"$f":"IF(AND(Config!$B$13<=Tarifs!F6667,Config!$B$13>=Tarifs!E6667),1,0)","v":0},"2026-02-01","2026-02-28",100]
["97-0253","10","97-0253-100",{"$f":"IF(AND(Config!$B$13<=Tarifs!F6668,Config!$B$13>=Tarifs!E6668),1,0)","v":0},"2026-03-01","2026-03-31",100]
["97-0253","10","97-0253-100",{"$f":"IF(AND(Config!$B$13<=Tarifs!F6669,Config!$B$13>=Tarifs!E6669),1,0)","v":0},"2026-04-01","2026-04-30",100]
["97-0253","10","97-0253-100",{"$f":"IF(AND(Config!$B$13<=Tarifs!F6670,Config!$B$13>=Tarifs!E6670),1,0)","v":0},"2026-05-01","2026-05-31",100]
["97-0253","10","97-0253-100",{"$f":"IF(AND(Config!$B$13<=Tarifs!F6671,Config!$B$13>=Tarifs!E6671),1,0)","v":0},"2026-11-01","2026-11-30",100]
["97-0253","10","97-0253-100",{"$f":"IF(AND(Config!$B$13<=Tarifs!F6672,Config!$B$13>=Tarifs!E6672),1,0)","v":0},"2026-12-01","2026-12-31",100]
["97-0259","30","97-0259-300",{"$f":"IF(AND(Config!$B$13<=Tarifs!F6673,Config!$B$13>=Tarifs!E6673),1,0)","v":0},"2026-07-01","2026-07-31",4200]
["97-0259","30","97-0259-300",{"$f":"IF(AND(Config!$B$13<=Tarifs!F6674,Config!$B$13>=Tarifs!E6674),1,0)","v":0},"2026-08-01","2026-08-31",4200]
["97-0259","30","97-0259-301",{"$f":"IF(AND(Config!$B$13<=Tarifs!F6675,Config!$B$13>=Tarifs!E6675),1,0)","v":1},"2026-01-01","2026-01-31",3900]
["97-0259","30","97-0259-300",{"$f":"IF(AND(Config!$B$13<=Tarifs!F6676,Config!$B$13>=Tarifs!E6676),1,0)","v":0},"2026-02-01","2026-02-28",3900]
["97-0259","30","97-0259-300",{"$f":"IF(AND(Config!$B$13<=Tarifs!F6677,Config!$B$13>=Tarifs!E6677),1,0)","v":0},"2026-03-01","2026-03-31",3900]
["97-0259","30","97-0259-300",{"$f":"IF(AND(Config!$B$13<=Tarifs!F6678,Config!$B$13>=Tarifs!E6678),1,0)","v":0},"2026-04-01","2026-04-30",3900]
["97-0259","30","97-0259-300",{"$f":"IF(AND(Config!$B$13<=Tarifs!F6679,Config!$B$13>=Tarifs!E6679),1,0)","v":0},"2026-05-01","2026-05-31",3900]
["97-0259","30","97-0259-300",{"$f":"IF(AND(Config!$B$13<=Tarifs!F6680,Config!$B$13>=Tarifs!E6680),1,0)","v":0},"2026-06-01","2026-06-30",3900]
["97-0259","30","97-0259-300",{"$f":"IF(AND(Config!$B$13<=Tarifs!F6681,Config!$B$13>=Tarifs!E6681),1,0)","v":0},"2026-09-01","2026-09-30",3900]
["97-0259","30","97-0259-300",{"$f":"IF(AND(Config!$B$13<=Tarifs!F6682,Config!$B$13>=Tarifs!E6682),1,0)","v":0},"2026-10-01","2026-10-31",3900]
["97-0259","30","97-0259-300",{"$f":"IF(AND(Config!$B$13<=Tarifs!F6683,Config!$B$13>=Tarifs!E6683),1,0)","v":0},"2026-11-01","2026-11-30",3900]
["97-0259","30","97-0259-300",{"$f":"IF(AND(Config!$B$13<=Tarifs!F6684,Config!$B$13>=Tarifs!E6684),1,0)","v":0},"2026-12-01","2026-12-31",3900]
["97-0259","20","97-0259-200",{"$f":"IF(AND(Config!$B$13<=Tarifs!F6685,Config!$B$13>=Tarifs!E6685),1,0)","v":0},"2026-07-01","2026-07-31",980]
["97-0259","20","97-0259-200",{"$f":"IF(AND(Config!$B$13<=Tarifs!F6686,Config!$B$13>=Tarifs!E6686),1,0)","v":0},"2026-08-01","2026-08-31",980]
["97-0259","20","97-0259-201",{"$f":"IF(AND(Config!$B$13<=Tarifs!F6687,Config!$B$13>=Tarifs!E6687),1,0)","v":1},"2026-01-01","2026-01-31",910]
["97-0259","20","97-0259-200",{"$f":"IF(AND(Config!$B$13<=Tarifs!F6688,Config!$B$13>=Tarifs!E6688),1,0)","v":0},"2026-02-01","2026-02-28",910]
["97-0259","20","97-0259-200",{"$f":"IF(AND(Config!$B$13<=Tarifs!F6689,Config!$B$13>=Tarifs!E6689),1,0)","v":0},"2026-03-01","2026-03-31",910]
["97-0259","20","97-0259-200",{"$f":"IF(AND(Config!$B$13<=Tarifs!F6690,Config!$B$13>=Tarifs!E6690),1,0)","v":0},"2026-04-01","2026-04-30",910]
["97-0259","20","97-0259-200",{"$f":"IF(AND(Config!$B$13<=Tarifs!F6691,Config!$B$13>=Tarifs!E6691),1,0)","v":0},"2026-05-01","2026-05-31",910]
["97-0259","20","97-0259-200",{"$f":"IF(AND(Config!$B$13<=Tarifs!F6692,Config!$B$13>=Tarifs!E6692),1,0)","v":0},"2026-06-01","2026-06-30",910]
["97-0259","20","97-0259-200",{"$f":"IF(AND(Config!$B$13<=Tarifs!F6693,Config!$B$13>=Tarifs!E6693),1,0)","v":0},"2026-09-01","2026-09-30",910]
["97-0259","20","97-0259-200",{"$f":"IF(AND(Config!$B$13<=Tarifs!F6694,Config!$B$13>=Tarifs!E6694),1,0)","v":0},"2026-10-01","2026-10-31",910]
["97-0259","20","97-0259-200",{"$f":"IF(AND(Config!$B$13<=Tarifs!F6695,Config!$B$13>=Tarifs!E6695),1,0)","v":0},"2026-11-01","2026-11-30",910]
["97-0259","20","97-0259-200",{"$f":"IF(AND(Config!$B$13<=Tarifs!F6696,Config!$B$13>=Tarifs!E6696),1,0)","v":0},"2026-12-01","2026-12-31",910]
["97-0259","10","97-0259-100",{"$f":"IF(AND(Config!$B$13<=Tarifs!F6697,Config!$B$13>=Tarifs!E6697),1,0)","v":0},"2026-07-01","2026-07-31",140]
["97-0259","10","97-0259-100",{"$f":"IF(AND(Config!$B$13<=Tarifs!F6698,Config!$B$13>=Tarifs!E6698),1,0)","v":0},"2026-08-01","2026-08-31",140]
["97-0259","10","97-0259-101",{"$f":"IF(AND(Config!$B$13<=Tarifs!F6699,Config!$B$13>=Tarifs!E6699),1,0)","v":1},"2026-01-01","2026-01-31",130]
["97-0259","10","97-0259-100",{"$f":"IF(AND(Config!$B$13<=Tarifs!F6700,Config!$B$13>=Tarifs!E6700),1,0)","v":0},"2026-02-01","2026-02-28",130]
["97-0259","10","97-0259-100",{"$f":"IF(AND(Config!$B$13<=Tarifs!F6701,Config!$B$13>=Tarifs!E6701),1,0)","v":0},"2026-03-01","2026-03-31",130]
["97-0259","10","97-0259-100",{"$f":"IF(AND(Config!$B$13<=Tarifs!F6702,Config!$B$13>=Tarifs!E6702),1,0)","v":0},"2026-04-01","2026-04-30",130]
["97-0259","10","97-0259-100",{"$f":"IF(AND(Config!$B$13<=Tarifs!F6703,Config!$B$13>=Tarifs!E6703),1,0)","v":0},"2026-05-01","2026-05-31",130]
["97-0259","10","97-0259-100",{"$f":"IF(AND(Config!$B$13<=Tarifs!F6704,Config!$B$13>=Tarifs!E6704),1,0)","v":0},"2026-06-01","2026-06-30",130]
["97-0259","10","97-0259-100",{"$f":"IF(AND(Config!$B$13<=Tarifs!F6705,Config!$B$13>=Tarifs!E6705),1,0)","v":0},"2026-09-01","2026-09-30",130]
["97-0259","10","97-0259-100",{"$f":"IF(AND(Config!$B$13<=Tarifs!F6706,Config!$B$13>=Tarifs!E6706),1,0)","v":0},"2026-10-01","2026-10-31",130]
["97-0259","10","97-0259-100",{"$f":"IF(AND(Config!$B$13<=Tarifs!F6707,Config!$B$13>=Tarifs!E6707),1,0)","v":0},"2026-11-01","2026-11-30",130]
["97-0259","10","97-0259-100",{"$f":"IF(AND(Config!$B$13<=Tarifs!F6708,Config!$B$13>=Tarifs!E6708),1,0)","v":0},"2026-12-01","2026-12-31",130]
["97-0262","30","97-0262-300",{"$f":"IF(AND(Config!$B$13<=Tarifs!F6709,Config!$B$13>=Tarifs!E6709),1,0)","v":0},"2026-08-01","2026-08-31",4200]
["97-0262","30","97-0262-300",{"$f":"IF(AND(Config!$B$13<=Tarifs!F6710,Config!$B$13>=Tarifs!E6710),1,0)","v":0},"2026-06-01","2026-06-30",4200]
["97-0262","30","97-0262-300",{"$f":"IF(AND(Config!$B$13<=Tarifs!F6711,Config!$B$13>=Tarifs!E6711),1,0)","v":0},"2026-07-01","2026-07-31",4200]
["97-0262","30","97-0262-300",{"$f":"IF(AND(Config!$B$13<=Tarifs!F6712,Config!$B$13>=Tarifs!E6712),1,0)","v":0},"2026-09-01","2026-09-30",4200]
["97-0262","30","97-0262-300",{"$f":"IF(AND(Config!$B$13<=Tarifs!F6713,Config!$B$13>=Tarifs!E6713),1,0)","v":0},"2026-10-01","2026-10-31",4200]
["97-0262","30","97-0262-300",{"$f":"IF(AND(Config!$B$13<=Tarifs!F6714,Config!$B$13>=Tarifs!E6714),1,0)","v":0},"2026-02-01","2026-02-28",3900]
["97-0262","30","97-0262-300",{"$f":"IF(AND(Config!$B$13<=Tarifs!F6715,Config!$B$13>=Tarifs!E6715),1,0)","v":0},"2026-03-01","2026-03-31",3900]
["97-0262","30","97-0262-300",{"$f":"IF(AND(Config!$B$13<=Tarifs!F6716,Config!$B$13>=Tarifs!E6716),1,0)","v":0},"2026-05-01","2026-05-31",3900]
["97-0262","30","97-0262-300",{"$f":"IF(AND(Config!$B$13<=Tarifs!F6717,Config!$B$13>=Tarifs!E6717),1,0)","v":0},"2026-11-01","2026-11-30",3900]
["97-0262","30","97-0262-301",{"$f":"IF(AND(Config!$B$13<=Tarifs!F6718,Config!$B$13>=Tarifs!E6718),1,0)","v":1},"2026-01-01","2026-01-31",3900]
["97-0262","30","97-0262-300",{"$f":"IF(AND(Config!$B$13<=Tarifs!F6719,Config!$B$13>=Tarifs!E6719),1,0)","v":0},"2026-04-01","2026-04-30",3900]
["97-0262","30","97-0262-300",{"$f":"IF(AND(Config!$B$13<=Tarifs!F6720,Config!$B$13>=Tarifs!E6720),1,0)","v":0},"2026-12-01","2026-12-31",3900]
["97-0262","20","97-0262-200",{"$f":"IF(AND(Config!$B$13<=Tarifs!F6721,Config!$B$13>=Tarifs!E6721),1,0)","v":0},"2026-06-01","2026-06-30",980]
["97-0262","20","97-0262-200",{"$f":"IF(AND(Config!$B$13<=Tarifs!F6722,Config!$B$13>=Tarifs!E6722),1,0)","v":0},"2026-08-01","2026-08-31",980]
["97-0262","20",{"$f":"A6723&\"-\"&B6723&D6723","v":"97-0262-200"},{"$f":"IF(AND(Config!$B$13<=Tarifs!F6723,Config!$B$13>=Tarifs!E6723),1,0)","v":0},"2026-09-01","2026-09-30",980]
["97-0262","20","97-0262-200",{"$f":"IF(AND(Config!$B$13<=Tarifs!F6724,Config!$B$13>=Tarifs!E6724),1,0)","v":0},"2026-07-01","2026-07-31",980]
["97-0262","20","97-0262-200",{"$f":"IF(AND(Config!$B$13<=Tarifs!F6725,Config!$B$13>=Tarifs!E6725),1,0)","v":0},"2026-10-01","2026-10-31",980]
["97-0262","20","97-0262-201",{"$f":"IF(AND(Config!$B$13<=Tarifs!F6726,Config!$B$13>=Tarifs!E6726),1,0)","v":1},"2026-01-01","2026-01-31",910]
["97-0262","20","97-0262-200",{"$f":"IF(AND(Config!$B$13<=Tarifs!F6727,Config!$B$13>=Tarifs!E6727),1,0)","v":0},"2026-02-01","2026-02-28",910]
["97-0262","20","97-0262-200",{"$f":"IF(AND(Config!$B$13<=Tarifs!F6728,Config!$B$13>=Tarifs!E6728),1,0)","v":0},"2026-04-01","2026-04-30",910]
["97-0262","20","97-0262-200",{"$f":"IF(AND(Config!$B$13<=Tarifs!F6729,Config!$B$13>=Tarifs!E6729),1,0)","v":0},"2026-05-01","2026-05-31",910]
["97-0262","20","97-0262-200",{"$f":"IF(AND(Config!$B$13<=Tarifs!F6730,Config!$B$13>=Tarifs!E6730),1,0)","v":0},"2026-11-01","2026-11-30",910]
["97-0262","20","97-0262-200",{"$f":"IF(AND(Config!$B$13<=Tarifs!F6731,Config!$B$13>=Tarifs!E6731),1,0)","v":0},"2026-03-01","2026-03-31",910]
["97-0262","20","97-0262-200",{"$f":"IF(AND(Config!$B$13<=Tarifs!F6732,Config!$B$13>=Tarifs!E6732),1,0)","v":0},"2026-12-01","2026-12-31",910]
["97-0262","10","97-0262-100",{"$f":"IF(AND(Config!$B$13<=Tarifs!F6733,Config!$B$13>=Tarifs!E6733),1,0)","v":0},"2026-06-01","2026-06-30",140]
["97-0262","10","97-0262-100",{"$f":"IF(AND(Config!$B$13<=Tarifs!F6734,Config!$B$13>=Tarifs!E6734),1,0)","v":0},"2026-09-01","2026-09-30",140]
["97-0262","10","97-0262-100",{"$f":"IF(AND(Config!$B$13<=Tarifs!F6735,Config!$B$13>=Tarifs!E6735),1,0)","v":0},"2026-07-01","2026-07-31",140]
["97-0262","10","97-0262-100",{"$f":"IF(AND(Config!$B$13<=Tarifs!F6736,Config!$B$13>=Tarifs!E6736),1,0)","v":0},"2026-08-01","2026-08-31",140]
["97-0262","10","97-0262-100",{"$f":"IF(AND(Config!$B$13<=Tarifs!F6737,Config!$B$13>=Tarifs!E6737),1,0)","v":0},"2026-10-01","2026-10-31",140]
["97-0262","10","97-0262-101",{"$f":"IF(AND(Config!$B$13<=Tarifs!F6738,Config!$B$13>=Tarifs!E6738),1,0)","v":1},"2026-01-01","2026-01-31",130]
["97-0262","10","97-0262-100",{"$f":"IF(AND(Config!$B$13<=Tarifs!F6739,Config!$B$13>=Tarifs!E6739),1,0)","v":0},"2026-02-01","2026-02-28",130]
["97-0262","10","97-0262-100",{"$f":"IF(AND(Config!$B$13<=Tarifs!F6740,Config!$B$13>=Tarifs!E6740),1,0)","v":0},"2026-03-01","2026-03-31",130]
["97-0262","10","97-0262-100",{"$f":"IF(AND(Config!$B$13<=Tarifs!F6741,Config!$B$13>=Tarifs!E6741),1,0)","v":0},"2026-04-01","2026-04-30",130]
["97-0262","10","97-0262-100",{"$f":"IF(AND(Config!$B$13<=Tarifs!F6742,Config!$B$13>=Tarifs!E6742),1,0)","v":0},"2026-05-01","2026-05-31",130]
["97-0262","10","97-0262-100",{"$f":"IF(AND(Config!$B$13<=Tarifs!F6743,Config!$B$13>=Tarifs!E6743),1,0)","v":0},"2026-11-01","2026-11-30",130]
["97-0262","10","97-0262-100",{"$f":"IF(AND(Config!$B$13<=Tarifs!F6744,Config!$B$13>=Tarifs!E6744),1,0)","v":0},"2026-12-01","2026-12-31",130]
["97-0280","30","97-0280-300",{"$f":"IF(AND(Config!$B$13<=Tarifs!F6745,Config!$B$13>=Tarifs!E6745),1,0)","v":0},"2026-07-01","2026-07-31",7320]
["97-0280","30","97-0280-300",{"$f":"IF(AND(Config!$B$13<=Tarifs!F6746,Config!$B$13>=Tarifs!E6746),1,0)","v":0},"2026-08-01","2026-08-31",7320]
["97-0280","30","97-0280-300",{"$f":"IF(AND(Config!$B$13<=Tarifs!F6747,Config!$B$13>=Tarifs!E6747),1,0)","v":0},"2026-09-01","2026-09-30",7320]
["97-0280","30","97-0280-300",{"$f":"IF(AND(Config!$B$13<=Tarifs!F6748,Config!$B$13>=Tarifs!E6748),1,0)","v":0},"2026-10-01","2026-10-31",6120]
["97-0280","30","97-0280-300",{"$f":"IF(AND(Config!$B$13<=Tarifs!F6749,Config!$B$13>=Tarifs!E6749),1,0)","v":0},"2026-06-01","2026-06-30",5970]
["97-0280","30","97-0280-300",{"$f":"IF(AND(Config!$B$13<=Tarifs!F6750,Config!$B$13>=Tarifs!E6750),1,0)","v":0},"2026-05-01","2026-05-31",4770]
["97-0280","30","97-0280-301",{"$f":"IF(AND(Config!$B$13<=Tarifs!F6751,Config!$B$13>=Tarifs!E6751),1,0)","v":1},"2026-01-01","2026-01-31",4170]
["97-0280","30","97-0280-300",{"$f":"IF(AND(Config!$B$13<=Tarifs!F6752,Config!$B$13>=Tarifs!E6752),1,0)","v":0},"2026-02-01","2026-02-28",4170]
["97-0280","30","97-0280-300",{"$f":"IF(AND(Config!$B$13<=Tarifs!F6753,Config!$B$13>=Tarifs!E6753),1,0)","v":0},"2026-03-01","2026-03-31",4170]
["97-0280","30","97-0280-300",{"$f":"IF(AND(Config!$B$13<=Tarifs!F6754,Config!$B$13>=Tarifs!E6754),1,0)","v":0},"2026-04-01","2026-04-30",4170]
["97-0280","30","97-0280-300",{"$f":"IF(AND(Config!$B$13<=Tarifs!F6755,Config!$B$13>=Tarifs!E6755),1,0)","v":0},"2026-11-01","2026-11-30",4170]
["97-0280","30","97-0280-300",{"$f":"IF(AND(Config!$B$13<=Tarifs!F6756,Config!$B$13>=Tarifs!E6756),1,0)","v":0},"2026-12-01","2026-12-31",4170]
["97-0280","20","97-0280-200",{"$f":"IF(AND(Config!$B$13<=Tarifs!F6757,Config!$B$13>=Tarifs!E6757),1,0)","v":0},"2026-07-01","2026-07-31",1708]
["97-0280","20","97-0280-200",{"$f":"IF(AND(Config!$B$13<=Tarifs!F6758,Config!$B$13>=Tarifs!E6758),1,0)","v":0},"2026-08-01","2026-08-31",1708]
["97-0280","20","97-0280-200",{"$f":"IF(AND(Config!$B$13<=Tarifs!F6759,Config!$B$13>=Tarifs!E6759),1,0)","v":0},"2026-09-01","2026-09-30",1708]
["97-0280","20","97-0280-200",{"$f":"IF(AND(Config!$B$13<=Tarifs!F6760,Config!$B$13>=Tarifs!E6760),1,0)","v":0},"2026-10-01","2026-10-31",1428]
["97-0280","20","97-0280-200",{"$f":"IF(AND(Config!$B$13<=Tarifs!F6761,Config!$B$13>=Tarifs!E6761),1,0)","v":0},"2026-06-01","2026-06-30",1393]
["97-0280","20","97-0280-200",{"$f":"IF(AND(Config!$B$13<=Tarifs!F6762,Config!$B$13>=Tarifs!E6762),1,0)","v":0},"2026-05-01","2026-05-31",1113]
["97-0280","20","97-0280-201",{"$f":"IF(AND(Config!$B$13<=Tarifs!F6763,Config!$B$13>=Tarifs!E6763),1,0)","v":1},"2026-01-01","2026-01-31",973]
["97-0280","20","97-0280-200",{"$f":"IF(AND(Config!$B$13<=Tarifs!F6764,Config!$B$13>=Tarifs!E6764),1,0)","v":0},"2026-02-01","2026-02-28",973]
["97-0280","20","97-0280-200",{"$f":"IF(AND(Config!$B$13<=Tarifs!F6765,Config!$B$13>=Tarifs!E6765),1,0)","v":0},"2026-03-01","2026-03-31",973]
["97-0280","20","97-0280-200",{"$f":"IF(AND(Config!$B$13<=Tarifs!F6766,Config!$B$13>=Tarifs!E6766),1,0)","v":0},"2026-04-01","2026-04-30",973]
["97-0280","20","97-0280-200",{"$f":"IF(AND(Config!$B$13<=Tarifs!F6767,Config!$B$13>=Tarifs!E6767),1,0)","v":0},"2026-11-01","2026-11-30",973]
["97-0280","20","97-0280-200",{"$f":"IF(AND(Config!$B$13<=Tarifs!F6768,Config!$B$13>=Tarifs!E6768),1,0)","v":0},"2026-12-01","2026-12-31",973]
["97-0280","10","97-0280-100",{"$f":"IF(AND(Config!$B$13<=Tarifs!F6769,Config!$B$13>=Tarifs!E6769),1,0)","v":0},"2026-07-01","2026-07-31",244]
["97-0280","10","97-0280-100",{"$f":"IF(AND(Config!$B$13<=Tarifs!F6770,Config!$B$13>=Tarifs!E6770),1,0)","v":0},"2026-08-01","2026-08-31",244]
["97-0280","10","97-0280-100",{"$f":"IF(AND(Config!$B$13<=Tarifs!F6771,Config!$B$13>=Tarifs!E6771),1,0)","v":0},"2026-09-01","2026-09-30",244]
["97-0280","10","97-0280-100",{"$f":"IF(AND(Config!$B$13<=Tarifs!F6772,Config!$B$13>=Tarifs!E6772),1,0)","v":0},"2026-10-01","2026-10-31",204]
["97-0280","10","97-0280-100",{"$f":"IF(AND(Config!$B$13<=Tarifs!F6773,Config!$B$13>=Tarifs!E6773),1,0)","v":0},"2026-06-01","2026-06-30",199]
["97-0280","10","97-0280-100",{"$f":"IF(AND(Config!$B$13<=Tarifs!F6774,Config!$B$13>=Tarifs!E6774),1,0)","v":0},"2026-05-01","2026-05-31",159]
["97-0280","10","97-0280-101",{"$f":"IF(AND(Config!$B$13<=Tarifs!F6775,Config!$B$13>=Tarifs!E6775),1,0)","v":1},"2026-01-01","2026-01-31",139]
["97-0280","10","97-0280-100",{"$f":"IF(AND(Config!$B$13<=Tarifs!F6776,Config!$B$13>=Tarifs!E6776),1,0)","v":0},"2026-02-01","2026-02-28",139]
["97-0280","10","97-0280-100",{"$f":"IF(AND(Config!$B$13<=Tarifs!F6777,Config!$B$13>=Tarifs!E6777),1,0)","v":0},"2026-03-01","2026-03-31",139]
["97-0280","10","97-0280-100",{"$f":"IF(AND(Config!$B$13<=Tarifs!F6778,Config!$B$13>=Tarifs!E6778),1,0)","v":0},"2026-04-01","2026-04-30",139]
["97-0280","10","97-0280-100",{"$f":"IF(AND(Config!$B$13<=Tarifs!F6779,Config!$B$13>=Tarifs!E6779),1,0)","v":0},"2026-11-01","2026-11-30",139]
["97-0280","10","97-0280-100",{"$f":"IF(AND(Config!$B$13<=Tarifs!F6780,Config!$B$13>=Tarifs!E6780),1,0)","v":0},"2026-12-01","2026-12-31",139]
["97-0281","30","97-0281-300",{"$f":"IF(AND(Config!$B$13<=Tarifs!F6781,Config!$B$13>=Tarifs!E6781),1,0)","v":0},"2026-07-01","2026-07-31",7320]
["97-0281","30","97-0281-300",{"$f":"IF(AND(Config!$B$13<=Tarifs!F6782,Config!$B$13>=Tarifs!E6782),1,0)","v":0},"2026-08-01","2026-08-31",7320]
["97-0281","30","97-0281-300",{"$f":"IF(AND(Config!$B$13<=Tarifs!F6783,Config!$B$13>=Tarifs!E6783),1,0)","v":0},"2026-09-01","2026-09-30",7320]
["97-0281","30","97-0281-300",{"$f":"IF(AND(Config!$B$13<=Tarifs!F6784,Config!$B$13>=Tarifs!E6784),1,0)","v":0},"2026-06-01","2026-06-30",5970]
["97-0281","30","97-0281-300",{"$f":"IF(AND(Config!$B$13<=Tarifs!F6785,Config!$B$13>=Tarifs!E6785),1,0)","v":0},"2026-10-01","2026-10-31",5970]
["97-0281","30","97-0281-300",{"$f":"IF(AND(Config!$B$13<=Tarifs!F6786,Config!$B$13>=Tarifs!E6786),1,0)","v":0},"2026-05-01","2026-05-31",5370]
["97-0281","30",{"$f":"A6787&\"-\"&B6787&D6787","v":"97-0281-300"},{"$f":"IF(AND(Config!$B$13<=Tarifs!F6787,Config!$B$13>=Tarifs!E6787),1,0)","v":0},"2026-04-01","2026-04-30",4770]
["97-0281","30","97-0281-300",{"$f":"IF(AND(Config!$B$13<=Tarifs!F6788,Config!$B$13>=Tarifs!E6788),1,0)","v":0},"2026-11-01","2026-11-30",4770]
["97-0281","30","97-0281-300",{"$f":"IF(AND(Config!$B$13<=Tarifs!F6789,Config!$B$13>=Tarifs!E6789),1,0)","v":0},"2026-12-01","2026-12-31",4770]
["97-0281","30","97-0281-301",{"$f":"IF(AND(Config!$B$13<=Tarifs!F6790,Config!$B$13>=Tarifs!E6790),1,0)","v":1},"2026-01-01","2026-01-31",4770]
["97-0281","30","97-0281-300",{"$f":"IF(AND(Config!$B$13<=Tarifs!F6791,Config!$B$13>=Tarifs!E6791),1,0)","v":0},"2026-02-01","2026-02-28",4770]
["97-0281","30","97-0281-300",{"$f":"IF(AND(Config!$B$13<=Tarifs!F6792,Config!$B$13>=Tarifs!E6792),1,0)","v":0},"2026-03-01","2026-03-31",4770]
["97-0281","20","97-0281-200",{"$f":"IF(AND(Config!$B$13<=Tarifs!F6793,Config!$B$13>=Tarifs!E6793),1,0)","v":0},"2026-07-01","2026-07-31",1708]
["97-0281","20","97-0281-200",{"$f":"IF(AND(Config!$B$13<=Tarifs!F6794,Config!$B$13>=Tarifs!E6794),1,0)","v":0},"2026-08-01","2026-08-31",1708]
["97-0281","20","97-0281-200",{"$f":"IF(AND(Config!$B$13<=Tarifs!F6795,Config!$B$13>=Tarifs!E6795),1,0)","v":0},"2026-09-01","2026-09-30",1708]
["97-0281","20","97-0281-200",{"$f":"IF(AND(Config!$B$13<=Tarifs!F6796,Config!$B$13>=Tarifs!E6796),1,0)","v":0},"2026-06-01","2026-06-30",1393]
["97-0281","20","97-0281-200",{"$f":"IF(AND(Config!$B$13<=Tarifs!F6797,Config!$B$13>=Tarifs!E6797),1,0)","v":0},"2026-10-01","2026-10-31",1393]
["97-0281","20","97-0281-200",{"$f":"IF(AND(Config!$B$13<=Tarifs!F6798,Config!$B$13>=Tarifs!E6798),1,0)","v":0},"2026-05-01","2026-05-31",1253]
["97-0281","20","97-0281-200",{"$f":"IF(AND(Config!$B$13<=Tarifs!F6799,Config!$B$13>=Tarifs!E6799),1,0)","v":0},"2026-04-01","2026-04-30",1113]
["97-0281","20","97-0281-200",{"$f":"IF(AND(Config!$B$13<=Tarifs!F6800,Config!$B$13>=Tarifs!E6800),1,0)","v":0},"2026-11-01","2026-11-30",1113]
["97-0281","20","97-0281-200",{"$f":"IF(AND(Config!$B$13<=Tarifs!F6801,Config!$B$13>=Tarifs!E6801),1,0)","v":0},"2026-12-01","2026-12-31",1113]
["97-0281","20","97-0281-201",{"$f":"IF(AND(Config!$B$13<=Tarifs!F6802,Config!$B$13>=Tarifs!E6802),1,0)","v":1},"2026-01-01","2026-01-31",1113]
["97-0281","20","97-0281-200",{"$f":"IF(AND(Config!$B$13<=Tarifs!F6803,Config!$B$13>=Tarifs!E6803),1,0)","v":0},"2026-02-01","2026-02-28",1113]
["97-0281","20","97-0281-200",{"$f":"IF(AND(Config!$B$13<=Tarifs!F6804,Config!$B$13>=Tarifs!E6804),1,0)","v":0},"2026-03-01","2026-03-31",1113]
["97-0281","10","97-0281-100",{"$f":"IF(AND(Config!$B$13<=Tarifs!F6805,Config!$B$13>=Tarifs!E6805),1,0)","v":0},"2026-07-01","2026-07-31",244]
["97-0281","10","97-0281-100",{"$f":"IF(AND(Config!$B$13<=Tarifs!F6806,Config!$B$13>=Tarifs!E6806),1,0)","v":0},"2026-08-01","2026-08-31",244]
["97-0281","10","97-0281-100",{"$f":"IF(AND(Config!$B$13<=Tarifs!F6807,Config!$B$13>=Tarifs!E6807),1,0)","v":0},"2026-09-01","2026-09-30",244]
["97-0281","10","97-0281-100",{"$f":"IF(AND(Config!$B$13<=Tarifs!F6808,Config!$B$13>=Tarifs!E6808),1,0)","v":0},"2026-06-01","2026-06-30",199]
["97-0281","10","97-0281-100",{"$f":"IF(AND(Config!$B$13<=Tarifs!F6809,Config!$B$13>=Tarifs!E6809),1,0)","v":0},"2026-10-01","2026-10-31",199]
["97-0281","10","97-0281-100",{"$f":"IF(AND(Config!$B$13<=Tarifs!F6810,Config!$B$13>=Tarifs!E6810),1,0)","v":0},"2026-05-01","2026-05-31",179]
["97-0281","10","97-0281-100",{"$f":"IF(AND(Config!$B$13<=Tarifs!F6811,Config!$B$13>=Tarifs!E6811),1,0)","v":0},"2026-11-01","2026-11-30",159]
["97-0281","10","97-0281-100",{"$f":"IF(AND(Config!$B$13<=Tarifs!F6812,Config!$B$13>=Tarifs!E6812),1,0)","v":0},"2026-12-01","2026-12-31",159]
["97-0281","10","97-0281-101",{"$f":"IF(AND(Config!$B$13<=Tarifs!F6813,Config!$B$13>=Tarifs!E6813),1,0)","v":1},"2026-01-01","2026-01-31",159]
["97-0281","10","97-0281-100",{"$f":"IF(AND(Config!$B$13<=Tarifs!F6814,Config!$B$13>=Tarifs!E6814),1,0)","v":0},"2026-02-01","2026-02-28",159]
["97-0281","10","97-0281-100",{"$f":"IF(AND(Config!$B$13<=Tarifs!F6815,Config!$B$13>=Tarifs!E6815),1,0)","v":0},"2026-03-01","2026-03-31",159]
["97-0281","10","97-0281-100",{"$f":"IF(AND(Config!$B$13<=Tarifs!F6816,Config!$B$13>=Tarifs!E6816),1,0)","v":0},"2026-04-01","2026-04-30",159]
["97-0286","30","97-0286-301",{"$f":"IF(AND(Config!$B$13<=Tarifs!F6817,Config!$B$13>=Tarifs!E6817),1,0)","v":1},"2026-01-01","2026-01-31",4170]
["97-0286","30","97-0286-300",{"$f":"IF(AND(Config!$B$13<=Tarifs!F6818,Config!$B$13>=Tarifs!E6818),1,0)","v":0},"2026-02-01","2026-02-28",4170]
["97-0286","30","97-0286-300",{"$f":"IF(AND(Config!$B$13<=Tarifs!F6819,Config!$B$13>=Tarifs!E6819),1,0)","v":0},"2026-03-01","2026-03-31",4170]
["97-0286","30","97-0286-300",{"$f":"IF(AND(Config!$B$13<=Tarifs!F6820,Config!$B$13>=Tarifs!E6820),1,0)","v":0},"2026-04-01","2026-04-30",4170]
["97-0286","30","97-0286-300",{"$f":"IF(AND(Config!$B$13<=Tarifs!F6821,Config!$B$13>=Tarifs!E6821),1,0)","v":0},"2026-05-01","2026-05-31",4170]
["97-0286","30","97-0286-300",{"$f":"IF(AND(Config!$B$13<=Tarifs!F6822,Config!$B$13>=Tarifs!E6822),1,0)","v":0},"2026-06-01","2026-06-30",4170]
["97-0286","30","97-0286-300",{"$f":"IF(AND(Config!$B$13<=Tarifs!F6823,Config!$B$13>=Tarifs!E6823),1,0)","v":0},"2026-07-01","2026-07-31",4170]
["97-0286","30","97-0286-300",{"$f":"IF(AND(Config!$B$13<=Tarifs!F6824,Config!$B$13>=Tarifs!E6824),1,0)","v":0},"2026-08-01","2026-08-31",4170]
["97-0286","30","97-0286-300",{"$f":"IF(AND(Config!$B$13<=Tarifs!F6825,Config!$B$13>=Tarifs!E6825),1,0)","v":0},"2026-09-01","2026-09-30",4170]
["97-0286","30","97-0286-300",{"$f":"IF(AND(Config!$B$13<=Tarifs!F6826,Config!$B$13>=Tarifs!E6826),1,0)","v":0},"2026-10-01","2026-10-31",4170]
["97-0286","30","97-0286-300",{"$f":"IF(AND(Config!$B$13<=Tarifs!F6827,Config!$B$13>=Tarifs!E6827),1,0)","v":0},"2026-11-01","2026-11-30",4170]
["97-0286","30","97-0286-300",{"$f":"IF(AND(Config!$B$13<=Tarifs!F6828,Config!$B$13>=Tarifs!E6828),1,0)","v":0},"2026-12-01","2026-12-31",4170]
["97-0286","20","97-0286-201",{"$f":"IF(AND(Config!$B$13<=Tarifs!F6829,Config!$B$13>=Tarifs!E6829),1,0)","v":1},"2026-01-01","2026-01-31",973]
["97-0286","20","97-0286-200",{"$f":"IF(AND(Config!$B$13<=Tarifs!F6830,Config!$B$13>=Tarifs!E6830),1,0)","v":0},"2026-02-01","2026-02-28",973]
["97-0286","20","97-0286-200",{"$f":"IF(AND(Config!$B$13<=Tarifs!F6831,Config!$B$13>=Tarifs!E6831),1,0)","v":0},"2026-03-01","2026-03-31",973]
["97-0286","20","97-0286-200",{"$f":"IF(AND(Config!$B$13<=Tarifs!F6832,Config!$B$13>=Tarifs!E6832),1,0)","v":0},"2026-04-01","2026-04-30",973]
["97-0286","20","97-0286-200",{"$f":"IF(AND(Config!$B$13<=Tarifs!F6833,Config!$B$13>=Tarifs!E6833),1,0)","v":0},"2026-05-01","2026-05-31",973]
["97-0286","20","97-0286-200",{"$f":"IF(AND(Config!$B$13<=Tarifs!F6834,Config!$B$13>=Tarifs!E6834),1,0)","v":0},"2026-06-01","2026-06-30",973]
["97-0286","20","97-0286-200",{"$f":"IF(AND(Config!$B$13<=Tarifs!F6835,Config!$B$13>=Tarifs!E6835),1,0)","v":0},"2026-07-01","2026-07-31",973]
["97-0286","20","97-0286-200",{"$f":"IF(AND(Config!$B$13<=Tarifs!F6836,Config!$B$13>=Tarifs!E6836),1,0)","v":0},"2026-08-01","2026-08-31",973]
["97-0286","20","97-0286-200",{"$f":"IF(AND(Config!$B$13<=Tarifs!F6837,Config!$B$13>=Tarifs!E6837),1,0)","v":0},"2026-09-01","2026-09-30",973]
["97-0286","20","97-0286-200",{"$f":"IF(AND(Config!$B$13<=Tarifs!F6838,Config!$B$13>=Tarifs!E6838),1,0)","v":0},"2026-10-01","2026-10-31",973]
["97-0286","20","97-0286-200",{"$f":"IF(AND(Config!$B$13<=Tarifs!F6839,Config!$B$13>=Tarifs!E6839),1,0)","v":0},"2026-11-01","2026-11-30",973]
["97-0286","20","97-0286-200",{"$f":"IF(AND(Config!$B$13<=Tarifs!F6840,Config!$B$13>=Tarifs!E6840),1,0)","v":0},"2026-12-01","2026-12-31",973]
["97-0286","10","97-0286-101",{"$f":"IF(AND(Config!$B$13<=Tarifs!F6841,Config!$B$13>=Tarifs!E6841),1,0)","v":1},"2026-01-01","2026-01-31",139]
["97-0286","10","97-0286-100",{"$f":"IF(AND(Config!$B$13<=Tarifs!F6842,Config!$B$13>=Tarifs!E6842),1,0)","v":0},"2026-02-01","2026-02-28",139]
["97-0286","10","97-0286-100",{"$f":"IF(AND(Config!$B$13<=Tarifs!F6843,Config!$B$13>=Tarifs!E6843),1,0)","v":0},"2026-03-01","2026-03-31",139]
["97-0286","10","97-0286-100",{"$f":"IF(AND(Config!$B$13<=Tarifs!F6844,Config!$B$13>=Tarifs!E6844),1,0)","v":0},"2026-04-01","2026-04-30",139]
["97-0286","10","97-0286-100",{"$f":"IF(AND(Config!$B$13<=Tarifs!F6845,Config!$B$13>=Tarifs!E6845),1,0)","v":0},"2026-05-01","2026-05-31",139]
["97-0286","10","97-0286-100",{"$f":"IF(AND(Config!$B$13<=Tarifs!F6846,Config!$B$13>=Tarifs!E6846),1,0)","v":0},"2026-06-01","2026-06-30",139]
["97-0286","10","97-0286-100",{"$f":"IF(AND(Config!$B$13<=Tarifs!F6847,Config!$B$13>=Tarifs!E6847),1,0)","v":0},"2026-07-01","2026-07-31",139]
["97-0286","10","97-0286-100",{"$f":"IF(AND(Config!$B$13<=Tarifs!F6848,Config!$B$13>=Tarifs!E6848),1,0)","v":0},"2026-08-01","2026-08-31",139]
["97-0286","10","97-0286-100",{"$f":"IF(AND(Config!$B$13<=Tarifs!F6849,Config!$B$13>=Tarifs!E6849),1,0)","v":0},"2026-09-01","2026-09-30",139]
["97-0286","10","97-0286-100",{"$f":"IF(AND(Config!$B$13<=Tarifs!F6850,Config!$B$13>=Tarifs!E6850),1,0)","v":0},"2026-10-01","2026-10-31",139]
["97-0286","10",{"$f":"A6851&\"-\"&B6851&D6851","v":"97-0286-100"},{"$f":"IF(AND(Config!$B$13<=Tarifs!F6851,Config!$B$13>=Tarifs!E6851),1,0)","v":0},"2026-11-01","2026-11-30",139]
["97-0286","10","97-0286-100",{"$f":"IF(AND(Config!$B$13<=Tarifs!F6852,Config!$B$13>=Tarifs!E6852),1,0)","v":0},"2026-12-01","2026-12-31",139]
["97-0290","30","97-0290-300",{"$f":"IF(AND(Config!$B$13<=Tarifs!F6853,Config!$B$13>=Tarifs!E6853),1,0)","v":0},"2026-07-01","2026-07-31",5400]
["97-0290","30","97-0290-300",{"$f":"IF(AND(Config!$B$13<=Tarifs!F6854,Config!$B$13>=Tarifs!E6854),1,0)","v":0},"2026-08-01","2026-08-31",5400]
["97-0290","30","97-0290-300",{"$f":"IF(AND(Config!$B$13<=Tarifs!F6855,Config!$B$13>=Tarifs!E6855),1,0)","v":0},"2026-09-01","2026-09-30",4320]
["97-0290","30","97-0290-300",{"$f":"IF(AND(Config!$B$13<=Tarifs!F6856,Config!$B$13>=Tarifs!E6856),1,0)","v":0},"2026-10-01","2026-10-31",4320]
["97-0290","30","97-0290-300",{"$f":"IF(AND(Config!$B$13<=Tarifs!F6857,Config!$B$13>=Tarifs!E6857),1,0)","v":0},"2026-11-01","2026-11-30",4320]
["97-0290","30","97-0290-300",{"$f":"IF(AND(Config!$B$13<=Tarifs!F6858,Config!$B$13>=Tarifs!E6858),1,0)","v":0},"2026-12-01","2026-12-31",4320]
["97-0290","30","97-0290-300",{"$f":"IF(AND(Config!$B$13<=Tarifs!F6859,Config!$B$13>=Tarifs!E6859),1,0)","v":0},"2026-04-01","2026-04-30",4170]
["97-0290","30","97-0290-300",{"$f":"IF(AND(Config!$B$13<=Tarifs!F6860,Config!$B$13>=Tarifs!E6860),1,0)","v":0},"2026-05-01","2026-05-31",4170]
["97-0290","30","97-0290-300",{"$f":"IF(AND(Config!$B$13<=Tarifs!F6861,Config!$B$13>=Tarifs!E6861),1,0)","v":0},"2026-06-01","2026-06-30",4170]
["97-0290","30","97-0290-301",{"$f":"IF(AND(Config!$B$13<=Tarifs!F6862,Config!$B$13>=Tarifs!E6862),1,0)","v":1},"2026-01-01","2026-01-31",4020]
["97-0290","30","97-0290-300",{"$f":"IF(AND(Config!$B$13<=Tarifs!F6863,Config!$B$13>=Tarifs!E6863),1,0)","v":0},"2026-02-01","2026-02-28",4020]
["97-0290","30","97-0290-300",{"$f":"IF(AND(Config!$B$13<=Tarifs!F6864,Config!$B$13>=Tarifs!E6864),1,0)","v":0},"2026-03-01","2026-03-31",4020]
["97-0290","20","97-0290-200",{"$f":"IF(AND(Config!$B$13<=Tarifs!F6865,Config!$B$13>=Tarifs!E6865),1,0)","v":0},"2026-07-01","2026-07-31",1260]
["97-0290","20","97-0290-200",{"$f":"IF(AND(Config!$B$13<=Tarifs!F6866,Config!$B$13>=Tarifs!E6866),1,0)","v":0},"2026-08-01","2026-08-31",1260]
["97-0290","20","97-0290-200",{"$f":"IF(AND(Config!$B$13<=Tarifs!F6867,Config!$B$13>=Tarifs!E6867),1,0)","v":0},"2026-09-01","2026-09-30",1008]
["97-0290","20","97-0290-200",{"$f":"IF(AND(Config!$B$13<=Tarifs!F6868,Config!$B$13>=Tarifs!E6868),1,0)","v":0},"2026-10-01","2026-10-31",1008]
["97-0290","20","97-0290-200",{"$f":"IF(AND(Config!$B$13<=Tarifs!F6869,Config!$B$13>=Tarifs!E6869),1,0)","v":0},"2026-11-01","2026-11-30",1008]
["97-0290","20","97-0290-200",{"$f":"IF(AND(Config!$B$13<=Tarifs!F6870,Config!$B$13>=Tarifs!E6870),1,0)","v":0},"2026-12-01","2026-12-31",1008]
["97-0290","20","97-0290-200",{"$f":"IF(AND(Config!$B$13<=Tarifs!F6871,Config!$B$13>=Tarifs!E6871),1,0)","v":0},"2026-04-01","2026-04-30",973]
["97-0290","20","97-0290-200",{"$f":"IF(AND(Config!$B$13<=Tarifs!F6872,Config!$B$13>=Tarifs!E6872),1,0)","v":0},"2026-05-01","2026-05-31",973]
["97-0290","20","97-0290-200",{"$f":"IF(AND(Config!$B$13<=Tarifs!F6873,Config!$B$13>=Tarifs!E6873),1,0)","v":0},"2026-06-01","2026-06-30",973]
["97-0290","20","97-0290-201",{"$f":"IF(AND(Config!$B$13<=Tarifs!F6874,Config!$B$13>=Tarifs!E6874),1,0)","v":1},"2026-01-01","2026-01-31",938]
["97-0290","20","97-0290-200",{"$f":"IF(AND(Config!$B$13<=Tarifs!F6875,Config!$B$13>=Tarifs!E6875),1,0)","v":0},"2026-02-01","2026-02-28",938]
["97-0290","20","97-0290-200",{"$f":"IF(AND(Config!$B$13<=Tarifs!F6876,Config!$B$13>=Tarifs!E6876),1,0)","v":0},"2026-03-01","2026-03-31",938]
["97-0290","10","97-0290-100",{"$f":"IF(AND(Config!$B$13<=Tarifs!F6877,Config!$B$13>=Tarifs!E6877),1,0)","v":0},"2026-07-01","2026-07-31",180]
["97-0290","10","97-0290-100",{"$f":"IF(AND(Config!$B$13<=Tarifs!F6878,Config!$B$13>=Tarifs!E6878),1,0)","v":0},"2026-08-01","2026-08-31",180]
["97-0290","10","97-0290-100",{"$f":"IF(AND(Config!$B$13<=Tarifs!F6879,Config!$B$13>=Tarifs!E6879),1,0)","v":0},"2026-09-01","2026-09-30",144]
["97-0290","10","97-0290-100",{"$f":"IF(AND(Config!$B$13<=Tarifs!F6880,Config!$B$13>=Tarifs!E6880),1,0)","v":0},"2026-10-01","2026-10-31",144]
["97-0290","10","97-0290-100",{"$f":"IF(AND(Config!$B$13<=Tarifs!F6881,Config!$B$13>=Tarifs!E6881),1,0)","v":0},"2026-11-01","2026-11-30",144]
["97-0290","10","97-0290-100",{"$f":"IF(AND(Config!$B$13<=Tarifs!F6882,Config!$B$13>=Tarifs!E6882),1,0)","v":0},"2026-12-01","2026-12-31",144]
["97-0290","10","97-0290-100",{"$f":"IF(AND(Config!$B$13<=Tarifs!F6883,Config!$B$13>=Tarifs!E6883),1,0)","v":0},"2026-04-01","2026-04-30",139]
["97-0290","10","97-0290-100",{"$f":"IF(AND(Config!$B$13<=Tarifs!F6884,Config!$B$13>=Tarifs!E6884),1,0)","v":0},"2026-05-01","2026-05-31",139]
["97-0290","10","97-0290-100",{"$f":"IF(AND(Config!$B$13<=Tarifs!F6885,Config!$B$13>=Tarifs!E6885),1,0)","v":0},"2026-06-01","2026-06-30",139]
["97-0290","10","97-0290-101",{"$f":"IF(AND(Config!$B$13<=Tarifs!F6886,Config!$B$13>=Tarifs!E6886),1,0)","v":1},"2026-01-01","2026-01-31",134]
["97-0290","10","97-0290-100",{"$f":"IF(AND(Config!$B$13<=Tarifs!F6887,Config!$B$13>=Tarifs!E6887),1,0)","v":0},"2026-02-01","2026-02-28",134]
["97-0290","10","97-0290-100",{"$f":"IF(AND(Config!$B$13<=Tarifs!F6888,Config!$B$13>=Tarifs!E6888),1,0)","v":0},"2026-03-01","2026-03-31",134]
["97-0296","30","97-0296-300",{"$f":"IF(AND(Config!$B$13<=Tarifs!F6889,Config!$B$13>=Tarifs!E6889),1,0)","v":0},"2026-05-01","2026-05-31",5520]
["97-0296","30","97-0296-300",{"$f":"IF(AND(Config!$B$13<=Tarifs!F6890,Config!$B$13>=Tarifs!E6890),1,0)","v":0},"2026-06-01","2026-06-30",5520]
["97-0296","30","97-0296-300",{"$f":"IF(AND(Config!$B$13<=Tarifs!F6891,Config!$B$13>=Tarifs!E6891),1,0)","v":0},"2026-07-01","2026-07-31",5520]
["97-0296","30","97-0296-300",{"$f":"IF(AND(Config!$B$13<=Tarifs!F6892,Config!$B$13>=Tarifs!E6892),1,0)","v":0},"2026-08-01","2026-08-31",5520]
["97-0296","30","97-0296-300",{"$f":"IF(AND(Config!$B$13<=Tarifs!F6893,Config!$B$13>=Tarifs!E6893),1,0)","v":0},"2026-09-01","2026-09-30",5520]
["97-0296","30","97-0296-301",{"$f":"IF(AND(Config!$B$13<=Tarifs!F6894,Config!$B$13>=Tarifs!E6894),1,0)","v":1},"2026-01-01","2026-01-31",4920]
["97-0296","30","97-0296-300",{"$f":"IF(AND(Config!$B$13<=Tarifs!F6895,Config!$B$13>=Tarifs!E6895),1,0)","v":0},"2026-02-01","2026-02-28",4920]
["97-0296","30","97-0296-300",{"$f":"IF(AND(Config!$B$13<=Tarifs!F6896,Config!$B$13>=Tarifs!E6896),1,0)","v":0},"2026-03-01","2026-03-31",4920]
["97-0296","30","97-0296-300",{"$f":"IF(AND(Config!$B$13<=Tarifs!F6897,Config!$B$13>=Tarifs!E6897),1,0)","v":0},"2026-04-01","2026-04-30",4920]
["97-0296","30","97-0296-300",{"$f":"IF(AND(Config!$B$13<=Tarifs!F6898,Config!$B$13>=Tarifs!E6898),1,0)","v":0},"2026-10-01","2026-10-31",4920]
["97-0296","30","97-0296-300",{"$f":"IF(AND(Config!$B$13<=Tarifs!F6899,Config!$B$13>=Tarifs!E6899),1,0)","v":0},"2026-11-01","2026-11-30",4920]
["97-0296","30","97-0296-300",{"$f":"IF(AND(Config!$B$13<=Tarifs!F6900,Config!$B$13>=Tarifs!E6900),1,0)","v":0},"2026-12-01","2026-12-31",4920]
["97-0296","20","97-0296-200",{"$f":"IF(AND(Config!$B$13<=Tarifs!F6901,Config!$B$13>=Tarifs!E6901),1,0)","v":0},"2026-05-01","2026-05-31",1288]
["97-0296","20","97-0296-200",{"$f":"IF(AND(Config!$B$13<=Tarifs!F6902,Config!$B$13>=Tarifs!E6902),1,0)","v":0},"2026-06-01","2026-06-30",1288]
["97-0296","20","97-0296-200",{"$f":"IF(AND(Config!$B$13<=Tarifs!F6903,Config!$B$13>=Tarifs!E6903),1,0)","v":0},"2026-07-01","2026-07-31",1288]
["97-0296","20","97-0296-200",{"$f":"IF(AND(Config!$B$13<=Tarifs!F6904,Config!$B$13>=Tarifs!E6904),1,0)","v":0},"2026-08-01","2026-08-31",1288]
["97-0296","20","97-0296-200",{"$f":"IF(AND(Config!$B$13<=Tarifs!F6905,Config!$B$13>=Tarifs!E6905),1,0)","v":0},"2026-09-01","2026-09-30",1288]
["97-0296","20","97-0296-201",{"$f":"IF(AND(Config!$B$13<=Tarifs!F6906,Config!$B$13>=Tarifs!E6906),1,0)","v":1},"2026-01-01","2026-01-31",1148]
["97-0296","20","97-0296-200",{"$f":"IF(AND(Config!$B$13<=Tarifs!F6907,Config!$B$13>=Tarifs!E6907),1,0)","v":0},"2026-02-01","2026-02-28",1148]
["97-0296","20","97-0296-200",{"$f":"IF(AND(Config!$B$13<=Tarifs!F6908,Config!$B$13>=Tarifs!E6908),1,0)","v":0},"2026-03-01","2026-03-31",1148]
["97-0296","20","97-0296-200",{"$f":"IF(AND(Config!$B$13<=Tarifs!F6909,Config!$B$13>=Tarifs!E6909),1,0)","v":0},"2026-04-01","2026-04-30",1148]
["97-0296","20","97-0296-200",{"$f":"IF(AND(Config!$B$13<=Tarifs!F6910,Config!$B$13>=Tarifs!E6910),1,0)","v":0},"2026-10-01","2026-10-31",1148]
["97-0296","20","97-0296-200",{"$f":"IF(AND(Config!$B$13<=Tarifs!F6911,Config!$B$13>=Tarifs!E6911),1,0)","v":0},"2026-11-01","2026-11-30",1148]
["97-0296","20","97-0296-200",{"$f":"IF(AND(Config!$B$13<=Tarifs!F6912,Config!$B$13>=Tarifs!E6912),1,0)","v":0},"2026-12-01","2026-12-31",1148]
["97-0296","10","97-0296-100",{"$f":"IF(AND(Config!$B$13<=Tarifs!F6913,Config!$B$13>=Tarifs!E6913),1,0)","v":0},"2026-05-01","2026-05-31",184]
["97-0296","10","97-0296-100",{"$f":"IF(AND(Config!$B$13<=Tarifs!F6914,Config!$B$13>=Tarifs!E6914),1,0)","v":0},"2026-06-01","2026-06-30",184]
["97-0296","10",{"$f":"A6915&\"-\"&B6915&D6915","v":"97-0296-100"},{"$f":"IF(AND(Config!$B$13<=Tarifs!F6915,Config!$B$13>=Tarifs!E6915),1,0)","v":0},"2026-07-01","2026-07-31",184]
["97-0296","10","97-0296-100",{"$f":"IF(AND(Config!$B$13<=Tarifs!F6916,Config!$B$13>=Tarifs!E6916),1,0)","v":0},"2026-08-01","2026-08-31",184]
["97-0296","10","97-0296-100",{"$f":"IF(AND(Config!$B$13<=Tarifs!F6917,Config!$B$13>=Tarifs!E6917),1,0)","v":0},"2026-09-01","2026-09-30",184]
["97-0296","10","97-0296-101",{"$f":"IF(AND(Config!$B$13<=Tarifs!F6918,Config!$B$13>=Tarifs!E6918),1,0)","v":1},"2026-01-01","2026-01-31",164]
["97-0296","10","97-0296-100",{"$f":"IF(AND(Config!$B$13<=Tarifs!F6919,Config!$B$13>=Tarifs!E6919),1,0)","v":0},"2026-02-01","2026-02-28",164]
["97-0296","10","97-0296-100",{"$f":"IF(AND(Config!$B$13<=Tarifs!F6920,Config!$B$13>=Tarifs!E6920),1,0)","v":0},"2026-03-01","2026-03-31",164]
["97-0296","10","97-0296-100",{"$f":"IF(AND(Config!$B$13<=Tarifs!F6921,Config!$B$13>=Tarifs!E6921),1,0)","v":0},"2026-04-01","2026-04-30",164]
["97-0296","10","97-0296-100",{"$f":"IF(AND(Config!$B$13<=Tarifs!F6922,Config!$B$13>=Tarifs!E6922),1,0)","v":0},"2026-10-01","2026-10-31",164]
["97-0296","10","97-0296-100",{"$f":"IF(AND(Config!$B$13<=Tarifs!F6923,Config!$B$13>=Tarifs!E6923),1,0)","v":0},"2026-11-01","2026-11-30",164]
["97-0296","10","97-0296-100",{"$f":"IF(AND(Config!$B$13<=Tarifs!F6924,Config!$B$13>=Tarifs!E6924),1,0)","v":0},"2026-12-01","2026-12-31",164]
["97-0299","30","97-0299-300",{"$f":"IF(AND(Config!$B$13<=Tarifs!F6925,Config!$B$13>=Tarifs!E6925),1,0)","v":0},"2026-09-01","2026-09-30",6570]
["97-0299","30","97-0299-300",{"$f":"IF(AND(Config!$B$13<=Tarifs!F6926,Config!$B$13>=Tarifs!E6926),1,0)","v":0},"2026-10-01","2026-10-31",6570]
["97-0299","30","97-0299-300",{"$f":"IF(AND(Config!$B$13<=Tarifs!F6927,Config!$B$13>=Tarifs!E6927),1,0)","v":0},"2026-05-01","2026-05-31",6270]
["97-0299","30","97-0299-300",{"$f":"IF(AND(Config!$B$13<=Tarifs!F6928,Config!$B$13>=Tarifs!E6928),1,0)","v":0},"2026-06-01","2026-06-30",6270]
["97-0299","30","97-0299-300",{"$f":"IF(AND(Config!$B$13<=Tarifs!F6929,Config!$B$13>=Tarifs!E6929),1,0)","v":0},"2026-11-01","2026-11-30",5550]
["97-0299","30","97-0299-300",{"$f":"IF(AND(Config!$B$13<=Tarifs!F6930,Config!$B$13>=Tarifs!E6930),1,0)","v":0},"2026-12-01","2026-12-31",5550]
["97-0299","30","97-0299-301",{"$f":"IF(AND(Config!$B$13<=Tarifs!F6931,Config!$B$13>=Tarifs!E6931),1,0)","v":1},"2026-01-01","2026-01-31",5370]
["97-0299","30","97-0299-300",{"$f":"IF(AND(Config!$B$13<=Tarifs!F6932,Config!$B$13>=Tarifs!E6932),1,0)","v":0},"2026-02-01","2026-02-28",5370]
["97-0299","30","97-0299-300",{"$f":"IF(AND(Config!$B$13<=Tarifs!F6933,Config!$B$13>=Tarifs!E6933),1,0)","v":0},"2026-03-01","2026-03-31",5370]
["97-0299","30","97-0299-300",{"$f":"IF(AND(Config!$B$13<=Tarifs!F6934,Config!$B$13>=Tarifs!E6934),1,0)","v":0},"2026-04-01","2026-04-30",5370]
["97-0299","30","97-0299-300",{"$f":"IF(AND(Config!$B$13<=Tarifs!F6935,Config!$B$13>=Tarifs!E6935),1,0)","v":0},"2026-07-01","2026-07-31",4770]
["97-0299","30","97-0299-300",{"$f":"IF(AND(Config!$B$13<=Tarifs!F6936,Config!$B$13>=Tarifs!E6936),1,0)","v":0},"2026-08-01","2026-08-31",4770]
["97-0299","20","97-0299-200",{"$f":"IF(AND(Config!$B$13<=Tarifs!F6937,Config!$B$13>=Tarifs!E6937),1,0)","v":0},"2026-09-01","2026-09-30",1533]
["97-0299","20","97-0299-200",{"$f":"IF(AND(Config!$B$13<=Tarifs!F6938,Config!$B$13>=Tarifs!E6938),1,0)","v":0},"2026-10-01","2026-10-31",1533]
["97-0299","20","97-0299-200",{"$f":"IF(AND(Config!$B$13<=Tarifs!F6939,Config!$B$13>=Tarifs!E6939),1,0)","v":0},"2026-05-01","2026-05-31",1463]
["97-0299","20","97-0299-200",{"$f":"IF(AND(Config!$B$13<=Tarifs!F6940,Config!$B$13>=Tarifs!E6940),1,0)","v":0},"2026-06-01","2026-06-30",1463]
["97-0299","20","97-0299-200",{"$f":"IF(AND(Config!$B$13<=Tarifs!F6941,Config!$B$13>=Tarifs!E6941),1,0)","v":0},"2026-11-01","2026-11-30",1295]
["97-0299","20","97-0299-200",{"$f":"IF(AND(Config!$B$13<=Tarifs!F6942,Config!$B$13>=Tarifs!E6942),1,0)","v":0},"2026-12-01","2026-12-31",1295]
["97-0299","20","97-0299-201",{"$f":"IF(AND(Config!$B$13<=Tarifs!F6943,Config!$B$13>=Tarifs!E6943),1,0)","v":1},"2026-01-01","2026-01-31",1253]
["97-0299","20","97-0299-200",{"$f":"IF(AND(Config!$B$13<=Tarifs!F6944,Config!$B$13>=Tarifs!E6944),1,0)","v":0},"2026-02-01","2026-02-28",1253]
["97-0299","20","97-0299-200",{"$f":"IF(AND(Config!$B$13<=Tarifs!F6945,Config!$B$13>=Tarifs!E6945),1,0)","v":0},"2026-03-01","2026-03-31",1253]
["97-0299","20","97-0299-200",{"$f":"IF(AND(Config!$B$13<=Tarifs!F6946,Config!$B$13>=Tarifs!E6946),1,0)","v":0},"2026-04-01","2026-04-30",1253]
["97-0299","20","97-0299-200",{"$f":"IF(AND(Config!$B$13<=Tarifs!F6947,Config!$B$13>=Tarifs!E6947),1,0)","v":0},"2026-07-01","2026-07-31",1113]
["97-0299","20","97-0299-200",{"$f":"IF(AND(Config!$B$13<=Tarifs!F6948,Config!$B$13>=Tarifs!E6948),1,0)","v":0},"2026-08-01","2026-08-31",1113]
["97-0299","10","97-0299-100",{"$f":"IF(AND(Config!$B$13<=Tarifs!F6949,Config!$B$13>=Tarifs!E6949),1,0)","v":0},"2026-09-01","2026-09-30",219]
["97-0299","10","97-0299-100",{"$f":"IF(AND(Config!$B$13<=Tarifs!F6950,Config!$B$13>=Tarifs!E6950),1,0)","v":0},"2026-10-01","2026-10-31",219]
["97-0299","10","97-0299-100",{"$f":"IF(AND(Config!$B$13<=Tarifs!F6951,Config!$B$13>=Tarifs!E6951),1,0)","v":0},"2026-05-01","2026-05-31",209]
["97-0299","10","97-0299-100",{"$f":"IF(AND(Config!$B$13<=Tarifs!F6952,Config!$B$13>=Tarifs!E6952),1,0)","v":0},"2026-06-01","2026-06-30",209]
["97-0299","10","97-0299-100",{"$f":"IF(AND(Config!$B$13<=Tarifs!F6953,Config!$B$13>=Tarifs!E6953),1,0)","v":0},"2026-11-01","2026-11-30",185]
["97-0299","10","97-0299-100",{"$f":"IF(AND(Config!$B$13<=Tarifs!F6954,Config!$B$13>=Tarifs!E6954),1,0)","v":0},"2026-12-01","2026-12-31",185]
["97-0299","10","97-0299-101",{"$f":"IF(AND(Config!$B$13<=Tarifs!F6955,Config!$B$13>=Tarifs!E6955),1,0)","v":1},"2026-01-01","2026-01-31",179]
["97-0299","10","97-0299-100",{"$f":"IF(AND(Config!$B$13<=Tarifs!F6956,Config!$B$13>=Tarifs!E6956),1,0)","v":0},"2026-02-01","2026-02-28",179]
["97-0299","10","97-0299-100",{"$f":"IF(AND(Config!$B$13<=Tarifs!F6957,Config!$B$13>=Tarifs!E6957),1,0)","v":0},"2026-03-01","2026-03-31",179]
["97-0299","10","97-0299-100",{"$f":"IF(AND(Config!$B$13<=Tarifs!F6958,Config!$B$13>=Tarifs!E6958),1,0)","v":0},"2026-04-01","2026-04-30",179]
["97-0299","10","97-0299-100",{"$f":"IF(AND(Config!$B$13<=Tarifs!F6959,Config!$B$13>=Tarifs!E6959),1,0)","v":0},"2026-07-01","2026-07-31",159]
["97-0299","10","97-0299-100",{"$f":"IF(AND(Config!$B$13<=Tarifs!F6960,Config!$B$13>=Tarifs!E6960),1,0)","v":0},"2026-08-01","2026-08-31",159]
["97-0301","30","97-0301-300",{"$f":"IF(AND(Config!$B$13<=Tarifs!F6961,Config!$B$13>=Tarifs!E6961),1,0)","v":0},"2026-05-01","2026-05-31",4470]
["97-0301","30","97-0301-300",{"$f":"IF(AND(Config!$B$13<=Tarifs!F6962,Config!$B$13>=Tarifs!E6962),1,0)","v":0},"2026-06-01","2026-06-30",4470]
["97-0301","30","97-0301-300",{"$f":"IF(AND(Config!$B$13<=Tarifs!F6963,Config!$B$13>=Tarifs!E6963),1,0)","v":0},"2026-07-01","2026-07-31",4470]
["97-0301","30","97-0301-300",{"$f":"IF(AND(Config!$B$13<=Tarifs!F6964,Config!$B$13>=Tarifs!E6964),1,0)","v":0},"2026-04-01","2026-04-30",3810]
["97-0301","30","97-0301-300",{"$f":"IF(AND(Config!$B$13<=Tarifs!F6965,Config!$B$13>=Tarifs!E6965),1,0)","v":0},"2026-08-01","2026-08-31",3810]
["97-0301","30","97-0301-300",{"$f":"IF(AND(Config!$B$13<=Tarifs!F6966,Config!$B$13>=Tarifs!E6966),1,0)","v":0},"2026-09-01","2026-09-30",3810]
["97-0301","30","97-0301-300",{"$f":"IF(AND(Config!$B$13<=Tarifs!F6967,Config!$B$13>=Tarifs!E6967),1,0)","v":0},"2026-10-01","2026-10-31",3810]
["97-0301","30","97-0301-300",{"$f":"IF(AND(Config!$B$13<=Tarifs!F6968,Config!$B$13>=Tarifs!E6968),1,0)","v":0},"2026-11-01","2026-11-30",3810]
["97-0301","30","97-0301-300",{"$f":"IF(AND(Config!$B$13<=Tarifs!F6969,Config!$B$13>=Tarifs!E6969),1,0)","v":0},"2026-12-01","2026-12-31",3810]
["97-0301","30","97-0301-301",{"$f":"IF(AND(Config!$B$13<=Tarifs!F6970,Config!$B$13>=Tarifs!E6970),1,0)","v":1},"2026-01-01","2026-01-31",3720]
["97-0301","30","97-0301-300",{"$f":"IF(AND(Config!$B$13<=Tarifs!F6971,Config!$B$13>=Tarifs!E6971),1,0)","v":0},"2026-02-01","2026-02-28",3720]
["97-0301","30","97-0301-300",{"$f":"IF(AND(Config!$B$13<=Tarifs!F6972,Config!$B$13>=Tarifs!E6972),1,0)","v":0},"2026-03-01","2026-03-31",3720]
["97-0301","20","97-0301-200",{"$f":"IF(AND(Config!$B$13<=Tarifs!F6973,Config!$B$13>=Tarifs!E6973),1,0)","v":0},"2026-05-01","2026-05-31",1043]
["97-0301","20","97-0301-200",{"$f":"IF(AND(Config!$B$13<=Tarifs!F6974,Config!$B$13>=Tarifs!E6974),1,0)","v":0},"2026-06-01","2026-06-30",1043]
["97-0301","20","97-0301-200",{"$f":"IF(AND(Config!$B$13<=Tarifs!F6975,Config!$B$13>=Tarifs!E6975),1,0)","v":0},"2026-07-01","2026-07-31",1043]
["97-0301","20","97-0301-200",{"$f":"IF(AND(Config!$B$13<=Tarifs!F6976,Config!$B$13>=Tarifs!E6976),1,0)","v":0},"2026-04-01","2026-04-30",889]
["97-0301","20","97-0301-200",{"$f":"IF(AND(Config!$B$13<=Tarifs!F6977,Config!$B$13>=Tarifs!E6977),1,0)","v":0},"2026-08-01","2026-08-31",889]
["97-0301","20","97-0301-200",{"$f":"IF(AND(Config!$B$13<=Tarifs!F6978,Config!$B$13>=Tarifs!E6978),1,0)","v":0},"2026-09-01","2026-09-30",889]
["97-0301","20",{"$f":"A6979&\"-\"&B6979&D6979","v":"97-0301-200"},{"$f":"IF(AND(Config!$B$13<=Tarifs!F6979,Config!$B$13>=Tarifs!E6979),1,0)","v":0},"2026-10-01","2026-10-31",889]
["97-0301","20","97-0301-200",{"$f":"IF(AND(Config!$B$13<=Tarifs!F6980,Config!$B$13>=Tarifs!E6980),1,0)","v":0},"2026-11-01","2026-11-30",889]
["97-0301","20","97-0301-200",{"$f":"IF(AND(Config!$B$13<=Tarifs!F6981,Config!$B$13>=Tarifs!E6981),1,0)","v":0},"2026-12-01","2026-12-31",889]
["97-0301","20","97-0301-201",{"$f":"IF(AND(Config!$B$13<=Tarifs!F6982,Config!$B$13>=Tarifs!E6982),1,0)","v":1},"2026-01-01","2026-01-31",868]
["97-0301","20","97-0301-200",{"$f":"IF(AND(Config!$B$13<=Tarifs!F6983,Config!$B$13>=Tarifs!E6983),1,0)","v":0},"2026-02-01","2026-02-28",868]
["97-0301","20","97-0301-200",{"$f":"IF(AND(Config!$B$13<=Tarifs!F6984,Config!$B$13>=Tarifs!E6984),1,0)","v":0},"2026-03-01","2026-03-31",868]
["97-0301","10","97-0301-100",{"$f":"IF(AND(Config!$B$13<=Tarifs!F6985,Config!$B$13>=Tarifs!E6985),1,0)","v":0},"2026-05-01","2026-05-31",149]
["97-0301","10","97-0301-100",{"$f":"IF(AND(Config!$B$13<=Tarifs!F6986,Config!$B$13>=Tarifs!E6986),1,0)","v":0},"2026-06-01","2026-06-30",149]
["97-0301","10","97-0301-100",{"$f":"IF(AND(Config!$B$13<=Tarifs!F6987,Config!$B$13>=Tarifs!E6987),1,0)","v":0},"2026-07-01","2026-07-31",149]
["97-0301","10","97-0301-100",{"$f":"IF(AND(Config!$B$13<=Tarifs!F6988,Config!$B$13>=Tarifs!E6988),1,0)","v":0},"2026-04-01","2026-04-30",127]
["97-0301","10","97-0301-100",{"$f":"IF(AND(Config!$B$13<=Tarifs!F6989,Config!$B$13>=Tarifs!E6989),1,0)","v":0},"2026-08-01","2026-08-31",127]
["97-0301","10","97-0301-100",{"$f":"IF(AND(Config!$B$13<=Tarifs!F6990,Config!$B$13>=Tarifs!E6990),1,0)","v":0},"2026-09-01","2026-09-30",127]
["97-0301","10","97-0301-100",{"$f":"IF(AND(Config!$B$13<=Tarifs!F6991,Config!$B$13>=Tarifs!E6991),1,0)","v":0},"2026-10-01","2026-10-31",127]
["97-0301","10","97-0301-100",{"$f":"IF(AND(Config!$B$13<=Tarifs!F6992,Config!$B$13>=Tarifs!E6992),1,0)","v":0},"2026-11-01","2026-11-30",127]
["97-0301","10","97-0301-100",{"$f":"IF(AND(Config!$B$13<=Tarifs!F6993,Config!$B$13>=Tarifs!E6993),1,0)","v":0},"2026-12-01","2026-12-31",127]
["97-0301","10","97-0301-101",{"$f":"IF(AND(Config!$B$13<=Tarifs!F6994,Config!$B$13>=Tarifs!E6994),1,0)","v":1},"2026-01-01","2026-01-31",124]
["97-0301","10","97-0301-100",{"$f":"IF(AND(Config!$B$13<=Tarifs!F6995,Config!$B$13>=Tarifs!E6995),1,0)","v":0},"2026-02-01","2026-02-28",124]
["97-0301","10","97-0301-100",{"$f":"IF(AND(Config!$B$13<=Tarifs!F6996,Config!$B$13>=Tarifs!E6996),1,0)","v":0},"2026-03-01","2026-03-31",124]
["97-0304","30","97-0304-300",{"$f":"IF(AND(Config!$B$13<=Tarifs!F6997,Config!$B$13>=Tarifs!E6997),1,0)","v":0},"2026-07-01","2026-07-31",8309.7000000000007]
["97-0304","30","97-0304-300",{"$f":"IF(AND(Config!$B$13<=Tarifs!F6998,Config!$B$13>=Tarifs!E6998),1,0)","v":0},"2026-08-01","2026-08-31",8309.7000000000007]
["97-0304","30","97-0304-300",{"$f":"IF(AND(Config!$B$13<=Tarifs!F6999,Config!$B$13>=Tarifs!E6999),1,0)","v":0},"2026-04-01","2026-04-30",5639.7]
["97-0304","30","97-0304-300",{"$f":"IF(AND(Config!$B$13<=Tarifs!F7000,Config!$B$13>=Tarifs!E7000),1,0)","v":0},"2026-05-01","2026-05-31",5639.7]
["97-0304","30","97-0304-300",{"$f":"IF(AND(Config!$B$13<=Tarifs!F7001,Config!$B$13>=Tarifs!E7001),1,0)","v":0},"2026-06-01","2026-06-30",5639.7]
["97-0304","30","97-0304-300",{"$f":"IF(AND(Config!$B$13<=Tarifs!F7002,Config!$B$13>=Tarifs!E7002),1,0)","v":0},"2026-09-01","2026-09-30",5639.7]
["97-0304","30","97-0304-300",{"$f":"IF(AND(Config!$B$13<=Tarifs!F7003,Config!$B$13>=Tarifs!E7003),1,0)","v":0},"2026-10-01","2026-10-31",5639.7]
["97-0304","30","97-0304-301",{"$f":"IF(AND(Config!$B$13<=Tarifs!F7004,Config!$B$13>=Tarifs!E7004),1,0)","v":1},"2026-01-01","2026-01-31",4979.7]
["97-0304","30","97-0304-300",{"$f":"IF(AND(Config!$B$13<=Tarifs!F7005,Config!$B$13>=Tarifs!E7005),1,0)","v":0},"2026-02-01","2026-02-28",4979.7]
["97-0304","30","97-0304-300",{"$f":"IF(AND(Config!$B$13<=Tarifs!F7006,Config!$B$13>=Tarifs!E7006),1,0)","v":0},"2026-03-01","2026-03-31",4979.7]
["97-0304","30","97-0304-300",{"$f":"IF(AND(Config!$B$13<=Tarifs!F7007,Config!$B$13>=Tarifs!E7007),1,0)","v":0},"2026-11-01","2026-11-30",4979.7]
["97-0304","30","97-0304-300",{"$f":"IF(AND(Config!$B$13<=Tarifs!F7008,Config!$B$13>=Tarifs!E7008),1,0)","v":0},"2026-12-01","2026-12-31",4979.7]
["97-0304","20","97-0304-200",{"$f":"IF(AND(Config!$B$13<=Tarifs!F7009,Config!$B$13>=Tarifs!E7009),1,0)","v":0},"2026-07-01","2026-07-31",1938.93]
["97-0304","20","97-0304-200",{"$f":"IF(AND(Config!$B$13<=Tarifs!F7010,Config!$B$13>=Tarifs!E7010),1,0)","v":0},"2026-08-01","2026-08-31",1938.93]
["97-0304","20","97-0304-200",{"$f":"IF(AND(Config!$B$13<=Tarifs!F7011,Config!$B$13>=Tarifs!E7011),1,0)","v":0},"2026-09-01","2026-09-30",1318.93]
["97-0304","20","97-0304-200",{"$f":"IF(AND(Config!$B$13<=Tarifs!F7012,Config!$B$13>=Tarifs!E7012),1,0)","v":0},"2026-10-01","2026-10-31",1318.93]
["97-0304","20","97-0304-200",{"$f":"IF(AND(Config!$B$13<=Tarifs!F7013,Config!$B$13>=Tarifs!E7013),1,0)","v":0},"2026-04-01","2026-04-30",1315.93]
["97-0304","20","97-0304-200",{"$f":"IF(AND(Config!$B$13<=Tarifs!F7014,Config!$B$13>=Tarifs!E7014),1,0)","v":0},"2026-05-01","2026-05-31",1315.93]
["97-0304","20","97-0304-200",{"$f":"IF(AND(Config!$B$13<=Tarifs!F7015,Config!$B$13>=Tarifs!E7015),1,0)","v":0},"2026-06-01","2026-06-30",1315.93]
["97-0304","20","97-0304-201",{"$f":"IF(AND(Config!$B$13<=Tarifs!F7016,Config!$B$13>=Tarifs!E7016),1,0)","v":1},"2026-01-01","2026-01-31",1161.93]
["97-0304","20","97-0304-200",{"$f":"IF(AND(Config!$B$13<=Tarifs!F7017,Config!$B$13>=Tarifs!E7017),1,0)","v":0},"2026-02-01","2026-02-28",1161.93]
["97-0304","20","97-0304-200",{"$f":"IF(AND(Config!$B$13<=Tarifs!F7018,Config!$B$13>=Tarifs!E7018),1,0)","v":0},"2026-03-01","2026-03-31",1161.93]
["97-0304","20","97-0304-200",{"$f":"IF(AND(Config!$B$13<=Tarifs!F7019,Config!$B$13>=Tarifs!E7019),1,0)","v":0},"2026-11-01","2026-11-30",1161.93]
["97-0304","20","97-0304-200",{"$f":"IF(AND(Config!$B$13<=Tarifs!F7020,Config!$B$13>=Tarifs!E7020),1,0)","v":0},"2026-12-01","2026-12-31",1161.93]
["97-0304","10","97-0304-100",{"$f":"IF(AND(Config!$B$13<=Tarifs!F7021,Config!$B$13>=Tarifs!E7021),1,0)","v":0},"2026-07-01","2026-07-31",276.99]
["97-0304","10","97-0304-100",{"$f":"IF(AND(Config!$B$13<=Tarifs!F7022,Config!$B$13>=Tarifs!E7022),1,0)","v":0},"2026-08-01","2026-08-31",276.99]
["97-0304","10","97-0304-100",{"$f":"IF(AND(Config!$B$13<=Tarifs!F7023,Config!$B$13>=Tarifs!E7023),1,0)","v":0},"2026-04-01","2026-04-30",187.99]
["97-0304","10","97-0304-100",{"$f":"IF(AND(Config!$B$13<=Tarifs!F7024,Config!$B$13>=Tarifs!E7024),1,0)","v":0},"2026-05-01","2026-05-31",187.99]
["97-0304","10","97-0304-100",{"$f":"IF(AND(Config!$B$13<=Tarifs!F7025,Config!$B$13>=Tarifs!E7025),1,0)","v":0},"2026-06-01","2026-06-30",187.99]
["97-0304","10","97-0304-100",{"$f":"IF(AND(Config!$B$13<=Tarifs!F7026,Config!$B$13>=Tarifs!E7026),1,0)","v":0},"2026-09-01","2026-09-30",187.99]
["97-0304","10","97-0304-100",{"$f":"IF(AND(Config!$B$13<=Tarifs!F7027,Config!$B$13>=Tarifs!E7027),1,0)","v":0},"2026-10-01","2026-10-31",187.99]
["97-0304","10","97-0304-101",{"$f":"IF(AND(Config!$B$13<=Tarifs!F7028,Config!$B$13>=Tarifs!E7028),1,0)","v":1},"2026-01-01","2026-01-31",165.99]
["97-0304","10","97-0304-100",{"$f":"IF(AND(Config!$B$13<=Tarifs!F7029,Config!$B$13>=Tarifs!E7029),1,0)","v":0},"2026-02-01","2026-02-28",165.99]
["97-0304","10","97-0304-100",{"$f":"IF(AND(Config!$B$13<=Tarifs!F7030,Config!$B$13>=Tarifs!E7030),1,0)","v":0},"2026-03-01","2026-03-31",165.99]
["97-0304","10","97-0304-100",{"$f":"IF(AND(Config!$B$13<=Tarifs!F7031,Config!$B$13>=Tarifs!E7031),1,0)","v":0},"2026-11-01","2026-11-30",165.99]
["97-0304","10","97-0304-100",{"$f":"IF(AND(Config!$B$13<=Tarifs!F7032,Config!$B$13>=Tarifs!E7032),1,0)","v":0},"2026-12-01","2026-12-31",165.99]
["97-0308","30","97-0308-300",{"$f":"IF(AND(Config!$B$13<=Tarifs!F7033,Config!$B$13>=Tarifs!E7033),1,0)","v":0},"2026-06-01","2026-06-30",5670]
["97-0308","30","97-0308-300",{"$f":"IF(AND(Config!$B$13<=Tarifs!F7034,Config!$B$13>=Tarifs!E7034),1,0)","v":0},"2026-07-01","2026-07-31",5670]
["97-0308","30","97-0308-300",{"$f":"IF(AND(Config!$B$13<=Tarifs!F7035,Config!$B$13>=Tarifs!E7035),1,0)","v":0},"2026-08-01","2026-08-31",5670]
["97-0308","30","97-0308-300",{"$f":"IF(AND(Config!$B$13<=Tarifs!F7036,Config!$B$13>=Tarifs!E7036),1,0)","v":0},"2026-05-01","2026-05-31",4320]
["97-0308","30","97-0308-300",{"$f":"IF(AND(Config!$B$13<=Tarifs!F7037,Config!$B$13>=Tarifs!E7037),1,0)","v":0},"2026-09-01","2026-09-30",4320]
["97-0308","30","97-0308-300",{"$f":"IF(AND(Config!$B$13<=Tarifs!F7038,Config!$B$13>=Tarifs!E7038),1,0)","v":0},"2026-10-01","2026-10-31",4320]
["97-0308","30","97-0308-300",{"$f":"IF(AND(Config!$B$13<=Tarifs!F7039,Config!$B$13>=Tarifs!E7039),1,0)","v":0},"2026-11-01","2026-11-30",4320]
["97-0308","30","97-0308-300",{"$f":"IF(AND(Config!$B$13<=Tarifs!F7040,Config!$B$13>=Tarifs!E7040),1,0)","v":0},"2026-12-01","2026-12-31",4320]
["97-0308","30","97-0308-301",{"$f":"IF(AND(Config!$B$13<=Tarifs!F7041,Config!$B$13>=Tarifs!E7041),1,0)","v":1},"2026-01-01","2026-01-31",4260]
["97-0308","30","97-0308-300",{"$f":"IF(AND(Config!$B$13<=Tarifs!F7042,Config!$B$13>=Tarifs!E7042),1,0)","v":0},"2026-02-01","2026-02-28",4260]
["97-0308","30",{"$f":"A7043&\"-\"&B7043&D7043","v":"97-0308-300"},{"$f":"IF(AND(Config!$B$13<=Tarifs!F7043,Config!$B$13>=Tarifs!E7043),1,0)","v":0},"2026-03-01","2026-03-31",4260]
["97-0308","30","97-0308-300",{"$f":"IF(AND(Config!$B$13<=Tarifs!F7044,Config!$B$13>=Tarifs!E7044),1,0)","v":0},"2026-04-01","2026-04-30",4260]
["97-0308","20","97-0308-200",{"$f":"IF(AND(Config!$B$13<=Tarifs!F7045,Config!$B$13>=Tarifs!E7045),1,0)","v":0},"2026-06-01","2026-06-30",1323]
["97-0308","20","97-0308-200",{"$f":"IF(AND(Config!$B$13<=Tarifs!F7046,Config!$B$13>=Tarifs!E7046),1,0)","v":0},"2026-07-01","2026-07-31",1323]
["97-0308","20","97-0308-200",{"$f":"IF(AND(Config!$B$13<=Tarifs!F7047,Config!$B$13>=Tarifs!E7047),1,0)","v":0},"2026-08-01","2026-08-31",1323]
["97-0308","20","97-0308-200",{"$f":"IF(AND(Config!$B$13<=Tarifs!F7048,Config!$B$13>=Tarifs!E7048),1,0)","v":0},"2026-05-01","2026-05-31",1008]
["97-0308","20","97-0308-200",{"$f":"IF(AND(Config!$B$13<=Tarifs!F7049,Config!$B$13>=Tarifs!E7049),1,0)","v":0},"2026-09-01","2026-09-30",1008]
["97-0308","20","97-0308-200",{"$f":"IF(AND(Config!$B$13<=Tarifs!F7050,Config!$B$13>=Tarifs!E7050),1,0)","v":0},"2026-10-01","2026-10-31",1008]
["97-0308","20","97-0308-200",{"$f":"IF(AND(Config!$B$13<=Tarifs!F7051,Config!$B$13>=Tarifs!E7051),1,0)","v":0},"2026-11-01","2026-11-30",1008]
["97-0308","20","97-0308-200",{"$f":"IF(AND(Config!$B$13<=Tarifs!F7052,Config!$B$13>=Tarifs!E7052),1,0)","v":0},"2026-12-01","2026-12-31",1008]
["97-0308","20","97-0308-201",{"$f":"IF(AND(Config!$B$13<=Tarifs!F7053,Config!$B$13>=Tarifs!E7053),1,0)","v":1},"2026-01-01","2026-01-31",994]
["97-0308","20","97-0308-200",{"$f":"IF(AND(Config!$B$13<=Tarifs!F7054,Config!$B$13>=Tarifs!E7054),1,0)","v":0},"2026-02-01","2026-02-28",994]
["97-0308","20","97-0308-200",{"$f":"IF(AND(Config!$B$13<=Tarifs!F7055,Config!$B$13>=Tarifs!E7055),1,0)","v":0},"2026-03-01","2026-03-31",994]
["97-0308","20","97-0308-200",{"$f":"IF(AND(Config!$B$13<=Tarifs!F7056,Config!$B$13>=Tarifs!E7056),1,0)","v":0},"2026-04-01","2026-04-30",994]
["97-0308","10","97-0308-100",{"$f":"IF(AND(Config!$B$13<=Tarifs!F7057,Config!$B$13>=Tarifs!E7057),1,0)","v":0},"2026-06-01","2026-06-30",189]
["97-0308","10","97-0308-100",{"$f":"IF(AND(Config!$B$13<=Tarifs!F7058,Config!$B$13>=Tarifs!E7058),1,0)","v":0},"2026-07-01","2026-07-31",189]
["97-0308","10","97-0308-100",{"$f":"IF(AND(Config!$B$13<=Tarifs!F7059,Config!$B$13>=Tarifs!E7059),1,0)","v":0},"2026-08-01","2026-08-31",189]
["97-0308","10","97-0308-100",{"$f":"IF(AND(Config!$B$13<=Tarifs!F7060,Config!$B$13>=Tarifs!E7060),1,0)","v":0},"2026-05-01","2026-05-31",144]
["97-0308","10","97-0308-100",{"$f":"IF(AND(Config!$B$13<=Tarifs!F7061,Config!$B$13>=Tarifs!E7061),1,0)","v":0},"2026-09-01","2026-09-30",144]
["97-0308","10","97-0308-100",{"$f":"IF(AND(Config!$B$13<=Tarifs!F7062,Config!$B$13>=Tarifs!E7062),1,0)","v":0},"2026-10-01","2026-10-31",144]
["97-0308","10","97-0308-100",{"$f":"IF(AND(Config!$B$13<=Tarifs!F7063,Config!$B$13>=Tarifs!E7063),1,0)","v":0},"2026-11-01","2026-11-30",144]
["97-0308","10","97-0308-100",{"$f":"IF(AND(Config!$B$13<=Tarifs!F7064,Config!$B$13>=Tarifs!E7064),1,0)","v":0},"2026-12-01","2026-12-31",144]
["97-0308","10","97-0308-101",{"$f":"IF(AND(Config!$B$13<=Tarifs!F7065,Config!$B$13>=Tarifs!E7065),1,0)","v":1},"2026-01-01","2026-01-31",142]
["97-0308","10","97-0308-100",{"$f":"IF(AND(Config!$B$13<=Tarifs!F7066,Config!$B$13>=Tarifs!E7066),1,0)","v":0},"2026-02-01","2026-02-28",142]
["97-0308","10","97-0308-100",{"$f":"IF(AND(Config!$B$13<=Tarifs!F7067,Config!$B$13>=Tarifs!E7067),1,0)","v":0},"2026-03-01","2026-03-31",142]
["97-0308","10","97-0308-100",{"$f":"IF(AND(Config!$B$13<=Tarifs!F7068,Config!$B$13>=Tarifs!E7068),1,0)","v":0},"2026-04-01","2026-04-30",142]
["97-0309","30","97-0309-300",{"$f":"IF(AND(Config!$B$13<=Tarifs!F7069,Config!$B$13>=Tarifs!E7069),1,0)","v":0},"2026-09-01","2026-09-30",46550]
["97-0309","30","97-0309-300",{"$f":"IF(AND(Config!$B$13<=Tarifs!F7070,Config!$B$13>=Tarifs!E7070),1,0)","v":0},"2026-06-01","2026-06-30",4800]
["97-0309","30","97-0309-300",{"$f":"IF(AND(Config!$B$13<=Tarifs!F7071,Config!$B$13>=Tarifs!E7071),1,0)","v":0},"2026-07-01","2026-07-31",4800]
["97-0309","30","97-0309-300",{"$f":"IF(AND(Config!$B$13<=Tarifs!F7072,Config!$B$13>=Tarifs!E7072),1,0)","v":0},"2026-08-01","2026-08-31",4800]
["97-0309","30","97-0309-300",{"$f":"IF(AND(Config!$B$13<=Tarifs!F7073,Config!$B$13>=Tarifs!E7073),1,0)","v":0},"2026-10-01","2026-10-31",4350]
["97-0309","30","97-0309-300",{"$f":"IF(AND(Config!$B$13<=Tarifs!F7074,Config!$B$13>=Tarifs!E7074),1,0)","v":0},"2026-11-01","2026-11-30",4350]
["97-0309","30","97-0309-300",{"$f":"IF(AND(Config!$B$13<=Tarifs!F7075,Config!$B$13>=Tarifs!E7075),1,0)","v":0},"2026-12-01","2026-12-31",4350]
["97-0309","30","97-0309-301",{"$f":"IF(AND(Config!$B$13<=Tarifs!F7076,Config!$B$13>=Tarifs!E7076),1,0)","v":1},"2026-01-01","2026-01-31",4320]
["97-0309","30","97-0309-300",{"$f":"IF(AND(Config!$B$13<=Tarifs!F7077,Config!$B$13>=Tarifs!E7077),1,0)","v":0},"2026-02-01","2026-02-28",4320]
["97-0309","30","97-0309-300",{"$f":"IF(AND(Config!$B$13<=Tarifs!F7078,Config!$B$13>=Tarifs!E7078),1,0)","v":0},"2026-03-01","2026-03-31",4320]
["97-0309","30","97-0309-300",{"$f":"IF(AND(Config!$B$13<=Tarifs!F7079,Config!$B$13>=Tarifs!E7079),1,0)","v":0},"2026-04-01","2026-04-30",4320]
["97-0309","30","97-0309-300",{"$f":"IF(AND(Config!$B$13<=Tarifs!F7080,Config!$B$13>=Tarifs!E7080),1,0)","v":0},"2026-05-01","2026-05-31",4320]
["97-0309","20","97-0309-200",{"$f":"IF(AND(Config!$B$13<=Tarifs!F7081,Config!$B$13>=Tarifs!E7081),1,0)","v":0},"2026-06-01","2026-06-30",1120]
["97-0309","20","97-0309-200",{"$f":"IF(AND(Config!$B$13<=Tarifs!F7082,Config!$B$13>=Tarifs!E7082),1,0)","v":0},"2026-07-01","2026-07-31",1120]
["97-0309","20","97-0309-200",{"$f":"IF(AND(Config!$B$13<=Tarifs!F7083,Config!$B$13>=Tarifs!E7083),1,0)","v":0},"2026-08-01","2026-08-31",1120]
["97-0309","20","97-0309-200",{"$f":"IF(AND(Config!$B$13<=Tarifs!F7084,Config!$B$13>=Tarifs!E7084),1,0)","v":0},"2026-09-01","2026-09-30",1085]
["97-0309","20","97-0309-200",{"$f":"IF(AND(Config!$B$13<=Tarifs!F7085,Config!$B$13>=Tarifs!E7085),1,0)","v":0},"2026-10-01","2026-10-31",1015]
["97-0309","20","97-0309-200",{"$f":"IF(AND(Config!$B$13<=Tarifs!F7086,Config!$B$13>=Tarifs!E7086),1,0)","v":0},"2026-11-01","2026-11-30",1015]
["97-0309","20","97-0309-200",{"$f":"IF(AND(Config!$B$13<=Tarifs!F7087,Config!$B$13>=Tarifs!E7087),1,0)","v":0},"2026-12-01","2026-12-31",1015]
["97-0309","20","97-0309-201",{"$f":"IF(AND(Config!$B$13<=Tarifs!F7088,Config!$B$13>=Tarifs!E7088),1,0)","v":1},"2026-01-01","2026-01-31",1008]
["97-0309","20","97-0309-200",{"$f":"IF(AND(Config!$B$13<=Tarifs!F7089,Config!$B$13>=Tarifs!E7089),1,0)","v":0},"2026-02-01","2026-02-28",1008]
["97-0309","20","97-0309-200",{"$f":"IF(AND(Config!$B$13<=Tarifs!F7090,Config!$B$13>=Tarifs!E7090),1,0)","v":0},"2026-03-01","2026-03-31",1008]
["97-0309","20","97-0309-200",{"$f":"IF(AND(Config!$B$13<=Tarifs!F7091,Config!$B$13>=Tarifs!E7091),1,0)","v":0},"2026-04-01","2026-04-30",1008]
["97-0309","20","97-0309-200",{"$f":"IF(AND(Config!$B$13<=Tarifs!F7092,Config!$B$13>=Tarifs!E7092),1,0)","v":0},"2026-05-01","2026-05-31",1008]
["97-0309","10","97-0309-100",{"$f":"IF(AND(Config!$B$13<=Tarifs!F7093,Config!$B$13>=Tarifs!E7093),1,0)","v":0},"2026-06-01","2026-06-30",160]
["97-0309","10","97-0309-100",{"$f":"IF(AND(Config!$B$13<=Tarifs!F7094,Config!$B$13>=Tarifs!E7094),1,0)","v":0},"2026-07-01","2026-07-31",160]
["97-0309","10","97-0309-100",{"$f":"IF(AND(Config!$B$13<=Tarifs!F7095,Config!$B$13>=Tarifs!E7095),1,0)","v":0},"2026-08-01","2026-08-31",160]
["97-0309","10","97-0309-100",{"$f":"IF(AND(Config!$B$13<=Tarifs!F7096,Config!$B$13>=Tarifs!E7096),1,0)","v":0},"2026-09-01","2026-09-30",155]
["97-0309","10","97-0309-100",{"$f":"IF(AND(Config!$B$13<=Tarifs!F7097,Config!$B$13>=Tarifs!E7097),1,0)","v":0},"2026-10-01","2026-10-31",145]
["97-0309","10","97-0309-100",{"$f":"IF(AND(Config!$B$13<=Tarifs!F7098,Config!$B$13>=Tarifs!E7098),1,0)","v":0},"2026-11-01","2026-11-30",145]
["97-0309","10","97-0309-100",{"$f":"IF(AND(Config!$B$13<=Tarifs!F7099,Config!$B$13>=Tarifs!E7099),1,0)","v":0},"2026-12-01","2026-12-31",145]
["97-0309","10","97-0309-101",{"$f":"IF(AND(Config!$B$13<=Tarifs!F7100,Config!$B$13>=Tarifs!E7100),1,0)","v":1},"2026-01-01","2026-01-31",144]
["97-0309","10","97-0309-100",{"$f":"IF(AND(Config!$B$13<=Tarifs!F7101,Config!$B$13>=Tarifs!E7101),1,0)","v":0},"2026-02-01","2026-02-28",144]
["97-0309","10","97-0309-100",{"$f":"IF(AND(Config!$B$13<=Tarifs!F7102,Config!$B$13>=Tarifs!E7102),1,0)","v":0},"2026-03-01","2026-03-31",144]
["97-0309","10","97-0309-100",{"$f":"IF(AND(Config!$B$13<=Tarifs!F7103,Config!$B$13>=Tarifs!E7103),1,0)","v":0},"2026-04-01","2026-04-30",144]
["97-0309","10","97-0309-100",{"$f":"IF(AND(Config!$B$13<=Tarifs!F7104,Config!$B$13>=Tarifs!E7104),1,0)","v":0},"2026-05-01","2026-05-31",144]
["97-0311","30","97-0311-300",{"$f":"IF(AND(Config!$B$13<=Tarifs!F7105,Config!$B$13>=Tarifs!E7105),1,0)","v":0},"2026-07-01","2026-07-31",6300]
["97-0311","30","97-0311-300",{"$f":"IF(AND(Config!$B$13<=Tarifs!F7106,Config!$B$13>=Tarifs!E7106),1,0)","v":0},"2026-08-01","2026-08-31",6300]
["97-0311","30",{"$f":"A7107&\"-\"&B7107&D7107","v":"97-0311-300"},{"$f":"IF(AND(Config!$B$13<=Tarifs!F7107,Config!$B$13>=Tarifs!E7107),1,0)","v":0},"2026-09-01","2026-09-30",6300]
["97-0311","30","97-0311-300",{"$f":"IF(AND(Config!$B$13<=Tarifs!F7108,Config!$B$13>=Tarifs!E7108),1,0)","v":0},"2026-10-01","2026-10-31",5700]
["97-0311","30","97-0311-300",{"$f":"IF(AND(Config!$B$13<=Tarifs!F7109,Config!$B$13>=Tarifs!E7109),1,0)","v":0},"2026-06-01","2026-06-30",4650]
["97-0311","30","97-0311-300",{"$f":"IF(AND(Config!$B$13<=Tarifs!F7110,Config!$B$13>=Tarifs!E7110),1,0)","v":0},"2026-05-01","2026-05-31",4350]
["97-0311","30","97-0311-301",{"$f":"IF(AND(Config!$B$13<=Tarifs!F7111,Config!$B$13>=Tarifs!E7111),1,0)","v":1},"2026-01-01","2026-01-31",4050]
["97-0311","30","97-0311-300",{"$f":"IF(AND(Config!$B$13<=Tarifs!F7112,Config!$B$13>=Tarifs!E7112),1,0)","v":0},"2026-02-01","2026-02-28",4050]
["97-0311","30","97-0311-300",{"$f":"IF(AND(Config!$B$13<=Tarifs!F7113,Config!$B$13>=Tarifs!E7113),1,0)","v":0},"2026-03-01","2026-03-31",4050]
["97-0311","30","97-0311-300",{"$f":"IF(AND(Config!$B$13<=Tarifs!F7114,Config!$B$13>=Tarifs!E7114),1,0)","v":0},"2026-04-01","2026-04-30",4050]
["97-0311","30","97-0311-300",{"$f":"IF(AND(Config!$B$13<=Tarifs!F7115,Config!$B$13>=Tarifs!E7115),1,0)","v":0},"2026-11-01","2026-11-30",4050]
["97-0311","30","97-0311-300",{"$f":"IF(AND(Config!$B$13<=Tarifs!F7116,Config!$B$13>=Tarifs!E7116),1,0)","v":0},"2026-12-01","2026-12-31",4050]
["97-0311","20","97-0311-200",{"$f":"IF(AND(Config!$B$13<=Tarifs!F7117,Config!$B$13>=Tarifs!E7117),1,0)","v":0},"2026-07-01","2026-07-31",1470]
["97-0311","20","97-0311-200",{"$f":"IF(AND(Config!$B$13<=Tarifs!F7118,Config!$B$13>=Tarifs!E7118),1,0)","v":0},"2026-08-01","2026-08-31",1470]
["97-0311","20","97-0311-200",{"$f":"IF(AND(Config!$B$13<=Tarifs!F7119,Config!$B$13>=Tarifs!E7119),1,0)","v":0},"2026-09-01","2026-09-30",1470]
["97-0311","20","97-0311-200",{"$f":"IF(AND(Config!$B$13<=Tarifs!F7120,Config!$B$13>=Tarifs!E7120),1,0)","v":0},"2026-10-01","2026-10-31",1330]
["97-0311","20","97-0311-200",{"$f":"IF(AND(Config!$B$13<=Tarifs!F7121,Config!$B$13>=Tarifs!E7121),1,0)","v":0},"2026-06-01","2026-06-30",1085]
["97-0311","20","97-0311-200",{"$f":"IF(AND(Config!$B$13<=Tarifs!F7122,Config!$B$13>=Tarifs!E7122),1,0)","v":0},"2026-05-01","2026-05-31",1015]
["97-0311","20","97-0311-201",{"$f":"IF(AND(Config!$B$13<=Tarifs!F7123,Config!$B$13>=Tarifs!E7123),1,0)","v":1},"2026-01-01","2026-01-31",945]
["97-0311","20","97-0311-200",{"$f":"IF(AND(Config!$B$13<=Tarifs!F7124,Config!$B$13>=Tarifs!E7124),1,0)","v":0},"2026-02-01","2026-02-28",945]
["97-0311","20","97-0311-200",{"$f":"IF(AND(Config!$B$13<=Tarifs!F7125,Config!$B$13>=Tarifs!E7125),1,0)","v":0},"2026-03-01","2026-03-31",945]
["97-0311","20","97-0311-200",{"$f":"IF(AND(Config!$B$13<=Tarifs!F7126,Config!$B$13>=Tarifs!E7126),1,0)","v":0},"2026-04-01","2026-04-30",945]
["97-0311","20","97-0311-200",{"$f":"IF(AND(Config!$B$13<=Tarifs!F7127,Config!$B$13>=Tarifs!E7127),1,0)","v":0},"2026-11-01","2026-11-30",945]
["97-0311","20","97-0311-200",{"$f":"IF(AND(Config!$B$13<=Tarifs!F7128,Config!$B$13>=Tarifs!E7128),1,0)","v":0},"2026-12-01","2026-12-31",945]
["97-0311","10","97-0311-100",{"$f":"IF(AND(Config!$B$13<=Tarifs!F7129,Config!$B$13>=Tarifs!E7129),1,0)","v":0},"2026-07-01","2026-07-31",210]
["97-0311","10","97-0311-100",{"$f":"IF(AND(Config!$B$13<=Tarifs!F7130,Config!$B$13>=Tarifs!E7130),1,0)","v":0},"2026-08-01","2026-08-31",210]
["97-0311","10","97-0311-100",{"$f":"IF(AND(Config!$B$13<=Tarifs!F7131,Config!$B$13>=Tarifs!E7131),1,0)","v":0},"2026-09-01","2026-09-30",210]
["97-0311","10","97-0311-100",{"$f":"IF(AND(Config!$B$13<=Tarifs!F7132,Config!$B$13>=Tarifs!E7132),1,0)","v":0},"2026-10-01","2026-10-31",190]
["97-0311","10","97-0311-100",{"$f":"IF(AND(Config!$B$13<=Tarifs!F7133,Config!$B$13>=Tarifs!E7133),1,0)","v":0},"2026-06-01","2026-06-30",155]
["97-0311","10","97-0311-100",{"$f":"IF(AND(Config!$B$13<=Tarifs!F7134,Config!$B$13>=Tarifs!E7134),1,0)","v":0},"2026-05-01","2026-05-31",145]
["97-0311","10","97-0311-101",{"$f":"IF(AND(Config!$B$13<=Tarifs!F7135,Config!$B$13>=Tarifs!E7135),1,0)","v":1},"2026-01-01","2026-01-31",135]
["97-0311","10","97-0311-100",{"$f":"IF(AND(Config!$B$13<=Tarifs!F7136,Config!$B$13>=Tarifs!E7136),1,0)","v":0},"2026-02-01","2026-02-28",135]
["97-0311","10","97-0311-100",{"$f":"IF(AND(Config!$B$13<=Tarifs!F7137,Config!$B$13>=Tarifs!E7137),1,0)","v":0},"2026-03-01","2026-03-31",135]
["97-0311","10","97-0311-100",{"$f":"IF(AND(Config!$B$13<=Tarifs!F7138,Config!$B$13>=Tarifs!E7138),1,0)","v":0},"2026-04-01","2026-04-30",135]
["97-0311","10","97-0311-100",{"$f":"IF(AND(Config!$B$13<=Tarifs!F7139,Config!$B$13>=Tarifs!E7139),1,0)","v":0},"2026-11-01","2026-11-30",135]
["97-0311","10","97-0311-100",{"$f":"IF(AND(Config!$B$13<=Tarifs!F7140,Config!$B$13>=Tarifs!E7140),1,0)","v":0},"2026-12-01","2026-12-31",135]
["97-0313","30","97-0313-300",{"$f":"IF(AND(Config!$B$13<=Tarifs!F7141,Config!$B$13>=Tarifs!E7141),1,0)","v":0},"2026-06-01","2026-06-30",6134.4]
["97-0313","30","97-0313-300",{"$f":"IF(AND(Config!$B$13<=Tarifs!F7142,Config!$B$13>=Tarifs!E7142),1,0)","v":0},"2026-07-01","2026-07-31",6134.4]
["97-0313","30","97-0313-300",{"$f":"IF(AND(Config!$B$13<=Tarifs!F7143,Config!$B$13>=Tarifs!E7143),1,0)","v":0},"2026-08-01","2026-08-31",6134.4]
["97-0313","30","97-0313-300",{"$f":"IF(AND(Config!$B$13<=Tarifs!F7144,Config!$B$13>=Tarifs!E7144),1,0)","v":0},"2026-09-01","2026-09-30",6134.4]
["97-0313","30","97-0313-301",{"$f":"IF(AND(Config!$B$13<=Tarifs!F7145,Config!$B$13>=Tarifs!E7145),1,0)","v":1},"2026-01-01","2026-01-31",5559.3]
["97-0313","30","97-0313-300",{"$f":"IF(AND(Config!$B$13<=Tarifs!F7146,Config!$B$13>=Tarifs!E7146),1,0)","v":0},"2026-02-01","2026-02-28",5559.3]
["97-0313","30","97-0313-300",{"$f":"IF(AND(Config!$B$13<=Tarifs!F7147,Config!$B$13>=Tarifs!E7147),1,0)","v":0},"2026-03-01","2026-03-31",5559.3]
["97-0313","30","97-0313-300",{"$f":"IF(AND(Config!$B$13<=Tarifs!F7148,Config!$B$13>=Tarifs!E7148),1,0)","v":0},"2026-04-01","2026-04-30",5559.3]
["97-0313","30","97-0313-300",{"$f":"IF(AND(Config!$B$13<=Tarifs!F7149,Config!$B$13>=Tarifs!E7149),1,0)","v":0},"2026-05-01","2026-05-31",5559.3]
["97-0313","30","97-0313-300",{"$f":"IF(AND(Config!$B$13<=Tarifs!F7150,Config!$B$13>=Tarifs!E7150),1,0)","v":0},"2026-10-01","2026-10-31",5559.3]
["97-0313","30","97-0313-300",{"$f":"IF(AND(Config!$B$13<=Tarifs!F7151,Config!$B$13>=Tarifs!E7151),1,0)","v":0},"2026-11-01","2026-11-30",5559.3]
["97-0313","30","97-0313-300",{"$f":"IF(AND(Config!$B$13<=Tarifs!F7152,Config!$B$13>=Tarifs!E7152),1,0)","v":0},"2026-12-01","2026-12-31",5559.3]
["97-0313","20","97-0313-200",{"$f":"IF(AND(Config!$B$13<=Tarifs!F7153,Config!$B$13>=Tarifs!E7153),1,0)","v":0},"2026-06-01","2026-06-30",1431.36]
["97-0313","20","97-0313-200",{"$f":"IF(AND(Config!$B$13<=Tarifs!F7154,Config!$B$13>=Tarifs!E7154),1,0)","v":0},"2026-07-01","2026-07-31",1431.36]
["97-0313","20","97-0313-200",{"$f":"IF(AND(Config!$B$13<=Tarifs!F7155,Config!$B$13>=Tarifs!E7155),1,0)","v":0},"2026-08-01","2026-08-31",1431.36]
["97-0313","20","97-0313-200",{"$f":"IF(AND(Config!$B$13<=Tarifs!F7156,Config!$B$13>=Tarifs!E7156),1,0)","v":0},"2026-09-01","2026-09-30",1431.36]
["97-0313","20","97-0313-201",{"$f":"IF(AND(Config!$B$13<=Tarifs!F7157,Config!$B$13>=Tarifs!E7157),1,0)","v":1},"2026-01-01","2026-01-31",1297.17]
["97-0313","20","97-0313-200",{"$f":"IF(AND(Config!$B$13<=Tarifs!F7158,Config!$B$13>=Tarifs!E7158),1,0)","v":0},"2026-02-01","2026-02-28",1297.17]
["97-0313","20","97-0313-200",{"$f":"IF(AND(Config!$B$13<=Tarifs!F7159,Config!$B$13>=Tarifs!E7159),1,0)","v":0},"2026-03-01","2026-03-31",1297.17]
["97-0313","20","97-0313-200",{"$f":"IF(AND(Config!$B$13<=Tarifs!F7160,Config!$B$13>=Tarifs!E7160),1,0)","v":0},"2026-04-01","2026-04-30",1297.17]
["97-0313","20","97-0313-200",{"$f":"IF(AND(Config!$B$13<=Tarifs!F7161,Config!$B$13>=Tarifs!E7161),1,0)","v":0},"2026-05-01","2026-05-31",1297.17]
["97-0313","20","97-0313-200",{"$f":"IF(AND(Config!$B$13<=Tarifs!F7162,Config!$B$13>=Tarifs!E7162),1,0)","v":0},"2026-10-01","2026-10-31",1297.17]
["97-0313","20","97-0313-200",{"$f":"IF(AND(Config!$B$13<=Tarifs!F7163,Config!$B$13>=Tarifs!E7163),1,0)","v":0},"2026-11-01","2026-11-30",1297.17]
["97-0313","20","97-0313-200",{"$f":"IF(AND(Config!$B$13<=Tarifs!F7164,Config!$B$13>=Tarifs!E7164),1,0)","v":0},"2026-12-01","2026-12-31",1297.17]
["97-0313","10","97-0313-100",{"$f":"IF(AND(Config!$B$13<=Tarifs!F7165,Config!$B$13>=Tarifs!E7165),1,0)","v":0},"2026-06-01","2026-06-30",204.48]
["97-0313","10","97-0313-100",{"$f":"IF(AND(Config!$B$13<=Tarifs!F7166,Config!$B$13>=Tarifs!E7166),1,0)","v":0},"2026-07-01","2026-07-31",204.48]
["97-0313","10","97-0313-100",{"$f":"IF(AND(Config!$B$13<=Tarifs!F7167,Config!$B$13>=Tarifs!E7167),1,0)","v":0},"2026-08-01","2026-08-31",204.48]
["97-0313","10","97-0313-100",{"$f":"IF(AND(Config!$B$13<=Tarifs!F7168,Config!$B$13>=Tarifs!E7168),1,0)","v":0},"2026-09-01","2026-09-30",204.48]
["97-0313","10","97-0313-101",{"$f":"IF(AND(Config!$B$13<=Tarifs!F7169,Config!$B$13>=Tarifs!E7169),1,0)","v":1},"2026-01-01","2026-01-31",185.31]
["97-0313","10","97-0313-100",{"$f":"IF(AND(Config!$B$13<=Tarifs!F7170,Config!$B$13>=Tarifs!E7170),1,0)","v":0},"2026-02-01","2026-02-28",185.31]
["97-0313","10",{"$f":"A7171&\"-\"&B7171&D7171","v":"97-0313-100"},{"$f":"IF(AND(Config!$B$13<=Tarifs!F7171,Config!$B$13>=Tarifs!E7171),1,0)","v":0},"2026-03-01","2026-03-31",185.31]
["97-0313","10","97-0313-100",{"$f":"IF(AND(Config!$B$13<=Tarifs!F7172,Config!$B$13>=Tarifs!E7172),1,0)","v":0},"2026-04-01","2026-04-30",185.31]
["97-0313","10","97-0313-100",{"$f":"IF(AND(Config!$B$13<=Tarifs!F7173,Config!$B$13>=Tarifs!E7173),1,0)","v":0},"2026-05-01","2026-05-31",185.31]
["97-0313","10","97-0313-100",{"$f":"IF(AND(Config!$B$13<=Tarifs!F7174,Config!$B$13>=Tarifs!E7174),1,0)","v":0},"2026-10-01","2026-10-31",185.31]
["97-0313","10","97-0313-100",{"$f":"IF(AND(Config!$B$13<=Tarifs!F7175,Config!$B$13>=Tarifs!E7175),1,0)","v":0},"2026-11-01","2026-11-30",185.31]
["97-0313","10","97-0313-100",{"$f":"IF(AND(Config!$B$13<=Tarifs!F7176,Config!$B$13>=Tarifs!E7176),1,0)","v":0},"2026-12-01","2026-12-31",185.31]
["97-0318","30","97-0318-300",{"$f":"IF(AND(Config!$B$13<=Tarifs!F7177,Config!$B$13>=Tarifs!E7177),1,0)","v":0},"2026-07-01","2026-07-31",5070]
["97-0318","30","97-0318-300",{"$f":"IF(AND(Config!$B$13<=Tarifs!F7178,Config!$B$13>=Tarifs!E7178),1,0)","v":0},"2026-08-01","2026-08-31",5070]
["97-0318","30","97-0318-300",{"$f":"IF(AND(Config!$B$13<=Tarifs!F7179,Config!$B$13>=Tarifs!E7179),1,0)","v":0},"2026-05-01","2026-05-31",4770]
["97-0318","30","97-0318-300",{"$f":"IF(AND(Config!$B$13<=Tarifs!F7180,Config!$B$13>=Tarifs!E7180),1,0)","v":0},"2026-06-01","2026-06-30",4770]
["97-0318","30","97-0318-300",{"$f":"IF(AND(Config!$B$13<=Tarifs!F7181,Config!$B$13>=Tarifs!E7181),1,0)","v":0},"2026-09-01","2026-09-30",4770]
["97-0318","30","97-0318-301",{"$f":"IF(AND(Config!$B$13<=Tarifs!F7182,Config!$B$13>=Tarifs!E7182),1,0)","v":1},"2026-01-01","2026-01-31",4170]
["97-0318","30","97-0318-300",{"$f":"IF(AND(Config!$B$13<=Tarifs!F7183,Config!$B$13>=Tarifs!E7183),1,0)","v":0},"2026-02-01","2026-02-28",4170]
["97-0318","30","97-0318-300",{"$f":"IF(AND(Config!$B$13<=Tarifs!F7184,Config!$B$13>=Tarifs!E7184),1,0)","v":0},"2026-03-01","2026-03-31",4170]
["97-0318","30","97-0318-300",{"$f":"IF(AND(Config!$B$13<=Tarifs!F7185,Config!$B$13>=Tarifs!E7185),1,0)","v":0},"2026-04-01","2026-04-30",4170]
["97-0318","30","97-0318-300",{"$f":"IF(AND(Config!$B$13<=Tarifs!F7186,Config!$B$13>=Tarifs!E7186),1,0)","v":0},"2026-10-01","2026-10-31",4170]
["97-0318","30","97-0318-300",{"$f":"IF(AND(Config!$B$13<=Tarifs!F7187,Config!$B$13>=Tarifs!E7187),1,0)","v":0},"2026-11-01","2026-11-30",4170]
["97-0318","30","97-0318-300",{"$f":"IF(AND(Config!$B$13<=Tarifs!F7188,Config!$B$13>=Tarifs!E7188),1,0)","v":0},"2026-12-01","2026-12-31",4170]
["97-0318","20","97-0318-201",{"$f":"IF(AND(Config!$B$13<=Tarifs!F7189,Config!$B$13>=Tarifs!E7189),1,0)","v":1},"2026-01-01","2026-01-31",1251]
["97-0318","20","97-0318-200",{"$f":"IF(AND(Config!$B$13<=Tarifs!F7190,Config!$B$13>=Tarifs!E7190),1,0)","v":0},"2026-02-01","2026-02-28",1251]
["97-0318","20","97-0318-200",{"$f":"IF(AND(Config!$B$13<=Tarifs!F7191,Config!$B$13>=Tarifs!E7191),1,0)","v":0},"2026-03-01","2026-03-31",1251]
["97-0318","20","97-0318-200",{"$f":"IF(AND(Config!$B$13<=Tarifs!F7192,Config!$B$13>=Tarifs!E7192),1,0)","v":0},"2026-04-01","2026-04-30",1251]
["97-0318","20","97-0318-200",{"$f":"IF(AND(Config!$B$13<=Tarifs!F7193,Config!$B$13>=Tarifs!E7193),1,0)","v":0},"2026-07-01","2026-07-31",1183]
["97-0318","20","97-0318-200",{"$f":"IF(AND(Config!$B$13<=Tarifs!F7194,Config!$B$13>=Tarifs!E7194),1,0)","v":0},"2026-08-01","2026-08-31",1183]
["97-0318","20","97-0318-200",{"$f":"IF(AND(Config!$B$13<=Tarifs!F7195,Config!$B$13>=Tarifs!E7195),1,0)","v":0},"2026-05-01","2026-05-31",1113]
["97-0318","20","97-0318-200",{"$f":"IF(AND(Config!$B$13<=Tarifs!F7196,Config!$B$13>=Tarifs!E7196),1,0)","v":0},"2026-06-01","2026-06-30",1113]
["97-0318","20","97-0318-200",{"$f":"IF(AND(Config!$B$13<=Tarifs!F7197,Config!$B$13>=Tarifs!E7197),1,0)","v":0},"2026-09-01","2026-09-30",1113]
["97-0318","20","97-0318-200",{"$f":"IF(AND(Config!$B$13<=Tarifs!F7198,Config!$B$13>=Tarifs!E7198),1,0)","v":0},"2026-10-01","2026-10-31",973]
["97-0318","20","97-0318-200",{"$f":"IF(AND(Config!$B$13<=Tarifs!F7199,Config!$B$13>=Tarifs!E7199),1,0)","v":0},"2026-11-01","2026-11-30",973]
["97-0318","20","97-0318-200",{"$f":"IF(AND(Config!$B$13<=Tarifs!F7200,Config!$B$13>=Tarifs!E7200),1,0)","v":0},"2026-12-01","2026-12-31",973]
["97-0318","10","97-0318-100",{"$f":"IF(AND(Config!$B$13<=Tarifs!F7201,Config!$B$13>=Tarifs!E7201),1,0)","v":0},"2026-07-01","2026-07-31",169]
["97-0318","10","97-0318-100",{"$f":"IF(AND(Config!$B$13<=Tarifs!F7202,Config!$B$13>=Tarifs!E7202),1,0)","v":0},"2026-08-01","2026-08-31",169]
["97-0318","10","97-0318-100",{"$f":"IF(AND(Config!$B$13<=Tarifs!F7203,Config!$B$13>=Tarifs!E7203),1,0)","v":0},"2026-05-01","2026-05-31",159]
["97-0318","10","97-0318-100",{"$f":"IF(AND(Config!$B$13<=Tarifs!F7204,Config!$B$13>=Tarifs!E7204),1,0)","v":0},"2026-06-01","2026-06-30",159]
["97-0318","10","97-0318-100",{"$f":"IF(AND(Config!$B$13<=Tarifs!F7205,Config!$B$13>=Tarifs!E7205),1,0)","v":0},"2026-09-01","2026-09-30",159]
["97-0318","10","97-0318-101",{"$f":"IF(AND(Config!$B$13<=Tarifs!F7206,Config!$B$13>=Tarifs!E7206),1,0)","v":1},"2026-01-01","2026-01-31",139]
["97-0318","10","97-0318-100",{"$f":"IF(AND(Config!$B$13<=Tarifs!F7207,Config!$B$13>=Tarifs!E7207),1,0)","v":0},"2026-02-01","2026-02-28",139]
["97-0318","10","97-0318-100",{"$f":"IF(AND(Config!$B$13<=Tarifs!F7208,Config!$B$13>=Tarifs!E7208),1,0)","v":0},"2026-03-01","2026-03-31",139]
["97-0318","10","97-0318-100",{"$f":"IF(AND(Config!$B$13<=Tarifs!F7209,Config!$B$13>=Tarifs!E7209),1,0)","v":0},"2026-04-01","2026-04-30",139]
["97-0318","10","97-0318-100",{"$f":"IF(AND(Config!$B$13<=Tarifs!F7210,Config!$B$13>=Tarifs!E7210),1,0)","v":0},"2026-10-01","2026-10-31",139]
["97-0318","10","97-0318-100",{"$f":"IF(AND(Config!$B$13<=Tarifs!F7211,Config!$B$13>=Tarifs!E7211),1,0)","v":0},"2026-11-01","2026-11-30",139]
["97-0318","10","97-0318-100",{"$f":"IF(AND(Config!$B$13<=Tarifs!F7212,Config!$B$13>=Tarifs!E7212),1,0)","v":0},"2026-12-01","2026-12-31",139]
["97-0325","30","97-0325-300",{"$f":"IF(AND(Config!$B$13<=Tarifs!F7213,Config!$B$13>=Tarifs!E7213),1,0)","v":0},"2026-08-01","2026-08-31",6120]
["97-0325","30","97-0325-300",{"$f":"IF(AND(Config!$B$13<=Tarifs!F7214,Config!$B$13>=Tarifs!E7214),1,0)","v":0},"2026-07-01","2026-07-31",6120]
["97-0325","30","97-0325-300",{"$f":"IF(AND(Config!$B$13<=Tarifs!F7215,Config!$B$13>=Tarifs!E7215),1,0)","v":0},"2026-09-01","2026-09-30",5760]
["97-0325","30","97-0325-300",{"$f":"IF(AND(Config!$B$13<=Tarifs!F7216,Config!$B$13>=Tarifs!E7216),1,0)","v":0},"2026-10-01","2026-10-31",5760]
["97-0325","30","97-0325-300",{"$f":"IF(AND(Config!$B$13<=Tarifs!F7217,Config!$B$13>=Tarifs!E7217),1,0)","v":0},"2026-11-01","2026-11-30",5760]
["97-0325","30","97-0325-300",{"$f":"IF(AND(Config!$B$13<=Tarifs!F7218,Config!$B$13>=Tarifs!E7218),1,0)","v":0},"2026-05-01","2026-05-31",5100]
["97-0325","30","97-0325-300",{"$f":"IF(AND(Config!$B$13<=Tarifs!F7219,Config!$B$13>=Tarifs!E7219),1,0)","v":0},"2026-06-01","2026-06-30",5100]
["97-0325","30","97-0325-300",{"$f":"IF(AND(Config!$B$13<=Tarifs!F7220,Config!$B$13>=Tarifs!E7220),1,0)","v":0},"2026-12-01","2026-12-31",4620]
["97-0325","30","97-0325-301",{"$f":"IF(AND(Config!$B$13<=Tarifs!F7221,Config!$B$13>=Tarifs!E7221),1,0)","v":1},"2026-01-01","2026-01-31",4620]
["97-0325","30","97-0325-300",{"$f":"IF(AND(Config!$B$13<=Tarifs!F7222,Config!$B$13>=Tarifs!E7222),1,0)","v":0},"2026-02-01","2026-02-28",4620]
["97-0325","30","97-0325-300",{"$f":"IF(AND(Config!$B$13<=Tarifs!F7223,Config!$B$13>=Tarifs!E7223),1,0)","v":0},"2026-03-01","2026-03-31",4620]
["97-0325","30","97-0325-300",{"$f":"IF(AND(Config!$B$13<=Tarifs!F7224,Config!$B$13>=Tarifs!E7224),1,0)","v":0},"2026-04-01","2026-04-30",4620]
["97-0325","20","97-0325-200",{"$f":"IF(AND(Config!$B$13<=Tarifs!F7225,Config!$B$13>=Tarifs!E7225),1,0)","v":0},"2026-07-01","2026-07-31",1428]
["97-0325","20","97-0325-200",{"$f":"IF(AND(Config!$B$13<=Tarifs!F7226,Config!$B$13>=Tarifs!E7226),1,0)","v":0},"2026-08-01","2026-08-31",1428]
["97-0325","20","97-0325-200",{"$f":"IF(AND(Config!$B$13<=Tarifs!F7227,Config!$B$13>=Tarifs!E7227),1,0)","v":0},"2026-09-01","2026-09-30",1344]
["97-0325","20","97-0325-200",{"$f":"IF(AND(Config!$B$13<=Tarifs!F7228,Config!$B$13>=Tarifs!E7228),1,0)","v":0},"2026-10-01","2026-10-31",1344]
["97-0325","20","97-0325-200",{"$f":"IF(AND(Config!$B$13<=Tarifs!F7229,Config!$B$13>=Tarifs!E7229),1,0)","v":0},"2026-11-01","2026-11-30",1344]
["97-0325","20","97-0325-200",{"$f":"IF(AND(Config!$B$13<=Tarifs!F7230,Config!$B$13>=Tarifs!E7230),1,0)","v":0},"2026-05-01","2026-05-31",1190]
["97-0325","20","97-0325-200",{"$f":"IF(AND(Config!$B$13<=Tarifs!F7231,Config!$B$13>=Tarifs!E7231),1,0)","v":0},"2026-06-01","2026-06-30",1190]
["97-0325","20","97-0325-200",{"$f":"IF(AND(Config!$B$13<=Tarifs!F7232,Config!$B$13>=Tarifs!E7232),1,0)","v":0},"2026-12-01","2026-12-31",1078]
["97-0325","20","97-0325-201",{"$f":"IF(AND(Config!$B$13<=Tarifs!F7233,Config!$B$13>=Tarifs!E7233),1,0)","v":1},"2026-01-01","2026-01-31",1078]
["97-0325","20","97-0325-200",{"$f":"IF(AND(Config!$B$13<=Tarifs!F7234,Config!$B$13>=Tarifs!E7234),1,0)","v":0},"2026-02-01","2026-02-28",1078]
["97-0325","20",{"$f":"A7235&\"-\"&B7235&D7235","v":"97-0325-200"},{"$f":"IF(AND(Config!$B$13<=Tarifs!F7235,Config!$B$13>=Tarifs!E7235),1,0)","v":0},"2026-03-01","2026-03-31",1078]
["97-0325","20","97-0325-200",{"$f":"IF(AND(Config!$B$13<=Tarifs!F7236,Config!$B$13>=Tarifs!E7236),1,0)","v":0},"2026-04-01","2026-04-30",1078]
["97-0325","10","97-0325-100",{"$f":"IF(AND(Config!$B$13<=Tarifs!F7237,Config!$B$13>=Tarifs!E7237),1,0)","v":0},"2026-07-01","2026-07-31",204]
["97-0325","10","97-0325-100",{"$f":"IF(AND(Config!$B$13<=Tarifs!F7238,Config!$B$13>=Tarifs!E7238),1,0)","v":0},"2026-08-01","2026-08-31",204]
["97-0325","10","97-0325-100",{"$f":"IF(AND(Config!$B$13<=Tarifs!F7239,Config!$B$13>=Tarifs!E7239),1,0)","v":0},"2026-09-01","2026-09-30",192]
["97-0325","10","97-0325-100",{"$f":"IF(AND(Config!$B$13<=Tarifs!F7240,Config!$B$13>=Tarifs!E7240),1,0)","v":0},"2026-10-01","2026-10-31",192]
["97-0325","10","97-0325-100",{"$f":"IF(AND(Config!$B$13<=Tarifs!F7241,Config!$B$13>=Tarifs!E7241),1,0)","v":0},"2026-11-01","2026-11-30",192]
["97-0325","10","97-0325-100",{"$f":"IF(AND(Config!$B$13<=Tarifs!F7242,Config!$B$13>=Tarifs!E7242),1,0)","v":0},"2026-05-01","2026-05-31",170]
["97-0325","10","97-0325-100",{"$f":"IF(AND(Config!$B$13<=Tarifs!F7243,Config!$B$13>=Tarifs!E7243),1,0)","v":0},"2026-06-01","2026-06-30",170]
["97-0325","10","97-0325-100",{"$f":"IF(AND(Config!$B$13<=Tarifs!F7244,Config!$B$13>=Tarifs!E7244),1,0)","v":0},"2026-12-01","2026-12-31",154]
["97-0325","10","97-0325-101",{"$f":"IF(AND(Config!$B$13<=Tarifs!F7245,Config!$B$13>=Tarifs!E7245),1,0)","v":1},"2026-01-01","2026-01-31",154]
["97-0325","10","97-0325-100",{"$f":"IF(AND(Config!$B$13<=Tarifs!F7246,Config!$B$13>=Tarifs!E7246),1,0)","v":0},"2026-02-01","2026-02-28",154]
["97-0325","10","97-0325-100",{"$f":"IF(AND(Config!$B$13<=Tarifs!F7247,Config!$B$13>=Tarifs!E7247),1,0)","v":0},"2026-03-01","2026-03-31",154]
["97-0325","10","97-0325-100",{"$f":"IF(AND(Config!$B$13<=Tarifs!F7248,Config!$B$13>=Tarifs!E7248),1,0)","v":0},"2026-04-01","2026-04-30",154]
["97-0329","30","97-0329-300",{"$f":"IF(AND(Config!$B$13<=Tarifs!F7249,Config!$B$13>=Tarifs!E7249),1,0)","v":0},"2026-05-01","2026-05-31",6270]
["97-0329","30","97-0329-300",{"$f":"IF(AND(Config!$B$13<=Tarifs!F7250,Config!$B$13>=Tarifs!E7250),1,0)","v":0},"2026-06-01","2026-06-30",6270]
["97-0329","30","97-0329-300",{"$f":"IF(AND(Config!$B$13<=Tarifs!F7251,Config!$B$13>=Tarifs!E7251),1,0)","v":0},"2026-07-01","2026-07-31",6270]
["97-0329","30","97-0329-300",{"$f":"IF(AND(Config!$B$13<=Tarifs!F7252,Config!$B$13>=Tarifs!E7252),1,0)","v":0},"2026-08-01","2026-08-31",6270]
["97-0329","30","97-0329-300",{"$f":"IF(AND(Config!$B$13<=Tarifs!F7253,Config!$B$13>=Tarifs!E7253),1,0)","v":0},"2026-09-01","2026-09-30",6270]
["97-0329","30","97-0329-300",{"$f":"IF(AND(Config!$B$13<=Tarifs!F7254,Config!$B$13>=Tarifs!E7254),1,0)","v":0},"2026-10-01","2026-10-31",6270]
["97-0329","30","97-0329-301",{"$f":"IF(AND(Config!$B$13<=Tarifs!F7255,Config!$B$13>=Tarifs!E7255),1,0)","v":1},"2026-01-01","2026-01-31",5370]
["97-0329","30","97-0329-300",{"$f":"IF(AND(Config!$B$13<=Tarifs!F7256,Config!$B$13>=Tarifs!E7256),1,0)","v":0},"2026-02-01","2026-02-28",5370]
["97-0329","30","97-0329-300",{"$f":"IF(AND(Config!$B$13<=Tarifs!F7257,Config!$B$13>=Tarifs!E7257),1,0)","v":0},"2026-03-01","2026-03-31",5370]
["97-0329","30","97-0329-300",{"$f":"IF(AND(Config!$B$13<=Tarifs!F7258,Config!$B$13>=Tarifs!E7258),1,0)","v":0},"2026-04-01","2026-04-30",5370]
["97-0329","30","97-0329-300",{"$f":"IF(AND(Config!$B$13<=Tarifs!F7259,Config!$B$13>=Tarifs!E7259),1,0)","v":0},"2026-11-01","2026-11-30",5370]
["97-0329","30","97-0329-300",{"$f":"IF(AND(Config!$B$13<=Tarifs!F7260,Config!$B$13>=Tarifs!E7260),1,0)","v":0},"2026-12-01","2026-12-31",5370]
["97-0329","20","97-0329-200",{"$f":"IF(AND(Config!$B$13<=Tarifs!F7261,Config!$B$13>=Tarifs!E7261),1,0)","v":0},"2026-05-01","2026-05-31",1463]
["97-0329","20","97-0329-200",{"$f":"IF(AND(Config!$B$13<=Tarifs!F7262,Config!$B$13>=Tarifs!E7262),1,0)","v":0},"2026-06-01","2026-06-30",1463]
["97-0329","20","97-0329-200",{"$f":"IF(AND(Config!$B$13<=Tarifs!F7263,Config!$B$13>=Tarifs!E7263),1,0)","v":0},"2026-07-01","2026-07-31",1463]
["97-0329","20","97-0329-200",{"$f":"IF(AND(Config!$B$13<=Tarifs!F7264,Config!$B$13>=Tarifs!E7264),1,0)","v":0},"2026-08-01","2026-08-31",1463]
["97-0329","20","97-0329-200",{"$f":"IF(AND(Config!$B$13<=Tarifs!F7265,Config!$B$13>=Tarifs!E7265),1,0)","v":0},"2026-09-01","2026-09-30",1463]
["97-0329","20","97-0329-200",{"$f":"IF(AND(Config!$B$13<=Tarifs!F7266,Config!$B$13>=Tarifs!E7266),1,0)","v":0},"2026-10-01","2026-10-31",1463]
["97-0329","20","97-0329-201",{"$f":"IF(AND(Config!$B$13<=Tarifs!F7267,Config!$B$13>=Tarifs!E7267),1,0)","v":1},"2026-01-01","2026-01-31",1253]
["97-0329","20","97-0329-200",{"$f":"IF(AND(Config!$B$13<=Tarifs!F7268,Config!$B$13>=Tarifs!E7268),1,0)","v":0},"2026-02-01","2026-02-28",1253]
["97-0329","20","97-0329-200",{"$f":"IF(AND(Config!$B$13<=Tarifs!F7269,Config!$B$13>=Tarifs!E7269),1,0)","v":0},"2026-03-01","2026-03-31",1253]
["97-0329","20","97-0329-200",{"$f":"IF(AND(Config!$B$13<=Tarifs!F7270,Config!$B$13>=Tarifs!E7270),1,0)","v":0},"2026-04-01","2026-04-30",1253]
["97-0329","20","97-0329-200",{"$f":"IF(AND(Config!$B$13<=Tarifs!F7271,Config!$B$13>=Tarifs!E7271),1,0)","v":0},"2026-11-01","2026-11-30",1253]
["97-0329","20","97-0329-200",{"$f":"IF(AND(Config!$B$13<=Tarifs!F7272,Config!$B$13>=Tarifs!E7272),1,0)","v":0},"2026-12-01","2026-12-31",1253]
["97-0329","10","97-0329-100",{"$f":"IF(AND(Config!$B$13<=Tarifs!F7273,Config!$B$13>=Tarifs!E7273),1,0)","v":0},"2026-05-01","2026-05-31",209]
["97-0329","10","97-0329-100",{"$f":"IF(AND(Config!$B$13<=Tarifs!F7274,Config!$B$13>=Tarifs!E7274),1,0)","v":0},"2026-06-01","2026-06-30",209]
["97-0329","10","97-0329-100",{"$f":"IF(AND(Config!$B$13<=Tarifs!F7275,Config!$B$13>=Tarifs!E7275),1,0)","v":0},"2026-07-01","2026-07-31",209]
["97-0329","10","97-0329-100",{"$f":"IF(AND(Config!$B$13<=Tarifs!F7276,Config!$B$13>=Tarifs!E7276),1,0)","v":0},"2026-08-01","2026-08-31",209]
["97-0329","10","97-0329-100",{"$f":"IF(AND(Config!$B$13<=Tarifs!F7277,Config!$B$13>=Tarifs!E7277),1,0)","v":0},"2026-09-01","2026-09-30",209]
["97-0329","10","97-0329-100",{"$f":"IF(AND(Config!$B$13<=Tarifs!F7278,Config!$B$13>=Tarifs!E7278),1,0)","v":0},"2026-10-01","2026-10-31",209]
["97-0329","10","97-0329-101",{"$f":"IF(AND(Config!$B$13<=Tarifs!F7279,Config!$B$13>=Tarifs!E7279),1,0)","v":1},"2026-01-01","2026-01-31",179]
["97-0329","10","97-0329-100",{"$f":"IF(AND(Config!$B$13<=Tarifs!F7280,Config!$B$13>=Tarifs!E7280),1,0)","v":0},"2026-02-01","2026-02-28",179]
["97-0329","10","97-0329-100",{"$f":"IF(AND(Config!$B$13<=Tarifs!F7281,Config!$B$13>=Tarifs!E7281),1,0)","v":0},"2026-03-01","2026-03-31",179]
["97-0329","10","97-0329-100",{"$f":"IF(AND(Config!$B$13<=Tarifs!F7282,Config!$B$13>=Tarifs!E7282),1,0)","v":0},"2026-04-01","2026-04-30",179]
["97-0329","10","97-0329-100",{"$f":"IF(AND(Config!$B$13<=Tarifs!F7283,Config!$B$13>=Tarifs!E7283),1,0)","v":0},"2026-11-01","2026-11-30",179]
["97-0329","10","97-0329-100",{"$f":"IF(AND(Config!$B$13<=Tarifs!F7284,Config!$B$13>=Tarifs!E7284),1,0)","v":0},"2026-12-01","2026-12-31",179]
["97-0331","30","97-0331-300",{"$f":"IF(AND(Config!$B$13<=Tarifs!F7285,Config!$B$13>=Tarifs!E7285),1,0)","v":0},"2026-07-01","2026-07-31",8670]
["97-0331","30","97-0331-300",{"$f":"IF(AND(Config!$B$13<=Tarifs!F7286,Config!$B$13>=Tarifs!E7286),1,0)","v":0},"2026-08-01","2026-08-31",8670]
["97-0331","30","97-0331-300",{"$f":"IF(AND(Config!$B$13<=Tarifs!F7287,Config!$B$13>=Tarifs!E7287),1,0)","v":0},"2026-09-01","2026-09-30",8670]
["97-0331","30","97-0331-300",{"$f":"IF(AND(Config!$B$13<=Tarifs!F7288,Config!$B$13>=Tarifs!E7288),1,0)","v":0},"2026-06-01","2026-06-30",7170]
["97-0331","30","97-0331-300",{"$f":"IF(AND(Config!$B$13<=Tarifs!F7289,Config!$B$13>=Tarifs!E7289),1,0)","v":0},"2026-10-01","2026-10-31",7170]
["97-0331","30","97-0331-300",{"$f":"IF(AND(Config!$B$13<=Tarifs!F7290,Config!$B$13>=Tarifs!E7290),1,0)","v":0},"2026-12-01","2026-12-31",4950]
["97-0331","30","97-0331-300",{"$f":"IF(AND(Config!$B$13<=Tarifs!F7291,Config!$B$13>=Tarifs!E7291),1,0)","v":0},"2026-05-01","2026-05-31",4770]
["97-0331","30","97-0331-300",{"$f":"IF(AND(Config!$B$13<=Tarifs!F7292,Config!$B$13>=Tarifs!E7292),1,0)","v":0},"2026-02-01","2026-02-28",4350]
["97-0331","30","97-0331-300",{"$f":"IF(AND(Config!$B$13<=Tarifs!F7293,Config!$B$13>=Tarifs!E7293),1,0)","v":0},"2026-11-01","2026-11-30",4350]
["97-0331","30","97-0331-301",{"$f":"IF(AND(Config!$B$13<=Tarifs!F7294,Config!$B$13>=Tarifs!E7294),1,0)","v":1},"2026-01-01","2026-01-31",4260]
["97-0331","30","97-0331-300",{"$f":"IF(AND(Config!$B$13<=Tarifs!F7295,Config!$B$13>=Tarifs!E7295),1,0)","v":0},"2026-03-01","2026-03-31",4170]
["97-0331","30","97-0331-300",{"$f":"IF(AND(Config!$B$13<=Tarifs!F7296,Config!$B$13>=Tarifs!E7296),1,0)","v":0},"2026-04-01","2026-04-30",4170]
["97-0331","20","97-0331-200",{"$f":"IF(AND(Config!$B$13<=Tarifs!F7297,Config!$B$13>=Tarifs!E7297),1,0)","v":0},"2026-07-01","2026-07-31",2023]
["97-0331","20","97-0331-200",{"$f":"IF(AND(Config!$B$13<=Tarifs!F7298,Config!$B$13>=Tarifs!E7298),1,0)","v":0},"2026-08-01","2026-08-31",2023]
["97-0331","20",{"$f":"A7299&\"-\"&B7299&D7299","v":"97-0331-200"},{"$f":"IF(AND(Config!$B$13<=Tarifs!F7299,Config!$B$13>=Tarifs!E7299),1,0)","v":0},"2026-09-01","2026-09-30",2023]
["97-0331","20","97-0331-200",{"$f":"IF(AND(Config!$B$13<=Tarifs!F7300,Config!$B$13>=Tarifs!E7300),1,0)","v":0},"2026-06-01","2026-06-30",1673]
["97-0331","20","97-0331-200",{"$f":"IF(AND(Config!$B$13<=Tarifs!F7301,Config!$B$13>=Tarifs!E7301),1,0)","v":0},"2026-10-01","2026-10-31",1673]
["97-0331","20","97-0331-200",{"$f":"IF(AND(Config!$B$13<=Tarifs!F7302,Config!$B$13>=Tarifs!E7302),1,0)","v":0},"2026-12-01","2026-12-31",1155]
["97-0331","20","97-0331-200",{"$f":"IF(AND(Config!$B$13<=Tarifs!F7303,Config!$B$13>=Tarifs!E7303),1,0)","v":0},"2026-05-01","2026-05-31",1113]
["97-0331","20","97-0331-200",{"$f":"IF(AND(Config!$B$13<=Tarifs!F7304,Config!$B$13>=Tarifs!E7304),1,0)","v":0},"2026-02-01","2026-02-28",1015]
["97-0331","20","97-0331-200",{"$f":"IF(AND(Config!$B$13<=Tarifs!F7305,Config!$B$13>=Tarifs!E7305),1,0)","v":0},"2026-11-01","2026-11-30",1015]
["97-0331","20","97-0331-201",{"$f":"IF(AND(Config!$B$13<=Tarifs!F7306,Config!$B$13>=Tarifs!E7306),1,0)","v":1},"2026-01-01","2026-01-31",994]
["97-0331","20","97-0331-200",{"$f":"IF(AND(Config!$B$13<=Tarifs!F7307,Config!$B$13>=Tarifs!E7307),1,0)","v":0},"2026-03-01","2026-03-31",973]
["97-0331","20","97-0331-200",{"$f":"IF(AND(Config!$B$13<=Tarifs!F7308,Config!$B$13>=Tarifs!E7308),1,0)","v":0},"2026-04-01","2026-04-30",973]
["97-0331","10","97-0331-100",{"$f":"IF(AND(Config!$B$13<=Tarifs!F7309,Config!$B$13>=Tarifs!E7309),1,0)","v":0},"2026-07-01","2026-07-31",289]
["97-0331","10","97-0331-100",{"$f":"IF(AND(Config!$B$13<=Tarifs!F7310,Config!$B$13>=Tarifs!E7310),1,0)","v":0},"2026-08-01","2026-08-31",289]
["97-0331","10","97-0331-100",{"$f":"IF(AND(Config!$B$13<=Tarifs!F7311,Config!$B$13>=Tarifs!E7311),1,0)","v":0},"2026-09-01","2026-09-30",289]
["97-0331","10","97-0331-100",{"$f":"IF(AND(Config!$B$13<=Tarifs!F7312,Config!$B$13>=Tarifs!E7312),1,0)","v":0},"2026-06-01","2026-06-30",239]
["97-0331","10","97-0331-100",{"$f":"IF(AND(Config!$B$13<=Tarifs!F7313,Config!$B$13>=Tarifs!E7313),1,0)","v":0},"2026-10-01","2026-10-31",239]
["97-0331","10","97-0331-100",{"$f":"IF(AND(Config!$B$13<=Tarifs!F7314,Config!$B$13>=Tarifs!E7314),1,0)","v":0},"2026-12-01","2026-12-31",165]
["97-0331","10","97-0331-100",{"$f":"IF(AND(Config!$B$13<=Tarifs!F7315,Config!$B$13>=Tarifs!E7315),1,0)","v":0},"2026-05-01","2026-05-31",159]
["97-0331","10","97-0331-100",{"$f":"IF(AND(Config!$B$13<=Tarifs!F7316,Config!$B$13>=Tarifs!E7316),1,0)","v":0},"2026-02-01","2026-02-28",145]
["97-0331","10","97-0331-100",{"$f":"IF(AND(Config!$B$13<=Tarifs!F7317,Config!$B$13>=Tarifs!E7317),1,0)","v":0},"2026-11-01","2026-11-30",145]
["97-0331","10","97-0331-101",{"$f":"IF(AND(Config!$B$13<=Tarifs!F7318,Config!$B$13>=Tarifs!E7318),1,0)","v":1},"2026-01-01","2026-01-31",142]
["97-0331","10","97-0331-100",{"$f":"IF(AND(Config!$B$13<=Tarifs!F7319,Config!$B$13>=Tarifs!E7319),1,0)","v":0},"2026-03-01","2026-03-31",139]
["97-0331","10","97-0331-100",{"$f":"IF(AND(Config!$B$13<=Tarifs!F7320,Config!$B$13>=Tarifs!E7320),1,0)","v":0},"2026-04-01","2026-04-30",139]
["97-0337","30","97-0337-300",{"$f":"IF(AND(Config!$B$13<=Tarifs!F7321,Config!$B$13>=Tarifs!E7321),1,0)","v":0},"2026-07-01","2026-07-31",6453]
["97-0337","30","97-0337-300",{"$f":"IF(AND(Config!$B$13<=Tarifs!F7322,Config!$B$13>=Tarifs!E7322),1,0)","v":0},"2026-08-01","2026-08-31",6453]
["97-0337","30","97-0337-300",{"$f":"IF(AND(Config!$B$13<=Tarifs!F7323,Config!$B$13>=Tarifs!E7323),1,0)","v":0},"2026-09-01","2026-09-30",5373]
["97-0337","30","97-0337-300",{"$f":"IF(AND(Config!$B$13<=Tarifs!F7324,Config!$B$13>=Tarifs!E7324),1,0)","v":0},"2026-10-01","2026-10-31",4833]
["97-0337","30","97-0337-300",{"$f":"IF(AND(Config!$B$13<=Tarifs!F7325,Config!$B$13>=Tarifs!E7325),1,0)","v":0},"2026-06-01","2026-06-30",3353]
["97-0337","30","97-0337-300",{"$f":"IF(AND(Config!$B$13<=Tarifs!F7326,Config!$B$13>=Tarifs!E7326),1,0)","v":0},"2026-03-01","2026-03-31",2790]
["97-0337","30","97-0337-300",{"$f":"IF(AND(Config!$B$13<=Tarifs!F7327,Config!$B$13>=Tarifs!E7327),1,0)","v":0},"2026-05-01","2026-05-31",2790]
["97-0337","30","97-0337-301",{"$f":"IF(AND(Config!$B$13<=Tarifs!F7328,Config!$B$13>=Tarifs!E7328),1,0)","v":1},"2026-01-01","2026-01-31",2678]
["97-0337","30","97-0337-300",{"$f":"IF(AND(Config!$B$13<=Tarifs!F7329,Config!$B$13>=Tarifs!E7329),1,0)","v":0},"2026-02-01","2026-02-28",2678]
["97-0337","30","97-0337-300",{"$f":"IF(AND(Config!$B$13<=Tarifs!F7330,Config!$B$13>=Tarifs!E7330),1,0)","v":0},"2026-04-01","2026-04-30",2678]
["97-0337","30","97-0337-300",{"$f":"IF(AND(Config!$B$13<=Tarifs!F7331,Config!$B$13>=Tarifs!E7331),1,0)","v":0},"2026-11-01","2026-11-30",2678]
["97-0337","30","97-0337-300",{"$f":"IF(AND(Config!$B$13<=Tarifs!F7332,Config!$B$13>=Tarifs!E7332),1,0)","v":0},"2026-12-01","2026-12-31",2678]
["97-0337","20","97-0337-200",{"$f":"IF(AND(Config!$B$13<=Tarifs!F7333,Config!$B$13>=Tarifs!E7333),1,0)","v":0},"2026-07-01","2026-07-31",1506]
["97-0337","20","97-0337-200",{"$f":"IF(AND(Config!$B$13<=Tarifs!F7334,Config!$B$13>=Tarifs!E7334),1,0)","v":0},"2026-08-01","2026-08-31",1506]
["97-0337","20","97-0337-200",{"$f":"IF(AND(Config!$B$13<=Tarifs!F7335,Config!$B$13>=Tarifs!E7335),1,0)","v":0},"2026-09-01","2026-09-30",1253]
["97-0337","20","97-0337-200",{"$f":"IF(AND(Config!$B$13<=Tarifs!F7336,Config!$B$13>=Tarifs!E7336),1,0)","v":0},"2026-10-01","2026-10-31",1128]
["97-0337","20","97-0337-200",{"$f":"IF(AND(Config!$B$13<=Tarifs!F7337,Config!$B$13>=Tarifs!E7337),1,0)","v":0},"2026-06-01","2026-06-30",834]
["97-0337","20","97-0337-200",{"$f":"IF(AND(Config!$B$13<=Tarifs!F7338,Config!$B$13>=Tarifs!E7338),1,0)","v":0},"2026-03-01","2026-03-31",695]
["97-0337","20","97-0337-200",{"$f":"IF(AND(Config!$B$13<=Tarifs!F7339,Config!$B$13>=Tarifs!E7339),1,0)","v":0},"2026-05-01","2026-05-31",695]
["97-0337","20","97-0337-201",{"$f":"IF(AND(Config!$B$13<=Tarifs!F7340,Config!$B$13>=Tarifs!E7340),1,0)","v":1},"2026-01-01","2026-01-31",666]
["97-0337","20","97-0337-200",{"$f":"IF(AND(Config!$B$13<=Tarifs!F7341,Config!$B$13>=Tarifs!E7341),1,0)","v":0},"2026-02-01","2026-02-28",666]
["97-0337","20","97-0337-200",{"$f":"IF(AND(Config!$B$13<=Tarifs!F7342,Config!$B$13>=Tarifs!E7342),1,0)","v":0},"2026-04-01","2026-04-30",666]
["97-0337","20","97-0337-200",{"$f":"IF(AND(Config!$B$13<=Tarifs!F7343,Config!$B$13>=Tarifs!E7343),1,0)","v":0},"2026-11-01","2026-11-30",666]
["97-0337","20","97-0337-200",{"$f":"IF(AND(Config!$B$13<=Tarifs!F7344,Config!$B$13>=Tarifs!E7344),1,0)","v":0},"2026-12-01","2026-12-31",666]
["97-0337","10","97-0337-100",{"$f":"IF(AND(Config!$B$13<=Tarifs!F7345,Config!$B$13>=Tarifs!E7345),1,0)","v":0},"2026-07-01","2026-07-31",239]
["97-0337","10","97-0337-100",{"$f":"IF(AND(Config!$B$13<=Tarifs!F7346,Config!$B$13>=Tarifs!E7346),1,0)","v":0},"2026-08-01","2026-08-31",239]
["97-0337","10","97-0337-100",{"$f":"IF(AND(Config!$B$13<=Tarifs!F7347,Config!$B$13>=Tarifs!E7347),1,0)","v":0},"2026-09-01","2026-09-30",199]
["97-0337","10","97-0337-100",{"$f":"IF(AND(Config!$B$13<=Tarifs!F7348,Config!$B$13>=Tarifs!E7348),1,0)","v":0},"2026-10-01","2026-10-31",179]
["97-0337","10","97-0337-100",{"$f":"IF(AND(Config!$B$13<=Tarifs!F7349,Config!$B$13>=Tarifs!E7349),1,0)","v":0},"2026-06-01","2026-06-30",149]
["97-0337","10","97-0337-100",{"$f":"IF(AND(Config!$B$13<=Tarifs!F7350,Config!$B$13>=Tarifs!E7350),1,0)","v":0},"2026-03-01","2026-03-31",124]
["97-0337","10","97-0337-100",{"$f":"IF(AND(Config!$B$13<=Tarifs!F7351,Config!$B$13>=Tarifs!E7351),1,0)","v":0},"2026-05-01","2026-05-31",124]
["97-0337","10","97-0337-101",{"$f":"IF(AND(Config!$B$13<=Tarifs!F7352,Config!$B$13>=Tarifs!E7352),1,0)","v":1},"2026-01-01","2026-01-31",119]
["97-0337","10","97-0337-100",{"$f":"IF(AND(Config!$B$13<=Tarifs!F7353,Config!$B$13>=Tarifs!E7353),1,0)","v":0},"2026-02-01","2026-02-28",119]
["97-0337","10","97-0337-100",{"$f":"IF(AND(Config!$B$13<=Tarifs!F7354,Config!$B$13>=Tarifs!E7354),1,0)","v":0},"2026-04-01","2026-04-30",119]
["97-0337","10","97-0337-100",{"$f":"IF(AND(Config!$B$13<=Tarifs!F7355,Config!$B$13>=Tarifs!E7355),1,0)","v":0},"2026-11-01","2026-11-30",119]
["97-0337","10","97-0337-100",{"$f":"IF(AND(Config!$B$13<=Tarifs!F7356,Config!$B$13>=Tarifs!E7356),1,0)","v":0},"2026-12-01","2026-12-31",119]
["97-0341","30","97-0341-300",{"$f":"IF(AND(Config!$B$13<=Tarifs!F7357,Config!$B$13>=Tarifs!E7357),1,0)","v":0},"2026-07-01","2026-07-31",5520]
["97-0341","30","97-0341-300",{"$f":"IF(AND(Config!$B$13<=Tarifs!F7358,Config!$B$13>=Tarifs!E7358),1,0)","v":0},"2026-08-01","2026-08-31",5520]
["97-0341","30","97-0341-300",{"$f":"IF(AND(Config!$B$13<=Tarifs!F7359,Config!$B$13>=Tarifs!E7359),1,0)","v":0},"2026-09-01","2026-09-30",4770]
["97-0341","30","97-0341-300",{"$f":"IF(AND(Config!$B$13<=Tarifs!F7360,Config!$B$13>=Tarifs!E7360),1,0)","v":0},"2026-10-01","2026-10-31",4770]
["97-0341","30","97-0341-300",{"$f":"IF(AND(Config!$B$13<=Tarifs!F7361,Config!$B$13>=Tarifs!E7361),1,0)","v":0},"2026-05-01","2026-05-31",3870]
["97-0341","30","97-0341-300",{"$f":"IF(AND(Config!$B$13<=Tarifs!F7362,Config!$B$13>=Tarifs!E7362),1,0)","v":0},"2026-06-01","2026-06-30",3870]
["97-0341","30",{"$f":"A7363&\"-\"&B7363&D7363","v":"97-0341-300"},{"$f":"IF(AND(Config!$B$13<=Tarifs!F7363,Config!$B$13>=Tarifs!E7363),1,0)","v":0},"2026-02-01","2026-02-28",3570]
["97-0341","30","97-0341-301",{"$f":"IF(AND(Config!$B$13<=Tarifs!F7364,Config!$B$13>=Tarifs!E7364),1,0)","v":1},"2026-01-01","2026-01-31",3420]
["97-0341","30","97-0341-300",{"$f":"IF(AND(Config!$B$13<=Tarifs!F7365,Config!$B$13>=Tarifs!E7365),1,0)","v":0},"2026-03-01","2026-03-31",3420]
["97-0341","30","97-0341-300",{"$f":"IF(AND(Config!$B$13<=Tarifs!F7366,Config!$B$13>=Tarifs!E7366),1,0)","v":0},"2026-04-01","2026-04-30",3420]
["97-0341","30","97-0341-300",{"$f":"IF(AND(Config!$B$13<=Tarifs!F7367,Config!$B$13>=Tarifs!E7367),1,0)","v":0},"2026-11-01","2026-11-30",3420]
["97-0341","30","97-0341-300",{"$f":"IF(AND(Config!$B$13<=Tarifs!F7368,Config!$B$13>=Tarifs!E7368),1,0)","v":0},"2026-12-01","2026-12-31",3420]
["97-0341","20","97-0341-200",{"$f":"IF(AND(Config!$B$13<=Tarifs!F7369,Config!$B$13>=Tarifs!E7369),1,0)","v":0},"2026-07-01","2026-07-31",1288]
["97-0341","20","97-0341-200",{"$f":"IF(AND(Config!$B$13<=Tarifs!F7370,Config!$B$13>=Tarifs!E7370),1,0)","v":0},"2026-08-01","2026-08-31",1288]
["97-0341","20","97-0341-200",{"$f":"IF(AND(Config!$B$13<=Tarifs!F7371,Config!$B$13>=Tarifs!E7371),1,0)","v":0},"2026-09-01","2026-09-30",1113]
["97-0341","20","97-0341-200",{"$f":"IF(AND(Config!$B$13<=Tarifs!F7372,Config!$B$13>=Tarifs!E7372),1,0)","v":0},"2026-10-01","2026-10-31",1113]
["97-0341","20","97-0341-200",{"$f":"IF(AND(Config!$B$13<=Tarifs!F7373,Config!$B$13>=Tarifs!E7373),1,0)","v":0},"2026-05-01","2026-05-31",903]
["97-0341","20","97-0341-200",{"$f":"IF(AND(Config!$B$13<=Tarifs!F7374,Config!$B$13>=Tarifs!E7374),1,0)","v":0},"2026-06-01","2026-06-30",903]
["97-0341","20","97-0341-200",{"$f":"IF(AND(Config!$B$13<=Tarifs!F7375,Config!$B$13>=Tarifs!E7375),1,0)","v":0},"2026-02-01","2026-02-28",833]
["97-0341","20","97-0341-201",{"$f":"IF(AND(Config!$B$13<=Tarifs!F7376,Config!$B$13>=Tarifs!E7376),1,0)","v":1},"2026-01-01","2026-01-31",798]
["97-0341","20","97-0341-200",{"$f":"IF(AND(Config!$B$13<=Tarifs!F7377,Config!$B$13>=Tarifs!E7377),1,0)","v":0},"2026-03-01","2026-03-31",798]
["97-0341","20","97-0341-200",{"$f":"IF(AND(Config!$B$13<=Tarifs!F7378,Config!$B$13>=Tarifs!E7378),1,0)","v":0},"2026-04-01","2026-04-30",798]
["97-0341","20","97-0341-200",{"$f":"IF(AND(Config!$B$13<=Tarifs!F7379,Config!$B$13>=Tarifs!E7379),1,0)","v":0},"2026-11-01","2026-11-30",798]
["97-0341","20","97-0341-200",{"$f":"IF(AND(Config!$B$13<=Tarifs!F7380,Config!$B$13>=Tarifs!E7380),1,0)","v":0},"2026-12-01","2026-12-31",798]
["97-0341","10","97-0341-100",{"$f":"IF(AND(Config!$B$13<=Tarifs!F7381,Config!$B$13>=Tarifs!E7381),1,0)","v":0},"2026-07-01","2026-07-31",184]
["97-0341","10","97-0341-100",{"$f":"IF(AND(Config!$B$13<=Tarifs!F7382,Config!$B$13>=Tarifs!E7382),1,0)","v":0},"2026-08-01","2026-08-31",184]
["97-0341","10","97-0341-100",{"$f":"IF(AND(Config!$B$13<=Tarifs!F7383,Config!$B$13>=Tarifs!E7383),1,0)","v":0},"2026-09-01","2026-09-30",159]
["97-0341","10","97-0341-100",{"$f":"IF(AND(Config!$B$13<=Tarifs!F7384,Config!$B$13>=Tarifs!E7384),1,0)","v":0},"2026-10-01","2026-10-31",159]
["97-0341","10","97-0341-100",{"$f":"IF(AND(Config!$B$13<=Tarifs!F7385,Config!$B$13>=Tarifs!E7385),1,0)","v":0},"2026-05-01","2026-05-31",129]
["97-0341","10","97-0341-100",{"$f":"IF(AND(Config!$B$13<=Tarifs!F7386,Config!$B$13>=Tarifs!E7386),1,0)","v":0},"2026-06-01","2026-06-30",129]
["97-0341","10","97-0341-100",{"$f":"IF(AND(Config!$B$13<=Tarifs!F7387,Config!$B$13>=Tarifs!E7387),1,0)","v":0},"2026-02-01","2026-02-28",119]
["97-0341","10","97-0341-101",{"$f":"IF(AND(Config!$B$13<=Tarifs!F7388,Config!$B$13>=Tarifs!E7388),1,0)","v":1},"2026-01-01","2026-01-31",114]
["97-0341","10","97-0341-100",{"$f":"IF(AND(Config!$B$13<=Tarifs!F7389,Config!$B$13>=Tarifs!E7389),1,0)","v":0},"2026-03-01","2026-03-31",114]
["97-0341","10","97-0341-100",{"$f":"IF(AND(Config!$B$13<=Tarifs!F7390,Config!$B$13>=Tarifs!E7390),1,0)","v":0},"2026-04-01","2026-04-30",114]
["97-0341","10","97-0341-100",{"$f":"IF(AND(Config!$B$13<=Tarifs!F7391,Config!$B$13>=Tarifs!E7391),1,0)","v":0},"2026-11-01","2026-11-30",114]
["97-0341","10","97-0341-100",{"$f":"IF(AND(Config!$B$13<=Tarifs!F7392,Config!$B$13>=Tarifs!E7392),1,0)","v":0},"2026-12-01","2026-12-31",114]
["97-0345","30","97-0345-300",{"$f":"IF(AND(Config!$B$13<=Tarifs!F7393,Config!$B$13>=Tarifs!E7393),1,0)","v":0},"2026-12-01","2026-12-31",4950]
["97-0345","30","97-0345-301",{"$f":"IF(AND(Config!$B$13<=Tarifs!F7394,Config!$B$13>=Tarifs!E7394),1,0)","v":1},"2026-01-01","2026-01-31",4950]
["97-0345","30","97-0345-300",{"$f":"IF(AND(Config!$B$13<=Tarifs!F7395,Config!$B$13>=Tarifs!E7395),1,0)","v":0},"2026-02-01","2026-02-28",4950]
["97-0345","30","97-0345-300",{"$f":"IF(AND(Config!$B$13<=Tarifs!F7396,Config!$B$13>=Tarifs!E7396),1,0)","v":0},"2026-03-01","2026-03-31",4950]
["97-0345","30","97-0345-300",{"$f":"IF(AND(Config!$B$13<=Tarifs!F7397,Config!$B$13>=Tarifs!E7397),1,0)","v":0},"2026-04-01","2026-04-30",4950]
["97-0345","30","97-0345-300",{"$f":"IF(AND(Config!$B$13<=Tarifs!F7398,Config!$B$13>=Tarifs!E7398),1,0)","v":0},"2026-05-01","2026-05-31",4950]
["97-0345","30","97-0345-300",{"$f":"IF(AND(Config!$B$13<=Tarifs!F7399,Config!$B$13>=Tarifs!E7399),1,0)","v":0},"2026-06-01","2026-06-30",4950]
["97-0345","30","97-0345-300",{"$f":"IF(AND(Config!$B$13<=Tarifs!F7400,Config!$B$13>=Tarifs!E7400),1,0)","v":0},"2026-07-01","2026-07-31",4950]
["97-0345","30","97-0345-300",{"$f":"IF(AND(Config!$B$13<=Tarifs!F7401,Config!$B$13>=Tarifs!E7401),1,0)","v":0},"2026-08-01","2026-08-31",4950]
["97-0345","30","97-0345-300",{"$f":"IF(AND(Config!$B$13<=Tarifs!F7402,Config!$B$13>=Tarifs!E7402),1,0)","v":0},"2026-09-01","2026-09-30",4950]
["97-0345","30","97-0345-300",{"$f":"IF(AND(Config!$B$13<=Tarifs!F7403,Config!$B$13>=Tarifs!E7403),1,0)","v":0},"2026-10-01","2026-10-31",4950]
["97-0345","30","97-0345-300",{"$f":"IF(AND(Config!$B$13<=Tarifs!F7404,Config!$B$13>=Tarifs!E7404),1,0)","v":0},"2026-11-01","2026-11-30",4950]
["97-0345","20","97-0345-200",{"$f":"IF(AND(Config!$B$13<=Tarifs!F7405,Config!$B$13>=Tarifs!E7405),1,0)","v":0},"2026-12-01","2026-12-31",1155]
["97-0345","20","97-0345-201",{"$f":"IF(AND(Config!$B$13<=Tarifs!F7406,Config!$B$13>=Tarifs!E7406),1,0)","v":1},"2026-01-01","2026-01-31",1155]
["97-0345","20","97-0345-200",{"$f":"IF(AND(Config!$B$13<=Tarifs!F7407,Config!$B$13>=Tarifs!E7407),1,0)","v":0},"2026-02-01","2026-02-28",1155]
["97-0345","20","97-0345-200",{"$f":"IF(AND(Config!$B$13<=Tarifs!F7408,Config!$B$13>=Tarifs!E7408),1,0)","v":0},"2026-03-01","2026-03-31",1155]
["97-0345","20","97-0345-200",{"$f":"IF(AND(Config!$B$13<=Tarifs!F7409,Config!$B$13>=Tarifs!E7409),1,0)","v":0},"2026-04-01","2026-04-30",1155]
["97-0345","20","97-0345-200",{"$f":"IF(AND(Config!$B$13<=Tarifs!F7410,Config!$B$13>=Tarifs!E7410),1,0)","v":0},"2026-05-01","2026-05-31",1155]
["97-0345","20","97-0345-200",{"$f":"IF(AND(Config!$B$13<=Tarifs!F7411,Config!$B$13>=Tarifs!E7411),1,0)","v":0},"2026-06-01","2026-06-30",1155]
["97-0345","20","97-0345-200",{"$f":"IF(AND(Config!$B$13<=Tarifs!F7412,Config!$B$13>=Tarifs!E7412),1,0)","v":0},"2026-07-01","2026-07-31",1155]
["97-0345","20","97-0345-200",{"$f":"IF(AND(Config!$B$13<=Tarifs!F7413,Config!$B$13>=Tarifs!E7413),1,0)","v":0},"2026-08-01","2026-08-31",1155]
["97-0345","20","97-0345-200",{"$f":"IF(AND(Config!$B$13<=Tarifs!F7414,Config!$B$13>=Tarifs!E7414),1,0)","v":0},"2026-09-01","2026-09-30",1155]
["97-0345","20","97-0345-200",{"$f":"IF(AND(Config!$B$13<=Tarifs!F7415,Config!$B$13>=Tarifs!E7415),1,0)","v":0},"2026-10-01","2026-10-31",1155]
["97-0345","20","97-0345-200",{"$f":"IF(AND(Config!$B$13<=Tarifs!F7416,Config!$B$13>=Tarifs!E7416),1,0)","v":0},"2026-11-01","2026-11-30",1155]
["97-0345","10","97-0345-101",{"$f":"IF(AND(Config!$B$13<=Tarifs!F7417,Config!$B$13>=Tarifs!E7417),1,0)","v":1},"2026-01-01","2026-01-31",165]
["97-0345","10","97-0345-100",{"$f":"IF(AND(Config!$B$13<=Tarifs!F7418,Config!$B$13>=Tarifs!E7418),1,0)","v":0},"2026-02-01","2026-02-28",165]
["97-0345","10","97-0345-100",{"$f":"IF(AND(Config!$B$13<=Tarifs!F7419,Config!$B$13>=Tarifs!E7419),1,0)","v":0},"2026-03-01","2026-03-31",165]
["97-0345","10","97-0345-100",{"$f":"IF(AND(Config!$B$13<=Tarifs!F7420,Config!$B$13>=Tarifs!E7420),1,0)","v":0},"2026-04-01","2026-04-30",165]
["97-0345","10","97-0345-100",{"$f":"IF(AND(Config!$B$13<=Tarifs!F7421,Config!$B$13>=Tarifs!E7421),1,0)","v":0},"2026-05-01","2026-05-31",165]
["97-0345","10","97-0345-100",{"$f":"IF(AND(Config!$B$13<=Tarifs!F7422,Config!$B$13>=Tarifs!E7422),1,0)","v":0},"2026-06-01","2026-06-30",165]
["97-0345","10","97-0345-100",{"$f":"IF(AND(Config!$B$13<=Tarifs!F7423,Config!$B$13>=Tarifs!E7423),1,0)","v":0},"2026-07-01","2026-07-31",165]
["97-0345","10","97-0345-100",{"$f":"IF(AND(Config!$B$13<=Tarifs!F7424,Config!$B$13>=Tarifs!E7424),1,0)","v":0},"2026-08-01","2026-08-31",165]
["97-0345","10","97-0345-100",{"$f":"IF(AND(Config!$B$13<=Tarifs!F7425,Config!$B$13>=Tarifs!E7425),1,0)","v":0},"2026-09-01","2026-09-30",165]
["97-0345","10","97-0345-100",{"$f":"IF(AND(Config!$B$13<=Tarifs!F7426,Config!$B$13>=Tarifs!E7426),1,0)","v":0},"2026-10-01","2026-10-31",165]
["97-0345","10",{"$f":"A7427&\"-\"&B7427&D7427","v":"97-0345-100"},{"$f":"IF(AND(Config!$B$13<=Tarifs!F7427,Config!$B$13>=Tarifs!E7427),1,0)","v":0},"2026-11-01","2026-11-30",165]
["97-0345","10","97-0345-100",{"$f":"IF(AND(Config!$B$13<=Tarifs!F7428,Config!$B$13>=Tarifs!E7428),1,0)","v":0},"2026-12-01","2026-12-31",165]
["97-0348","30","97-0348-300",{"$f":"IF(AND(Config!$B$13<=Tarifs!F7429,Config!$B$13>=Tarifs!E7429),1,0)","v":0},"2026-07-01","2026-07-31",4650]
["97-0348","30","97-0348-300",{"$f":"IF(AND(Config!$B$13<=Tarifs!F7430,Config!$B$13>=Tarifs!E7430),1,0)","v":0},"2026-08-01","2026-08-31",4650]
["97-0348","30","97-0348-300",{"$f":"IF(AND(Config!$B$13<=Tarifs!F7431,Config!$B$13>=Tarifs!E7431),1,0)","v":0},"2026-09-01","2026-09-30",4650]
["97-0348","30","97-0348-300",{"$f":"IF(AND(Config!$B$13<=Tarifs!F7432,Config!$B$13>=Tarifs!E7432),1,0)","v":0},"2026-10-01","2026-10-31",4650]
["97-0348","30","97-0348-300",{"$f":"IF(AND(Config!$B$13<=Tarifs!F7433,Config!$B$13>=Tarifs!E7433),1,0)","v":0},"2026-11-01","2026-11-30",4050]
["97-0348","30","97-0348-300",{"$f":"IF(AND(Config!$B$13<=Tarifs!F7434,Config!$B$13>=Tarifs!E7434),1,0)","v":0},"2026-12-01","2026-12-31",4050]
["97-0348","30","97-0348-300",{"$f":"IF(AND(Config!$B$13<=Tarifs!F7435,Config!$B$13>=Tarifs!E7435),1,0)","v":0},"2026-05-01","2026-05-31",3450]
["97-0348","30","97-0348-300",{"$f":"IF(AND(Config!$B$13<=Tarifs!F7436,Config!$B$13>=Tarifs!E7436),1,0)","v":0},"2026-06-01","2026-06-30",3450]
["97-0348","30","97-0348-301",{"$f":"IF(AND(Config!$B$13<=Tarifs!F7437,Config!$B$13>=Tarifs!E7437),1,0)","v":1},"2026-01-01","2026-01-31",3150]
["97-0348","30","97-0348-300",{"$f":"IF(AND(Config!$B$13<=Tarifs!F7438,Config!$B$13>=Tarifs!E7438),1,0)","v":0},"2026-02-01","2026-02-28",3150]
["97-0348","30","97-0348-300",{"$f":"IF(AND(Config!$B$13<=Tarifs!F7439,Config!$B$13>=Tarifs!E7439),1,0)","v":0},"2026-03-01","2026-03-31",3150]
["97-0348","30","97-0348-300",{"$f":"IF(AND(Config!$B$13<=Tarifs!F7440,Config!$B$13>=Tarifs!E7440),1,0)","v":0},"2026-04-01","2026-04-30",3150]
["97-0348","20","97-0348-200",{"$f":"IF(AND(Config!$B$13<=Tarifs!F7441,Config!$B$13>=Tarifs!E7441),1,0)","v":0},"2026-07-01","2026-07-31",1085]
["97-0348","20","97-0348-200",{"$f":"IF(AND(Config!$B$13<=Tarifs!F7442,Config!$B$13>=Tarifs!E7442),1,0)","v":0},"2026-08-01","2026-08-31",1085]
["97-0348","20","97-0348-200",{"$f":"IF(AND(Config!$B$13<=Tarifs!F7443,Config!$B$13>=Tarifs!E7443),1,0)","v":0},"2026-09-01","2026-09-30",1085]
["97-0348","20","97-0348-200",{"$f":"IF(AND(Config!$B$13<=Tarifs!F7444,Config!$B$13>=Tarifs!E7444),1,0)","v":0},"2026-10-01","2026-10-31",1085]
["97-0348","20","97-0348-200",{"$f":"IF(AND(Config!$B$13<=Tarifs!F7445,Config!$B$13>=Tarifs!E7445),1,0)","v":0},"2026-11-01","2026-11-30",945]
["97-0348","20","97-0348-200",{"$f":"IF(AND(Config!$B$13<=Tarifs!F7446,Config!$B$13>=Tarifs!E7446),1,0)","v":0},"2026-12-01","2026-12-31",945]
["97-0348","20","97-0348-200",{"$f":"IF(AND(Config!$B$13<=Tarifs!F7447,Config!$B$13>=Tarifs!E7447),1,0)","v":0},"2026-05-01","2026-05-31",805]
["97-0348","20","97-0348-200",{"$f":"IF(AND(Config!$B$13<=Tarifs!F7448,Config!$B$13>=Tarifs!E7448),1,0)","v":0},"2026-06-01","2026-06-30",805]
["97-0348","20","97-0348-201",{"$f":"IF(AND(Config!$B$13<=Tarifs!F7449,Config!$B$13>=Tarifs!E7449),1,0)","v":1},"2026-01-01","2026-01-31",735]
["97-0348","20","97-0348-200",{"$f":"IF(AND(Config!$B$13<=Tarifs!F7450,Config!$B$13>=Tarifs!E7450),1,0)","v":0},"2026-02-01","2026-02-28",735]
["97-0348","20","97-0348-200",{"$f":"IF(AND(Config!$B$13<=Tarifs!F7451,Config!$B$13>=Tarifs!E7451),1,0)","v":0},"2026-03-01","2026-03-31",735]
["97-0348","20","97-0348-200",{"$f":"IF(AND(Config!$B$13<=Tarifs!F7452,Config!$B$13>=Tarifs!E7452),1,0)","v":0},"2026-04-01","2026-04-30",735]
["97-0348","10","97-0348-100",{"$f":"IF(AND(Config!$B$13<=Tarifs!F7453,Config!$B$13>=Tarifs!E7453),1,0)","v":0},"2026-07-01","2026-07-31",155]
["97-0348","10","97-0348-100",{"$f":"IF(AND(Config!$B$13<=Tarifs!F7454,Config!$B$13>=Tarifs!E7454),1,0)","v":0},"2026-08-01","2026-08-31",155]
["97-0348","10","97-0348-100",{"$f":"IF(AND(Config!$B$13<=Tarifs!F7455,Config!$B$13>=Tarifs!E7455),1,0)","v":0},"2026-09-01","2026-09-30",155]
["97-0348","10","97-0348-100",{"$f":"IF(AND(Config!$B$13<=Tarifs!F7456,Config!$B$13>=Tarifs!E7456),1,0)","v":0},"2026-10-01","2026-10-31",155]
["97-0348","10","97-0348-100",{"$f":"IF(AND(Config!$B$13<=Tarifs!F7457,Config!$B$13>=Tarifs!E7457),1,0)","v":0},"2026-11-01","2026-11-30",135]
["97-0348","10","97-0348-100",{"$f":"IF(AND(Config!$B$13<=Tarifs!F7458,Config!$B$13>=Tarifs!E7458),1,0)","v":0},"2026-12-01","2026-12-31",135]
["97-0348","10","97-0348-100",{"$f":"IF(AND(Config!$B$13<=Tarifs!F7459,Config!$B$13>=Tarifs!E7459),1,0)","v":0},"2026-05-01","2026-05-31",115]
["97-0348","10","97-0348-100",{"$f":"IF(AND(Config!$B$13<=Tarifs!F7460,Config!$B$13>=Tarifs!E7460),1,0)","v":0},"2026-06-01","2026-06-30",115]
["97-0348","10","97-0348-101",{"$f":"IF(AND(Config!$B$13<=Tarifs!F7461,Config!$B$13>=Tarifs!E7461),1,0)","v":1},"2026-01-01","2026-01-31",105]
["97-0348","10","97-0348-100",{"$f":"IF(AND(Config!$B$13<=Tarifs!F7462,Config!$B$13>=Tarifs!E7462),1,0)","v":0},"2026-02-01","2026-02-28",105]
["97-0348","10","97-0348-100",{"$f":"IF(AND(Config!$B$13<=Tarifs!F7463,Config!$B$13>=Tarifs!E7463),1,0)","v":0},"2026-03-01","2026-03-31",105]
["97-0348","10","97-0348-100",{"$f":"IF(AND(Config!$B$13<=Tarifs!F7464,Config!$B$13>=Tarifs!E7464),1,0)","v":0},"2026-04-01","2026-04-30",105]
["97-0377","30","97-0377-300",{"$f":"IF(AND(Config!$B$13<=Tarifs!F7465,Config!$B$13>=Tarifs!E7465),1,0)","v":0},"2026-07-01","2026-07-31",5070]
["97-0377","30","97-0377-300",{"$f":"IF(AND(Config!$B$13<=Tarifs!F7466,Config!$B$13>=Tarifs!E7466),1,0)","v":0},"2026-08-01","2026-08-31",5070]
["97-0377","30","97-0377-300",{"$f":"IF(AND(Config!$B$13<=Tarifs!F7467,Config!$B$13>=Tarifs!E7467),1,0)","v":0},"2026-09-01","2026-09-30",5070]
["97-0377","30","97-0377-301",{"$f":"IF(AND(Config!$B$13<=Tarifs!F7468,Config!$B$13>=Tarifs!E7468),1,0)","v":1},"2026-01-01","2026-01-31",4050]
["97-0377","30","97-0377-300",{"$f":"IF(AND(Config!$B$13<=Tarifs!F7469,Config!$B$13>=Tarifs!E7469),1,0)","v":0},"2026-02-01","2026-02-28",4050]
["97-0377","30","97-0377-300",{"$f":"IF(AND(Config!$B$13<=Tarifs!F7470,Config!$B$13>=Tarifs!E7470),1,0)","v":0},"2026-03-01","2026-03-31",4050]
["97-0377","30","97-0377-300",{"$f":"IF(AND(Config!$B$13<=Tarifs!F7471,Config!$B$13>=Tarifs!E7471),1,0)","v":0},"2026-04-01","2026-04-30",4050]
["97-0377","30","97-0377-300",{"$f":"IF(AND(Config!$B$13<=Tarifs!F7472,Config!$B$13>=Tarifs!E7472),1,0)","v":0},"2026-05-01","2026-05-31",4050]
["97-0377","30","97-0377-300",{"$f":"IF(AND(Config!$B$13<=Tarifs!F7473,Config!$B$13>=Tarifs!E7473),1,0)","v":0},"2026-06-01","2026-06-30",4050]
["97-0377","30","97-0377-300",{"$f":"IF(AND(Config!$B$13<=Tarifs!F7474,Config!$B$13>=Tarifs!E7474),1,0)","v":0},"2026-10-01","2026-10-31",4050]
["97-0377","30","97-0377-300",{"$f":"IF(AND(Config!$B$13<=Tarifs!F7475,Config!$B$13>=Tarifs!E7475),1,0)","v":0},"2026-11-01","2026-11-30",4050]
["97-0377","30","97-0377-300",{"$f":"IF(AND(Config!$B$13<=Tarifs!F7476,Config!$B$13>=Tarifs!E7476),1,0)","v":0},"2026-12-01","2026-12-31",4050]
["97-0377","20","97-0377-200",{"$f":"IF(AND(Config!$B$13<=Tarifs!F7477,Config!$B$13>=Tarifs!E7477),1,0)","v":0},"2026-07-01","2026-07-31",1183]
["97-0377","20","97-0377-200",{"$f":"IF(AND(Config!$B$13<=Tarifs!F7478,Config!$B$13>=Tarifs!E7478),1,0)","v":0},"2026-08-01","2026-08-31",1183]
["97-0377","20","97-0377-200",{"$f":"IF(AND(Config!$B$13<=Tarifs!F7479,Config!$B$13>=Tarifs!E7479),1,0)","v":0},"2026-09-01","2026-09-30",1183]
["97-0377","20","97-0377-201",{"$f":"IF(AND(Config!$B$13<=Tarifs!F7480,Config!$B$13>=Tarifs!E7480),1,0)","v":1},"2026-01-01","2026-01-31",945]
["97-0377","20","97-0377-200",{"$f":"IF(AND(Config!$B$13<=Tarifs!F7481,Config!$B$13>=Tarifs!E7481),1,0)","v":0},"2026-02-01","2026-02-28",945]
["97-0377","20","97-0377-200",{"$f":"IF(AND(Config!$B$13<=Tarifs!F7482,Config!$B$13>=Tarifs!E7482),1,0)","v":0},"2026-03-01","2026-03-31",945]
["97-0377","20","97-0377-200",{"$f":"IF(AND(Config!$B$13<=Tarifs!F7483,Config!$B$13>=Tarifs!E7483),1,0)","v":0},"2026-04-01","2026-04-30",945]
["97-0377","20","97-0377-200",{"$f":"IF(AND(Config!$B$13<=Tarifs!F7484,Config!$B$13>=Tarifs!E7484),1,0)","v":0},"2026-05-01","2026-05-31",945]
["97-0377","20","97-0377-200",{"$f":"IF(AND(Config!$B$13<=Tarifs!F7485,Config!$B$13>=Tarifs!E7485),1,0)","v":0},"2026-06-01","2026-06-30",945]
["97-0377","20","97-0377-200",{"$f":"IF(AND(Config!$B$13<=Tarifs!F7486,Config!$B$13>=Tarifs!E7486),1,0)","v":0},"2026-10-01","2026-10-31",945]
["97-0377","20","97-0377-200",{"$f":"IF(AND(Config!$B$13<=Tarifs!F7487,Config!$B$13>=Tarifs!E7487),1,0)","v":0},"2026-11-01","2026-11-30",945]
["97-0377","20","97-0377-200",{"$f":"IF(AND(Config!$B$13<=Tarifs!F7488,Config!$B$13>=Tarifs!E7488),1,0)","v":0},"2026-12-01","2026-12-31",945]
["97-0377","10","97-0377-100",{"$f":"IF(AND(Config!$B$13<=Tarifs!F7489,Config!$B$13>=Tarifs!E7489),1,0)","v":0},"2026-07-01","2026-07-31",169]
["97-0377","10","97-0377-100",{"$f":"IF(AND(Config!$B$13<=Tarifs!F7490,Config!$B$13>=Tarifs!E7490),1,0)","v":0},"2026-08-01","2026-08-31",169]
["97-0377","10",{"$f":"A7491&\"-\"&B7491&D7491","v":"97-0377-100"},{"$f":"IF(AND(Config!$B$13<=Tarifs!F7491,Config!$B$13>=Tarifs!E7491),1,0)","v":0},"2026-09-01","2026-09-30",169]
["97-0377","10","97-0377-101",{"$f":"IF(AND(Config!$B$13<=Tarifs!F7492,Config!$B$13>=Tarifs!E7492),1,0)","v":1},"2026-01-01","2026-01-31",135]
["97-0377","10","97-0377-100",{"$f":"IF(AND(Config!$B$13<=Tarifs!F7493,Config!$B$13>=Tarifs!E7493),1,0)","v":0},"2026-02-01","2026-02-28",135]
["97-0377","10","97-0377-100",{"$f":"IF(AND(Config!$B$13<=Tarifs!F7494,Config!$B$13>=Tarifs!E7494),1,0)","v":0},"2026-03-01","2026-03-31",135]
["97-0377","10","97-0377-100",{"$f":"IF(AND(Config!$B$13<=Tarifs!F7495,Config!$B$13>=Tarifs!E7495),1,0)","v":0},"2026-04-01","2026-04-30",135]
["97-0377","10","97-0377-100",{"$f":"IF(AND(Config!$B$13<=Tarifs!F7496,Config!$B$13>=Tarifs!E7496),1,0)","v":0},"2026-05-01","2026-05-31",135]
["97-0377","10","97-0377-100",{"$f":"IF(AND(Config!$B$13<=Tarifs!F7497,Config!$B$13>=Tarifs!E7497),1,0)","v":0},"2026-06-01","2026-06-30",135]
["97-0377","10","97-0377-100",{"$f":"IF(AND(Config!$B$13<=Tarifs!F7498,Config!$B$13>=Tarifs!E7498),1,0)","v":0},"2026-10-01","2026-10-31",135]
["97-0377","10","97-0377-100",{"$f":"IF(AND(Config!$B$13<=Tarifs!F7499,Config!$B$13>=Tarifs!E7499),1,0)","v":0},"2026-11-01","2026-11-30",135]
["97-0377","10","97-0377-100",{"$f":"IF(AND(Config!$B$13<=Tarifs!F7500,Config!$B$13>=Tarifs!E7500),1,0)","v":0},"2026-12-01","2026-12-31",135]
["97-0385","30","97-0385-300",{"$f":"IF(AND(Config!$B$13<=Tarifs!F7501,Config!$B$13>=Tarifs!E7501),1,0)","v":0},"2026-05-01","2026-05-31",5370]
["97-0385","30","97-0385-300",{"$f":"IF(AND(Config!$B$13<=Tarifs!F7502,Config!$B$13>=Tarifs!E7502),1,0)","v":0},"2026-06-01","2026-06-30",5370]
["97-0385","30","97-0385-300",{"$f":"IF(AND(Config!$B$13<=Tarifs!F7503,Config!$B$13>=Tarifs!E7503),1,0)","v":0},"2026-09-01","2026-09-30",5370]
["97-0385","30","97-0385-300",{"$f":"IF(AND(Config!$B$13<=Tarifs!F7504,Config!$B$13>=Tarifs!E7504),1,0)","v":0},"2026-10-01","2026-10-31",5370]
["97-0385","30","97-0385-300",{"$f":"IF(AND(Config!$B$13<=Tarifs!F7505,Config!$B$13>=Tarifs!E7505),1,0)","v":0},"2026-11-01","2026-11-30",5070]
["97-0385","30","97-0385-300",{"$f":"IF(AND(Config!$B$13<=Tarifs!F7506,Config!$B$13>=Tarifs!E7506),1,0)","v":0},"2026-12-01","2026-12-31",5070]
["97-0385","30","97-0385-301",{"$f":"IF(AND(Config!$B$13<=Tarifs!F7507,Config!$B$13>=Tarifs!E7507),1,0)","v":1},"2026-01-01","2026-01-31",4770]
["97-0385","30","97-0385-300",{"$f":"IF(AND(Config!$B$13<=Tarifs!F7508,Config!$B$13>=Tarifs!E7508),1,0)","v":0},"2026-02-01","2026-02-28",4770]
["97-0385","30","97-0385-300",{"$f":"IF(AND(Config!$B$13<=Tarifs!F7509,Config!$B$13>=Tarifs!E7509),1,0)","v":0},"2026-03-01","2026-03-31",4770]
["97-0385","30","97-0385-300",{"$f":"IF(AND(Config!$B$13<=Tarifs!F7510,Config!$B$13>=Tarifs!E7510),1,0)","v":0},"2026-04-01","2026-04-30",4770]
["97-0385","30","97-0385-300",{"$f":"IF(AND(Config!$B$13<=Tarifs!F7511,Config!$B$13>=Tarifs!E7511),1,0)","v":0},"2026-07-01","2026-07-31",4770]
["97-0385","30","97-0385-300",{"$f":"IF(AND(Config!$B$13<=Tarifs!F7512,Config!$B$13>=Tarifs!E7512),1,0)","v":0},"2026-08-01","2026-08-31",4770]
["97-0385","20","97-0385-200",{"$f":"IF(AND(Config!$B$13<=Tarifs!F7513,Config!$B$13>=Tarifs!E7513),1,0)","v":0},"2026-05-01","2026-05-31",1253]
["97-0385","20","97-0385-200",{"$f":"IF(AND(Config!$B$13<=Tarifs!F7514,Config!$B$13>=Tarifs!E7514),1,0)","v":0},"2026-06-01","2026-06-30",1253]
["97-0385","20","97-0385-200",{"$f":"IF(AND(Config!$B$13<=Tarifs!F7515,Config!$B$13>=Tarifs!E7515),1,0)","v":0},"2026-09-01","2026-09-30",1253]
["97-0385","20","97-0385-200",{"$f":"IF(AND(Config!$B$13<=Tarifs!F7516,Config!$B$13>=Tarifs!E7516),1,0)","v":0},"2026-10-01","2026-10-31",1253]
["97-0385","20","97-0385-200",{"$f":"IF(AND(Config!$B$13<=Tarifs!F7517,Config!$B$13>=Tarifs!E7517),1,0)","v":0},"2026-11-01","2026-11-30",1183]
["97-0385","20","97-0385-200",{"$f":"IF(AND(Config!$B$13<=Tarifs!F7518,Config!$B$13>=Tarifs!E7518),1,0)","v":0},"2026-12-01","2026-12-31",1183]
["97-0385","20","97-0385-201",{"$f":"IF(AND(Config!$B$13<=Tarifs!F7519,Config!$B$13>=Tarifs!E7519),1,0)","v":1},"2026-01-01","2026-01-31",1113]
["97-0385","20","97-0385-200",{"$f":"IF(AND(Config!$B$13<=Tarifs!F7520,Config!$B$13>=Tarifs!E7520),1,0)","v":0},"2026-02-01","2026-02-28",1113]
["97-0385","20","97-0385-200",{"$f":"IF(AND(Config!$B$13<=Tarifs!F7521,Config!$B$13>=Tarifs!E7521),1,0)","v":0},"2026-03-01","2026-03-31",1113]
["97-0385","20","97-0385-200",{"$f":"IF(AND(Config!$B$13<=Tarifs!F7522,Config!$B$13>=Tarifs!E7522),1,0)","v":0},"2026-04-01","2026-04-30",1113]
["97-0385","20","97-0385-200",{"$f":"IF(AND(Config!$B$13<=Tarifs!F7523,Config!$B$13>=Tarifs!E7523),1,0)","v":0},"2026-07-01","2026-07-31",1113]
["97-0385","20","97-0385-200",{"$f":"IF(AND(Config!$B$13<=Tarifs!F7524,Config!$B$13>=Tarifs!E7524),1,0)","v":0},"2026-08-01","2026-08-31",1113]
["97-0385","10","97-0385-100",{"$f":"IF(AND(Config!$B$13<=Tarifs!F7525,Config!$B$13>=Tarifs!E7525),1,0)","v":0},"2026-05-01","2026-05-31",179]
["97-0385","10","97-0385-100",{"$f":"IF(AND(Config!$B$13<=Tarifs!F7526,Config!$B$13>=Tarifs!E7526),1,0)","v":0},"2026-06-01","2026-06-30",179]
["97-0385","10","97-0385-100",{"$f":"IF(AND(Config!$B$13<=Tarifs!F7527,Config!$B$13>=Tarifs!E7527),1,0)","v":0},"2026-09-01","2026-09-30",179]
["97-0385","10","97-0385-100",{"$f":"IF(AND(Config!$B$13<=Tarifs!F7528,Config!$B$13>=Tarifs!E7528),1,0)","v":0},"2026-10-01","2026-10-31",179]
["97-0385","10","97-0385-100",{"$f":"IF(AND(Config!$B$13<=Tarifs!F7529,Config!$B$13>=Tarifs!E7529),1,0)","v":0},"2026-11-01","2026-11-30",169]
["97-0385","10","97-0385-100",{"$f":"IF(AND(Config!$B$13<=Tarifs!F7530,Config!$B$13>=Tarifs!E7530),1,0)","v":0},"2026-12-01","2026-12-31",169]
["97-0385","10","97-0385-101",{"$f":"IF(AND(Config!$B$13<=Tarifs!F7531,Config!$B$13>=Tarifs!E7531),1,0)","v":1},"2026-01-01","2026-01-31",159]
["97-0385","10","97-0385-100",{"$f":"IF(AND(Config!$B$13<=Tarifs!F7532,Config!$B$13>=Tarifs!E7532),1,0)","v":0},"2026-02-01","2026-02-28",159]
["97-0385","10","97-0385-100",{"$f":"IF(AND(Config!$B$13<=Tarifs!F7533,Config!$B$13>=Tarifs!E7533),1,0)","v":0},"2026-03-01","2026-03-31",159]
["97-0385","10","97-0385-100",{"$f":"IF(AND(Config!$B$13<=Tarifs!F7534,Config!$B$13>=Tarifs!E7534),1,0)","v":0},"2026-04-01","2026-04-30",159]
["97-0385","10","97-0385-100",{"$f":"IF(AND(Config!$B$13<=Tarifs!F7535,Config!$B$13>=Tarifs!E7535),1,0)","v":0},"2026-07-01","2026-07-31",159]
["97-0385","10","97-0385-100",{"$f":"IF(AND(Config!$B$13<=Tarifs!F7536,Config!$B$13>=Tarifs!E7536),1,0)","v":0},"2026-08-01","2026-08-31",159]
["97-0386","30","97-0386-300",{"$f":"IF(AND(Config!$B$13<=Tarifs!F7537,Config!$B$13>=Tarifs!E7537),1,0)","v":0},"2026-07-01","2026-07-31",5670]
["97-0386","30","97-0386-300",{"$f":"IF(AND(Config!$B$13<=Tarifs!F7538,Config!$B$13>=Tarifs!E7538),1,0)","v":0},"2026-08-01","2026-08-31",5670]
["97-0386","30","97-0386-300",{"$f":"IF(AND(Config!$B$13<=Tarifs!F7539,Config!$B$13>=Tarifs!E7539),1,0)","v":0},"2026-09-01","2026-09-30",5670]
["97-0386","30","97-0386-300",{"$f":"IF(AND(Config!$B$13<=Tarifs!F7540,Config!$B$13>=Tarifs!E7540),1,0)","v":0},"2026-10-01","2026-10-31",5670]
["97-0386","30","97-0386-301",{"$f":"IF(AND(Config!$B$13<=Tarifs!F7541,Config!$B$13>=Tarifs!E7541),1,0)","v":1},"2026-01-01","2026-01-31",4770]
["97-0386","30","97-0386-300",{"$f":"IF(AND(Config!$B$13<=Tarifs!F7542,Config!$B$13>=Tarifs!E7542),1,0)","v":0},"2026-02-01","2026-02-28",4770]
["97-0386","30","97-0386-300",{"$f":"IF(AND(Config!$B$13<=Tarifs!F7543,Config!$B$13>=Tarifs!E7543),1,0)","v":0},"2026-03-01","2026-03-31",4770]
["97-0386","30","97-0386-300",{"$f":"IF(AND(Config!$B$13<=Tarifs!F7544,Config!$B$13>=Tarifs!E7544),1,0)","v":0},"2026-04-01","2026-04-30",4770]
["97-0386","30","97-0386-300",{"$f":"IF(AND(Config!$B$13<=Tarifs!F7545,Config!$B$13>=Tarifs!E7545),1,0)","v":0},"2026-05-01","2026-05-31",4770]
["97-0386","30","97-0386-300",{"$f":"IF(AND(Config!$B$13<=Tarifs!F7546,Config!$B$13>=Tarifs!E7546),1,0)","v":0},"2026-06-01","2026-06-30",4770]
["97-0386","30","97-0386-300",{"$f":"IF(AND(Config!$B$13<=Tarifs!F7547,Config!$B$13>=Tarifs!E7547),1,0)","v":0},"2026-11-01","2026-11-30",4770]
["97-0386","30","97-0386-300",{"$f":"IF(AND(Config!$B$13<=Tarifs!F7548,Config!$B$13>=Tarifs!E7548),1,0)","v":0},"2026-12-01","2026-12-31",4770]
["97-0386","20","97-0386-200",{"$f":"IF(AND(Config!$B$13<=Tarifs!F7549,Config!$B$13>=Tarifs!E7549),1,0)","v":0},"2026-07-01","2026-07-31",1323]
["97-0386","20","97-0386-200",{"$f":"IF(AND(Config!$B$13<=Tarifs!F7550,Config!$B$13>=Tarifs!E7550),1,0)","v":0},"2026-08-01","2026-08-31",1323]
["97-0386","20","97-0386-200",{"$f":"IF(AND(Config!$B$13<=Tarifs!F7551,Config!$B$13>=Tarifs!E7551),1,0)","v":0},"2026-09-01","2026-09-30",1323]
["97-0386","20","97-0386-200",{"$f":"IF(AND(Config!$B$13<=Tarifs!F7552,Config!$B$13>=Tarifs!E7552),1,0)","v":0},"2026-10-01","2026-10-31",1323]
["97-0386","20","97-0386-201",{"$f":"IF(AND(Config!$B$13<=Tarifs!F7553,Config!$B$13>=Tarifs!E7553),1,0)","v":1},"2026-01-01","2026-01-31",1113]
["97-0386","20","97-0386-200",{"$f":"IF(AND(Config!$B$13<=Tarifs!F7554,Config!$B$13>=Tarifs!E7554),1,0)","v":0},"2026-02-01","2026-02-28",1113]
["97-0386","20",{"$f":"A7555&\"-\"&B7555&D7555","v":"97-0386-200"},{"$f":"IF(AND(Config!$B$13<=Tarifs!F7555,Config!$B$13>=Tarifs!E7555),1,0)","v":0},"2026-03-01","2026-03-31",1113]
["97-0386","20","97-0386-200",{"$f":"IF(AND(Config!$B$13<=Tarifs!F7556,Config!$B$13>=Tarifs!E7556),1,0)","v":0},"2026-04-01","2026-04-30",1113]
["97-0386","20","97-0386-200",{"$f":"IF(AND(Config!$B$13<=Tarifs!F7557,Config!$B$13>=Tarifs!E7557),1,0)","v":0},"2026-05-01","2026-05-31",1113]
["97-0386","20","97-0386-200",{"$f":"IF(AND(Config!$B$13<=Tarifs!F7558,Config!$B$13>=Tarifs!E7558),1,0)","v":0},"2026-06-01","2026-06-30",1113]
["97-0386","20","97-0386-200",{"$f":"IF(AND(Config!$B$13<=Tarifs!F7559,Config!$B$13>=Tarifs!E7559),1,0)","v":0},"2026-11-01","2026-11-30",1113]
["97-0386","20","97-0386-200",{"$f":"IF(AND(Config!$B$13<=Tarifs!F7560,Config!$B$13>=Tarifs!E7560),1,0)","v":0},"2026-12-01","2026-12-31",1113]
["97-0386","10","97-0386-100",{"$f":"IF(AND(Config!$B$13<=Tarifs!F7561,Config!$B$13>=Tarifs!E7561),1,0)","v":0},"2026-07-01","2026-07-31",189]
["97-0386","10","97-0386-100",{"$f":"IF(AND(Config!$B$13<=Tarifs!F7562,Config!$B$13>=Tarifs!E7562),1,0)","v":0},"2026-08-01","2026-08-31",189]
["97-0386","10","97-0386-100",{"$f":"IF(AND(Config!$B$13<=Tarifs!F7563,Config!$B$13>=Tarifs!E7563),1,0)","v":0},"2026-09-01","2026-09-30",189]
["97-0386","10","97-0386-100",{"$f":"IF(AND(Config!$B$13<=Tarifs!F7564,Config!$B$13>=Tarifs!E7564),1,0)","v":0},"2026-10-01","2026-10-31",189]
["97-0386","10","97-0386-101",{"$f":"IF(AND(Config!$B$13<=Tarifs!F7565,Config!$B$13>=Tarifs!E7565),1,0)","v":1},"2026-01-01","2026-01-31",159]
["97-0386","10","97-0386-100",{"$f":"IF(AND(Config!$B$13<=Tarifs!F7566,Config!$B$13>=Tarifs!E7566),1,0)","v":0},"2026-02-01","2026-02-28",159]
["97-0386","10","97-0386-100",{"$f":"IF(AND(Config!$B$13<=Tarifs!F7567,Config!$B$13>=Tarifs!E7567),1,0)","v":0},"2026-03-01","2026-03-31",159]
["97-0386","10","97-0386-100",{"$f":"IF(AND(Config!$B$13<=Tarifs!F7568,Config!$B$13>=Tarifs!E7568),1,0)","v":0},"2026-04-01","2026-04-30",159]
["97-0386","10","97-0386-100",{"$f":"IF(AND(Config!$B$13<=Tarifs!F7569,Config!$B$13>=Tarifs!E7569),1,0)","v":0},"2026-05-01","2026-05-31",159]
["97-0386","10","97-0386-100",{"$f":"IF(AND(Config!$B$13<=Tarifs!F7570,Config!$B$13>=Tarifs!E7570),1,0)","v":0},"2026-06-01","2026-06-30",159]
["97-0386","10","97-0386-100",{"$f":"IF(AND(Config!$B$13<=Tarifs!F7571,Config!$B$13>=Tarifs!E7571),1,0)","v":0},"2026-11-01","2026-11-30",159]
["97-0386","10","97-0386-100",{"$f":"IF(AND(Config!$B$13<=Tarifs!F7572,Config!$B$13>=Tarifs!E7572),1,0)","v":0},"2026-12-01","2026-12-31",159]
["97-0387","30","97-0387-300",{"$f":"IF(AND(Config!$B$13<=Tarifs!F7573,Config!$B$13>=Tarifs!E7573),1,0)","v":0},"2026-07-01","2026-07-31",5370]
["97-0387","30","97-0387-300",{"$f":"IF(AND(Config!$B$13<=Tarifs!F7574,Config!$B$13>=Tarifs!E7574),1,0)","v":0},"2026-08-01","2026-08-31",5370]
["97-0387","30","97-0387-300",{"$f":"IF(AND(Config!$B$13<=Tarifs!F7575,Config!$B$13>=Tarifs!E7575),1,0)","v":0},"2026-05-01","2026-05-31",4770]
["97-0387","30","97-0387-300",{"$f":"IF(AND(Config!$B$13<=Tarifs!F7576,Config!$B$13>=Tarifs!E7576),1,0)","v":0},"2026-06-01","2026-06-30",4770]
["97-0387","30","97-0387-300",{"$f":"IF(AND(Config!$B$13<=Tarifs!F7577,Config!$B$13>=Tarifs!E7577),1,0)","v":0},"2026-09-01","2026-09-30",4770]
["97-0387","30","97-0387-300",{"$f":"IF(AND(Config!$B$13<=Tarifs!F7578,Config!$B$13>=Tarifs!E7578),1,0)","v":0},"2026-10-01","2026-10-31",4770]
["97-0387","30","97-0387-300",{"$f":"IF(AND(Config!$B$13<=Tarifs!F7579,Config!$B$13>=Tarifs!E7579),1,0)","v":0},"2026-11-01","2026-11-30",4770]
["97-0387","30","97-0387-300",{"$f":"IF(AND(Config!$B$13<=Tarifs!F7580,Config!$B$13>=Tarifs!E7580),1,0)","v":0},"2026-12-01","2026-12-31",4770]
["97-0387","30","97-0387-301",{"$f":"IF(AND(Config!$B$13<=Tarifs!F7581,Config!$B$13>=Tarifs!E7581),1,0)","v":1},"2026-01-01","2026-01-31",4470]
["97-0387","30","97-0387-300",{"$f":"IF(AND(Config!$B$13<=Tarifs!F7582,Config!$B$13>=Tarifs!E7582),1,0)","v":0},"2026-02-01","2026-02-28",4470]
["97-0387","30","97-0387-300",{"$f":"IF(AND(Config!$B$13<=Tarifs!F7583,Config!$B$13>=Tarifs!E7583),1,0)","v":0},"2026-03-01","2026-03-31",4470]
["97-0387","30","97-0387-300",{"$f":"IF(AND(Config!$B$13<=Tarifs!F7584,Config!$B$13>=Tarifs!E7584),1,0)","v":0},"2026-04-01","2026-04-30",4470]
["97-0387","20","97-0387-200",{"$f":"IF(AND(Config!$B$13<=Tarifs!F7585,Config!$B$13>=Tarifs!E7585),1,0)","v":0},"2026-07-01","2026-07-31",1253]
["97-0387","20","97-0387-200",{"$f":"IF(AND(Config!$B$13<=Tarifs!F7586,Config!$B$13>=Tarifs!E7586),1,0)","v":0},"2026-08-01","2026-08-31",1253]
["97-0387","20","97-0387-200",{"$f":"IF(AND(Config!$B$13<=Tarifs!F7587,Config!$B$13>=Tarifs!E7587),1,0)","v":0},"2026-05-01","2026-05-31",1113]
["97-0387","20","97-0387-200",{"$f":"IF(AND(Config!$B$13<=Tarifs!F7588,Config!$B$13>=Tarifs!E7588),1,0)","v":0},"2026-06-01","2026-06-30",1113]
["97-0387","20","97-0387-200",{"$f":"IF(AND(Config!$B$13<=Tarifs!F7589,Config!$B$13>=Tarifs!E7589),1,0)","v":0},"2026-09-01","2026-09-30",1113]
["97-0387","20","97-0387-200",{"$f":"IF(AND(Config!$B$13<=Tarifs!F7590,Config!$B$13>=Tarifs!E7590),1,0)","v":0},"2026-10-01","2026-10-31",1113]
["97-0387","20","97-0387-200",{"$f":"IF(AND(Config!$B$13<=Tarifs!F7591,Config!$B$13>=Tarifs!E7591),1,0)","v":0},"2026-11-01","2026-11-30",1113]
["97-0387","20","97-0387-200",{"$f":"IF(AND(Config!$B$13<=Tarifs!F7592,Config!$B$13>=Tarifs!E7592),1,0)","v":0},"2026-12-01","2026-12-31",1113]
["97-0387","20","97-0387-201",{"$f":"IF(AND(Config!$B$13<=Tarifs!F7593,Config!$B$13>=Tarifs!E7593),1,0)","v":1},"2026-01-01","2026-01-31",1043]
["97-0387","20","97-0387-200",{"$f":"IF(AND(Config!$B$13<=Tarifs!F7594,Config!$B$13>=Tarifs!E7594),1,0)","v":0},"2026-02-01","2026-02-28",1043]
["97-0387","20","97-0387-200",{"$f":"IF(AND(Config!$B$13<=Tarifs!F7595,Config!$B$13>=Tarifs!E7595),1,0)","v":0},"2026-03-01","2026-03-31",1043]
["97-0387","20","97-0387-200",{"$f":"IF(AND(Config!$B$13<=Tarifs!F7596,Config!$B$13>=Tarifs!E7596),1,0)","v":0},"2026-04-01","2026-04-30",1043]
["97-0387","10","97-0387-100",{"$f":"IF(AND(Config!$B$13<=Tarifs!F7597,Config!$B$13>=Tarifs!E7597),1,0)","v":0},"2026-07-01","2026-07-31",179]
["97-0387","10","97-0387-100",{"$f":"IF(AND(Config!$B$13<=Tarifs!F7598,Config!$B$13>=Tarifs!E7598),1,0)","v":0},"2026-08-01","2026-08-31",179]
["97-0387","10","97-0387-100",{"$f":"IF(AND(Config!$B$13<=Tarifs!F7599,Config!$B$13>=Tarifs!E7599),1,0)","v":0},"2026-05-01","2026-05-31",159]
["97-0387","10","97-0387-100",{"$f":"IF(AND(Config!$B$13<=Tarifs!F7600,Config!$B$13>=Tarifs!E7600),1,0)","v":0},"2026-06-01","2026-06-30",159]
["97-0387","10","97-0387-100",{"$f":"IF(AND(Config!$B$13<=Tarifs!F7601,Config!$B$13>=Tarifs!E7601),1,0)","v":0},"2026-09-01","2026-09-30",159]
["97-0387","10","97-0387-100",{"$f":"IF(AND(Config!$B$13<=Tarifs!F7602,Config!$B$13>=Tarifs!E7602),1,0)","v":0},"2026-10-01","2026-10-31",159]
["97-0387","10","97-0387-100",{"$f":"IF(AND(Config!$B$13<=Tarifs!F7603,Config!$B$13>=Tarifs!E7603),1,0)","v":0},"2026-11-01","2026-11-30",159]
["97-0387","10","97-0387-100",{"$f":"IF(AND(Config!$B$13<=Tarifs!F7604,Config!$B$13>=Tarifs!E7604),1,0)","v":0},"2026-12-01","2026-12-31",159]
["97-0387","10","97-0387-101",{"$f":"IF(AND(Config!$B$13<=Tarifs!F7605,Config!$B$13>=Tarifs!E7605),1,0)","v":1},"2026-01-01","2026-01-31",149]
["97-0387","10","97-0387-100",{"$f":"IF(AND(Config!$B$13<=Tarifs!F7606,Config!$B$13>=Tarifs!E7606),1,0)","v":0},"2026-02-01","2026-02-28",149]
["97-0387","10","97-0387-100",{"$f":"IF(AND(Config!$B$13<=Tarifs!F7607,Config!$B$13>=Tarifs!E7607),1,0)","v":0},"2026-03-01","2026-03-31",149]
["97-0387","10","97-0387-100",{"$f":"IF(AND(Config!$B$13<=Tarifs!F7608,Config!$B$13>=Tarifs!E7608),1,0)","v":0},"2026-04-01","2026-04-30",149]
["97-0388","30","97-0388-300",{"$f":"IF(AND(Config!$B$13<=Tarifs!F7609,Config!$B$13>=Tarifs!E7609),1,0)","v":0},"2026-06-01","2026-06-30",3360]
["97-0388","30","97-0388-300",{"$f":"IF(AND(Config!$B$13<=Tarifs!F7610,Config!$B$13>=Tarifs!E7610),1,0)","v":0},"2026-07-01","2026-07-31",3360]
["97-0388","30","97-0388-300",{"$f":"IF(AND(Config!$B$13<=Tarifs!F7611,Config!$B$13>=Tarifs!E7611),1,0)","v":0},"2026-08-01","2026-08-31",3360]
["97-0388","30","97-0388-300",{"$f":"IF(AND(Config!$B$13<=Tarifs!F7612,Config!$B$13>=Tarifs!E7612),1,0)","v":0},"2026-09-01","2026-09-30",3360]
["97-0388","30","97-0388-300",{"$f":"IF(AND(Config!$B$13<=Tarifs!F7613,Config!$B$13>=Tarifs!E7613),1,0)","v":0},"2026-10-01","2026-10-31",3240]
["97-0388","30","97-0388-300",{"$f":"IF(AND(Config!$B$13<=Tarifs!F7614,Config!$B$13>=Tarifs!E7614),1,0)","v":0},"2026-11-01","2026-11-30",3240]
["97-0388","30","97-0388-300",{"$f":"IF(AND(Config!$B$13<=Tarifs!F7615,Config!$B$13>=Tarifs!E7615),1,0)","v":0},"2026-12-01","2026-12-31",3240]
["97-0388","30","97-0388-300",{"$f":"IF(AND(Config!$B$13<=Tarifs!F7616,Config!$B$13>=Tarifs!E7616),1,0)","v":0},"2026-04-01","2026-04-30",3060]
["97-0388","30","97-0388-300",{"$f":"IF(AND(Config!$B$13<=Tarifs!F7617,Config!$B$13>=Tarifs!E7617),1,0)","v":0},"2026-05-01","2026-05-31",3060]
["97-0388","30","97-0388-301",{"$f":"IF(AND(Config!$B$13<=Tarifs!F7618,Config!$B$13>=Tarifs!E7618),1,0)","v":1},"2026-01-01","2026-01-31",3060]
["97-0388","30",{"$f":"A7619&\"-\"&B7619&D7619","v":"97-0388-300"},{"$f":"IF(AND(Config!$B$13<=Tarifs!F7619,Config!$B$13>=Tarifs!E7619),1,0)","v":0},"2026-02-01","2026-02-28",3060]
["97-0388","30","97-0388-300",{"$f":"IF(AND(Config!$B$13<=Tarifs!F7620,Config!$B$13>=Tarifs!E7620),1,0)","v":0},"2026-03-01","2026-03-31",3060]
["97-0388","20","97-0388-200",{"$f":"IF(AND(Config!$B$13<=Tarifs!F7621,Config!$B$13>=Tarifs!E7621),1,0)","v":0},"2026-06-01","2026-06-30",784]
["97-0388","20","97-0388-200",{"$f":"IF(AND(Config!$B$13<=Tarifs!F7622,Config!$B$13>=Tarifs!E7622),1,0)","v":0},"2026-07-01","2026-07-31",784]
["97-0388","20","97-0388-200",{"$f":"IF(AND(Config!$B$13<=Tarifs!F7623,Config!$B$13>=Tarifs!E7623),1,0)","v":0},"2026-08-01","2026-08-31",784]
["97-0388","20","97-0388-200",{"$f":"IF(AND(Config!$B$13<=Tarifs!F7624,Config!$B$13>=Tarifs!E7624),1,0)","v":0},"2026-09-01","2026-09-30",784]
["97-0388","20","97-0388-200",{"$f":"IF(AND(Config!$B$13<=Tarifs!F7625,Config!$B$13>=Tarifs!E7625),1,0)","v":0},"2026-10-01","2026-10-31",756]
["97-0388","20","97-0388-200",{"$f":"IF(AND(Config!$B$13<=Tarifs!F7626,Config!$B$13>=Tarifs!E7626),1,0)","v":0},"2026-11-01","2026-11-30",756]
["97-0388","20","97-0388-200",{"$f":"IF(AND(Config!$B$13<=Tarifs!F7627,Config!$B$13>=Tarifs!E7627),1,0)","v":0},"2026-12-01","2026-12-31",756]
["97-0388","20","97-0388-200",{"$f":"IF(AND(Config!$B$13<=Tarifs!F7628,Config!$B$13>=Tarifs!E7628),1,0)","v":0},"2026-05-01","2026-05-31",714]
["97-0388","20","97-0388-201",{"$f":"IF(AND(Config!$B$13<=Tarifs!F7629,Config!$B$13>=Tarifs!E7629),1,0)","v":1},"2026-01-01","2026-01-31",714]
["97-0388","20","97-0388-200",{"$f":"IF(AND(Config!$B$13<=Tarifs!F7630,Config!$B$13>=Tarifs!E7630),1,0)","v":0},"2026-02-01","2026-02-28",714]
["97-0388","20","97-0388-200",{"$f":"IF(AND(Config!$B$13<=Tarifs!F7631,Config!$B$13>=Tarifs!E7631),1,0)","v":0},"2026-03-01","2026-03-31",714]
["97-0388","20","97-0388-200",{"$f":"IF(AND(Config!$B$13<=Tarifs!F7632,Config!$B$13>=Tarifs!E7632),1,0)","v":0},"2026-04-01","2026-04-30",714]
["97-0388","10","97-0388-100",{"$f":"IF(AND(Config!$B$13<=Tarifs!F7633,Config!$B$13>=Tarifs!E7633),1,0)","v":0},"2026-06-01","2026-06-30",112]
["97-0388","10","97-0388-100",{"$f":"IF(AND(Config!$B$13<=Tarifs!F7634,Config!$B$13>=Tarifs!E7634),1,0)","v":0},"2026-07-01","2026-07-31",112]
["97-0388","10","97-0388-100",{"$f":"IF(AND(Config!$B$13<=Tarifs!F7635,Config!$B$13>=Tarifs!E7635),1,0)","v":0},"2026-08-01","2026-08-31",112]
["97-0388","10","97-0388-100",{"$f":"IF(AND(Config!$B$13<=Tarifs!F7636,Config!$B$13>=Tarifs!E7636),1,0)","v":0},"2026-09-01","2026-09-30",112]
["97-0388","10","97-0388-100",{"$f":"IF(AND(Config!$B$13<=Tarifs!F7637,Config!$B$13>=Tarifs!E7637),1,0)","v":0},"2026-10-01","2026-10-31",108]
["97-0388","10","97-0388-100",{"$f":"IF(AND(Config!$B$13<=Tarifs!F7638,Config!$B$13>=Tarifs!E7638),1,0)","v":0},"2026-11-01","2026-11-30",108]
["97-0388","10","97-0388-100",{"$f":"IF(AND(Config!$B$13<=Tarifs!F7639,Config!$B$13>=Tarifs!E7639),1,0)","v":0},"2026-12-01","2026-12-31",108]
["97-0388","10","97-0388-100",{"$f":"IF(AND(Config!$B$13<=Tarifs!F7640,Config!$B$13>=Tarifs!E7640),1,0)","v":0},"2026-05-01","2026-05-31",102]
["97-0388","10","97-0388-101",{"$f":"IF(AND(Config!$B$13<=Tarifs!F7641,Config!$B$13>=Tarifs!E7641),1,0)","v":1},"2026-01-01","2026-01-31",102]
["97-0388","10","97-0388-100",{"$f":"IF(AND(Config!$B$13<=Tarifs!F7642,Config!$B$13>=Tarifs!E7642),1,0)","v":0},"2026-02-01","2026-02-28",102]
["97-0388","10","97-0388-100",{"$f":"IF(AND(Config!$B$13<=Tarifs!F7643,Config!$B$13>=Tarifs!E7643),1,0)","v":0},"2026-03-01","2026-03-31",102]
["97-0388","10","97-0388-100",{"$f":"IF(AND(Config!$B$13<=Tarifs!F7644,Config!$B$13>=Tarifs!E7644),1,0)","v":0},"2026-04-01","2026-04-30",102]
["97-0389","30","97-0389-300",{"$f":"IF(AND(Config!$B$13<=Tarifs!F7645,Config!$B$13>=Tarifs!E7645),1,0)","v":0},"2026-06-01","2026-05-31",6000]
["97-0389","30","97-0389-300",{"$f":"IF(AND(Config!$B$13<=Tarifs!F7646,Config!$B$13>=Tarifs!E7646),1,0)","v":0},"2026-07-01","2026-06-30",6000]
["97-0389","30","97-0389-300",{"$f":"IF(AND(Config!$B$13<=Tarifs!F7647,Config!$B$13>=Tarifs!E7647),1,0)","v":0},"2026-08-01","2026-07-31",6000]
["97-0389","30","97-0389-300",{"$f":"IF(AND(Config!$B$13<=Tarifs!F7648,Config!$B$13>=Tarifs!E7648),1,0)","v":0},"2026-09-01","2026-08-31",6000]
["97-0389","30","97-0389-300",{"$f":"IF(AND(Config!$B$13<=Tarifs!F7649,Config!$B$13>=Tarifs!E7649),1,0)","v":0},"2026-10-01","2026-09-30",6000]
["97-0389","30","97-0389-300",{"$f":"IF(AND(Config!$B$13<=Tarifs!F7650,Config!$B$13>=Tarifs!E7650),1,0)","v":0},"2026-05-01","2026-04-30",5190]
["97-0389","30","97-0389-300",{"$f":"IF(AND(Config!$B$13<=Tarifs!F7651,Config!$B$13>=Tarifs!E7651),1,0)","v":0},"2026-03-01","2026-02-28",4200]
["97-0389","30","97-0389-300",{"$f":"IF(AND(Config!$B$13<=Tarifs!F7652,Config!$B$13>=Tarifs!E7652),1,0)","v":0},"2026-04-01","2026-03-31",4200]
["97-0389","30","97-0389-300",{"$f":"IF(AND(Config!$B$13<=Tarifs!F7653,Config!$B$13>=Tarifs!E7653),1,0)","v":0},"2026-11-01","2026-10-31",4200]
["97-0389","30","97-0389-300",{"$f":"IF(AND(Config!$B$13<=Tarifs!F7654,Config!$B$13>=Tarifs!E7654),1,0)","v":0},"2026-12-01","2026-11-30",4200]
["97-0389","30","97-0389-300",{"$f":"IF(AND(Config!$B$13<=Tarifs!F7655,Config!$B$13>=Tarifs!E7655),1,0)","v":0},"2026-01-01","2025-12-31",3900]
["97-0389","30","97-0389-300",{"$f":"IF(AND(Config!$B$13<=Tarifs!F7656,Config!$B$13>=Tarifs!E7656),1,0)","v":0},"2026-02-01","2026-01-31",3900]
["97-0389","20","97-0389-200",{"$f":"IF(AND(Config!$B$13<=Tarifs!F7657,Config!$B$13>=Tarifs!E7657),1,0)","v":0},"2026-06-01","2026-05-31",1435]
["97-0389","20","97-0389-200",{"$f":"IF(AND(Config!$B$13<=Tarifs!F7658,Config!$B$13>=Tarifs!E7658),1,0)","v":0},"2026-07-01","2026-06-30",1435]
["97-0389","20","97-0389-200",{"$f":"IF(AND(Config!$B$13<=Tarifs!F7659,Config!$B$13>=Tarifs!E7659),1,0)","v":0},"2026-08-01","2026-07-31",1435]
["97-0389","20","97-0389-200",{"$f":"IF(AND(Config!$B$13<=Tarifs!F7660,Config!$B$13>=Tarifs!E7660),1,0)","v":0},"2026-09-01","2026-08-31",1435]
["97-0389","20","97-0389-200",{"$f":"IF(AND(Config!$B$13<=Tarifs!F7661,Config!$B$13>=Tarifs!E7661),1,0)","v":0},"2026-10-01","2026-09-30",1435]
["97-0389","20","97-0389-200",{"$f":"IF(AND(Config!$B$13<=Tarifs!F7662,Config!$B$13>=Tarifs!E7662),1,0)","v":0},"2026-05-01","2026-04-30",1225]
["97-0389","20","97-0389-200",{"$f":"IF(AND(Config!$B$13<=Tarifs!F7663,Config!$B$13>=Tarifs!E7663),1,0)","v":0},"2026-03-01","2026-02-28",1050]
["97-0389","20","97-0389-200",{"$f":"IF(AND(Config!$B$13<=Tarifs!F7664,Config!$B$13>=Tarifs!E7664),1,0)","v":0},"2026-04-01","2026-03-31",1050]
["97-0389","20","97-0389-200",{"$f":"IF(AND(Config!$B$13<=Tarifs!F7665,Config!$B$13>=Tarifs!E7665),1,0)","v":0},"2026-11-01","2026-10-31",1050]
["97-0389","20","97-0389-200",{"$f":"IF(AND(Config!$B$13<=Tarifs!F7666,Config!$B$13>=Tarifs!E7666),1,0)","v":0},"2026-12-01","2026-11-30",1050]
["97-0389","20","97-0389-200",{"$f":"IF(AND(Config!$B$13<=Tarifs!F7667,Config!$B$13>=Tarifs!E7667),1,0)","v":0},"2026-01-01","2025-12-31",980]
["97-0389","20","97-0389-200",{"$f":"IF(AND(Config!$B$13<=Tarifs!F7668,Config!$B$13>=Tarifs!E7668),1,0)","v":0},"2026-02-01","2026-01-31",980]
["97-0389","10","97-0389-100",{"$f":"IF(AND(Config!$B$13<=Tarifs!F7669,Config!$B$13>=Tarifs!E7669),1,0)","v":0},"2026-06-01","2026-05-31",215]
["97-0389","10","97-0389-100",{"$f":"IF(AND(Config!$B$13<=Tarifs!F7670,Config!$B$13>=Tarifs!E7670),1,0)","v":0},"2026-07-01","2026-06-30",215]
["97-0389","10","97-0389-100",{"$f":"IF(AND(Config!$B$13<=Tarifs!F7671,Config!$B$13>=Tarifs!E7671),1,0)","v":0},"2026-08-01","2026-07-31",215]
["97-0389","10","97-0389-100",{"$f":"IF(AND(Config!$B$13<=Tarifs!F7672,Config!$B$13>=Tarifs!E7672),1,0)","v":0},"2026-09-01","2026-08-31",215]
["97-0389","10","97-0389-100",{"$f":"IF(AND(Config!$B$13<=Tarifs!F7673,Config!$B$13>=Tarifs!E7673),1,0)","v":0},"2026-10-01","2026-09-30",215]
["97-0389","10","97-0389-100",{"$f":"IF(AND(Config!$B$13<=Tarifs!F7674,Config!$B$13>=Tarifs!E7674),1,0)","v":0},"2026-05-01","2026-04-30",185]
["97-0389","10","97-0389-100",{"$f":"IF(AND(Config!$B$13<=Tarifs!F7675,Config!$B$13>=Tarifs!E7675),1,0)","v":0},"2026-03-01","2026-02-28",159]
["97-0389","10","97-0389-100",{"$f":"IF(AND(Config!$B$13<=Tarifs!F7676,Config!$B$13>=Tarifs!E7676),1,0)","v":0},"2026-04-01","2026-03-31",159]
["97-0389","10","97-0389-100",{"$f":"IF(AND(Config!$B$13<=Tarifs!F7677,Config!$B$13>=Tarifs!E7677),1,0)","v":0},"2026-11-01","2026-10-31",159]
["97-0389","10","97-0389-100",{"$f":"IF(AND(Config!$B$13<=Tarifs!F7678,Config!$B$13>=Tarifs!E7678),1,0)","v":0},"2026-12-01","2026-11-30",159]
["97-0389","10","97-0389-100",{"$f":"IF(AND(Config!$B$13<=Tarifs!F7679,Config!$B$13>=Tarifs!E7679),1,0)","v":0},"2026-01-01","2025-12-31",149]
["97-0389","10","97-0389-100",{"$f":"IF(AND(Config!$B$13<=Tarifs!F7680,Config!$B$13>=Tarifs!E7680),1,0)","v":0},"2026-02-01","2026-01-31",149]
["97-0390","30","97-0390-300",{"$f":"IF(AND(Config!$B$13<=Tarifs!F7681,Config!$B$13>=Tarifs!E7681),1,0)","v":0},"2026-10-01","2026-10-31",4680]
["97-0390","30","97-0390-300",{"$f":"IF(AND(Config!$B$13<=Tarifs!F7682,Config!$B$13>=Tarifs!E7682),1,0)","v":0},"2026-11-01","2026-11-30",4680]
["97-0390","30",{"$f":"A7683&\"-\"&B7683&D7683","v":"97-0390-300"},{"$f":"IF(AND(Config!$B$13<=Tarifs!F7683,Config!$B$13>=Tarifs!E7683),1,0)","v":0},"2026-12-01","2026-12-31",4680]
["97-0390","30","97-0390-301",{"$f":"IF(AND(Config!$B$13<=Tarifs!F7684,Config!$B$13>=Tarifs!E7684),1,0)","v":1},"2026-01-01","2026-01-31",4500]
["97-0390","30","97-0390-300",{"$f":"IF(AND(Config!$B$13<=Tarifs!F7685,Config!$B$13>=Tarifs!E7685),1,0)","v":0},"2026-02-01","2026-02-28",4500]
["97-0390","30","97-0390-300",{"$f":"IF(AND(Config!$B$13<=Tarifs!F7686,Config!$B$13>=Tarifs!E7686),1,0)","v":0},"2026-03-01","2026-03-31",4500]
["97-0390","30","97-0390-300",{"$f":"IF(AND(Config!$B$13<=Tarifs!F7687,Config!$B$13>=Tarifs!E7687),1,0)","v":0},"2026-04-01","2026-04-30",4500]
["97-0390","30","97-0390-300",{"$f":"IF(AND(Config!$B$13<=Tarifs!F7688,Config!$B$13>=Tarifs!E7688),1,0)","v":0},"2026-05-01","2026-05-31",4500]
["97-0390","30","97-0390-300",{"$f":"IF(AND(Config!$B$13<=Tarifs!F7689,Config!$B$13>=Tarifs!E7689),1,0)","v":0},"2026-06-01","2026-06-30",4500]
["97-0390","30","97-0390-300",{"$f":"IF(AND(Config!$B$13<=Tarifs!F7690,Config!$B$13>=Tarifs!E7690),1,0)","v":0},"2026-07-01","2026-07-31",4500]
["97-0390","30","97-0390-300",{"$f":"IF(AND(Config!$B$13<=Tarifs!F7691,Config!$B$13>=Tarifs!E7691),1,0)","v":0},"2026-08-01","2026-08-31",4500]
["97-0390","30","97-0390-300",{"$f":"IF(AND(Config!$B$13<=Tarifs!F7692,Config!$B$13>=Tarifs!E7692),1,0)","v":0},"2026-09-01","2026-09-30",4500]
["97-0390","20","97-0390-200",{"$f":"IF(AND(Config!$B$13<=Tarifs!F7693,Config!$B$13>=Tarifs!E7693),1,0)","v":0},"2026-10-01","2026-10-31",1092]
["97-0390","20","97-0390-200",{"$f":"IF(AND(Config!$B$13<=Tarifs!F7694,Config!$B$13>=Tarifs!E7694),1,0)","v":0},"2026-11-01","2026-11-30",1092]
["97-0390","20","97-0390-200",{"$f":"IF(AND(Config!$B$13<=Tarifs!F7695,Config!$B$13>=Tarifs!E7695),1,0)","v":0},"2026-12-01","2026-12-31",1092]
["97-0390","20","97-0390-201",{"$f":"IF(AND(Config!$B$13<=Tarifs!F7696,Config!$B$13>=Tarifs!E7696),1,0)","v":1},"2026-01-01","2026-01-31",1050]
["97-0390","20","97-0390-200",{"$f":"IF(AND(Config!$B$13<=Tarifs!F7697,Config!$B$13>=Tarifs!E7697),1,0)","v":0},"2026-02-01","2026-02-28",1050]
["97-0390","20","97-0390-200",{"$f":"IF(AND(Config!$B$13<=Tarifs!F7698,Config!$B$13>=Tarifs!E7698),1,0)","v":0},"2026-03-01","2026-03-31",1050]
["97-0390","20","97-0390-200",{"$f":"IF(AND(Config!$B$13<=Tarifs!F7699,Config!$B$13>=Tarifs!E7699),1,0)","v":0},"2026-04-01","2026-04-30",1050]
["97-0390","20","97-0390-200",{"$f":"IF(AND(Config!$B$13<=Tarifs!F7700,Config!$B$13>=Tarifs!E7700),1,0)","v":0},"2026-05-01","2026-05-31",1050]
["97-0390","20","97-0390-200",{"$f":"IF(AND(Config!$B$13<=Tarifs!F7701,Config!$B$13>=Tarifs!E7701),1,0)","v":0},"2026-06-01","2026-06-30",1050]
["97-0390","20","97-0390-200",{"$f":"IF(AND(Config!$B$13<=Tarifs!F7702,Config!$B$13>=Tarifs!E7702),1,0)","v":0},"2026-07-01","2026-07-31",1050]
["97-0390","20","97-0390-200",{"$f":"IF(AND(Config!$B$13<=Tarifs!F7703,Config!$B$13>=Tarifs!E7703),1,0)","v":0},"2026-08-01","2026-08-31",1050]
["97-0390","20","97-0390-200",{"$f":"IF(AND(Config!$B$13<=Tarifs!F7704,Config!$B$13>=Tarifs!E7704),1,0)","v":0},"2026-09-01","2026-09-30",1050]
["97-0390","10","97-0390-100",{"$f":"IF(AND(Config!$B$13<=Tarifs!F7705,Config!$B$13>=Tarifs!E7705),1,0)","v":0},"2026-10-01","2026-10-31",156]
["97-0390","10","97-0390-100",{"$f":"IF(AND(Config!$B$13<=Tarifs!F7706,Config!$B$13>=Tarifs!E7706),1,0)","v":0},"2026-11-01","2026-11-30",156]
["97-0390","10","97-0390-100",{"$f":"IF(AND(Config!$B$13<=Tarifs!F7707,Config!$B$13>=Tarifs!E7707),1,0)","v":0},"2026-12-01","2026-12-31",156]
["97-0390","10","97-0390-101",{"$f":"IF(AND(Config!$B$13<=Tarifs!F7708,Config!$B$13>=Tarifs!E7708),1,0)","v":1},"2026-01-01","2026-01-31",150]
["97-0390","10","97-0390-100",{"$f":"IF(AND(Config!$B$13<=Tarifs!F7709,Config!$B$13>=Tarifs!E7709),1,0)","v":0},"2026-02-01","2026-02-28",150]
["97-0390","10","97-0390-100",{"$f":"IF(AND(Config!$B$13<=Tarifs!F7710,Config!$B$13>=Tarifs!E7710),1,0)","v":0},"2026-03-01","2026-03-31",150]
["97-0390","10","97-0390-100",{"$f":"IF(AND(Config!$B$13<=Tarifs!F7711,Config!$B$13>=Tarifs!E7711),1,0)","v":0},"2026-04-01","2026-04-30",150]
["97-0390","10","97-0390-100",{"$f":"IF(AND(Config!$B$13<=Tarifs!F7712,Config!$B$13>=Tarifs!E7712),1,0)","v":0},"2026-05-01","2026-05-31",150]
["97-0390","10","97-0390-100",{"$f":"IF(AND(Config!$B$13<=Tarifs!F7713,Config!$B$13>=Tarifs!E7713),1,0)","v":0},"2026-06-01","2026-06-30",150]
["97-0390","10","97-0390-100",{"$f":"IF(AND(Config!$B$13<=Tarifs!F7714,Config!$B$13>=Tarifs!E7714),1,0)","v":0},"2026-07-01","2026-07-31",150]
["97-0390","10","97-0390-100",{"$f":"IF(AND(Config!$B$13<=Tarifs!F7715,Config!$B$13>=Tarifs!E7715),1,0)","v":0},"2026-08-01","2026-08-31",150]
["97-0390","10","97-0390-100",{"$f":"IF(AND(Config!$B$13<=Tarifs!F7716,Config!$B$13>=Tarifs!E7716),1,0)","v":0},"2026-09-01","2026-09-30",150]
["97-0391","30","97-0391-300",{"$f":"IF(AND(Config!$B$13<=Tarifs!F7717,Config!$B$13>=Tarifs!E7717),1,0)","v":0},"2026-07-01","2026-07-31",5970]
["97-0391","30","97-0391-300",{"$f":"IF(AND(Config!$B$13<=Tarifs!F7718,Config!$B$13>=Tarifs!E7718),1,0)","v":0},"2026-08-01","2026-08-31",5970]
["97-0391","30","97-0391-301",{"$f":"IF(AND(Config!$B$13<=Tarifs!F7719,Config!$B$13>=Tarifs!E7719),1,0)","v":1},"2026-01-01","2026-01-31",4050]
["97-0391","30","97-0391-300",{"$f":"IF(AND(Config!$B$13<=Tarifs!F7720,Config!$B$13>=Tarifs!E7720),1,0)","v":0},"2026-02-01","2026-02-28",4050]
["97-0391","30","97-0391-300",{"$f":"IF(AND(Config!$B$13<=Tarifs!F7721,Config!$B$13>=Tarifs!E7721),1,0)","v":0},"2026-03-01","2026-03-31",4050]
["97-0391","30","97-0391-300",{"$f":"IF(AND(Config!$B$13<=Tarifs!F7722,Config!$B$13>=Tarifs!E7722),1,0)","v":0},"2026-04-01","2026-04-30",4050]
["97-0391","30","97-0391-300",{"$f":"IF(AND(Config!$B$13<=Tarifs!F7723,Config!$B$13>=Tarifs!E7723),1,0)","v":0},"2026-05-01","2026-05-31",4050]
["97-0391","30","97-0391-300",{"$f":"IF(AND(Config!$B$13<=Tarifs!F7724,Config!$B$13>=Tarifs!E7724),1,0)","v":0},"2026-06-01","2026-06-30",4050]
["97-0391","30","97-0391-300",{"$f":"IF(AND(Config!$B$13<=Tarifs!F7725,Config!$B$13>=Tarifs!E7725),1,0)","v":0},"2026-09-01","2026-09-30",4050]
["97-0391","30","97-0391-300",{"$f":"IF(AND(Config!$B$13<=Tarifs!F7726,Config!$B$13>=Tarifs!E7726),1,0)","v":0},"2026-10-01","2026-10-31",4050]
["97-0391","30","97-0391-300",{"$f":"IF(AND(Config!$B$13<=Tarifs!F7727,Config!$B$13>=Tarifs!E7727),1,0)","v":0},"2026-11-01","2026-11-30",4050]
["97-0391","30","97-0391-300",{"$f":"IF(AND(Config!$B$13<=Tarifs!F7728,Config!$B$13>=Tarifs!E7728),1,0)","v":0},"2026-12-01","2026-12-31",4050]
["97-0391","20","97-0391-200",{"$f":"IF(AND(Config!$B$13<=Tarifs!F7729,Config!$B$13>=Tarifs!E7729),1,0)","v":0},"2026-07-01","2026-07-31",1393]
["97-0391","20","97-0391-200",{"$f":"IF(AND(Config!$B$13<=Tarifs!F7730,Config!$B$13>=Tarifs!E7730),1,0)","v":0},"2026-08-01","2026-08-31",1393]
["97-0391","20","97-0391-201",{"$f":"IF(AND(Config!$B$13<=Tarifs!F7731,Config!$B$13>=Tarifs!E7731),1,0)","v":1},"2026-01-01","2026-01-31",945]
["97-0391","20","97-0391-200",{"$f":"IF(AND(Config!$B$13<=Tarifs!F7732,Config!$B$13>=Tarifs!E7732),1,0)","v":0},"2026-02-01","2026-02-28",945]
["97-0391","20","97-0391-200",{"$f":"IF(AND(Config!$B$13<=Tarifs!F7733,Config!$B$13>=Tarifs!E7733),1,0)","v":0},"2026-03-01","2026-03-31",945]
["97-0391","20","97-0391-200",{"$f":"IF(AND(Config!$B$13<=Tarifs!F7734,Config!$B$13>=Tarifs!E7734),1,0)","v":0},"2026-04-01","2026-04-30",945]
["97-0391","20","97-0391-200",{"$f":"IF(AND(Config!$B$13<=Tarifs!F7735,Config!$B$13>=Tarifs!E7735),1,0)","v":0},"2026-05-01","2026-05-31",945]
["97-0391","20","97-0391-200",{"$f":"IF(AND(Config!$B$13<=Tarifs!F7736,Config!$B$13>=Tarifs!E7736),1,0)","v":0},"2026-06-01","2026-06-30",945]
["97-0391","20","97-0391-200",{"$f":"IF(AND(Config!$B$13<=Tarifs!F7737,Config!$B$13>=Tarifs!E7737),1,0)","v":0},"2026-09-01","2026-09-30",945]
["97-0391","20","97-0391-200",{"$f":"IF(AND(Config!$B$13<=Tarifs!F7738,Config!$B$13>=Tarifs!E7738),1,0)","v":0},"2026-10-01","2026-10-31",945]
["97-0391","20","97-0391-200",{"$f":"IF(AND(Config!$B$13<=Tarifs!F7739,Config!$B$13>=Tarifs!E7739),1,0)","v":0},"2026-11-01","2026-11-30",945]
["97-0391","20","97-0391-200",{"$f":"IF(AND(Config!$B$13<=Tarifs!F7740,Config!$B$13>=Tarifs!E7740),1,0)","v":0},"2026-12-01","2026-12-31",945]
["97-0391","10","97-0391-100",{"$f":"IF(AND(Config!$B$13<=Tarifs!F7741,Config!$B$13>=Tarifs!E7741),1,0)","v":0},"2026-07-01","2026-07-31",199]
["97-0391","10","97-0391-100",{"$f":"IF(AND(Config!$B$13<=Tarifs!F7742,Config!$B$13>=Tarifs!E7742),1,0)","v":0},"2026-08-01","2026-08-31",199]
["97-0391","10","97-0391-101",{"$f":"IF(AND(Config!$B$13<=Tarifs!F7743,Config!$B$13>=Tarifs!E7743),1,0)","v":1},"2026-01-01","2026-01-31",135]
["97-0391","10","97-0391-100",{"$f":"IF(AND(Config!$B$13<=Tarifs!F7744,Config!$B$13>=Tarifs!E7744),1,0)","v":0},"2026-02-01","2026-02-28",135]
["97-0391","10","97-0391-100",{"$f":"IF(AND(Config!$B$13<=Tarifs!F7745,Config!$B$13>=Tarifs!E7745),1,0)","v":0},"2026-03-01","2026-03-31",135]
["97-0391","10","97-0391-100",{"$f":"IF(AND(Config!$B$13<=Tarifs!F7746,Config!$B$13>=Tarifs!E7746),1,0)","v":0},"2026-04-01","2026-04-30",135]
["97-0391","10",{"$f":"A7747&\"-\"&B7747&D7747","v":"97-0391-100"},{"$f":"IF(AND(Config!$B$13<=Tarifs!F7747,Config!$B$13>=Tarifs!E7747),1,0)","v":0},"2026-05-01","2026-05-31",135]
["97-0391","10","97-0391-100",{"$f":"IF(AND(Config!$B$13<=Tarifs!F7748,Config!$B$13>=Tarifs!E7748),1,0)","v":0},"2026-06-01","2026-06-30",135]
["97-0391","10","97-0391-100",{"$f":"IF(AND(Config!$B$13<=Tarifs!F7749,Config!$B$13>=Tarifs!E7749),1,0)","v":0},"2026-09-01","2026-09-30",135]
["97-0391","10","97-0391-100",{"$f":"IF(AND(Config!$B$13<=Tarifs!F7750,Config!$B$13>=Tarifs!E7750),1,0)","v":0},"2026-10-01","2026-10-31",135]
["97-0391","10","97-0391-100",{"$f":"IF(AND(Config!$B$13<=Tarifs!F7751,Config!$B$13>=Tarifs!E7751),1,0)","v":0},"2026-11-01","2026-11-30",135]
["97-0391","10","97-0391-100",{"$f":"IF(AND(Config!$B$13<=Tarifs!F7752,Config!$B$13>=Tarifs!E7752),1,0)","v":0},"2026-12-01","2026-12-31",135]
["97-0396","30","97-0396-300",{"$f":"IF(AND(Config!$B$13<=Tarifs!F7753,Config!$B$13>=Tarifs!E7753),1,0)","v":0},"2026-07-01","2026-07-31",5670]
["97-0396","30","97-0396-300",{"$f":"IF(AND(Config!$B$13<=Tarifs!F7754,Config!$B$13>=Tarifs!E7754),1,0)","v":0},"2026-08-01","2026-08-31",5670]
["97-0396","30","97-0396-300",{"$f":"IF(AND(Config!$B$13<=Tarifs!F7755,Config!$B$13>=Tarifs!E7755),1,0)","v":0},"2026-06-01","2026-06-30",4770]
["97-0396","30","97-0396-300",{"$f":"IF(AND(Config!$B$13<=Tarifs!F7756,Config!$B$13>=Tarifs!E7756),1,0)","v":0},"2026-09-01","2026-09-30",4770]
["97-0396","30","97-0396-301",{"$f":"IF(AND(Config!$B$13<=Tarifs!F7757,Config!$B$13>=Tarifs!E7757),1,0)","v":1},"2026-01-01","2026-01-31",4170]
["97-0396","30","97-0396-300",{"$f":"IF(AND(Config!$B$13<=Tarifs!F7758,Config!$B$13>=Tarifs!E7758),1,0)","v":0},"2026-02-01","2026-02-28",4170]
["97-0396","30","97-0396-300",{"$f":"IF(AND(Config!$B$13<=Tarifs!F7759,Config!$B$13>=Tarifs!E7759),1,0)","v":0},"2026-03-01","2026-03-31",4170]
["97-0396","30","97-0396-300",{"$f":"IF(AND(Config!$B$13<=Tarifs!F7760,Config!$B$13>=Tarifs!E7760),1,0)","v":0},"2026-04-01","2026-04-30",4170]
["97-0396","30","97-0396-300",{"$f":"IF(AND(Config!$B$13<=Tarifs!F7761,Config!$B$13>=Tarifs!E7761),1,0)","v":0},"2026-05-01","2026-05-31",4170]
["97-0396","30","97-0396-300",{"$f":"IF(AND(Config!$B$13<=Tarifs!F7762,Config!$B$13>=Tarifs!E7762),1,0)","v":0},"2026-10-01","2026-10-31",4170]
["97-0396","30","97-0396-300",{"$f":"IF(AND(Config!$B$13<=Tarifs!F7763,Config!$B$13>=Tarifs!E7763),1,0)","v":0},"2026-11-01","2026-11-30",4170]
["97-0396","30","97-0396-300",{"$f":"IF(AND(Config!$B$13<=Tarifs!F7764,Config!$B$13>=Tarifs!E7764),1,0)","v":0},"2026-12-01","2026-12-31",4170]
["97-0396","20","97-0396-200",{"$f":"IF(AND(Config!$B$13<=Tarifs!F7765,Config!$B$13>=Tarifs!E7765),1,0)","v":0},"2026-07-01","2026-07-31",1323]
["97-0396","20","97-0396-200",{"$f":"IF(AND(Config!$B$13<=Tarifs!F7766,Config!$B$13>=Tarifs!E7766),1,0)","v":0},"2026-08-01","2026-08-31",1323]
["97-0396","20","97-0396-200",{"$f":"IF(AND(Config!$B$13<=Tarifs!F7767,Config!$B$13>=Tarifs!E7767),1,0)","v":0},"2026-06-01","2026-06-30",1113]
["97-0396","20","97-0396-200",{"$f":"IF(AND(Config!$B$13<=Tarifs!F7768,Config!$B$13>=Tarifs!E7768),1,0)","v":0},"2026-09-01","2026-09-30",1113]
["97-0396","20","97-0396-201",{"$f":"IF(AND(Config!$B$13<=Tarifs!F7769,Config!$B$13>=Tarifs!E7769),1,0)","v":1},"2026-01-01","2026-01-31",973]
["97-0396","20","97-0396-200",{"$f":"IF(AND(Config!$B$13<=Tarifs!F7770,Config!$B$13>=Tarifs!E7770),1,0)","v":0},"2026-02-01","2026-02-28",973]
["97-0396","20","97-0396-200",{"$f":"IF(AND(Config!$B$13<=Tarifs!F7771,Config!$B$13>=Tarifs!E7771),1,0)","v":0},"2026-03-01","2026-03-31",973]
["97-0396","20","97-0396-200",{"$f":"IF(AND(Config!$B$13<=Tarifs!F7772,Config!$B$13>=Tarifs!E7772),1,0)","v":0},"2026-04-01","2026-04-30",973]
["97-0396","20","97-0396-200",{"$f":"IF(AND(Config!$B$13<=Tarifs!F7773,Config!$B$13>=Tarifs!E7773),1,0)","v":0},"2026-05-01","2026-05-31",973]
["97-0396","20","97-0396-200",{"$f":"IF(AND(Config!$B$13<=Tarifs!F7774,Config!$B$13>=Tarifs!E7774),1,0)","v":0},"2026-10-01","2026-10-31",973]
["97-0396","20","97-0396-200",{"$f":"IF(AND(Config!$B$13<=Tarifs!F7775,Config!$B$13>=Tarifs!E7775),1,0)","v":0},"2026-11-01","2026-11-30",973]
["97-0396","20","97-0396-200",{"$f":"IF(AND(Config!$B$13<=Tarifs!F7776,Config!$B$13>=Tarifs!E7776),1,0)","v":0},"2026-12-01","2026-12-31",973]
["97-0396","10","97-0396-100",{"$f":"IF(AND(Config!$B$13<=Tarifs!F7777,Config!$B$13>=Tarifs!E7777),1,0)","v":0},"2026-07-01","2026-07-31",189]
["97-0396","10","97-0396-100",{"$f":"IF(AND(Config!$B$13<=Tarifs!F7778,Config!$B$13>=Tarifs!E7778),1,0)","v":0},"2026-08-01","2026-08-31",189]
["97-0396","10","97-0396-100",{"$f":"IF(AND(Config!$B$13<=Tarifs!F7779,Config!$B$13>=Tarifs!E7779),1,0)","v":0},"2026-06-01","2026-06-30",159]
["97-0396","10","97-0396-100",{"$f":"IF(AND(Config!$B$13<=Tarifs!F7780,Config!$B$13>=Tarifs!E7780),1,0)","v":0},"2026-09-01","2026-09-30",159]
["97-0396","10","97-0396-101",{"$f":"IF(AND(Config!$B$13<=Tarifs!F7781,Config!$B$13>=Tarifs!E7781),1,0)","v":1},"2026-01-01","2026-01-31",139]
["97-0396","10","97-0396-100",{"$f":"IF(AND(Config!$B$13<=Tarifs!F7782,Config!$B$13>=Tarifs!E7782),1,0)","v":0},"2026-02-01","2026-02-28",139]
["97-0396","10","97-0396-100",{"$f":"IF(AND(Config!$B$13<=Tarifs!F7783,Config!$B$13>=Tarifs!E7783),1,0)","v":0},"2026-03-01","2026-03-31",139]
["97-0396","10","97-0396-100",{"$f":"IF(AND(Config!$B$13<=Tarifs!F7784,Config!$B$13>=Tarifs!E7784),1,0)","v":0},"2026-04-01","2026-04-30",139]
["97-0396","10","97-0396-100",{"$f":"IF(AND(Config!$B$13<=Tarifs!F7785,Config!$B$13>=Tarifs!E7785),1,0)","v":0},"2026-05-01","2026-05-31",139]
["97-0396","10","97-0396-100",{"$f":"IF(AND(Config!$B$13<=Tarifs!F7786,Config!$B$13>=Tarifs!E7786),1,0)","v":0},"2026-10-01","2026-10-31",139]
["97-0396","10","97-0396-100",{"$f":"IF(AND(Config!$B$13<=Tarifs!F7787,Config!$B$13>=Tarifs!E7787),1,0)","v":0},"2026-11-01","2026-11-30",139]
["97-0396","10","97-0396-100",{"$f":"IF(AND(Config!$B$13<=Tarifs!F7788,Config!$B$13>=Tarifs!E7788),1,0)","v":0},"2026-12-01","2026-12-31",139]
["97-0404","30","97-0404-300",{"$f":"IF(AND(Config!$B$13<=Tarifs!F7789,Config!$B$13>=Tarifs!E7789),1,0)","v":0},"2026-06-01","2026-05-31",3600]
["97-0404","30","97-0404-300",{"$f":"IF(AND(Config!$B$13<=Tarifs!F7790,Config!$B$13>=Tarifs!E7790),1,0)","v":0},"2026-07-01","2026-06-30",3600]
["97-0404","30","97-0404-300",{"$f":"IF(AND(Config!$B$13<=Tarifs!F7791,Config!$B$13>=Tarifs!E7791),1,0)","v":0},"2026-08-01","2026-07-31",3600]
["97-0404","30","97-0404-300",{"$f":"IF(AND(Config!$B$13<=Tarifs!F7792,Config!$B$13>=Tarifs!E7792),1,0)","v":0},"2026-09-01","2026-08-31",3600]
["97-0404","30","97-0404-300",{"$f":"IF(AND(Config!$B$13<=Tarifs!F7793,Config!$B$13>=Tarifs!E7793),1,0)","v":0},"2026-10-01","2026-09-30",3600]
["97-0404","30","97-0404-300",{"$f":"IF(AND(Config!$B$13<=Tarifs!F7794,Config!$B$13>=Tarifs!E7794),1,0)","v":0},"2026-04-01","2026-03-31",3450]
["97-0404","30","97-0404-300",{"$f":"IF(AND(Config!$B$13<=Tarifs!F7795,Config!$B$13>=Tarifs!E7795),1,0)","v":0},"2026-05-01","2026-04-30",3450]
["97-0404","30","97-0404-300",{"$f":"IF(AND(Config!$B$13<=Tarifs!F7796,Config!$B$13>=Tarifs!E7796),1,0)","v":0},"2026-11-01","2026-10-31",3450]
["97-0404","30","97-0404-300",{"$f":"IF(AND(Config!$B$13<=Tarifs!F7797,Config!$B$13>=Tarifs!E7797),1,0)","v":0},"2026-12-01","2026-11-30",3450]
["97-0404","30","97-0404-300",{"$f":"IF(AND(Config!$B$13<=Tarifs!F7798,Config!$B$13>=Tarifs!E7798),1,0)","v":0},"2026-01-01","2025-12-31",3300]
["97-0404","30","97-0404-300",{"$f":"IF(AND(Config!$B$13<=Tarifs!F7799,Config!$B$13>=Tarifs!E7799),1,0)","v":0},"2026-02-01","2026-01-31",3300]
["97-0404","30","97-0404-300",{"$f":"IF(AND(Config!$B$13<=Tarifs!F7800,Config!$B$13>=Tarifs!E7800),1,0)","v":0},"2026-03-01","2026-02-28",3300]
["97-0404","20","97-0404-200",{"$f":"IF(AND(Config!$B$13<=Tarifs!F7801,Config!$B$13>=Tarifs!E7801),1,0)","v":0},"2026-06-01","2026-05-31",840]
["97-0404","20","97-0404-200",{"$f":"IF(AND(Config!$B$13<=Tarifs!F7802,Config!$B$13>=Tarifs!E7802),1,0)","v":0},"2026-07-01","2026-06-30",840]
["97-0404","20","97-0404-200",{"$f":"IF(AND(Config!$B$13<=Tarifs!F7803,Config!$B$13>=Tarifs!E7803),1,0)","v":0},"2026-08-01","2026-07-31",840]
["97-0404","20","97-0404-200",{"$f":"IF(AND(Config!$B$13<=Tarifs!F7804,Config!$B$13>=Tarifs!E7804),1,0)","v":0},"2026-09-01","2026-08-31",840]
["97-0404","20","97-0404-200",{"$f":"IF(AND(Config!$B$13<=Tarifs!F7805,Config!$B$13>=Tarifs!E7805),1,0)","v":0},"2026-10-01","2026-09-30",840]
["97-0404","20","97-0404-200",{"$f":"IF(AND(Config!$B$13<=Tarifs!F7806,Config!$B$13>=Tarifs!E7806),1,0)","v":0},"2026-04-01","2026-03-31",805]
["97-0404","20","97-0404-200",{"$f":"IF(AND(Config!$B$13<=Tarifs!F7807,Config!$B$13>=Tarifs!E7807),1,0)","v":0},"2026-05-01","2026-04-30",805]
["97-0404","20","97-0404-200",{"$f":"IF(AND(Config!$B$13<=Tarifs!F7808,Config!$B$13>=Tarifs!E7808),1,0)","v":0},"2026-11-01","2026-10-31",805]
["97-0404","20","97-0404-200",{"$f":"IF(AND(Config!$B$13<=Tarifs!F7809,Config!$B$13>=Tarifs!E7809),1,0)","v":0},"2026-12-01","2026-11-30",805]
["97-0404","20","97-0404-200",{"$f":"IF(AND(Config!$B$13<=Tarifs!F7810,Config!$B$13>=Tarifs!E7810),1,0)","v":0},"2026-01-01","2025-12-31",770]
["97-0404","20",{"$f":"A7811&\"-\"&B7811&D7811","v":"97-0404-200"},{"$f":"IF(AND(Config!$B$13<=Tarifs!F7811,Config!$B$13>=Tarifs!E7811),1,0)","v":0},"2026-02-01","2026-01-31",770]
["97-0404","20","97-0404-200",{"$f":"IF(AND(Config!$B$13<=Tarifs!F7812,Config!$B$13>=Tarifs!E7812),1,0)","v":0},"2026-03-01","2026-02-28",770]
["97-0404","10","97-0404-100",{"$f":"IF(AND(Config!$B$13<=Tarifs!F7813,Config!$B$13>=Tarifs!E7813),1,0)","v":0},"2026-06-01","2026-05-31",120]
["97-0404","10","97-0404-100",{"$f":"IF(AND(Config!$B$13<=Tarifs!F7814,Config!$B$13>=Tarifs!E7814),1,0)","v":0},"2026-07-01","2026-06-30",120]
["97-0404","10","97-0404-100",{"$f":"IF(AND(Config!$B$13<=Tarifs!F7815,Config!$B$13>=Tarifs!E7815),1,0)","v":0},"2026-08-01","2026-07-31",120]
["97-0404","10","97-0404-100",{"$f":"IF(AND(Config!$B$13<=Tarifs!F7816,Config!$B$13>=Tarifs!E7816),1,0)","v":0},"2026-09-01","2026-08-31",120]
["97-0404","10","97-0404-100",{"$f":"IF(AND(Config!$B$13<=Tarifs!F7817,Config!$B$13>=Tarifs!E7817),1,0)","v":0},"2026-10-01","2026-09-30",120]
["97-0404","10","97-0404-100",{"$f":"IF(AND(Config!$B$13<=Tarifs!F7818,Config!$B$13>=Tarifs!E7818),1,0)","v":0},"2026-04-01","2026-03-31",115]
["97-0404","10","97-0404-100",{"$f":"IF(AND(Config!$B$13<=Tarifs!F7819,Config!$B$13>=Tarifs!E7819),1,0)","v":0},"2026-05-01","2026-04-30",115]
["97-0404","10","97-0404-100",{"$f":"IF(AND(Config!$B$13<=Tarifs!F7820,Config!$B$13>=Tarifs!E7820),1,0)","v":0},"2026-11-01","2026-10-31",115]
["97-0404","10","97-0404-100",{"$f":"IF(AND(Config!$B$13<=Tarifs!F7821,Config!$B$13>=Tarifs!E7821),1,0)","v":0},"2026-12-01","2026-11-30",115]
["97-0404","10","97-0404-100",{"$f":"IF(AND(Config!$B$13<=Tarifs!F7822,Config!$B$13>=Tarifs!E7822),1,0)","v":0},"2026-01-01","2025-12-31",110]
["97-0404","10","97-0404-100",{"$f":"IF(AND(Config!$B$13<=Tarifs!F7823,Config!$B$13>=Tarifs!E7823),1,0)","v":0},"2026-02-01","2026-01-31",110]
["97-0404","10","97-0404-100",{"$f":"IF(AND(Config!$B$13<=Tarifs!F7824,Config!$B$13>=Tarifs!E7824),1,0)","v":0},"2026-03-01","2026-02-28",110]
["97-0406","30","97-0406-300",{"$f":"IF(AND(Config!$B$13<=Tarifs!F7825,Config!$B$13>=Tarifs!E7825),1,0)","v":0},"2026-07-01","2026-07-31",7470]
["97-0406","30","97-0406-300",{"$f":"IF(AND(Config!$B$13<=Tarifs!F7826,Config!$B$13>=Tarifs!E7826),1,0)","v":0},"2026-08-01","2026-08-31",7470]
["97-0406","30","97-0406-300",{"$f":"IF(AND(Config!$B$13<=Tarifs!F7827,Config!$B$13>=Tarifs!E7827),1,0)","v":0},"2026-09-01","2026-09-30",5220]
["97-0406","30","97-0406-300",{"$f":"IF(AND(Config!$B$13<=Tarifs!F7828,Config!$B$13>=Tarifs!E7828),1,0)","v":0},"2026-10-01","2026-10-31",5220]
["97-0406","30","97-0406-300",{"$f":"IF(AND(Config!$B$13<=Tarifs!F7829,Config!$B$13>=Tarifs!E7829),1,0)","v":0},"2026-04-01","2026-04-30",5070]
["97-0406","30","97-0406-300",{"$f":"IF(AND(Config!$B$13<=Tarifs!F7830,Config!$B$13>=Tarifs!E7830),1,0)","v":0},"2026-05-01","2026-05-31",5070]
["97-0406","30","97-0406-300",{"$f":"IF(AND(Config!$B$13<=Tarifs!F7831,Config!$B$13>=Tarifs!E7831),1,0)","v":0},"2026-06-01","2026-06-30",5070]
["97-0406","30","97-0406-301",{"$f":"IF(AND(Config!$B$13<=Tarifs!F7832,Config!$B$13>=Tarifs!E7832),1,0)","v":1},"2026-01-01","2026-01-31",4620]
["97-0406","30","97-0406-300",{"$f":"IF(AND(Config!$B$13<=Tarifs!F7833,Config!$B$13>=Tarifs!E7833),1,0)","v":0},"2026-02-01","2026-02-28",4620]
["97-0406","30","97-0406-300",{"$f":"IF(AND(Config!$B$13<=Tarifs!F7834,Config!$B$13>=Tarifs!E7834),1,0)","v":0},"2026-03-01","2026-03-31",4620]
["97-0406","30","97-0406-300",{"$f":"IF(AND(Config!$B$13<=Tarifs!F7835,Config!$B$13>=Tarifs!E7835),1,0)","v":0},"2026-11-01","2026-11-30",4620]
["97-0406","30","97-0406-300",{"$f":"IF(AND(Config!$B$13<=Tarifs!F7836,Config!$B$13>=Tarifs!E7836),1,0)","v":0},"2026-12-01","2026-12-31",4620]
["97-0406","20","97-0406-200",{"$f":"IF(AND(Config!$B$13<=Tarifs!F7837,Config!$B$13>=Tarifs!E7837),1,0)","v":0},"2026-07-01","2026-07-31",1743]
["97-0406","20","97-0406-200",{"$f":"IF(AND(Config!$B$13<=Tarifs!F7838,Config!$B$13>=Tarifs!E7838),1,0)","v":0},"2026-08-01","2026-08-31",1743]
["97-0406","20","97-0406-200",{"$f":"IF(AND(Config!$B$13<=Tarifs!F7839,Config!$B$13>=Tarifs!E7839),1,0)","v":0},"2026-09-01","2026-09-30",1218]
["97-0406","20","97-0406-200",{"$f":"IF(AND(Config!$B$13<=Tarifs!F7840,Config!$B$13>=Tarifs!E7840),1,0)","v":0},"2026-10-01","2026-10-31",1218]
["97-0406","20","97-0406-200",{"$f":"IF(AND(Config!$B$13<=Tarifs!F7841,Config!$B$13>=Tarifs!E7841),1,0)","v":0},"2026-04-01","2026-04-30",1183]
["97-0406","20","97-0406-200",{"$f":"IF(AND(Config!$B$13<=Tarifs!F7842,Config!$B$13>=Tarifs!E7842),1,0)","v":0},"2026-05-01","2026-05-31",1183]
["97-0406","20","97-0406-200",{"$f":"IF(AND(Config!$B$13<=Tarifs!F7843,Config!$B$13>=Tarifs!E7843),1,0)","v":0},"2026-06-01","2026-06-30",1183]
["97-0406","20","97-0406-201",{"$f":"IF(AND(Config!$B$13<=Tarifs!F7844,Config!$B$13>=Tarifs!E7844),1,0)","v":1},"2026-01-01","2026-01-31",1078]
["97-0406","20","97-0406-200",{"$f":"IF(AND(Config!$B$13<=Tarifs!F7845,Config!$B$13>=Tarifs!E7845),1,0)","v":0},"2026-02-01","2026-02-28",1078]
["97-0406","20","97-0406-200",{"$f":"IF(AND(Config!$B$13<=Tarifs!F7846,Config!$B$13>=Tarifs!E7846),1,0)","v":0},"2026-03-01","2026-03-31",1078]
["97-0406","20","97-0406-200",{"$f":"IF(AND(Config!$B$13<=Tarifs!F7847,Config!$B$13>=Tarifs!E7847),1,0)","v":0},"2026-11-01","2026-11-30",1078]
["97-0406","20","97-0406-200",{"$f":"IF(AND(Config!$B$13<=Tarifs!F7848,Config!$B$13>=Tarifs!E7848),1,0)","v":0},"2026-12-01","2026-12-31",1078]
["97-0406","10","97-0406-100",{"$f":"IF(AND(Config!$B$13<=Tarifs!F7849,Config!$B$13>=Tarifs!E7849),1,0)","v":0},"2026-07-01","2026-07-31",249]
["97-0406","10","97-0406-100",{"$f":"IF(AND(Config!$B$13<=Tarifs!F7850,Config!$B$13>=Tarifs!E7850),1,0)","v":0},"2026-08-01","2026-08-31",249]
["97-0406","10","97-0406-100",{"$f":"IF(AND(Config!$B$13<=Tarifs!F7851,Config!$B$13>=Tarifs!E7851),1,0)","v":0},"2026-09-01","2026-09-30",174]
["97-0406","10","97-0406-100",{"$f":"IF(AND(Config!$B$13<=Tarifs!F7852,Config!$B$13>=Tarifs!E7852),1,0)","v":0},"2026-10-01","2026-10-31",174]
["97-0406","10","97-0406-100",{"$f":"IF(AND(Config!$B$13<=Tarifs!F7853,Config!$B$13>=Tarifs!E7853),1,0)","v":0},"2026-04-01","2026-04-30",169]
["97-0406","10","97-0406-100",{"$f":"IF(AND(Config!$B$13<=Tarifs!F7854,Config!$B$13>=Tarifs!E7854),1,0)","v":0},"2026-05-01","2026-05-31",169]
["97-0406","10","97-0406-100",{"$f":"IF(AND(Config!$B$13<=Tarifs!F7855,Config!$B$13>=Tarifs!E7855),1,0)","v":0},"2026-06-01","2026-06-30",169]
["97-0406","10","97-0406-101",{"$f":"IF(AND(Config!$B$13<=Tarifs!F7856,Config!$B$13>=Tarifs!E7856),1,0)","v":1},"2026-01-01","2026-01-31",154]
["97-0406","10","97-0406-100",{"$f":"IF(AND(Config!$B$13<=Tarifs!F7857,Config!$B$13>=Tarifs!E7857),1,0)","v":0},"2026-02-01","2026-02-28",154]
["97-0406","10","97-0406-100",{"$f":"IF(AND(Config!$B$13<=Tarifs!F7858,Config!$B$13>=Tarifs!E7858),1,0)","v":0},"2026-03-01","2026-03-31",154]
["97-0406","10","97-0406-100",{"$f":"IF(AND(Config!$B$13<=Tarifs!F7859,Config!$B$13>=Tarifs!E7859),1,0)","v":0},"2026-11-01","2026-11-30",154]
["97-0406","10","97-0406-100",{"$f":"IF(AND(Config!$B$13<=Tarifs!F7860,Config!$B$13>=Tarifs!E7860),1,0)","v":0},"2026-12-01","2026-12-31",154]
["97-0407","30","97-0407-300",{"$f":"IF(AND(Config!$B$13<=Tarifs!F7861,Config!$B$13>=Tarifs!E7861),1,0)","v":0},"2026-08-01","2026-08-31",4080]
["97-0407","30","97-0407-300",{"$f":"IF(AND(Config!$B$13<=Tarifs!F7862,Config!$B$13>=Tarifs!E7862),1,0)","v":0},"2026-09-01","2026-09-30",4080]
["97-0407","30","97-0407-300",{"$f":"IF(AND(Config!$B$13<=Tarifs!F7863,Config!$B$13>=Tarifs!E7863),1,0)","v":0},"2026-10-01","2026-10-31",4080]
["97-0407","30","97-0407-300",{"$f":"IF(AND(Config!$B$13<=Tarifs!F7864,Config!$B$13>=Tarifs!E7864),1,0)","v":0},"2026-06-01","2026-06-30",4080]
["97-0407","30","97-0407-300",{"$f":"IF(AND(Config!$B$13<=Tarifs!F7865,Config!$B$13>=Tarifs!E7865),1,0)","v":0},"2026-07-01","2026-07-31",4080]
["97-0407","30","97-0407-300",{"$f":"IF(AND(Config!$B$13<=Tarifs!F7866,Config!$B$13>=Tarifs!E7866),1,0)","v":0},"2026-11-01","2026-11-30",2850]
["97-0407","30","97-0407-300",{"$f":"IF(AND(Config!$B$13<=Tarifs!F7867,Config!$B$13>=Tarifs!E7867),1,0)","v":0},"2026-12-01","2026-12-31",2850]
["97-0407","30","97-0407-301",{"$f":"IF(AND(Config!$B$13<=Tarifs!F7868,Config!$B$13>=Tarifs!E7868),1,0)","v":1},"2026-01-01","2026-01-31",2850]
["97-0407","30","97-0407-300",{"$f":"IF(AND(Config!$B$13<=Tarifs!F7869,Config!$B$13>=Tarifs!E7869),1,0)","v":0},"2026-02-01","2026-02-28",2850]
["97-0407","30","97-0407-300",{"$f":"IF(AND(Config!$B$13<=Tarifs!F7870,Config!$B$13>=Tarifs!E7870),1,0)","v":0},"2026-03-01","2026-03-31",2850]
["97-0407","30","97-0407-300",{"$f":"IF(AND(Config!$B$13<=Tarifs!F7871,Config!$B$13>=Tarifs!E7871),1,0)","v":0},"2026-04-01","2026-04-30",2850]
["97-0407","30","97-0407-300",{"$f":"IF(AND(Config!$B$13<=Tarifs!F7872,Config!$B$13>=Tarifs!E7872),1,0)","v":0},"2026-05-01","2026-05-31",2850]
["97-0407","20","97-0407-200",{"$f":"IF(AND(Config!$B$13<=Tarifs!F7873,Config!$B$13>=Tarifs!E7873),1,0)","v":0},"2026-09-01","2026-09-30",952]
["97-0407","20","97-0407-200",{"$f":"IF(AND(Config!$B$13<=Tarifs!F7874,Config!$B$13>=Tarifs!E7874),1,0)","v":0},"2026-10-01","2026-10-31",952]
["97-0407","20",{"$f":"A7875&\"-\"&B7875&D7875","v":"97-0407-200"},{"$f":"IF(AND(Config!$B$13<=Tarifs!F7875,Config!$B$13>=Tarifs!E7875),1,0)","v":0},"2026-06-01","2026-06-30",952]
["97-0407","20","97-0407-200",{"$f":"IF(AND(Config!$B$13<=Tarifs!F7876,Config!$B$13>=Tarifs!E7876),1,0)","v":0},"2026-07-01","2026-07-31",952]
["97-0407","20","97-0407-200",{"$f":"IF(AND(Config!$B$13<=Tarifs!F7877,Config!$B$13>=Tarifs!E7877),1,0)","v":0},"2026-08-01","2026-08-31",952]
["97-0407","20","97-0407-200",{"$f":"IF(AND(Config!$B$13<=Tarifs!F7878,Config!$B$13>=Tarifs!E7878),1,0)","v":0},"2026-11-01","2026-11-30",665]
["97-0407","20","97-0407-200",{"$f":"IF(AND(Config!$B$13<=Tarifs!F7879,Config!$B$13>=Tarifs!E7879),1,0)","v":0},"2026-12-01","2026-12-31",665]
["97-0407","20","97-0407-201",{"$f":"IF(AND(Config!$B$13<=Tarifs!F7880,Config!$B$13>=Tarifs!E7880),1,0)","v":1},"2026-01-01","2026-01-31",665]
["97-0407","20","97-0407-200",{"$f":"IF(AND(Config!$B$13<=Tarifs!F7881,Config!$B$13>=Tarifs!E7881),1,0)","v":0},"2026-02-01","2026-02-28",665]
["97-0407","20","97-0407-200",{"$f":"IF(AND(Config!$B$13<=Tarifs!F7882,Config!$B$13>=Tarifs!E7882),1,0)","v":0},"2026-03-01","2026-03-31",665]
["97-0407","20","97-0407-200",{"$f":"IF(AND(Config!$B$13<=Tarifs!F7883,Config!$B$13>=Tarifs!E7883),1,0)","v":0},"2026-04-01","2026-04-30",665]
["97-0407","20","97-0407-200",{"$f":"IF(AND(Config!$B$13<=Tarifs!F7884,Config!$B$13>=Tarifs!E7884),1,0)","v":0},"2026-05-01","2026-05-31",665]
["97-0407","10","97-0407-100",{"$f":"IF(AND(Config!$B$13<=Tarifs!F7885,Config!$B$13>=Tarifs!E7885),1,0)","v":0},"2026-09-01","2026-09-30",136]
["97-0407","10","97-0407-100",{"$f":"IF(AND(Config!$B$13<=Tarifs!F7886,Config!$B$13>=Tarifs!E7886),1,0)","v":0},"2026-10-01","2026-10-31",136]
["97-0407","10","97-0407-100",{"$f":"IF(AND(Config!$B$13<=Tarifs!F7887,Config!$B$13>=Tarifs!E7887),1,0)","v":0},"2026-06-01","2026-06-30",136]
["97-0407","10","97-0407-100",{"$f":"IF(AND(Config!$B$13<=Tarifs!F7888,Config!$B$13>=Tarifs!E7888),1,0)","v":0},"2026-07-01","2026-07-31",136]
["97-0407","10","97-0407-100",{"$f":"IF(AND(Config!$B$13<=Tarifs!F7889,Config!$B$13>=Tarifs!E7889),1,0)","v":0},"2026-08-01","2026-08-31",136]
["97-0407","10","97-0407-100",{"$f":"IF(AND(Config!$B$13<=Tarifs!F7890,Config!$B$13>=Tarifs!E7890),1,0)","v":0},"2026-11-01","2026-11-30",95]
["97-0407","10","97-0407-100",{"$f":"IF(AND(Config!$B$13<=Tarifs!F7891,Config!$B$13>=Tarifs!E7891),1,0)","v":0},"2026-12-01","2026-12-31",95]
["97-0407","10","97-0407-101",{"$f":"IF(AND(Config!$B$13<=Tarifs!F7892,Config!$B$13>=Tarifs!E7892),1,0)","v":1},"2026-01-01","2026-01-31",95]
["97-0407","10","97-0407-100",{"$f":"IF(AND(Config!$B$13<=Tarifs!F7893,Config!$B$13>=Tarifs!E7893),1,0)","v":0},"2026-02-01","2026-02-28",95]
["97-0407","10","97-0407-100",{"$f":"IF(AND(Config!$B$13<=Tarifs!F7894,Config!$B$13>=Tarifs!E7894),1,0)","v":0},"2026-03-01","2026-03-31",95]
["97-0407","10","97-0407-100",{"$f":"IF(AND(Config!$B$13<=Tarifs!F7895,Config!$B$13>=Tarifs!E7895),1,0)","v":0},"2026-04-01","2026-04-30",95]
["97-0407","10","97-0407-100",{"$f":"IF(AND(Config!$B$13<=Tarifs!F7896,Config!$B$13>=Tarifs!E7896),1,0)","v":0},"2026-05-01","2026-05-31",95]
["97-0408","30","97-0408-300",{"$f":"IF(AND(Config!$B$13<=Tarifs!F7897,Config!$B$13>=Tarifs!E7897),1,0)","v":0},"2026-04-01","2026-04-30",4800]
["97-0408","30","97-0408-300",{"$f":"IF(AND(Config!$B$13<=Tarifs!F7898,Config!$B$13>=Tarifs!E7898),1,0)","v":0},"2026-05-01","2026-05-31",4800]
["97-0408","30","97-0408-300",{"$f":"IF(AND(Config!$B$13<=Tarifs!F7899,Config!$B$13>=Tarifs!E7899),1,0)","v":0},"2026-06-01","2026-06-30",4800]
["97-0408","30","97-0408-300",{"$f":"IF(AND(Config!$B$13<=Tarifs!F7900,Config!$B$13>=Tarifs!E7900),1,0)","v":0},"2026-07-01","2026-07-31",4800]
["97-0408","30","97-0408-300",{"$f":"IF(AND(Config!$B$13<=Tarifs!F7901,Config!$B$13>=Tarifs!E7901),1,0)","v":0},"2026-08-01","2026-08-31",4800]
["97-0408","30","97-0408-300",{"$f":"IF(AND(Config!$B$13<=Tarifs!F7902,Config!$B$13>=Tarifs!E7902),1,0)","v":0},"2026-09-01","2026-09-30",4800]
["97-0408","30","97-0408-300",{"$f":"IF(AND(Config!$B$13<=Tarifs!F7903,Config!$B$13>=Tarifs!E7903),1,0)","v":0},"2026-10-01","2026-10-31",4800]
["97-0408","30","97-0408-301",{"$f":"IF(AND(Config!$B$13<=Tarifs!F7904,Config!$B$13>=Tarifs!E7904),1,0)","v":1},"2026-01-01","2026-01-31",4350]
["97-0408","30","97-0408-300",{"$f":"IF(AND(Config!$B$13<=Tarifs!F7905,Config!$B$13>=Tarifs!E7905),1,0)","v":0},"2026-02-01","2026-02-28",4350]
["97-0408","30","97-0408-300",{"$f":"IF(AND(Config!$B$13<=Tarifs!F7906,Config!$B$13>=Tarifs!E7906),1,0)","v":0},"2026-03-01","2026-03-31",4350]
["97-0408","30","97-0408-300",{"$f":"IF(AND(Config!$B$13<=Tarifs!F7907,Config!$B$13>=Tarifs!E7907),1,0)","v":0},"2026-11-01","2026-11-30",4350]
["97-0408","30","97-0408-300",{"$f":"IF(AND(Config!$B$13<=Tarifs!F7908,Config!$B$13>=Tarifs!E7908),1,0)","v":0},"2026-12-01","2026-12-31",4350]
["97-0408","20","97-0408-200",{"$f":"IF(AND(Config!$B$13<=Tarifs!F7909,Config!$B$13>=Tarifs!E7909),1,0)","v":0},"2026-04-01","2026-04-30",1120]
["97-0408","20","97-0408-200",{"$f":"IF(AND(Config!$B$13<=Tarifs!F7910,Config!$B$13>=Tarifs!E7910),1,0)","v":0},"2026-05-01","2026-05-31",1120]
["97-0408","20","97-0408-200",{"$f":"IF(AND(Config!$B$13<=Tarifs!F7911,Config!$B$13>=Tarifs!E7911),1,0)","v":0},"2026-06-01","2026-06-30",1120]
["97-0408","20","97-0408-200",{"$f":"IF(AND(Config!$B$13<=Tarifs!F7912,Config!$B$13>=Tarifs!E7912),1,0)","v":0},"2026-07-01","2026-07-31",1120]
["97-0408","20","97-0408-200",{"$f":"IF(AND(Config!$B$13<=Tarifs!F7913,Config!$B$13>=Tarifs!E7913),1,0)","v":0},"2026-08-01","2026-08-31",1120]
["97-0408","20","97-0408-200",{"$f":"IF(AND(Config!$B$13<=Tarifs!F7914,Config!$B$13>=Tarifs!E7914),1,0)","v":0},"2026-09-01","2026-09-30",1120]
["97-0408","20","97-0408-200",{"$f":"IF(AND(Config!$B$13<=Tarifs!F7915,Config!$B$13>=Tarifs!E7915),1,0)","v":0},"2026-10-01","2026-10-31",1120]
["97-0408","20","97-0408-201",{"$f":"IF(AND(Config!$B$13<=Tarifs!F7916,Config!$B$13>=Tarifs!E7916),1,0)","v":1},"2026-01-01","2026-01-31",1015]
["97-0408","20","97-0408-200",{"$f":"IF(AND(Config!$B$13<=Tarifs!F7917,Config!$B$13>=Tarifs!E7917),1,0)","v":0},"2026-02-01","2026-02-28",1015]
["97-0408","20","97-0408-200",{"$f":"IF(AND(Config!$B$13<=Tarifs!F7918,Config!$B$13>=Tarifs!E7918),1,0)","v":0},"2026-03-01","2026-03-31",1015]
["97-0408","20","97-0408-200",{"$f":"IF(AND(Config!$B$13<=Tarifs!F7919,Config!$B$13>=Tarifs!E7919),1,0)","v":0},"2026-11-01","2026-11-30",1015]
["97-0408","20","97-0408-200",{"$f":"IF(AND(Config!$B$13<=Tarifs!F7920,Config!$B$13>=Tarifs!E7920),1,0)","v":0},"2026-12-01","2026-12-31",1015]
["97-0408","10","97-0408-100",{"$f":"IF(AND(Config!$B$13<=Tarifs!F7921,Config!$B$13>=Tarifs!E7921),1,0)","v":0},"2026-04-01","2026-04-30",160]
["97-0408","10","97-0408-100",{"$f":"IF(AND(Config!$B$13<=Tarifs!F7922,Config!$B$13>=Tarifs!E7922),1,0)","v":0},"2026-05-01","2026-05-31",160]
["97-0408","10","97-0408-100",{"$f":"IF(AND(Config!$B$13<=Tarifs!F7923,Config!$B$13>=Tarifs!E7923),1,0)","v":0},"2026-06-01","2026-06-30",160]
["97-0408","10","97-0408-100",{"$f":"IF(AND(Config!$B$13<=Tarifs!F7924,Config!$B$13>=Tarifs!E7924),1,0)","v":0},"2026-07-01","2026-07-31",160]
["97-0408","10","97-0408-100",{"$f":"IF(AND(Config!$B$13<=Tarifs!F7925,Config!$B$13>=Tarifs!E7925),1,0)","v":0},"2026-08-01","2026-08-31",160]
["97-0408","10","97-0408-100",{"$f":"IF(AND(Config!$B$13<=Tarifs!F7926,Config!$B$13>=Tarifs!E7926),1,0)","v":0},"2026-09-01","2026-09-30",160]
["97-0408","10","97-0408-100",{"$f":"IF(AND(Config!$B$13<=Tarifs!F7927,Config!$B$13>=Tarifs!E7927),1,0)","v":0},"2026-10-01","2026-10-31",160]
["97-0408","10","97-0408-101",{"$f":"IF(AND(Config!$B$13<=Tarifs!F7928,Config!$B$13>=Tarifs!E7928),1,0)","v":1},"2026-01-01","2026-01-31",145]
["97-0408","10","97-0408-100",{"$f":"IF(AND(Config!$B$13<=Tarifs!F7929,Config!$B$13>=Tarifs!E7929),1,0)","v":0},"2026-02-01","2026-02-28",145]
["97-0408","10","97-0408-100",{"$f":"IF(AND(Config!$B$13<=Tarifs!F7930,Config!$B$13>=Tarifs!E7930),1,0)","v":0},"2026-03-01","2026-03-31",145]
["97-0408","10","97-0408-100",{"$f":"IF(AND(Config!$B$13<=Tarifs!F7931,Config!$B$13>=Tarifs!E7931),1,0)","v":0},"2026-11-01","2026-11-30",145]
["97-0408","10","97-0408-100",{"$f":"IF(AND(Config!$B$13<=Tarifs!F7932,Config!$B$13>=Tarifs!E7932),1,0)","v":0},"2026-12-01","2026-12-31",145]
["97-0411","30","97-0411-300",{"$f":"IF(AND(Config!$B$13<=Tarifs!F7933,Config!$B$13>=Tarifs!E7933),1,0)","v":0},"2026-05-01","2026-05-31",6479]
["97-0411","30","97-0411-300",{"$f":"IF(AND(Config!$B$13<=Tarifs!F7934,Config!$B$13>=Tarifs!E7934),1,0)","v":0},"2026-07-01","2026-07-31",6479]
["97-0411","30","97-0411-300",{"$f":"IF(AND(Config!$B$13<=Tarifs!F7935,Config!$B$13>=Tarifs!E7935),1,0)","v":0},"2026-08-01","2026-08-31",6479]
["97-0411","30","97-0411-300",{"$f":"IF(AND(Config!$B$13<=Tarifs!F7936,Config!$B$13>=Tarifs!E7936),1,0)","v":0},"2026-06-01","2026-06-30",6270]
["97-0411","30","97-0411-300",{"$f":"IF(AND(Config!$B$13<=Tarifs!F7937,Config!$B$13>=Tarifs!E7937),1,0)","v":0},"2026-09-01","2026-09-30",6270]
["97-0411","30","97-0411-300",{"$f":"IF(AND(Config!$B$13<=Tarifs!F7938,Config!$B$13>=Tarifs!E7938),1,0)","v":0},"2026-10-01","2026-10-31",6169]
["97-0411","30",{"$f":"A7939&\"-\"&B7939&D7939","v":"97-0411-300"},{"$f":"IF(AND(Config!$B$13<=Tarifs!F7939,Config!$B$13>=Tarifs!E7939),1,0)","v":0},"2026-12-01","2026-12-31",5859]
["97-0411","30","97-0411-300",{"$f":"IF(AND(Config!$B$13<=Tarifs!F7940,Config!$B$13>=Tarifs!E7940),1,0)","v":0},"2026-11-01","2026-11-30",5670]
["97-0411","30","97-0411-301",{"$f":"IF(AND(Config!$B$13<=Tarifs!F7941,Config!$B$13>=Tarifs!E7941),1,0)","v":1},"2026-01-01","2026-01-31",5549]
["97-0411","30","97-0411-300",{"$f":"IF(AND(Config!$B$13<=Tarifs!F7942,Config!$B$13>=Tarifs!E7942),1,0)","v":0},"2026-03-01","2026-03-31",5549]
["97-0411","30","97-0411-300",{"$f":"IF(AND(Config!$B$13<=Tarifs!F7943,Config!$B$13>=Tarifs!E7943),1,0)","v":0},"2026-04-01","2026-04-30",5370]
["97-0411","30","97-0411-300",{"$f":"IF(AND(Config!$B$13<=Tarifs!F7944,Config!$B$13>=Tarifs!E7944),1,0)","v":0},"2026-02-01","2026-02-28",5012]
["97-0411","20","97-0411-200",{"$f":"IF(AND(Config!$B$13<=Tarifs!F7945,Config!$B$13>=Tarifs!E7945),1,0)","v":0},"2026-05-01","2026-05-31",1463]
["97-0411","20","97-0411-200",{"$f":"IF(AND(Config!$B$13<=Tarifs!F7946,Config!$B$13>=Tarifs!E7946),1,0)","v":0},"2026-06-01","2026-06-30",1463]
["97-0411","20","97-0411-200",{"$f":"IF(AND(Config!$B$13<=Tarifs!F7947,Config!$B$13>=Tarifs!E7947),1,0)","v":0},"2026-07-01","2026-07-31",1463]
["97-0411","20","97-0411-200",{"$f":"IF(AND(Config!$B$13<=Tarifs!F7948,Config!$B$13>=Tarifs!E7948),1,0)","v":0},"2026-08-01","2026-08-31",1463]
["97-0411","20","97-0411-200",{"$f":"IF(AND(Config!$B$13<=Tarifs!F7949,Config!$B$13>=Tarifs!E7949),1,0)","v":0},"2026-09-01","2026-09-30",1463]
["97-0411","20","97-0411-200",{"$f":"IF(AND(Config!$B$13<=Tarifs!F7950,Config!$B$13>=Tarifs!E7950),1,0)","v":0},"2026-10-01","2026-10-31",1393]
["97-0411","20","97-0411-200",{"$f":"IF(AND(Config!$B$13<=Tarifs!F7951,Config!$B$13>=Tarifs!E7951),1,0)","v":0},"2026-11-01","2026-11-30",1323]
["97-0411","20","97-0411-200",{"$f":"IF(AND(Config!$B$13<=Tarifs!F7952,Config!$B$13>=Tarifs!E7952),1,0)","v":0},"2026-12-01","2026-12-31",1323]
["97-0411","20","97-0411-201",{"$f":"IF(AND(Config!$B$13<=Tarifs!F7953,Config!$B$13>=Tarifs!E7953),1,0)","v":1},"2026-01-01","2026-01-31",1253]
["97-0411","20","97-0411-200",{"$f":"IF(AND(Config!$B$13<=Tarifs!F7954,Config!$B$13>=Tarifs!E7954),1,0)","v":0},"2026-02-01","2026-02-28",1253]
["97-0411","20","97-0411-200",{"$f":"IF(AND(Config!$B$13<=Tarifs!F7955,Config!$B$13>=Tarifs!E7955),1,0)","v":0},"2026-03-01","2026-03-31",1253]
["97-0411","20","97-0411-200",{"$f":"IF(AND(Config!$B$13<=Tarifs!F7956,Config!$B$13>=Tarifs!E7956),1,0)","v":0},"2026-04-01","2026-04-30",1253]
["97-0411","10","97-0411-100",{"$f":"IF(AND(Config!$B$13<=Tarifs!F7957,Config!$B$13>=Tarifs!E7957),1,0)","v":0},"2026-05-01","2026-05-31",209]
["97-0411","10","97-0411-100",{"$f":"IF(AND(Config!$B$13<=Tarifs!F7958,Config!$B$13>=Tarifs!E7958),1,0)","v":0},"2026-06-01","2026-06-30",209]
["97-0411","10","97-0411-100",{"$f":"IF(AND(Config!$B$13<=Tarifs!F7959,Config!$B$13>=Tarifs!E7959),1,0)","v":0},"2026-07-01","2026-07-31",209]
["97-0411","10","97-0411-100",{"$f":"IF(AND(Config!$B$13<=Tarifs!F7960,Config!$B$13>=Tarifs!E7960),1,0)","v":0},"2026-08-01","2026-08-31",209]
["97-0411","10","97-0411-100",{"$f":"IF(AND(Config!$B$13<=Tarifs!F7961,Config!$B$13>=Tarifs!E7961),1,0)","v":0},"2026-09-01","2026-09-30",209]
["97-0411","10","97-0411-100",{"$f":"IF(AND(Config!$B$13<=Tarifs!F7962,Config!$B$13>=Tarifs!E7962),1,0)","v":0},"2026-10-01","2026-10-31",199]
["97-0411","10","97-0411-100",{"$f":"IF(AND(Config!$B$13<=Tarifs!F7963,Config!$B$13>=Tarifs!E7963),1,0)","v":0},"2026-11-01","2026-11-30",189]
["97-0411","10","97-0411-100",{"$f":"IF(AND(Config!$B$13<=Tarifs!F7964,Config!$B$13>=Tarifs!E7964),1,0)","v":0},"2026-12-01","2026-12-31",189]
["97-0411","10","97-0411-101",{"$f":"IF(AND(Config!$B$13<=Tarifs!F7965,Config!$B$13>=Tarifs!E7965),1,0)","v":1},"2026-01-01","2026-01-31",179]
["97-0411","10","97-0411-100",{"$f":"IF(AND(Config!$B$13<=Tarifs!F7966,Config!$B$13>=Tarifs!E7966),1,0)","v":0},"2026-02-01","2026-02-28",179]
["97-0411","10","97-0411-100",{"$f":"IF(AND(Config!$B$13<=Tarifs!F7967,Config!$B$13>=Tarifs!E7967),1,0)","v":0},"2026-03-01","2026-03-31",179]
["97-0411","10","97-0411-100",{"$f":"IF(AND(Config!$B$13<=Tarifs!F7968,Config!$B$13>=Tarifs!E7968),1,0)","v":0},"2026-04-01","2026-04-30",179]
["97-0419","30","97-0419-300",{"$f":"IF(AND(Config!$B$13<=Tarifs!F7969,Config!$B$13>=Tarifs!E7969),1,0)","v":0},"2026-07-01","2026-07-31",5250]
["97-0419","30","97-0419-300",{"$f":"IF(AND(Config!$B$13<=Tarifs!F7970,Config!$B$13>=Tarifs!E7970),1,0)","v":0},"2026-08-01","2026-08-31",5250]
["97-0419","30","97-0419-300",{"$f":"IF(AND(Config!$B$13<=Tarifs!F7971,Config!$B$13>=Tarifs!E7971),1,0)","v":0},"2026-05-01","2026-05-31",4650]
["97-0419","30","97-0419-300",{"$f":"IF(AND(Config!$B$13<=Tarifs!F7972,Config!$B$13>=Tarifs!E7972),1,0)","v":0},"2026-06-01","2026-06-30",4650]
["97-0419","30","97-0419-300",{"$f":"IF(AND(Config!$B$13<=Tarifs!F7973,Config!$B$13>=Tarifs!E7973),1,0)","v":0},"2026-09-01","2026-09-30",4650]
["97-0419","30","97-0419-300",{"$f":"IF(AND(Config!$B$13<=Tarifs!F7974,Config!$B$13>=Tarifs!E7974),1,0)","v":0},"2026-10-01","2026-10-31",4650]
["97-0419","30","97-0419-301",{"$f":"IF(AND(Config!$B$13<=Tarifs!F7975,Config!$B$13>=Tarifs!E7975),1,0)","v":1},"2026-01-01","2026-01-31",4350]
["97-0419","30","97-0419-300",{"$f":"IF(AND(Config!$B$13<=Tarifs!F7976,Config!$B$13>=Tarifs!E7976),1,0)","v":0},"2026-02-01","2026-02-28",4350]
["97-0419","30","97-0419-300",{"$f":"IF(AND(Config!$B$13<=Tarifs!F7977,Config!$B$13>=Tarifs!E7977),1,0)","v":0},"2026-03-01","2026-03-31",4350]
["97-0419","30","97-0419-300",{"$f":"IF(AND(Config!$B$13<=Tarifs!F7978,Config!$B$13>=Tarifs!E7978),1,0)","v":0},"2026-04-01","2026-04-30",4350]
["97-0419","30","97-0419-300",{"$f":"IF(AND(Config!$B$13<=Tarifs!F7979,Config!$B$13>=Tarifs!E7979),1,0)","v":0},"2026-11-01","2026-11-30",4350]
["97-0419","30","97-0419-300",{"$f":"IF(AND(Config!$B$13<=Tarifs!F7980,Config!$B$13>=Tarifs!E7980),1,0)","v":0},"2026-12-01","2026-12-31",4350]
["97-0419","20","97-0419-200",{"$f":"IF(AND(Config!$B$13<=Tarifs!F7981,Config!$B$13>=Tarifs!E7981),1,0)","v":0},"2026-07-01","2026-07-31",1225]
["97-0419","20","97-0419-200",{"$f":"IF(AND(Config!$B$13<=Tarifs!F7982,Config!$B$13>=Tarifs!E7982),1,0)","v":0},"2026-08-01","2026-08-31",1225]
["97-0419","20","97-0419-200",{"$f":"IF(AND(Config!$B$13<=Tarifs!F7983,Config!$B$13>=Tarifs!E7983),1,0)","v":0},"2026-05-01","2026-05-31",1085]
["97-0419","20","97-0419-200",{"$f":"IF(AND(Config!$B$13<=Tarifs!F7984,Config!$B$13>=Tarifs!E7984),1,0)","v":0},"2026-06-01","2026-06-30",1085]
["97-0419","20","97-0419-200",{"$f":"IF(AND(Config!$B$13<=Tarifs!F7985,Config!$B$13>=Tarifs!E7985),1,0)","v":0},"2026-09-01","2026-09-30",1085]
["97-0419","20","97-0419-200",{"$f":"IF(AND(Config!$B$13<=Tarifs!F7986,Config!$B$13>=Tarifs!E7986),1,0)","v":0},"2026-10-01","2026-10-31",1085]
["97-0419","20","97-0419-201",{"$f":"IF(AND(Config!$B$13<=Tarifs!F7987,Config!$B$13>=Tarifs!E7987),1,0)","v":1},"2026-01-01","2026-01-31",1015]
["97-0419","20","97-0419-200",{"$f":"IF(AND(Config!$B$13<=Tarifs!F7988,Config!$B$13>=Tarifs!E7988),1,0)","v":0},"2026-02-01","2026-02-28",1015]
["97-0419","20","97-0419-200",{"$f":"IF(AND(Config!$B$13<=Tarifs!F7989,Config!$B$13>=Tarifs!E7989),1,0)","v":0},"2026-03-01","2026-03-31",1015]
["97-0419","20","97-0419-200",{"$f":"IF(AND(Config!$B$13<=Tarifs!F7990,Config!$B$13>=Tarifs!E7990),1,0)","v":0},"2026-04-01","2026-04-30",1015]
["97-0419","20","97-0419-200",{"$f":"IF(AND(Config!$B$13<=Tarifs!F7991,Config!$B$13>=Tarifs!E7991),1,0)","v":0},"2026-11-01","2026-11-30",1015]
["97-0419","20","97-0419-200",{"$f":"IF(AND(Config!$B$13<=Tarifs!F7992,Config!$B$13>=Tarifs!E7992),1,0)","v":0},"2026-12-01","2026-12-31",1015]
["97-0419","10","97-0419-100",{"$f":"IF(AND(Config!$B$13<=Tarifs!F7993,Config!$B$13>=Tarifs!E7993),1,0)","v":0},"2026-07-01","2026-07-31",175]
["97-0419","10","97-0419-100",{"$f":"IF(AND(Config!$B$13<=Tarifs!F7994,Config!$B$13>=Tarifs!E7994),1,0)","v":0},"2026-08-01","2026-08-31",175]
["97-0419","10","97-0419-100",{"$f":"IF(AND(Config!$B$13<=Tarifs!F7995,Config!$B$13>=Tarifs!E7995),1,0)","v":0},"2026-05-01","2026-05-31",155]
["97-0419","10","97-0419-100",{"$f":"IF(AND(Config!$B$13<=Tarifs!F7996,Config!$B$13>=Tarifs!E7996),1,0)","v":0},"2026-06-01","2026-06-30",155]
["97-0419","10","97-0419-100",{"$f":"IF(AND(Config!$B$13<=Tarifs!F7997,Config!$B$13>=Tarifs!E7997),1,0)","v":0},"2026-09-01","2026-09-30",155]
["97-0419","10","97-0419-100",{"$f":"IF(AND(Config!$B$13<=Tarifs!F7998,Config!$B$13>=Tarifs!E7998),1,0)","v":0},"2026-10-01","2026-10-31",155]
["97-0419","10","97-0419-101",{"$f":"IF(AND(Config!$B$13<=Tarifs!F7999,Config!$B$13>=Tarifs!E7999),1,0)","v":1},"2026-01-01","2026-01-31",145]
["97-0419","10","97-0419-100",{"$f":"IF(AND(Config!$B$13<=Tarifs!F8000,Config!$B$13>=Tarifs!E8000),1,0)","v":0},"2026-02-01","2026-02-28",145]
["97-0419","10","97-0419-100",{"$f":"IF(AND(Config!$B$13<=Tarifs!F8001,Config!$B$13>=Tarifs!E8001),1,0)","v":0},"2026-03-01","2026-03-31",145]
["97-0419","10","97-0419-100",{"$f":"IF(AND(Config!$B$13<=Tarifs!F8002,Config!$B$13>=Tarifs!E8002),1,0)","v":0},"2026-04-01","2026-04-30",145]
["97-0419","10",{"$f":"A8003&\"-\"&B8003&D8003","v":"97-0419-100"},{"$f":"IF(AND(Config!$B$13<=Tarifs!F8003,Config!$B$13>=Tarifs!E8003),1,0)","v":0},"2026-11-01","2026-11-30",145]
["97-0419","10","97-0419-100",{"$f":"IF(AND(Config!$B$13<=Tarifs!F8004,Config!$B$13>=Tarifs!E8004),1,0)","v":0},"2026-12-01","2026-12-31",145]
["97-0420","30","97-0420-300",{"$f":"IF(AND(Config!$B$13<=Tarifs!F8005,Config!$B$13>=Tarifs!E8005),1,0)","v":0},"2026-07-01","2026-07-31",5220]
["97-0420","30","97-0420-300",{"$f":"IF(AND(Config!$B$13<=Tarifs!F8006,Config!$B$13>=Tarifs!E8006),1,0)","v":0},"2026-08-01","2026-08-31",5220]
["97-0420","30","97-0420-300",{"$f":"IF(AND(Config!$B$13<=Tarifs!F8007,Config!$B$13>=Tarifs!E8007),1,0)","v":0},"2026-09-01","2026-09-30",4620]
["97-0420","30","97-0420-300",{"$f":"IF(AND(Config!$B$13<=Tarifs!F8008,Config!$B$13>=Tarifs!E8008),1,0)","v":0},"2026-10-01","2026-10-31",4620]
["97-0420","30","97-0420-300",{"$f":"IF(AND(Config!$B$13<=Tarifs!F8009,Config!$B$13>=Tarifs!E8009),1,0)","v":0},"2026-05-01","2026-05-31",4470]
["97-0420","30","97-0420-300",{"$f":"IF(AND(Config!$B$13<=Tarifs!F8010,Config!$B$13>=Tarifs!E8010),1,0)","v":0},"2026-06-01","2026-06-30",4470]
["97-0420","30","97-0420-300",{"$f":"IF(AND(Config!$B$13<=Tarifs!F8011,Config!$B$13>=Tarifs!E8011),1,0)","v":0},"2026-11-01","2026-11-30",4260]
["97-0420","30","97-0420-300",{"$f":"IF(AND(Config!$B$13<=Tarifs!F8012,Config!$B$13>=Tarifs!E8012),1,0)","v":0},"2026-12-01","2026-12-31",4260]
["97-0420","30","97-0420-301",{"$f":"IF(AND(Config!$B$13<=Tarifs!F8013,Config!$B$13>=Tarifs!E8013),1,0)","v":1},"2026-01-01","2026-01-31",4170]
["97-0420","30","97-0420-300",{"$f":"IF(AND(Config!$B$13<=Tarifs!F8014,Config!$B$13>=Tarifs!E8014),1,0)","v":0},"2026-02-01","2026-02-28",4170]
["97-0420","30","97-0420-300",{"$f":"IF(AND(Config!$B$13<=Tarifs!F8015,Config!$B$13>=Tarifs!E8015),1,0)","v":0},"2026-03-01","2026-03-31",4170]
["97-0420","30","97-0420-300",{"$f":"IF(AND(Config!$B$13<=Tarifs!F8016,Config!$B$13>=Tarifs!E8016),1,0)","v":0},"2026-04-01","2026-04-30",4170]
["97-0420","20","97-0420-200",{"$f":"IF(AND(Config!$B$13<=Tarifs!F8017,Config!$B$13>=Tarifs!E8017),1,0)","v":0},"2026-07-01","2026-07-31",1218]
["97-0420","20","97-0420-200",{"$f":"IF(AND(Config!$B$13<=Tarifs!F8018,Config!$B$13>=Tarifs!E8018),1,0)","v":0},"2026-08-01","2026-08-31",1218]
["97-0420","20","97-0420-200",{"$f":"IF(AND(Config!$B$13<=Tarifs!F8019,Config!$B$13>=Tarifs!E8019),1,0)","v":0},"2026-09-01","2026-09-30",1078]
["97-0420","20","97-0420-200",{"$f":"IF(AND(Config!$B$13<=Tarifs!F8020,Config!$B$13>=Tarifs!E8020),1,0)","v":0},"2026-10-01","2026-10-31",1078]
["97-0420","20","97-0420-200",{"$f":"IF(AND(Config!$B$13<=Tarifs!F8021,Config!$B$13>=Tarifs!E8021),1,0)","v":0},"2026-05-01","2026-05-31",1043]
["97-0420","20","97-0420-200",{"$f":"IF(AND(Config!$B$13<=Tarifs!F8022,Config!$B$13>=Tarifs!E8022),1,0)","v":0},"2026-06-01","2026-06-30",1043]
["97-0420","20","97-0420-200",{"$f":"IF(AND(Config!$B$13<=Tarifs!F8023,Config!$B$13>=Tarifs!E8023),1,0)","v":0},"2026-11-01","2026-11-30",994]
["97-0420","20","97-0420-200",{"$f":"IF(AND(Config!$B$13<=Tarifs!F8024,Config!$B$13>=Tarifs!E8024),1,0)","v":0},"2026-12-01","2026-12-31",994]
["97-0420","20","97-0420-201",{"$f":"IF(AND(Config!$B$13<=Tarifs!F8025,Config!$B$13>=Tarifs!E8025),1,0)","v":1},"2026-01-01","2026-01-31",973]
["97-0420","20","97-0420-200",{"$f":"IF(AND(Config!$B$13<=Tarifs!F8026,Config!$B$13>=Tarifs!E8026),1,0)","v":0},"2026-02-01","2026-02-28",973]
["97-0420","20","97-0420-200",{"$f":"IF(AND(Config!$B$13<=Tarifs!F8027,Config!$B$13>=Tarifs!E8027),1,0)","v":0},"2026-03-01","2026-03-31",973]
["97-0420","20","97-0420-200",{"$f":"IF(AND(Config!$B$13<=Tarifs!F8028,Config!$B$13>=Tarifs!E8028),1,0)","v":0},"2026-04-01","2026-04-30",973]
["97-0420","10","97-0420-100",{"$f":"IF(AND(Config!$B$13<=Tarifs!F8029,Config!$B$13>=Tarifs!E8029),1,0)","v":0},"2026-07-01","2026-07-31",174]
["97-0420","10","97-0420-100",{"$f":"IF(AND(Config!$B$13<=Tarifs!F8030,Config!$B$13>=Tarifs!E8030),1,0)","v":0},"2026-08-01","2026-08-31",174]
["97-0420","10","97-0420-100",{"$f":"IF(AND(Config!$B$13<=Tarifs!F8031,Config!$B$13>=Tarifs!E8031),1,0)","v":0},"2026-09-01","2026-09-30",154]
["97-0420","10","97-0420-100",{"$f":"IF(AND(Config!$B$13<=Tarifs!F8032,Config!$B$13>=Tarifs!E8032),1,0)","v":0},"2026-10-01","2026-10-31",154]
["97-0420","10","97-0420-100",{"$f":"IF(AND(Config!$B$13<=Tarifs!F8033,Config!$B$13>=Tarifs!E8033),1,0)","v":0},"2026-05-01","2026-05-31",149]
["97-0420","10","97-0420-100",{"$f":"IF(AND(Config!$B$13<=Tarifs!F8034,Config!$B$13>=Tarifs!E8034),1,0)","v":0},"2026-06-01","2026-06-30",149]
["97-0420","10","97-0420-100",{"$f":"IF(AND(Config!$B$13<=Tarifs!F8035,Config!$B$13>=Tarifs!E8035),1,0)","v":0},"2026-11-01","2026-11-30",142]
["97-0420","10","97-0420-100",{"$f":"IF(AND(Config!$B$13<=Tarifs!F8036,Config!$B$13>=Tarifs!E8036),1,0)","v":0},"2026-12-01","2026-12-31",142]
["97-0420","10","97-0420-101",{"$f":"IF(AND(Config!$B$13<=Tarifs!F8037,Config!$B$13>=Tarifs!E8037),1,0)","v":1},"2026-01-01","2026-01-31",139]
["97-0420","10","97-0420-100",{"$f":"IF(AND(Config!$B$13<=Tarifs!F8038,Config!$B$13>=Tarifs!E8038),1,0)","v":0},"2026-02-01","2026-02-28",139]
["97-0420","10","97-0420-100",{"$f":"IF(AND(Config!$B$13<=Tarifs!F8039,Config!$B$13>=Tarifs!E8039),1,0)","v":0},"2026-03-01","2026-03-31",139]
["97-0420","10","97-0420-100",{"$f":"IF(AND(Config!$B$13<=Tarifs!F8040,Config!$B$13>=Tarifs!E8040),1,0)","v":0},"2026-04-01","2026-04-30",139]
["97-0422","30","97-0422-300",{"$f":"IF(AND(Config!$B$13<=Tarifs!F8041,Config!$B$13>=Tarifs!E8041),1,0)","v":0},"2026-07-01","2026-07-31",4650]
["97-0422","30","97-0422-300",{"$f":"IF(AND(Config!$B$13<=Tarifs!F8042,Config!$B$13>=Tarifs!E8042),1,0)","v":0},"2026-08-01","2026-08-31",4650]
["97-0422","30","97-0422-300",{"$f":"IF(AND(Config!$B$13<=Tarifs!F8043,Config!$B$13>=Tarifs!E8043),1,0)","v":0},"2026-09-01","2026-09-30",4020]
["97-0422","30","97-0422-300",{"$f":"IF(AND(Config!$B$13<=Tarifs!F8044,Config!$B$13>=Tarifs!E8044),1,0)","v":0},"2026-10-01","2026-10-31",4020]
["97-0422","30","97-0422-300",{"$f":"IF(AND(Config!$B$13<=Tarifs!F8045,Config!$B$13>=Tarifs!E8045),1,0)","v":0},"2026-11-01","2026-11-30",4020]
["97-0422","30","97-0422-300",{"$f":"IF(AND(Config!$B$13<=Tarifs!F8046,Config!$B$13>=Tarifs!E8046),1,0)","v":0},"2026-12-01","2026-12-31",4020]
["97-0422","30","97-0422-300",{"$f":"IF(AND(Config!$B$13<=Tarifs!F8047,Config!$B$13>=Tarifs!E8047),1,0)","v":0},"2026-04-01","2026-04-30",3930]
["97-0422","30","97-0422-300",{"$f":"IF(AND(Config!$B$13<=Tarifs!F8048,Config!$B$13>=Tarifs!E8048),1,0)","v":0},"2026-05-01","2026-05-31",3930]
["97-0422","30","97-0422-300",{"$f":"IF(AND(Config!$B$13<=Tarifs!F8049,Config!$B$13>=Tarifs!E8049),1,0)","v":0},"2026-06-01","2026-06-30",3930]
["97-0422","30","97-0422-301",{"$f":"IF(AND(Config!$B$13<=Tarifs!F8050,Config!$B$13>=Tarifs!E8050),1,0)","v":1},"2026-01-01","2026-01-31",3870]
["97-0422","30","97-0422-300",{"$f":"IF(AND(Config!$B$13<=Tarifs!F8051,Config!$B$13>=Tarifs!E8051),1,0)","v":0},"2026-02-01","2026-02-28",3870]
["97-0422","30","97-0422-300",{"$f":"IF(AND(Config!$B$13<=Tarifs!F8052,Config!$B$13>=Tarifs!E8052),1,0)","v":0},"2026-03-01","2026-03-31",3870]
["97-0422","20","97-0422-200",{"$f":"IF(AND(Config!$B$13<=Tarifs!F8053,Config!$B$13>=Tarifs!E8053),1,0)","v":0},"2026-07-01","2026-07-31",1085]
["97-0422","20","97-0422-200",{"$f":"IF(AND(Config!$B$13<=Tarifs!F8054,Config!$B$13>=Tarifs!E8054),1,0)","v":0},"2026-08-01","2026-08-31",1085]
["97-0422","20","97-0422-200",{"$f":"IF(AND(Config!$B$13<=Tarifs!F8055,Config!$B$13>=Tarifs!E8055),1,0)","v":0},"2026-09-01","2026-09-30",938]
["97-0422","20","97-0422-200",{"$f":"IF(AND(Config!$B$13<=Tarifs!F8056,Config!$B$13>=Tarifs!E8056),1,0)","v":0},"2026-10-01","2026-10-31",938]
["97-0422","20","97-0422-200",{"$f":"IF(AND(Config!$B$13<=Tarifs!F8057,Config!$B$13>=Tarifs!E8057),1,0)","v":0},"2026-11-01","2026-11-30",938]
["97-0422","20","97-0422-200",{"$f":"IF(AND(Config!$B$13<=Tarifs!F8058,Config!$B$13>=Tarifs!E8058),1,0)","v":0},"2026-12-01","2026-12-31",938]
["97-0422","20","97-0422-200",{"$f":"IF(AND(Config!$B$13<=Tarifs!F8059,Config!$B$13>=Tarifs!E8059),1,0)","v":0},"2026-04-01","2026-04-30",917]
["97-0422","20","97-0422-200",{"$f":"IF(AND(Config!$B$13<=Tarifs!F8060,Config!$B$13>=Tarifs!E8060),1,0)","v":0},"2026-05-01","2026-05-31",917]
["97-0422","20","97-0422-200",{"$f":"IF(AND(Config!$B$13<=Tarifs!F8061,Config!$B$13>=Tarifs!E8061),1,0)","v":0},"2026-06-01","2026-06-30",917]
["97-0422","20","97-0422-201",{"$f":"IF(AND(Config!$B$13<=Tarifs!F8062,Config!$B$13>=Tarifs!E8062),1,0)","v":1},"2026-01-01","2026-01-31",903]
["97-0422","20","97-0422-200",{"$f":"IF(AND(Config!$B$13<=Tarifs!F8063,Config!$B$13>=Tarifs!E8063),1,0)","v":0},"2026-02-01","2026-02-28",903]
["97-0422","20","97-0422-200",{"$f":"IF(AND(Config!$B$13<=Tarifs!F8064,Config!$B$13>=Tarifs!E8064),1,0)","v":0},"2026-03-01","2026-03-31",903]
["97-0422","10","97-0422-100",{"$f":"IF(AND(Config!$B$13<=Tarifs!F8065,Config!$B$13>=Tarifs!E8065),1,0)","v":0},"2026-07-01","2026-07-31",155]
["97-0422","10","97-0422-100",{"$f":"IF(AND(Config!$B$13<=Tarifs!F8066,Config!$B$13>=Tarifs!E8066),1,0)","v":0},"2026-08-01","2026-08-31",155]
["97-0422","10",{"$f":"A8067&\"-\"&B8067&D8067","v":"97-0422-100"},{"$f":"IF(AND(Config!$B$13<=Tarifs!F8067,Config!$B$13>=Tarifs!E8067),1,0)","v":0},"2026-09-01","2026-09-30",134]
["97-0422","10","97-0422-100",{"$f":"IF(AND(Config!$B$13<=Tarifs!F8068,Config!$B$13>=Tarifs!E8068),1,0)","v":0},"2026-10-01","2026-10-31",134]
["97-0422","10","97-0422-100",{"$f":"IF(AND(Config!$B$13<=Tarifs!F8069,Config!$B$13>=Tarifs!E8069),1,0)","v":0},"2026-11-01","2026-11-30",134]
["97-0422","10","97-0422-100",{"$f":"IF(AND(Config!$B$13<=Tarifs!F8070,Config!$B$13>=Tarifs!E8070),1,0)","v":0},"2026-12-01","2026-12-31",134]
["97-0422","10","97-0422-100",{"$f":"IF(AND(Config!$B$13<=Tarifs!F8071,Config!$B$13>=Tarifs!E8071),1,0)","v":0},"2026-04-01","2026-04-30",131]
["97-0422","10","97-0422-100",{"$f":"IF(AND(Config!$B$13<=Tarifs!F8072,Config!$B$13>=Tarifs!E8072),1,0)","v":0},"2026-05-01","2026-05-31",131]
["97-0422","10","97-0422-100",{"$f":"IF(AND(Config!$B$13<=Tarifs!F8073,Config!$B$13>=Tarifs!E8073),1,0)","v":0},"2026-06-01","2026-06-30",131]
["97-0422","10","97-0422-101",{"$f":"IF(AND(Config!$B$13<=Tarifs!F8074,Config!$B$13>=Tarifs!E8074),1,0)","v":1},"2026-01-01","2026-01-31",129]
["97-0422","10","97-0422-100",{"$f":"IF(AND(Config!$B$13<=Tarifs!F8075,Config!$B$13>=Tarifs!E8075),1,0)","v":0},"2026-02-01","2026-02-28",129]
["97-0422","10","97-0422-100",{"$f":"IF(AND(Config!$B$13<=Tarifs!F8076,Config!$B$13>=Tarifs!E8076),1,0)","v":0},"2026-03-01","2026-03-31",129]
["97-0431","30","97-0431-300",{"$f":"IF(AND(Config!$B$13<=Tarifs!F8077,Config!$B$13>=Tarifs!E8077),1,0)","v":0},"2026-07-01","2026-07-31",4290]
["97-0431","30","97-0431-300",{"$f":"IF(AND(Config!$B$13<=Tarifs!F8078,Config!$B$13>=Tarifs!E8078),1,0)","v":0},"2026-08-01","2026-08-31",4290]
["97-0431","30","97-0431-300",{"$f":"IF(AND(Config!$B$13<=Tarifs!F8079,Config!$B$13>=Tarifs!E8079),1,0)","v":0},"2026-09-01","2026-09-30",4290]
["97-0431","30","97-0431-300",{"$f":"IF(AND(Config!$B$13<=Tarifs!F8080,Config!$B$13>=Tarifs!E8080),1,0)","v":0},"2026-10-01","2026-10-31",4290]
["97-0431","30","97-0431-300",{"$f":"IF(AND(Config!$B$13<=Tarifs!F8081,Config!$B$13>=Tarifs!E8081),1,0)","v":0},"2026-11-01","2026-11-30",4290]
["97-0431","30","97-0431-300",{"$f":"IF(AND(Config!$B$13<=Tarifs!F8082,Config!$B$13>=Tarifs!E8082),1,0)","v":0},"2026-12-01","2026-12-31",4290]
["97-0431","30","97-0431-301",{"$f":"IF(AND(Config!$B$13<=Tarifs!F8083,Config!$B$13>=Tarifs!E8083),1,0)","v":1},"2026-01-01","2026-01-31",4200]
["97-0431","30","97-0431-300",{"$f":"IF(AND(Config!$B$13<=Tarifs!F8084,Config!$B$13>=Tarifs!E8084),1,0)","v":0},"2026-02-01","2026-02-28",4200]
["97-0431","30","97-0431-300",{"$f":"IF(AND(Config!$B$13<=Tarifs!F8085,Config!$B$13>=Tarifs!E8085),1,0)","v":0},"2026-03-01","2026-03-31",4200]
["97-0431","30","97-0431-300",{"$f":"IF(AND(Config!$B$13<=Tarifs!F8086,Config!$B$13>=Tarifs!E8086),1,0)","v":0},"2026-04-01","2026-04-30",4200]
["97-0431","30","97-0431-300",{"$f":"IF(AND(Config!$B$13<=Tarifs!F8087,Config!$B$13>=Tarifs!E8087),1,0)","v":0},"2026-05-01","2026-05-31",4200]
["97-0431","30","97-0431-300",{"$f":"IF(AND(Config!$B$13<=Tarifs!F8088,Config!$B$13>=Tarifs!E8088),1,0)","v":0},"2026-06-01","2026-06-30",4200]
["97-0431","20","97-0431-200",{"$f":"IF(AND(Config!$B$13<=Tarifs!F8089,Config!$B$13>=Tarifs!E8089),1,0)","v":0},"2026-07-01","2026-07-31",1001]
["97-0431","20","97-0431-200",{"$f":"IF(AND(Config!$B$13<=Tarifs!F8090,Config!$B$13>=Tarifs!E8090),1,0)","v":0},"2026-08-01","2026-08-31",1001]
["97-0431","20","97-0431-200",{"$f":"IF(AND(Config!$B$13<=Tarifs!F8091,Config!$B$13>=Tarifs!E8091),1,0)","v":0},"2026-09-01","2026-09-30",1001]
["97-0431","20","97-0431-200",{"$f":"IF(AND(Config!$B$13<=Tarifs!F8092,Config!$B$13>=Tarifs!E8092),1,0)","v":0},"2026-10-01","2026-10-31",1001]
["97-0431","20","97-0431-200",{"$f":"IF(AND(Config!$B$13<=Tarifs!F8093,Config!$B$13>=Tarifs!E8093),1,0)","v":0},"2026-11-01","2026-11-30",1001]
["97-0431","20","97-0431-200",{"$f":"IF(AND(Config!$B$13<=Tarifs!F8094,Config!$B$13>=Tarifs!E8094),1,0)","v":0},"2026-12-01","2026-12-31",1001]
["97-0431","20","97-0431-201",{"$f":"IF(AND(Config!$B$13<=Tarifs!F8095,Config!$B$13>=Tarifs!E8095),1,0)","v":1},"2026-01-01","2026-01-31",980]
["97-0431","20","97-0431-200",{"$f":"IF(AND(Config!$B$13<=Tarifs!F8096,Config!$B$13>=Tarifs!E8096),1,0)","v":0},"2026-02-01","2026-02-28",980]
["97-0431","20","97-0431-200",{"$f":"IF(AND(Config!$B$13<=Tarifs!F8097,Config!$B$13>=Tarifs!E8097),1,0)","v":0},"2026-03-01","2026-03-31",980]
["97-0431","20","97-0431-200",{"$f":"IF(AND(Config!$B$13<=Tarifs!F8098,Config!$B$13>=Tarifs!E8098),1,0)","v":0},"2026-04-01","2026-04-30",980]
["97-0431","20","97-0431-200",{"$f":"IF(AND(Config!$B$13<=Tarifs!F8099,Config!$B$13>=Tarifs!E8099),1,0)","v":0},"2026-05-01","2026-05-31",980]
["97-0431","20","97-0431-200",{"$f":"IF(AND(Config!$B$13<=Tarifs!F8100,Config!$B$13>=Tarifs!E8100),1,0)","v":0},"2026-06-01","2026-06-30",980]
["97-0431","10","97-0431-100",{"$f":"IF(AND(Config!$B$13<=Tarifs!F8101,Config!$B$13>=Tarifs!E8101),1,0)","v":0},"2026-07-01","2026-07-31",143]
["97-0431","10","97-0431-100",{"$f":"IF(AND(Config!$B$13<=Tarifs!F8102,Config!$B$13>=Tarifs!E8102),1,0)","v":0},"2026-08-01","2026-08-31",143]
["97-0431","10","97-0431-100",{"$f":"IF(AND(Config!$B$13<=Tarifs!F8103,Config!$B$13>=Tarifs!E8103),1,0)","v":0},"2026-09-01","2026-09-30",143]
["97-0431","10","97-0431-100",{"$f":"IF(AND(Config!$B$13<=Tarifs!F8104,Config!$B$13>=Tarifs!E8104),1,0)","v":0},"2026-10-01","2026-10-31",143]
["97-0431","10","97-0431-100",{"$f":"IF(AND(Config!$B$13<=Tarifs!F8105,Config!$B$13>=Tarifs!E8105),1,0)","v":0},"2026-11-01","2026-11-30",143]
["97-0431","10","97-0431-100",{"$f":"IF(AND(Config!$B$13<=Tarifs!F8106,Config!$B$13>=Tarifs!E8106),1,0)","v":0},"2026-12-01","2026-12-31",143]
["97-0431","10","97-0431-101",{"$f":"IF(AND(Config!$B$13<=Tarifs!F8107,Config!$B$13>=Tarifs!E8107),1,0)","v":1},"2026-01-01","2026-01-31",140]
["97-0431","10","97-0431-100",{"$f":"IF(AND(Config!$B$13<=Tarifs!F8108,Config!$B$13>=Tarifs!E8108),1,0)","v":0},"2026-02-01","2026-02-28",140]
["97-0431","10","97-0431-100",{"$f":"IF(AND(Config!$B$13<=Tarifs!F8109,Config!$B$13>=Tarifs!E8109),1,0)","v":0},"2026-03-01","2026-03-31",140]
["97-0431","10","97-0431-100",{"$f":"IF(AND(Config!$B$13<=Tarifs!F8110,Config!$B$13>=Tarifs!E8110),1,0)","v":0},"2026-04-01","2026-04-30",140]
["97-0431","10","97-0431-100",{"$f":"IF(AND(Config!$B$13<=Tarifs!F8111,Config!$B$13>=Tarifs!E8111),1,0)","v":0},"2026-05-01","2026-05-31",140]
["97-0431","10","97-0431-100",{"$f":"IF(AND(Config!$B$13<=Tarifs!F8112,Config!$B$13>=Tarifs!E8112),1,0)","v":0},"2026-06-01","2026-06-30",140]
["97-0433","30","97-0433-300",{"$f":"IF(AND(Config!$B$13<=Tarifs!F8113,Config!$B$13>=Tarifs!E8113),1,0)","v":0},"2026-05-01","2026-05-31",3690]
["97-0433","30","97-0433-300",{"$f":"IF(AND(Config!$B$13<=Tarifs!F8114,Config!$B$13>=Tarifs!E8114),1,0)","v":0},"2026-06-01","2026-06-30",3690]
["97-0433","30","97-0433-300",{"$f":"IF(AND(Config!$B$13<=Tarifs!F8115,Config!$B$13>=Tarifs!E8115),1,0)","v":0},"2026-07-01","2026-07-31",3690]
["97-0433","30","97-0433-300",{"$f":"IF(AND(Config!$B$13<=Tarifs!F8116,Config!$B$13>=Tarifs!E8116),1,0)","v":0},"2026-08-01","2026-08-31",3690]
["97-0433","30","97-0433-300",{"$f":"IF(AND(Config!$B$13<=Tarifs!F8117,Config!$B$13>=Tarifs!E8117),1,0)","v":0},"2026-09-01","2026-09-30",3690]
["97-0433","30","97-0433-300",{"$f":"IF(AND(Config!$B$13<=Tarifs!F8118,Config!$B$13>=Tarifs!E8118),1,0)","v":0},"2026-10-01","2026-10-31",3690]
["97-0433","30","97-0433-300",{"$f":"IF(AND(Config!$B$13<=Tarifs!F8119,Config!$B$13>=Tarifs!E8119),1,0)","v":0},"2026-11-01","2026-11-30",3540]
["97-0433","30","97-0433-300",{"$f":"IF(AND(Config!$B$13<=Tarifs!F8120,Config!$B$13>=Tarifs!E8120),1,0)","v":0},"2026-12-01","2026-12-31",3540]
["97-0433","30","97-0433-301",{"$f":"IF(AND(Config!$B$13<=Tarifs!F8121,Config!$B$13>=Tarifs!E8121),1,0)","v":1},"2026-01-01","2026-01-31",3450]
["97-0433","30","97-0433-300",{"$f":"IF(AND(Config!$B$13<=Tarifs!F8122,Config!$B$13>=Tarifs!E8122),1,0)","v":0},"2026-02-01","2026-02-28",3450]
["97-0433","30","97-0433-300",{"$f":"IF(AND(Config!$B$13<=Tarifs!F8123,Config!$B$13>=Tarifs!E8123),1,0)","v":0},"2026-03-01","2026-03-31",3450]
["97-0433","30","97-0433-300",{"$f":"IF(AND(Config!$B$13<=Tarifs!F8124,Config!$B$13>=Tarifs!E8124),1,0)","v":0},"2026-04-01","2026-04-30",3450]
["97-0433","20","97-0433-200",{"$f":"IF(AND(Config!$B$13<=Tarifs!F8125,Config!$B$13>=Tarifs!E8125),1,0)","v":0},"2026-05-01","2026-05-31",1043]
["97-0433","20","97-0433-200",{"$f":"IF(AND(Config!$B$13<=Tarifs!F8126,Config!$B$13>=Tarifs!E8126),1,0)","v":0},"2026-06-01","2026-06-30",1043]
["97-0433","20","97-0433-200",{"$f":"IF(AND(Config!$B$13<=Tarifs!F8127,Config!$B$13>=Tarifs!E8127),1,0)","v":0},"2026-07-01","2026-07-31",1043]
["97-0433","20","97-0433-200",{"$f":"IF(AND(Config!$B$13<=Tarifs!F8128,Config!$B$13>=Tarifs!E8128),1,0)","v":0},"2026-08-01","2026-08-31",1043]
["97-0433","20","97-0433-200",{"$f":"IF(AND(Config!$B$13<=Tarifs!F8129,Config!$B$13>=Tarifs!E8129),1,0)","v":0},"2026-09-01","2026-09-30",1043]
["97-0433","20","97-0433-200",{"$f":"IF(AND(Config!$B$13<=Tarifs!F8130,Config!$B$13>=Tarifs!E8130),1,0)","v":0},"2026-10-01","2026-10-31",1043]
["97-0433","20",{"$f":"A8131&\"-\"&B8131&D8131","v":"97-0433-200"},{"$f":"IF(AND(Config!$B$13<=Tarifs!F8131,Config!$B$13>=Tarifs!E8131),1,0)","v":0},"2026-11-01","2026-11-30",924]
["97-0433","20","97-0433-200",{"$f":"IF(AND(Config!$B$13<=Tarifs!F8132,Config!$B$13>=Tarifs!E8132),1,0)","v":0},"2026-12-01","2026-12-31",924]
["97-0433","20","97-0433-201",{"$f":"IF(AND(Config!$B$13<=Tarifs!F8133,Config!$B$13>=Tarifs!E8133),1,0)","v":1},"2026-01-01","2026-01-31",903]
["97-0433","20","97-0433-200",{"$f":"IF(AND(Config!$B$13<=Tarifs!F8134,Config!$B$13>=Tarifs!E8134),1,0)","v":0},"2026-02-01","2026-02-28",903]
["97-0433","20","97-0433-200",{"$f":"IF(AND(Config!$B$13<=Tarifs!F8135,Config!$B$13>=Tarifs!E8135),1,0)","v":0},"2026-03-01","2026-03-31",903]
["97-0433","20","97-0433-200",{"$f":"IF(AND(Config!$B$13<=Tarifs!F8136,Config!$B$13>=Tarifs!E8136),1,0)","v":0},"2026-04-01","2026-04-30",903]
["97-0433","10","97-0433-100",{"$f":"IF(AND(Config!$B$13<=Tarifs!F8137,Config!$B$13>=Tarifs!E8137),1,0)","v":0},"2026-05-01","2026-05-31",158]
["97-0433","10","97-0433-100",{"$f":"IF(AND(Config!$B$13<=Tarifs!F8138,Config!$B$13>=Tarifs!E8138),1,0)","v":0},"2026-06-01","2026-06-30",158]
["97-0433","10","97-0433-100",{"$f":"IF(AND(Config!$B$13<=Tarifs!F8139,Config!$B$13>=Tarifs!E8139),1,0)","v":0},"2026-07-01","2026-07-31",158]
["97-0433","10","97-0433-100",{"$f":"IF(AND(Config!$B$13<=Tarifs!F8140,Config!$B$13>=Tarifs!E8140),1,0)","v":0},"2026-08-01","2026-08-31",158]
["97-0433","10","97-0433-100",{"$f":"IF(AND(Config!$B$13<=Tarifs!F8141,Config!$B$13>=Tarifs!E8141),1,0)","v":0},"2026-09-01","2026-09-30",158]
["97-0433","10","97-0433-100",{"$f":"IF(AND(Config!$B$13<=Tarifs!F8142,Config!$B$13>=Tarifs!E8142),1,0)","v":0},"2026-10-01","2026-10-31",158]
["97-0433","10","97-0433-100",{"$f":"IF(AND(Config!$B$13<=Tarifs!F8143,Config!$B$13>=Tarifs!E8143),1,0)","v":0},"2026-11-01","2026-11-30",142]
["97-0433","10","97-0433-100",{"$f":"IF(AND(Config!$B$13<=Tarifs!F8144,Config!$B$13>=Tarifs!E8144),1,0)","v":0},"2026-12-01","2026-12-31",142]
["97-0433","10","97-0433-101",{"$f":"IF(AND(Config!$B$13<=Tarifs!F8145,Config!$B$13>=Tarifs!E8145),1,0)","v":1},"2026-01-01","2026-01-31",139]
["97-0433","10","97-0433-100",{"$f":"IF(AND(Config!$B$13<=Tarifs!F8146,Config!$B$13>=Tarifs!E8146),1,0)","v":0},"2026-02-01","2026-02-28",139]
["97-0433","10","97-0433-100",{"$f":"IF(AND(Config!$B$13<=Tarifs!F8147,Config!$B$13>=Tarifs!E8147),1,0)","v":0},"2026-03-01","2026-03-31",139]
["97-0433","10","97-0433-100",{"$f":"IF(AND(Config!$B$13<=Tarifs!F8148,Config!$B$13>=Tarifs!E8148),1,0)","v":0},"2026-04-01","2026-04-30",139]
["97-0440","30","97-0440-300",{"$f":"IF(AND(Config!$B$13<=Tarifs!F8149,Config!$B$13>=Tarifs!E8149),1,0)","v":0},"2026-07-01","2026-07-31",4830]
["97-0440","30","97-0440-300",{"$f":"IF(AND(Config!$B$13<=Tarifs!F8150,Config!$B$13>=Tarifs!E8150),1,0)","v":0},"2026-08-01","2026-08-31",4830]
["97-0440","30","97-0440-301",{"$f":"IF(AND(Config!$B$13<=Tarifs!F8151,Config!$B$13>=Tarifs!E8151),1,0)","v":1},"2026-01-01","2026-01-31",3270]
["97-0440","30","97-0440-300",{"$f":"IF(AND(Config!$B$13<=Tarifs!F8152,Config!$B$13>=Tarifs!E8152),1,0)","v":0},"2026-02-01","2026-02-28",3270]
["97-0440","30","97-0440-300",{"$f":"IF(AND(Config!$B$13<=Tarifs!F8153,Config!$B$13>=Tarifs!E8153),1,0)","v":0},"2026-03-01","2026-03-31",3270]
["97-0440","30","97-0440-300",{"$f":"IF(AND(Config!$B$13<=Tarifs!F8154,Config!$B$13>=Tarifs!E8154),1,0)","v":0},"2026-04-01","2026-04-30",3270]
["97-0440","30","97-0440-300",{"$f":"IF(AND(Config!$B$13<=Tarifs!F8155,Config!$B$13>=Tarifs!E8155),1,0)","v":0},"2026-05-01","2026-05-31",3270]
["97-0440","30","97-0440-300",{"$f":"IF(AND(Config!$B$13<=Tarifs!F8156,Config!$B$13>=Tarifs!E8156),1,0)","v":0},"2026-06-01","2026-06-30",3270]
["97-0440","30","97-0440-300",{"$f":"IF(AND(Config!$B$13<=Tarifs!F8157,Config!$B$13>=Tarifs!E8157),1,0)","v":0},"2026-09-01","2026-09-30",3270]
["97-0440","30","97-0440-300",{"$f":"IF(AND(Config!$B$13<=Tarifs!F8158,Config!$B$13>=Tarifs!E8158),1,0)","v":0},"2026-10-01","2026-10-31",3270]
["97-0440","30","97-0440-300",{"$f":"IF(AND(Config!$B$13<=Tarifs!F8159,Config!$B$13>=Tarifs!E8159),1,0)","v":0},"2026-11-01","2026-11-30",3270]
["97-0440","30","97-0440-300",{"$f":"IF(AND(Config!$B$13<=Tarifs!F8160,Config!$B$13>=Tarifs!E8160),1,0)","v":0},"2026-12-01","2026-12-31",3270]
["97-0440","20","97-0440-200",{"$f":"IF(AND(Config!$B$13<=Tarifs!F8161,Config!$B$13>=Tarifs!E8161),1,0)","v":0},"2026-07-01","2026-07-31",1127]
["97-0440","20","97-0440-200",{"$f":"IF(AND(Config!$B$13<=Tarifs!F8162,Config!$B$13>=Tarifs!E8162),1,0)","v":0},"2026-08-01","2026-08-31",1127]
["97-0440","20","97-0440-201",{"$f":"IF(AND(Config!$B$13<=Tarifs!F8163,Config!$B$13>=Tarifs!E8163),1,0)","v":1},"2026-01-01","2026-01-31",763]
["97-0440","20","97-0440-200",{"$f":"IF(AND(Config!$B$13<=Tarifs!F8164,Config!$B$13>=Tarifs!E8164),1,0)","v":0},"2026-02-01","2026-02-28",763]
["97-0440","20","97-0440-200",{"$f":"IF(AND(Config!$B$13<=Tarifs!F8165,Config!$B$13>=Tarifs!E8165),1,0)","v":0},"2026-03-01","2026-03-31",763]
["97-0440","20","97-0440-200",{"$f":"IF(AND(Config!$B$13<=Tarifs!F8166,Config!$B$13>=Tarifs!E8166),1,0)","v":0},"2026-04-01","2026-04-30",763]
["97-0440","20","97-0440-200",{"$f":"IF(AND(Config!$B$13<=Tarifs!F8167,Config!$B$13>=Tarifs!E8167),1,0)","v":0},"2026-05-01","2026-05-31",763]
["97-0440","20","97-0440-200",{"$f":"IF(AND(Config!$B$13<=Tarifs!F8168,Config!$B$13>=Tarifs!E8168),1,0)","v":0},"2026-06-01","2026-06-30",763]
["97-0440","20","97-0440-200",{"$f":"IF(AND(Config!$B$13<=Tarifs!F8169,Config!$B$13>=Tarifs!E8169),1,0)","v":0},"2026-09-01","2026-09-30",763]
["97-0440","20","97-0440-200",{"$f":"IF(AND(Config!$B$13<=Tarifs!F8170,Config!$B$13>=Tarifs!E8170),1,0)","v":0},"2026-10-01","2026-10-31",763]
["97-0440","20","97-0440-200",{"$f":"IF(AND(Config!$B$13<=Tarifs!F8171,Config!$B$13>=Tarifs!E8171),1,0)","v":0},"2026-11-01","2026-11-30",763]
["97-0440","20","97-0440-200",{"$f":"IF(AND(Config!$B$13<=Tarifs!F8172,Config!$B$13>=Tarifs!E8172),1,0)","v":0},"2026-12-01","2026-12-31",763]
["97-0440","10","97-0440-100",{"$f":"IF(AND(Config!$B$13<=Tarifs!F8173,Config!$B$13>=Tarifs!E8173),1,0)","v":0},"2026-08-01","2026-08-31",191]
["97-0440","10","97-0440-100",{"$f":"IF(AND(Config!$B$13<=Tarifs!F8174,Config!$B$13>=Tarifs!E8174),1,0)","v":0},"2026-07-01","2026-07-31",161]
["97-0440","10","97-0440-101",{"$f":"IF(AND(Config!$B$13<=Tarifs!F8175,Config!$B$13>=Tarifs!E8175),1,0)","v":1},"2026-01-01","2026-01-31",109]
["97-0440","10","97-0440-100",{"$f":"IF(AND(Config!$B$13<=Tarifs!F8176,Config!$B$13>=Tarifs!E8176),1,0)","v":0},"2026-02-01","2026-02-28",109]
["97-0440","10","97-0440-100",{"$f":"IF(AND(Config!$B$13<=Tarifs!F8177,Config!$B$13>=Tarifs!E8177),1,0)","v":0},"2026-03-01","2026-03-31",109]
["97-0440","10","97-0440-100",{"$f":"IF(AND(Config!$B$13<=Tarifs!F8178,Config!$B$13>=Tarifs!E8178),1,0)","v":0},"2026-04-01","2026-04-30",109]
["97-0440","10","97-0440-100",{"$f":"IF(AND(Config!$B$13<=Tarifs!F8179,Config!$B$13>=Tarifs!E8179),1,0)","v":0},"2026-05-01","2026-05-31",109]
["97-0440","10","97-0440-100",{"$f":"IF(AND(Config!$B$13<=Tarifs!F8180,Config!$B$13>=Tarifs!E8180),1,0)","v":0},"2026-06-01","2026-06-30",109]
["97-0440","10","97-0440-100",{"$f":"IF(AND(Config!$B$13<=Tarifs!F8181,Config!$B$13>=Tarifs!E8181),1,0)","v":0},"2026-09-01","2026-09-30",109]
["97-0440","10","97-0440-100",{"$f":"IF(AND(Config!$B$13<=Tarifs!F8182,Config!$B$13>=Tarifs!E8182),1,0)","v":0},"2026-10-01","2026-10-31",109]
["97-0440","10","97-0440-100",{"$f":"IF(AND(Config!$B$13<=Tarifs!F8183,Config!$B$13>=Tarifs!E8183),1,0)","v":0},"2026-11-01","2026-11-30",109]
["97-0440","10","97-0440-100",{"$f":"IF(AND(Config!$B$13<=Tarifs!F8184,Config!$B$13>=Tarifs!E8184),1,0)","v":0},"2026-12-01","2026-12-31",109]
["97-0446","30","97-0446-300",{"$f":"IF(AND(Config!$B$13<=Tarifs!F8185,Config!$B$13>=Tarifs!E8185),1,0)","v":0},"2026-07-01","2026-07-31",5670]
["97-0446","30","97-0446-300",{"$f":"IF(AND(Config!$B$13<=Tarifs!F8186,Config!$B$13>=Tarifs!E8186),1,0)","v":0},"2026-08-01","2026-08-31",5670]
["97-0446","30","97-0446-300",{"$f":"IF(AND(Config!$B$13<=Tarifs!F8187,Config!$B$13>=Tarifs!E8187),1,0)","v":0},"2026-05-01","2026-05-31",4470]
["97-0446","30","97-0446-300",{"$f":"IF(AND(Config!$B$13<=Tarifs!F8188,Config!$B$13>=Tarifs!E8188),1,0)","v":0},"2026-06-01","2026-06-30",4470]
["97-0446","30","97-0446-300",{"$f":"IF(AND(Config!$B$13<=Tarifs!F8189,Config!$B$13>=Tarifs!E8189),1,0)","v":0},"2026-09-01","2026-09-30",4470]
["97-0446","30","97-0446-300",{"$f":"IF(AND(Config!$B$13<=Tarifs!F8190,Config!$B$13>=Tarifs!E8190),1,0)","v":0},"2026-10-01","2026-10-31",4470]
["97-0446","30","97-0446-301",{"$f":"IF(AND(Config!$B$13<=Tarifs!F8191,Config!$B$13>=Tarifs!E8191),1,0)","v":1},"2026-01-01","2026-01-31",3450]
["97-0446","30","97-0446-300",{"$f":"IF(AND(Config!$B$13<=Tarifs!F8192,Config!$B$13>=Tarifs!E8192),1,0)","v":0},"2026-02-01","2026-02-28",3450]
["97-0446","30","97-0446-300",{"$f":"IF(AND(Config!$B$13<=Tarifs!F8193,Config!$B$13>=Tarifs!E8193),1,0)","v":0},"2026-03-01","2026-03-31",3450]
["97-0446","30","97-0446-300",{"$f":"IF(AND(Config!$B$13<=Tarifs!F8194,Config!$B$13>=Tarifs!E8194),1,0)","v":0},"2026-04-01","2026-04-30",3450]
["97-0446","30",{"$f":"A8195&\"-\"&B8195&D8195","v":"97-0446-300"},{"$f":"IF(AND(Config!$B$13<=Tarifs!F8195,Config!$B$13>=Tarifs!E8195),1,0)","v":0},"2026-11-01","2026-11-30",3450]
["97-0446","30","97-0446-300",{"$f":"IF(AND(Config!$B$13<=Tarifs!F8196,Config!$B$13>=Tarifs!E8196),1,0)","v":0},"2026-12-01","2026-12-31",3450]
["97-0446","20","97-0446-200",{"$f":"IF(AND(Config!$B$13<=Tarifs!F8197,Config!$B$13>=Tarifs!E8197),1,0)","v":0},"2026-07-01","2026-07-31",1323]
["97-0446","20","97-0446-200",{"$f":"IF(AND(Config!$B$13<=Tarifs!F8198,Config!$B$13>=Tarifs!E8198),1,0)","v":0},"2026-08-01","2026-08-31",1323]
["97-0446","20","97-0446-200",{"$f":"IF(AND(Config!$B$13<=Tarifs!F8199,Config!$B$13>=Tarifs!E8199),1,0)","v":0},"2026-05-01","2026-05-31",1043]
["97-0446","20","97-0446-200",{"$f":"IF(AND(Config!$B$13<=Tarifs!F8200,Config!$B$13>=Tarifs!E8200),1,0)","v":0},"2026-06-01","2026-06-30",1043]
["97-0446","20","97-0446-200",{"$f":"IF(AND(Config!$B$13<=Tarifs!F8201,Config!$B$13>=Tarifs!E8201),1,0)","v":0},"2026-09-01","2026-09-30",1043]
["97-0446","20","97-0446-200",{"$f":"IF(AND(Config!$B$13<=Tarifs!F8202,Config!$B$13>=Tarifs!E8202),1,0)","v":0},"2026-10-01","2026-10-31",1043]
["97-0446","20","97-0446-201",{"$f":"IF(AND(Config!$B$13<=Tarifs!F8203,Config!$B$13>=Tarifs!E8203),1,0)","v":1},"2026-01-01","2026-01-31",805]
["97-0446","20","97-0446-200",{"$f":"IF(AND(Config!$B$13<=Tarifs!F8204,Config!$B$13>=Tarifs!E8204),1,0)","v":0},"2026-02-01","2026-02-28",805]
["97-0446","20","97-0446-200",{"$f":"IF(AND(Config!$B$13<=Tarifs!F8205,Config!$B$13>=Tarifs!E8205),1,0)","v":0},"2026-03-01","2026-03-31",805]
["97-0446","20","97-0446-200",{"$f":"IF(AND(Config!$B$13<=Tarifs!F8206,Config!$B$13>=Tarifs!E8206),1,0)","v":0},"2026-04-01","2026-04-30",805]
["97-0446","20","97-0446-200",{"$f":"IF(AND(Config!$B$13<=Tarifs!F8207,Config!$B$13>=Tarifs!E8207),1,0)","v":0},"2026-11-01","2026-11-30",805]
["97-0446","20","97-0446-200",{"$f":"IF(AND(Config!$B$13<=Tarifs!F8208,Config!$B$13>=Tarifs!E8208),1,0)","v":0},"2026-12-01","2026-12-31",805]
["97-0446","10","97-0446-100",{"$f":"IF(AND(Config!$B$13<=Tarifs!F8209,Config!$B$13>=Tarifs!E8209),1,0)","v":0},"2026-07-01","2026-07-31",189]
["97-0446","10","97-0446-100",{"$f":"IF(AND(Config!$B$13<=Tarifs!F8210,Config!$B$13>=Tarifs!E8210),1,0)","v":0},"2026-08-01","2026-08-31",189]
["97-0446","10","97-0446-100",{"$f":"IF(AND(Config!$B$13<=Tarifs!F8211,Config!$B$13>=Tarifs!E8211),1,0)","v":0},"2026-05-01","2026-05-31",149]
["97-0446","10","97-0446-100",{"$f":"IF(AND(Config!$B$13<=Tarifs!F8212,Config!$B$13>=Tarifs!E8212),1,0)","v":0},"2026-06-01","2026-06-30",149]
["97-0446","10","97-0446-100",{"$f":"IF(AND(Config!$B$13<=Tarifs!F8213,Config!$B$13>=Tarifs!E8213),1,0)","v":0},"2026-09-01","2026-09-30",149]
["97-0446","10","97-0446-100",{"$f":"IF(AND(Config!$B$13<=Tarifs!F8214,Config!$B$13>=Tarifs!E8214),1,0)","v":0},"2026-10-01","2026-10-31",149]
["97-0446","10","97-0446-101",{"$f":"IF(AND(Config!$B$13<=Tarifs!F8215,Config!$B$13>=Tarifs!E8215),1,0)","v":1},"2026-01-01","2026-01-31",115]
["97-0446","10","97-0446-100",{"$f":"IF(AND(Config!$B$13<=Tarifs!F8216,Config!$B$13>=Tarifs!E8216),1,0)","v":0},"2026-02-01","2026-02-28",115]
["97-0446","10","97-0446-100",{"$f":"IF(AND(Config!$B$13<=Tarifs!F8217,Config!$B$13>=Tarifs!E8217),1,0)","v":0},"2026-03-01","2026-03-31",115]
["97-0446","10","97-0446-100",{"$f":"IF(AND(Config!$B$13<=Tarifs!F8218,Config!$B$13>=Tarifs!E8218),1,0)","v":0},"2026-04-01","2026-04-30",115]
["97-0446","10","97-0446-100",{"$f":"IF(AND(Config!$B$13<=Tarifs!F8219,Config!$B$13>=Tarifs!E8219),1,0)","v":0},"2026-11-01","2026-11-30",115]
["97-0446","10","97-0446-100",{"$f":"IF(AND(Config!$B$13<=Tarifs!F8220,Config!$B$13>=Tarifs!E8220),1,0)","v":0},"2026-12-01","2026-12-31",115]
["97-0447","30","97-0447-300",{"$f":"IF(AND(Config!$B$13<=Tarifs!F8221,Config!$B$13>=Tarifs!E8221),1,0)","v":0},"2026-05-01","2026-05-31",5550]
["97-0447","30","97-0447-300",{"$f":"IF(AND(Config!$B$13<=Tarifs!F8222,Config!$B$13>=Tarifs!E8222),1,0)","v":0},"2026-06-01","2026-06-30",5550]
["97-0447","30","97-0447-300",{"$f":"IF(AND(Config!$B$13<=Tarifs!F8223,Config!$B$13>=Tarifs!E8223),1,0)","v":0},"2026-07-01","2026-07-31",5550]
["97-0447","30","97-0447-300",{"$f":"IF(AND(Config!$B$13<=Tarifs!F8224,Config!$B$13>=Tarifs!E8224),1,0)","v":0},"2026-08-01","2026-08-31",5550]
["97-0447","30","97-0447-300",{"$f":"IF(AND(Config!$B$13<=Tarifs!F8225,Config!$B$13>=Tarifs!E8225),1,0)","v":0},"2026-09-01","2026-09-30",5370]
["97-0447","30","97-0447-300",{"$f":"IF(AND(Config!$B$13<=Tarifs!F8226,Config!$B$13>=Tarifs!E8226),1,0)","v":0},"2026-10-01","2026-10-31",5370]
["97-0447","30","97-0447-300",{"$f":"IF(AND(Config!$B$13<=Tarifs!F8227,Config!$B$13>=Tarifs!E8227),1,0)","v":0},"2026-11-01","2026-11-30",5370]
["97-0447","30","97-0447-300",{"$f":"IF(AND(Config!$B$13<=Tarifs!F8228,Config!$B$13>=Tarifs!E8228),1,0)","v":0},"2026-12-01","2026-12-31",5370]
["97-0447","30","97-0447-300",{"$f":"IF(AND(Config!$B$13<=Tarifs!F8229,Config!$B$13>=Tarifs!E8229),1,0)","v":0},"2026-04-01","2026-04-30",4830]
["97-0447","30","97-0447-301",{"$f":"IF(AND(Config!$B$13<=Tarifs!F8230,Config!$B$13>=Tarifs!E8230),1,0)","v":1},"2026-01-01","2026-01-31",4770]
["97-0447","30","97-0447-300",{"$f":"IF(AND(Config!$B$13<=Tarifs!F8231,Config!$B$13>=Tarifs!E8231),1,0)","v":0},"2026-02-01","2026-02-28",4770]
["97-0447","30","97-0447-300",{"$f":"IF(AND(Config!$B$13<=Tarifs!F8232,Config!$B$13>=Tarifs!E8232),1,0)","v":0},"2026-03-01","2026-03-31",4770]
["97-0447","20","97-0447-200",{"$f":"IF(AND(Config!$B$13<=Tarifs!F8233,Config!$B$13>=Tarifs!E8233),1,0)","v":0},"2026-05-01","2026-05-31",1295]
["97-0447","20","97-0447-200",{"$f":"IF(AND(Config!$B$13<=Tarifs!F8234,Config!$B$13>=Tarifs!E8234),1,0)","v":0},"2026-06-01","2026-06-30",1295]
["97-0447","20","97-0447-200",{"$f":"IF(AND(Config!$B$13<=Tarifs!F8235,Config!$B$13>=Tarifs!E8235),1,0)","v":0},"2026-07-01","2026-07-31",1295]
["97-0447","20","97-0447-200",{"$f":"IF(AND(Config!$B$13<=Tarifs!F8236,Config!$B$13>=Tarifs!E8236),1,0)","v":0},"2026-08-01","2026-08-31",1295]
["97-0447","20","97-0447-200",{"$f":"IF(AND(Config!$B$13<=Tarifs!F8237,Config!$B$13>=Tarifs!E8237),1,0)","v":0},"2026-09-01","2026-09-30",1253]
["97-0447","20","97-0447-200",{"$f":"IF(AND(Config!$B$13<=Tarifs!F8238,Config!$B$13>=Tarifs!E8238),1,0)","v":0},"2026-10-01","2026-10-31",1253]
["97-0447","20","97-0447-200",{"$f":"IF(AND(Config!$B$13<=Tarifs!F8239,Config!$B$13>=Tarifs!E8239),1,0)","v":0},"2026-11-01","2026-11-30",1253]
["97-0447","20","97-0447-200",{"$f":"IF(AND(Config!$B$13<=Tarifs!F8240,Config!$B$13>=Tarifs!E8240),1,0)","v":0},"2026-12-01","2026-12-31",1253]
["97-0447","20","97-0447-200",{"$f":"IF(AND(Config!$B$13<=Tarifs!F8241,Config!$B$13>=Tarifs!E8241),1,0)","v":0},"2026-04-01","2026-04-30",1127]
["97-0447","20","97-0447-201",{"$f":"IF(AND(Config!$B$13<=Tarifs!F8242,Config!$B$13>=Tarifs!E8242),1,0)","v":1},"2026-01-01","2026-01-31",1113]
["97-0447","20","97-0447-200",{"$f":"IF(AND(Config!$B$13<=Tarifs!F8243,Config!$B$13>=Tarifs!E8243),1,0)","v":0},"2026-02-01","2026-02-28",1113]
["97-0447","20","97-0447-200",{"$f":"IF(AND(Config!$B$13<=Tarifs!F8244,Config!$B$13>=Tarifs!E8244),1,0)","v":0},"2026-03-01","2026-03-31",1113]
["97-0447","10","97-0447-100",{"$f":"IF(AND(Config!$B$13<=Tarifs!F8245,Config!$B$13>=Tarifs!E8245),1,0)","v":0},"2026-05-01","2026-05-31",185]
["97-0447","10","97-0447-100",{"$f":"IF(AND(Config!$B$13<=Tarifs!F8246,Config!$B$13>=Tarifs!E8246),1,0)","v":0},"2026-06-01","2026-06-30",185]
["97-0447","10","97-0447-100",{"$f":"IF(AND(Config!$B$13<=Tarifs!F8247,Config!$B$13>=Tarifs!E8247),1,0)","v":0},"2026-07-01","2026-07-31",185]
["97-0447","10","97-0447-100",{"$f":"IF(AND(Config!$B$13<=Tarifs!F8248,Config!$B$13>=Tarifs!E8248),1,0)","v":0},"2026-08-01","2026-08-31",185]
["97-0447","10","97-0447-100",{"$f":"IF(AND(Config!$B$13<=Tarifs!F8249,Config!$B$13>=Tarifs!E8249),1,0)","v":0},"2026-09-01","2026-09-30",179]
["97-0447","10","97-0447-100",{"$f":"IF(AND(Config!$B$13<=Tarifs!F8250,Config!$B$13>=Tarifs!E8250),1,0)","v":0},"2026-10-01","2026-10-31",179]
["97-0447","10","97-0447-100",{"$f":"IF(AND(Config!$B$13<=Tarifs!F8251,Config!$B$13>=Tarifs!E8251),1,0)","v":0},"2026-11-01","2026-11-30",179]
["97-0447","10","97-0447-100",{"$f":"IF(AND(Config!$B$13<=Tarifs!F8252,Config!$B$13>=Tarifs!E8252),1,0)","v":0},"2026-12-01","2026-12-31",179]
["97-0447","10","97-0447-100",{"$f":"IF(AND(Config!$B$13<=Tarifs!F8253,Config!$B$13>=Tarifs!E8253),1,0)","v":0},"2026-04-01","2026-04-30",161]
["97-0447","10","97-0447-101",{"$f":"IF(AND(Config!$B$13<=Tarifs!F8254,Config!$B$13>=Tarifs!E8254),1,0)","v":1},"2026-01-01","2026-01-31",159]
["97-0447","10","97-0447-100",{"$f":"IF(AND(Config!$B$13<=Tarifs!F8255,Config!$B$13>=Tarifs!E8255),1,0)","v":0},"2026-02-01","2026-02-28",159]
["97-0447","10","97-0447-100",{"$f":"IF(AND(Config!$B$13<=Tarifs!F8256,Config!$B$13>=Tarifs!E8256),1,0)","v":0},"2026-03-01","2026-03-31",159]
["97-0448","30","97-0448-300",{"$f":"IF(AND(Config!$B$13<=Tarifs!F8257,Config!$B$13>=Tarifs!E8257),1,0)","v":0},"2026-07-01","2026-07-31",4920]
["97-0448","30","97-0448-300",{"$f":"IF(AND(Config!$B$13<=Tarifs!F8258,Config!$B$13>=Tarifs!E8258),1,0)","v":0},"2026-08-01","2026-08-31",4920]
["97-0448","30",{"$f":"A8259&\"-\"&B8259&D8259","v":"97-0448-300"},{"$f":"IF(AND(Config!$B$13<=Tarifs!F8259,Config!$B$13>=Tarifs!E8259),1,0)","v":0},"2026-09-01","2026-09-30",4890]
["97-0448","30","97-0448-300",{"$f":"IF(AND(Config!$B$13<=Tarifs!F8260,Config!$B$13>=Tarifs!E8260),1,0)","v":0},"2026-10-01","2026-10-31",4890]
["97-0448","30","97-0448-300",{"$f":"IF(AND(Config!$B$13<=Tarifs!F8261,Config!$B$13>=Tarifs!E8261),1,0)","v":0},"2026-11-01","2026-11-30",4890]
["97-0448","30","97-0448-300",{"$f":"IF(AND(Config!$B$13<=Tarifs!F8262,Config!$B$13>=Tarifs!E8262),1,0)","v":0},"2026-12-01","2026-12-31",4890]
["97-0448","30","97-0448-300",{"$f":"IF(AND(Config!$B$13<=Tarifs!F8263,Config!$B$13>=Tarifs!E8263),1,0)","v":0},"2026-05-01","2026-05-31",4830]
["97-0448","30","97-0448-300",{"$f":"IF(AND(Config!$B$13<=Tarifs!F8264,Config!$B$13>=Tarifs!E8264),1,0)","v":0},"2026-06-01","2026-06-30",4830]
["97-0448","30","97-0448-301",{"$f":"IF(AND(Config!$B$13<=Tarifs!F8265,Config!$B$13>=Tarifs!E8265),1,0)","v":1},"2026-01-01","2026-01-31",4770]
["97-0448","30","97-0448-300",{"$f":"IF(AND(Config!$B$13<=Tarifs!F8266,Config!$B$13>=Tarifs!E8266),1,0)","v":0},"2026-02-01","2026-02-28",4770]
["97-0448","30","97-0448-300",{"$f":"IF(AND(Config!$B$13<=Tarifs!F8267,Config!$B$13>=Tarifs!E8267),1,0)","v":0},"2026-03-01","2026-03-31",4770]
["97-0448","30","97-0448-300",{"$f":"IF(AND(Config!$B$13<=Tarifs!F8268,Config!$B$13>=Tarifs!E8268),1,0)","v":0},"2026-04-01","2026-04-30",4770]
["97-0448","20","97-0448-200",{"$f":"IF(AND(Config!$B$13<=Tarifs!F8269,Config!$B$13>=Tarifs!E8269),1,0)","v":0},"2026-07-01","2026-07-31",1148]
["97-0448","20","97-0448-200",{"$f":"IF(AND(Config!$B$13<=Tarifs!F8270,Config!$B$13>=Tarifs!E8270),1,0)","v":0},"2026-08-01","2026-08-31",1148]
["97-0448","20","97-0448-200",{"$f":"IF(AND(Config!$B$13<=Tarifs!F8271,Config!$B$13>=Tarifs!E8271),1,0)","v":0},"2026-09-01","2026-09-30",1141]
["97-0448","20","97-0448-200",{"$f":"IF(AND(Config!$B$13<=Tarifs!F8272,Config!$B$13>=Tarifs!E8272),1,0)","v":0},"2026-10-01","2026-10-31",1141]
["97-0448","20","97-0448-200",{"$f":"IF(AND(Config!$B$13<=Tarifs!F8273,Config!$B$13>=Tarifs!E8273),1,0)","v":0},"2026-11-01","2026-11-30",1141]
["97-0448","20","97-0448-200",{"$f":"IF(AND(Config!$B$13<=Tarifs!F8274,Config!$B$13>=Tarifs!E8274),1,0)","v":0},"2026-12-01","2026-12-31",1141]
["97-0448","20","97-0448-200",{"$f":"IF(AND(Config!$B$13<=Tarifs!F8275,Config!$B$13>=Tarifs!E8275),1,0)","v":0},"2026-05-01","2026-05-31",1127]
["97-0448","20","97-0448-200",{"$f":"IF(AND(Config!$B$13<=Tarifs!F8276,Config!$B$13>=Tarifs!E8276),1,0)","v":0},"2026-06-01","2026-06-30",1127]
["97-0448","20","97-0448-201",{"$f":"IF(AND(Config!$B$13<=Tarifs!F8277,Config!$B$13>=Tarifs!E8277),1,0)","v":1},"2026-01-01","2026-01-31",1113]
["97-0448","20","97-0448-200",{"$f":"IF(AND(Config!$B$13<=Tarifs!F8278,Config!$B$13>=Tarifs!E8278),1,0)","v":0},"2026-02-01","2026-02-28",1113]
["97-0448","20","97-0448-200",{"$f":"IF(AND(Config!$B$13<=Tarifs!F8279,Config!$B$13>=Tarifs!E8279),1,0)","v":0},"2026-03-01","2026-03-31",1113]
["97-0448","20","97-0448-200",{"$f":"IF(AND(Config!$B$13<=Tarifs!F8280,Config!$B$13>=Tarifs!E8280),1,0)","v":0},"2026-04-01","2026-04-30",1113]
["97-0448","10","97-0448-100",{"$f":"IF(AND(Config!$B$13<=Tarifs!F8281,Config!$B$13>=Tarifs!E8281),1,0)","v":0},"2026-07-01","2026-07-31",164]
["97-0448","10","97-0448-100",{"$f":"IF(AND(Config!$B$13<=Tarifs!F8282,Config!$B$13>=Tarifs!E8282),1,0)","v":0},"2026-08-01","2026-08-31",164]
["97-0448","10","97-0448-100",{"$f":"IF(AND(Config!$B$13<=Tarifs!F8283,Config!$B$13>=Tarifs!E8283),1,0)","v":0},"2026-09-01","2026-09-30",163]
["97-0448","10","97-0448-100",{"$f":"IF(AND(Config!$B$13<=Tarifs!F8284,Config!$B$13>=Tarifs!E8284),1,0)","v":0},"2026-10-01","2026-10-31",163]
["97-0448","10","97-0448-100",{"$f":"IF(AND(Config!$B$13<=Tarifs!F8285,Config!$B$13>=Tarifs!E8285),1,0)","v":0},"2026-11-01","2026-11-30",163]
["97-0448","10","97-0448-100",{"$f":"IF(AND(Config!$B$13<=Tarifs!F8286,Config!$B$13>=Tarifs!E8286),1,0)","v":0},"2026-12-01","2026-12-31",163]
["97-0448","10","97-0448-100",{"$f":"IF(AND(Config!$B$13<=Tarifs!F8287,Config!$B$13>=Tarifs!E8287),1,0)","v":0},"2026-05-01","2026-05-31",161]
["97-0448","10","97-0448-100",{"$f":"IF(AND(Config!$B$13<=Tarifs!F8288,Config!$B$13>=Tarifs!E8288),1,0)","v":0},"2026-06-01","2026-06-30",161]
["97-0448","10","97-0448-101",{"$f":"IF(AND(Config!$B$13<=Tarifs!F8289,Config!$B$13>=Tarifs!E8289),1,0)","v":1},"2026-01-01","2026-01-31",159]
["97-0448","10","97-0448-100",{"$f":"IF(AND(Config!$B$13<=Tarifs!F8290,Config!$B$13>=Tarifs!E8290),1,0)","v":0},"2026-02-01","2026-02-28",159]
["97-0448","10","97-0448-100",{"$f":"IF(AND(Config!$B$13<=Tarifs!F8291,Config!$B$13>=Tarifs!E8291),1,0)","v":0},"2026-03-01","2026-03-31",159]
["97-0448","10","97-0448-100",{"$f":"IF(AND(Config!$B$13<=Tarifs!F8292,Config!$B$13>=Tarifs!E8292),1,0)","v":0},"2026-04-01","2026-04-30",159]
["97-0452","30","97-0452-300",{"$f":"IF(AND(Config!$B$13<=Tarifs!F8293,Config!$B$13>=Tarifs!E8293),1,0)","v":0},"2026-07-01","2026-07-31",4800]
["97-0452","30","97-0452-300",{"$f":"IF(AND(Config!$B$13<=Tarifs!F8294,Config!$B$13>=Tarifs!E8294),1,0)","v":0},"2026-08-01","2026-08-31",4800]
["97-0452","30","97-0452-300",{"$f":"IF(AND(Config!$B$13<=Tarifs!F8295,Config!$B$13>=Tarifs!E8295),1,0)","v":0},"2026-09-01","2026-09-30",4800]
["97-0452","30","97-0452-301",{"$f":"IF(AND(Config!$B$13<=Tarifs!F8296,Config!$B$13>=Tarifs!E8296),1,0)","v":1},"2026-01-01","2026-01-31",3630]
["97-0452","30","97-0452-300",{"$f":"IF(AND(Config!$B$13<=Tarifs!F8297,Config!$B$13>=Tarifs!E8297),1,0)","v":0},"2026-02-01","2026-02-28",3630]
["97-0452","30","97-0452-300",{"$f":"IF(AND(Config!$B$13<=Tarifs!F8298,Config!$B$13>=Tarifs!E8298),1,0)","v":0},"2026-03-01","2026-03-31",3630]
["97-0452","30","97-0452-300",{"$f":"IF(AND(Config!$B$13<=Tarifs!F8299,Config!$B$13>=Tarifs!E8299),1,0)","v":0},"2026-04-01","2026-04-30",3630]
["97-0452","30","97-0452-300",{"$f":"IF(AND(Config!$B$13<=Tarifs!F8300,Config!$B$13>=Tarifs!E8300),1,0)","v":0},"2026-05-01","2026-05-31",3630]
["97-0452","30","97-0452-300",{"$f":"IF(AND(Config!$B$13<=Tarifs!F8301,Config!$B$13>=Tarifs!E8301),1,0)","v":0},"2026-06-01","2026-06-30",3630]
["97-0452","30","97-0452-300",{"$f":"IF(AND(Config!$B$13<=Tarifs!F8302,Config!$B$13>=Tarifs!E8302),1,0)","v":0},"2026-10-01","2026-10-31",3630]
["97-0452","30","97-0452-300",{"$f":"IF(AND(Config!$B$13<=Tarifs!F8303,Config!$B$13>=Tarifs!E8303),1,0)","v":0},"2026-11-01","2026-11-30",3630]
["97-0452","30","97-0452-300",{"$f":"IF(AND(Config!$B$13<=Tarifs!F8304,Config!$B$13>=Tarifs!E8304),1,0)","v":0},"2026-12-01","2026-12-31",3630]
["97-0452","20","97-0452-200",{"$f":"IF(AND(Config!$B$13<=Tarifs!F8305,Config!$B$13>=Tarifs!E8305),1,0)","v":0},"2026-07-01","2026-07-31",1120]
["97-0452","20","97-0452-200",{"$f":"IF(AND(Config!$B$13<=Tarifs!F8306,Config!$B$13>=Tarifs!E8306),1,0)","v":0},"2026-08-01","2026-08-31",1120]
["97-0452","20","97-0452-200",{"$f":"IF(AND(Config!$B$13<=Tarifs!F8307,Config!$B$13>=Tarifs!E8307),1,0)","v":0},"2026-09-01","2026-09-30",1120]
["97-0452","20","97-0452-201",{"$f":"IF(AND(Config!$B$13<=Tarifs!F8308,Config!$B$13>=Tarifs!E8308),1,0)","v":1},"2026-01-01","2026-01-31",847]
["97-0452","20","97-0452-200",{"$f":"IF(AND(Config!$B$13<=Tarifs!F8309,Config!$B$13>=Tarifs!E8309),1,0)","v":0},"2026-02-01","2026-02-28",847]
["97-0452","20","97-0452-200",{"$f":"IF(AND(Config!$B$13<=Tarifs!F8310,Config!$B$13>=Tarifs!E8310),1,0)","v":0},"2026-03-01","2026-03-31",847]
["97-0452","20","97-0452-200",{"$f":"IF(AND(Config!$B$13<=Tarifs!F8311,Config!$B$13>=Tarifs!E8311),1,0)","v":0},"2026-04-01","2026-04-30",847]
["97-0452","20","97-0452-200",{"$f":"IF(AND(Config!$B$13<=Tarifs!F8312,Config!$B$13>=Tarifs!E8312),1,0)","v":0},"2026-05-01","2026-05-31",847]
["97-0452","20","97-0452-200",{"$f":"IF(AND(Config!$B$13<=Tarifs!F8313,Config!$B$13>=Tarifs!E8313),1,0)","v":0},"2026-06-01","2026-06-30",847]
["97-0452","20","97-0452-200",{"$f":"IF(AND(Config!$B$13<=Tarifs!F8314,Config!$B$13>=Tarifs!E8314),1,0)","v":0},"2026-10-01","2026-10-31",847]
["97-0452","20","97-0452-200",{"$f":"IF(AND(Config!$B$13<=Tarifs!F8315,Config!$B$13>=Tarifs!E8315),1,0)","v":0},"2026-11-01","2026-11-30",847]
["97-0452","20","97-0452-200",{"$f":"IF(AND(Config!$B$13<=Tarifs!F8316,Config!$B$13>=Tarifs!E8316),1,0)","v":0},"2026-12-01","2026-12-31",847]
["97-0452","10","97-0452-100",{"$f":"IF(AND(Config!$B$13<=Tarifs!F8317,Config!$B$13>=Tarifs!E8317),1,0)","v":0},"2026-07-01","2026-07-31",160]
["97-0452","10","97-0452-100",{"$f":"IF(AND(Config!$B$13<=Tarifs!F8318,Config!$B$13>=Tarifs!E8318),1,0)","v":0},"2026-08-01","2026-08-31",160]
["97-0452","10","97-0452-100",{"$f":"IF(AND(Config!$B$13<=Tarifs!F8319,Config!$B$13>=Tarifs!E8319),1,0)","v":0},"2026-09-01","2026-09-30",160]
["97-0452","10","97-0452-101",{"$f":"IF(AND(Config!$B$13<=Tarifs!F8320,Config!$B$13>=Tarifs!E8320),1,0)","v":1},"2026-01-01","2026-01-31",121]
["97-0452","10","97-0452-100",{"$f":"IF(AND(Config!$B$13<=Tarifs!F8321,Config!$B$13>=Tarifs!E8321),1,0)","v":0},"2026-02-01","2026-02-28",121]
["97-0452","10","97-0452-100",{"$f":"IF(AND(Config!$B$13<=Tarifs!F8322,Config!$B$13>=Tarifs!E8322),1,0)","v":0},"2026-03-01","2026-03-31",121]
["97-0452","10",{"$f":"A8323&\"-\"&B8323&D8323","v":"97-0452-100"},{"$f":"IF(AND(Config!$B$13<=Tarifs!F8323,Config!$B$13>=Tarifs!E8323),1,0)","v":0},"2026-04-01","2026-04-30",121]
["97-0452","10","97-0452-100",{"$f":"IF(AND(Config!$B$13<=Tarifs!F8324,Config!$B$13>=Tarifs!E8324),1,0)","v":0},"2026-05-01","2026-05-31",121]
["97-0452","10","97-0452-100",{"$f":"IF(AND(Config!$B$13<=Tarifs!F8325,Config!$B$13>=Tarifs!E8325),1,0)","v":0},"2026-06-01","2026-06-30",121]
["97-0452","10","97-0452-100",{"$f":"IF(AND(Config!$B$13<=Tarifs!F8326,Config!$B$13>=Tarifs!E8326),1,0)","v":0},"2026-10-01","2026-10-31",121]
["97-0452","10","97-0452-100",{"$f":"IF(AND(Config!$B$13<=Tarifs!F8327,Config!$B$13>=Tarifs!E8327),1,0)","v":0},"2026-11-01","2026-11-30",121]
["97-0452","10","97-0452-100",{"$f":"IF(AND(Config!$B$13<=Tarifs!F8328,Config!$B$13>=Tarifs!E8328),1,0)","v":0},"2026-12-01","2026-12-31",121]
["97-0456","30","97-0456-300",{"$f":"IF(AND(Config!$B$13<=Tarifs!F8329,Config!$B$13>=Tarifs!E8329),1,0)","v":0},"2026-07-01","2026-07-31",5160]
["97-0456","30","97-0456-300",{"$f":"IF(AND(Config!$B$13<=Tarifs!F8330,Config!$B$13>=Tarifs!E8330),1,0)","v":0},"2026-08-01","2026-08-31",5160]
["97-0456","30","97-0456-301",{"$f":"IF(AND(Config!$B$13<=Tarifs!F8331,Config!$B$13>=Tarifs!E8331),1,0)","v":1},"2026-01-01","2026-01-31",3870]
["97-0456","30","97-0456-300",{"$f":"IF(AND(Config!$B$13<=Tarifs!F8332,Config!$B$13>=Tarifs!E8332),1,0)","v":0},"2026-02-01","2026-02-28",3870]
["97-0456","30","97-0456-300",{"$f":"IF(AND(Config!$B$13<=Tarifs!F8333,Config!$B$13>=Tarifs!E8333),1,0)","v":0},"2026-03-01","2026-03-31",3870]
["97-0456","30","97-0456-300",{"$f":"IF(AND(Config!$B$13<=Tarifs!F8334,Config!$B$13>=Tarifs!E8334),1,0)","v":0},"2026-04-01","2026-04-30",3870]
["97-0456","30","97-0456-300",{"$f":"IF(AND(Config!$B$13<=Tarifs!F8335,Config!$B$13>=Tarifs!E8335),1,0)","v":0},"2026-05-01","2026-05-31",3870]
["97-0456","30","97-0456-300",{"$f":"IF(AND(Config!$B$13<=Tarifs!F8336,Config!$B$13>=Tarifs!E8336),1,0)","v":0},"2026-06-01","2026-06-30",3870]
["97-0456","30","97-0456-300",{"$f":"IF(AND(Config!$B$13<=Tarifs!F8337,Config!$B$13>=Tarifs!E8337),1,0)","v":0},"2026-09-01","2026-09-30",3870]
["97-0456","30","97-0456-300",{"$f":"IF(AND(Config!$B$13<=Tarifs!F8338,Config!$B$13>=Tarifs!E8338),1,0)","v":0},"2026-10-01","2026-10-31",3870]
["97-0456","30","97-0456-300",{"$f":"IF(AND(Config!$B$13<=Tarifs!F8339,Config!$B$13>=Tarifs!E8339),1,0)","v":0},"2026-11-01","2026-11-30",3870]
["97-0456","30","97-0456-300",{"$f":"IF(AND(Config!$B$13<=Tarifs!F8340,Config!$B$13>=Tarifs!E8340),1,0)","v":0},"2026-12-01","2026-12-31",3870]
["97-0456","20","97-0456-200",{"$f":"IF(AND(Config!$B$13<=Tarifs!F8341,Config!$B$13>=Tarifs!E8341),1,0)","v":0},"2026-07-01","2026-07-31",1204]
["97-0456","20","97-0456-200",{"$f":"IF(AND(Config!$B$13<=Tarifs!F8342,Config!$B$13>=Tarifs!E8342),1,0)","v":0},"2026-08-01","2026-08-31",1204]
["97-0456","20","97-0456-201",{"$f":"IF(AND(Config!$B$13<=Tarifs!F8343,Config!$B$13>=Tarifs!E8343),1,0)","v":1},"2026-01-01","2026-01-31",903]
["97-0456","20","97-0456-200",{"$f":"IF(AND(Config!$B$13<=Tarifs!F8344,Config!$B$13>=Tarifs!E8344),1,0)","v":0},"2026-02-01","2026-02-28",903]
["97-0456","20","97-0456-200",{"$f":"IF(AND(Config!$B$13<=Tarifs!F8345,Config!$B$13>=Tarifs!E8345),1,0)","v":0},"2026-03-01","2026-03-31",903]
["97-0456","20","97-0456-200",{"$f":"IF(AND(Config!$B$13<=Tarifs!F8346,Config!$B$13>=Tarifs!E8346),1,0)","v":0},"2026-04-01","2026-04-30",903]
["97-0456","20","97-0456-200",{"$f":"IF(AND(Config!$B$13<=Tarifs!F8347,Config!$B$13>=Tarifs!E8347),1,0)","v":0},"2026-05-01","2026-05-31",903]
["97-0456","20","97-0456-200",{"$f":"IF(AND(Config!$B$13<=Tarifs!F8348,Config!$B$13>=Tarifs!E8348),1,0)","v":0},"2026-06-01","2026-06-30",903]
["97-0456","20","97-0456-200",{"$f":"IF(AND(Config!$B$13<=Tarifs!F8349,Config!$B$13>=Tarifs!E8349),1,0)","v":0},"2026-09-01","2026-09-30",903]
["97-0456","20","97-0456-200",{"$f":"IF(AND(Config!$B$13<=Tarifs!F8350,Config!$B$13>=Tarifs!E8350),1,0)","v":0},"2026-10-01","2026-10-31",903]
["97-0456","20","97-0456-200",{"$f":"IF(AND(Config!$B$13<=Tarifs!F8351,Config!$B$13>=Tarifs!E8351),1,0)","v":0},"2026-11-01","2026-11-30",903]
["97-0456","20","97-0456-200",{"$f":"IF(AND(Config!$B$13<=Tarifs!F8352,Config!$B$13>=Tarifs!E8352),1,0)","v":0},"2026-12-01","2026-12-31",903]
["97-0456","10","97-0456-100",{"$f":"IF(AND(Config!$B$13<=Tarifs!F8353,Config!$B$13>=Tarifs!E8353),1,0)","v":0},"2026-07-01","2026-07-31",172]
["97-0456","10","97-0456-100",{"$f":"IF(AND(Config!$B$13<=Tarifs!F8354,Config!$B$13>=Tarifs!E8354),1,0)","v":0},"2026-08-01","2026-08-31",172]
["97-0456","10","97-0456-101",{"$f":"IF(AND(Config!$B$13<=Tarifs!F8355,Config!$B$13>=Tarifs!E8355),1,0)","v":1},"2026-01-01","2026-01-31",129]
["97-0456","10","97-0456-100",{"$f":"IF(AND(Config!$B$13<=Tarifs!F8356,Config!$B$13>=Tarifs!E8356),1,0)","v":0},"2026-02-01","2026-02-28",129]
["97-0456","10","97-0456-100",{"$f":"IF(AND(Config!$B$13<=Tarifs!F8357,Config!$B$13>=Tarifs!E8357),1,0)","v":0},"2026-03-01","2026-03-31",129]
["97-0456","10","97-0456-100",{"$f":"IF(AND(Config!$B$13<=Tarifs!F8358,Config!$B$13>=Tarifs!E8358),1,0)","v":0},"2026-04-01","2026-04-30",129]
["97-0456","10","97-0456-100",{"$f":"IF(AND(Config!$B$13<=Tarifs!F8359,Config!$B$13>=Tarifs!E8359),1,0)","v":0},"2026-05-01","2026-05-31",129]
["97-0456","10","97-0456-100",{"$f":"IF(AND(Config!$B$13<=Tarifs!F8360,Config!$B$13>=Tarifs!E8360),1,0)","v":0},"2026-06-01","2026-06-30",129]
["97-0456","10","97-0456-100",{"$f":"IF(AND(Config!$B$13<=Tarifs!F8361,Config!$B$13>=Tarifs!E8361),1,0)","v":0},"2026-09-01","2026-09-30",129]
["97-0456","10","97-0456-100",{"$f":"IF(AND(Config!$B$13<=Tarifs!F8362,Config!$B$13>=Tarifs!E8362),1,0)","v":0},"2026-10-01","2026-10-31",129]
["97-0456","10","97-0456-100",{"$f":"IF(AND(Config!$B$13<=Tarifs!F8363,Config!$B$13>=Tarifs!E8363),1,0)","v":0},"2026-11-01","2026-11-30",129]
["97-0456","10","97-0456-100",{"$f":"IF(AND(Config!$B$13<=Tarifs!F8364,Config!$B$13>=Tarifs!E8364),1,0)","v":0},"2026-12-01","2026-12-31",129]
["97-0462","30","97-0462-300",{"$f":"IF(AND(Config!$B$13<=Tarifs!F8365,Config!$B$13>=Tarifs!E8365),1,0)","v":0},"2026-06-01","2026-06-30",5100]
["97-0462","30","97-0462-300",{"$f":"IF(AND(Config!$B$13<=Tarifs!F8366,Config!$B$13>=Tarifs!E8366),1,0)","v":0},"2026-07-01","2026-07-31",5100]
["97-0462","30","97-0462-300",{"$f":"IF(AND(Config!$B$13<=Tarifs!F8367,Config!$B$13>=Tarifs!E8367),1,0)","v":0},"2026-08-01","2026-08-31",5100]
["97-0462","30","97-0462-300",{"$f":"IF(AND(Config!$B$13<=Tarifs!F8368,Config!$B$13>=Tarifs!E8368),1,0)","v":0},"2026-09-01","2026-09-30",5100]
["97-0462","30","97-0462-300",{"$f":"IF(AND(Config!$B$13<=Tarifs!F8369,Config!$B$13>=Tarifs!E8369),1,0)","v":0},"2026-10-01","2026-10-31",5100]
["97-0462","30","97-0462-300",{"$f":"IF(AND(Config!$B$13<=Tarifs!F8370,Config!$B$13>=Tarifs!E8370),1,0)","v":0},"2026-11-01","2026-11-30",5100]
["97-0462","30","97-0462-300",{"$f":"IF(AND(Config!$B$13<=Tarifs!F8371,Config!$B$13>=Tarifs!E8371),1,0)","v":0},"2026-12-01","2026-12-31",5100]
["97-0462","30","97-0462-301",{"$f":"IF(AND(Config!$B$13<=Tarifs!F8372,Config!$B$13>=Tarifs!E8372),1,0)","v":1},"2026-01-01","2026-01-31",4950]
["97-0462","30","97-0462-300",{"$f":"IF(AND(Config!$B$13<=Tarifs!F8373,Config!$B$13>=Tarifs!E8373),1,0)","v":0},"2026-02-01","2026-02-28",4950]
["97-0462","30","97-0462-300",{"$f":"IF(AND(Config!$B$13<=Tarifs!F8374,Config!$B$13>=Tarifs!E8374),1,0)","v":0},"2026-03-01","2026-03-31",4950]
["97-0462","30","97-0462-300",{"$f":"IF(AND(Config!$B$13<=Tarifs!F8375,Config!$B$13>=Tarifs!E8375),1,0)","v":0},"2026-04-01","2026-04-30",4950]
["97-0462","30","97-0462-300",{"$f":"IF(AND(Config!$B$13<=Tarifs!F8376,Config!$B$13>=Tarifs!E8376),1,0)","v":0},"2026-05-01","2026-05-31",4950]
["97-0462","20","97-0462-200",{"$f":"IF(AND(Config!$B$13<=Tarifs!F8377,Config!$B$13>=Tarifs!E8377),1,0)","v":0},"2026-06-01","2026-06-30",1190]
["97-0462","20","97-0462-200",{"$f":"IF(AND(Config!$B$13<=Tarifs!F8378,Config!$B$13>=Tarifs!E8378),1,0)","v":0},"2026-07-01","2026-07-31",1190]
["97-0462","20",null,null,"2026-08-01","2026-08-31",1190]
["97-0462","20",null,null,"2026-09-01","2026-09-30",1190]
["97-0462","20",null,null,"2026-10-01","2026-10-31",1190]
["97-0462","20",null,null,"2026-11-01","2026-11-30",1190]
["97-0462","20",null,null,"2026-12-01","2026-12-31",1190]
["97-0462","20",null,null,"2026-01-01","2026-01-31",1155]
["97-0462","20",null,null,"2026-02-01","2026-02-28",1155]
["97-0462","20",null,null,"2026-03-01","2026-03-31",1155]
["97-0462","20",null,null,"2026-04-01","2026-04-30",1155]
["97-0462","20",null,null,"2026-05-01","2026-05-31",1155]
["97-0462","10",null,null,"2026-06-01","2026-06-30",170]
["97-0462","10",null,null,"2026-07-01","2026-07-31",170]
["97-0462","10",null,null,"2026-08-01","2026-08-31",170]
["97-0462","10",null,null,"2026-09-01","2026-09-30",170]
["97-0462","10",null,null,"2026-10-01","2026-10-31",170]
["97-0462","10",null,null,"2026-11-01","2026-11-30",170]
["97-0462","10",null,null,"2026-12-01","2026-12-31",170]
["97-0462","10",null,null,"2026-01-01","2026-01-31",165]
["97-0462","10",null,null,"2026-02-01","2026-02-28",165]
["97-0462","10",null,null,"2026-03-01","2026-03-31",165]
["97-0462","10",null,null,"2026-04-01","2026-04-30",165]
["97-0462","10",null,null,"2026-05-01","2026-05-31",165]
["97-0463","30",null,null,"2026-01-01","2026-01-31",3720]
["97-0463","30",null,null,"2026-02-01","2026-02-28",3720]
["97-0463","30",null,null,"2026-03-01","2026-03-31",3720]
["97-0463","30",null,null,"2026-04-01","2026-04-30",3720]
["97-0463","30",null,null,"2026-05-01","2026-05-31",3720]
["97-0463","30",null,null,"2026-06-01","2026-06-30",3720]
["97-0463","30",null,null,"2026-07-01","2026-07-31",3720]
["97-0463","30",null,null,"2026-08-01","2026-08-31",3720]
["97-0463","30",null,null,"2026-09-01","2026-09-30",3720]
["97-0463","30",null,null,"2026-10-01","2026-10-31",3720]
["97-0463","30",null,null,"2026-11-01","2026-11-30",3720]
["97-0463","30",null,null,"2026-12-01","2026-12-31",3720]
["97-0463","20",null,null,"2026-01-01","2026-01-31",868]
["97-0463","20",null,null,"2026-02-01","2026-02-28",868]
["97-0463","20",null,null,"2026-03-01","2026-03-31",868]
["97-0463","20",null,null,"2026-04-01","2026-04-30",868]
["97-0463","20",null,null,"2026-05-01","2026-05-31",868]
["97-0463","20",null,null,"2026-06-01","2026-06-30",868]
["97-0463","20",null,null,"2026-07-01","2026-07-31",868]
["97-0463","20",null,null,"2026-08-01","2026-08-31",868]
["97-0463","20",null,null,"2026-09-01","2026-09-30",868]
["97-0463","20",null,null,"2026-10-01","2026-10-31",868]
["97-0463","20",null,null,"2026-11-01","2026-11-30",868]
["97-0463","20",null,null,"2026-12-01","2026-12-31",868]
["97-0463","10",null,null,"2026-05-01","2026-05-31",135]
["97-0463","10",null,null,"2026-06-01","2026-06-30",135]
["97-0463","10",null,null,"2026-07-01","2026-07-31",135]
["97-0463","10",null,null,"2026-08-01","2026-08-31",135]
["97-0463","10",null,null,"2026-09-01","2026-09-30",135]
["97-0463","10",null,null,"2026-10-01","2026-10-31",126]
["97-0463","10",null,null,"2026-11-01","2026-11-30",126]
["97-0463","10",null,null,"2026-12-01","2026-12-31",126]
["97-0463","10",null,null,"2026-01-01","2026-01-31",124]
["97-0463","10",null,null,"2026-02-01","2026-02-28",124]
["97-0463","10",null,null,"2026-03-01","2026-03-31",124]
["97-0463","10",null,null,"2026-04-01","2026-04-30",124]
["97-0466","30",null,null,"2026-01-01","2026-01-31",4470]
["97-0466","30",null,null,"2026-02-01","2026-02-28",4470]
["97-0466","30",null,null,"2026-03-01","2026-03-31",4470]
["97-0466","30",null,null,"2026-04-01","2026-04-30",4470]
["97-0466","30",null,null,"2026-05-01","2026-05-31",4470]
["97-0466","30",null,null,"2026-06-01","2026-06-30",4470]
["97-0466","30",null,null,"2026-07-01","2026-07-31",4470]
["97-0466","30",null,null,"2026-08-01","2026-08-31",4470]
["97-0466","30",null,null,"2026-09-01","2026-09-30",4470]
["97-0466","30",null,null,"2026-10-01","2026-10-31",4470]
["97-0466","30",null,null,"2026-11-01","2026-11-30",4470]
["97-0466","30",null,null,"2026-12-01","2026-12-31",4470]
["97-0466","20",null,null,"2026-01-01","2026-01-31",1043]
["97-0466","20",null,null,"2026-02-01","2026-02-28",1043]
["97-0466","20",null,null,"2026-03-01","2026-03-31",1043]
["97-0466","20",null,null,"2026-04-01","2026-04-30",1043]
["97-0466","20",null,null,"2026-05-01","2026-05-31",1043]
["97-0466","20",null,null,"2026-06-01","2026-06-30",1043]
["97-0466","20",null,null,"2026-07-01","2026-07-31",1043]
["97-0466","20",null,null,"2026-08-01","2026-08-31",1043]
["97-0466","20",null,null,"2026-09-01","2026-09-30",1043]
["97-0466","20",null,null,"2026-10-01","2026-10-31",1043]
["97-0466","20",null,null,"2026-11-01","2026-11-30",1043]
["97-0466","20",null,null,"2026-12-01","2026-12-31",1043]
["97-0466","10",null,null,"2026-01-01","2026-01-31",149]
["97-0466","10",null,null,"2026-02-01","2026-02-28",149]
["97-0466","10",null,null,"2026-03-01","2026-03-31",149]
["97-0466","10",null,null,"2026-04-01","2026-04-30",149]
["97-0466","10",null,null,"2026-05-01","2026-05-31",149]
["97-0466","10",null,null,"2026-06-01","2026-06-30",149]
["97-0466","10",null,null,"2026-07-01","2026-07-31",149]
["97-0466","10",null,null,"2026-08-01","2026-08-31",149]
["97-0466","10",null,null,"2026-09-01","2026-09-30",149]
["97-0466","10",null,null,"2026-10-01","2026-10-31",149]
["97-0466","10",null,null,"2026-11-01","2026-11-30",149]
["97-0466","10",null,null,"2026-12-01","2026-12-31",149]
["97-0468","30",null,null,"2026-06-01","2026-05-31",4650]
["97-0468","30",null,null,"2026-07-01","2026-06-30",4650]
["97-0468","30",null,null,"2026-08-01","2026-07-31",4650]
["97-0468","30",null,null,"2026-09-01","2026-08-31",3810]
["97-0468","30",null,null,"2026-10-01","2026-09-30",3810]
["97-0468","30",null,null,"2026-11-01","2026-10-31",3810]
["97-0468","30",null,null,"2026-12-01","2026-11-30",3810]
["97-0468","30",null,null,"2026-01-01","2025-12-31",3750]
["97-0468","30",null,null,"2026-02-01","2026-01-31",3750]
["97-0468","30",null,null,"2026-03-01","2026-02-28",3750]
["97-0468","30",null,null,"2026-04-01","2026-03-31",3750]
["97-0468","30",null,null,"2026-05-01","2026-04-30",3750]
["97-0468","20",null,null,"2026-06-01","2026-05-31",1085]
["97-0468","20",null,null,"2026-07-01","2026-06-30",1085]
["97-0468","20",null,null,"2026-08-01","2026-07-31",1085]
["97-0468","20",null,null,"2026-09-01","2026-08-31",889]
["97-0468","20",null,null,"2026-10-01","2026-09-30",889]
["97-0468","20",null,null,"2026-11-01","2026-10-31",889]
["97-0468","20",null,null,"2026-12-01","2026-11-30",889]
["97-0468","20",null,null,"2026-01-01","2025-12-31",875]
["97-0468","20",null,null,"2026-02-01","2026-01-31",875]
["97-0468","20",null,null,"2026-03-01","2026-02-28",875]
["97-0468","20",null,null,"2026-04-01","2026-03-31",875]
["97-0468","20",null,null,"2026-05-01","2026-04-30",875]
["97-0468","10",null,null,"2026-06-01","2026-05-31",155]
["97-0468","10",null,null,"2026-07-01","2026-06-30",155]
["97-0468","10",null,null,"2026-08-01","2026-07-31",155]
["97-0468","10",null,null,"2026-09-01","2026-08-31",127]
["97-0468","10",null,null,"2026-10-01","2026-09-30",127]
["97-0468","10",null,null,"2026-11-01","2026-10-31",127]
["97-0468","10",null,null,"2026-12-01","2026-11-30",127]
["97-0468","10",null,null,"2026-01-01","2025-12-31",125]
["97-0468","10",null,null,"2026-02-01","2026-01-31",125]
["97-0468","10",null,null,"2026-03-01","2026-02-28",125]
["97-0468","10",null,null,"2026-04-01","2026-03-31",125]
["97-0468","10",null,null,"2026-05-01","2026-04-30",125]
["97-0473","30",null,null,"2026-07-01","2026-07-31",7350]
["97-0473","30",null,null,"2026-08-01","2026-08-31",7350]
["97-0473","30",null,null,"2026-06-01","2026-06-30",6450]
["97-0473","30",null,null,"2026-09-01","2026-09-30",5700]
["97-0473","30",null,null,"2026-10-01","2026-10-31",5700]
["97-0473","30",null,null,"2026-04-01","2026-04-30",5400]
["97-0473","30",null,null,"2026-05-01","2026-05-31",5400]
["97-0473","30",null,null,"2026-11-01","2026-11-30",5100]
["97-0473","30",null,null,"2026-12-01","2026-12-31",5100]
["97-0473","30",null,null,"2026-01-01","2026-01-31",4950]
["97-0473","30",null,null,"2026-02-01","2026-02-28",4950]
["97-0473","30",null,null,"2026-03-01","2026-03-31",4950]
["97-0473","20",null,null,"2026-07-01","2026-07-31",1715]
["97-0473","20",null,null,"2026-08-01","2026-08-31",1715]
["97-0473","20",null,null,"2026-06-01","2026-06-30",1505]
["97-0473","20",null,null,"2026-09-01","2026-09-30",1330]
["97-0473","20",null,null,"2026-10-01","2026-10-31",1330]
["97-0473","20",null,null,"2026-04-01","2026-04-30",1260]
["97-0473","20",null,null,"2026-05-01","2026-05-31",1260]
["97-0473","20",null,null,"2026-11-01","2026-11-30",1190]
["97-0473","20",null,null,"2026-12-01","2026-12-31",1190]
["97-0473","20",null,null,"2026-01-01","2026-01-31",1155]
["97-0473","20",null,null,"2026-02-01","2026-02-28",1155]
["97-0473","20",null,null,"2026-03-01","2026-03-31",1155]
["97-0473","10",null,null,"2026-07-01","2026-07-31",245]
["97-0473","10",null,null,"2026-08-01","2026-08-31",245]
["97-0473","10",null,null,"2026-06-01","2026-06-30",215]
["97-0473","10",null,null,"2026-09-01","2026-09-30",190]
["97-0473","10",null,null,"2026-10-01","2026-10-31",190]
["97-0473","10",null,null,"2026-04-01","2026-04-30",180]
["97-0473","10",null,null,"2026-05-01","2026-05-31",180]
["97-0473","10",null,null,"2026-11-01","2026-11-30",170]
["97-0473","10",null,null,"2026-12-01","2026-12-31",170]
["97-0473","10",null,null,"2026-01-01","2026-01-31",165]
["97-0473","10",null,null,"2026-02-01","2026-02-28",165]
["97-0473","10",null,null,"2026-03-01","2026-03-31",165]
["97-0480","30",null,null,"2026-06-01","2026-06-30",4920]
["97-0480","30",null,null,"2026-07-01","2026-07-31",4920]
["97-0480","30",null,null,"2026-08-01","2026-08-31",4920]
["97-0480","30",null,null,"2026-09-01","2026-09-30",4920]
["97-0480","30",null,null,"2026-10-01","2026-10-31",4770]
["97-0480","30",null,null,"2026-04-01","2026-04-30",4650]
["97-0480","30",null,null,"2026-05-01","2026-05-31",4650]
["97-0480","30",null,null,"2026-11-01","2026-11-30",4650]
["97-0480","30",null,null,"2026-12-01","2026-12-31",4650]
["97-0480","30",null,null,"2026-01-01","2026-01-31",4470]
["97-0480","30",null,null,"2026-02-01","2026-02-28",4470]
["97-0480","30",null,null,"2026-03-01","2026-03-31",4470]
["97-0480","20",null,null,"2026-06-01","2026-06-30",1148]
["97-0480","20",null,null,"2026-07-01","2026-07-31",1148]
["97-0480","20",null,null,"2026-08-01","2026-08-31",1148]
["97-0480","20",null,null,"2026-09-01","2026-09-30",1148]
["97-0480","20",null,null,"2026-10-01","2026-10-31",1113]
["97-0480","20",null,null,"2026-04-01","2026-04-30",1085]
["97-0480","20",null,null,"2026-05-01","2026-05-31",1085]
["97-0480","20",null,null,"2026-11-01","2026-11-30",1085]
["97-0480","20",null,null,"2026-12-01","2026-12-31",1085]
["97-0480","20",null,null,"2026-01-01","2026-01-31",1043]
["97-0480","20",null,null,"2026-02-01","2026-02-28",1043]
["97-0480","20",null,null,"2026-03-01","2026-03-31",1043]
["97-0480","10",null,null,"2026-06-01","2026-06-30",164]
["97-0480","10",null,null,"2026-07-01","2026-07-31",164]
["97-0480","10",null,null,"2026-08-01","2026-08-31",164]
["97-0480","10",null,null,"2026-09-01","2026-09-30",164]
["97-0480","10",null,null,"2026-10-01","2026-10-31",159]
["97-0480","10",null,null,"2026-04-01","2026-04-30",155]
["97-0480","10",null,null,"2026-05-01","2026-05-31",155]
["97-0480","10",null,null,"2026-11-01","2026-11-30",155]
["97-0480","10",null,null,"2026-12-01","2026-12-31",155]
["97-0480","10",null,null,"2026-01-01","2026-01-31",149]
["97-0480","10",null,null,"2026-02-01","2026-02-28",149]
["97-0480","10",null,null,"2026-03-01","2026-03-31",149]
["97-0481","30",null,null,"2026-07-01","2026-07-31",6600]
["97-0481","30",null,null,"2026-08-01","2026-08-31",6600]
["97-0481","30",null,null,"2026-06-01","2026-06-30",5370]
["97-0481","30",null,null,"2026-09-01","2026-09-30",5370]
["97-0481","30",null,null,"2026-05-01","2026-05-31",5070]
["97-0481","30",null,null,"2026-10-01","2026-10-31",5070]
["97-0481","20",null,null,"2026-07-01","2026-07-31",1540]
["97-0481","20",null,null,"2026-08-01","2026-08-31",1540]
["97-0481","20",null,null,"2026-06-01","2026-06-30",1253]
["97-0481","20",null,null,"2026-09-01","2026-09-30",1253]
["97-0481","20",null,null,"2026-05-01","2026-05-31",1183]
["97-0481","20",null,null,"2026-10-01","2026-10-31",1183]
["97-0481","10",null,null,"2026-07-01","2026-07-31",220]
["97-0481","10",null,null,"2026-08-01","2026-08-31",220]
["97-0481","10",null,null,"2026-06-01","2026-06-30",179]
["97-0481","10",null,null,"2026-09-01","2026-09-30",179]
["97-0481","10",null,null,"2026-05-01","2026-05-31",169]
["97-0481","10",null,null,"2026-10-01","2026-10-31",169]
["97-0483","30",null,null,"2026-01-01","2026-01-31",4350]
["97-0483","30",null,null,"2026-02-01","2026-02-28",4350]
["97-0483","30",null,null,"2026-03-01","2026-03-31",4350]
["97-0483","30",null,null,"2026-04-01","2026-04-30",4350]
["97-0483","30",null,null,"2026-05-01","2026-05-31",4350]
["97-0483","30",null,null,"2026-06-01","2026-06-30",4350]
["97-0483","30",null,null,"2026-07-01","2026-07-31",4350]
["97-0483","30",null,null,"2026-08-01","2026-08-31",4350]
["97-0483","30",null,null,"2026-09-01","2026-09-30",4350]
["97-0483","30",null,null,"2026-10-01","2026-10-31",4350]
["97-0483","30",null,null,"2026-11-01","2026-11-30",4350]
["97-0483","30",null,null,"2026-12-01","2026-12-31",4350]
["97-0483","20",null,null,"2026-01-01","2026-01-31",1015]
["97-0483","20",null,null,"2026-02-01","2026-02-28",1015]
["97-0483","20",null,null,"2026-03-01","2026-03-31",1015]
["97-0483","20",null,null,"2026-04-01","2026-04-30",1015]
["97-0483","20",null,null,"2026-05-01","2026-05-31",1015]
["97-0483","20",null,null,"2026-06-01","2026-06-30",1015]
["97-0483","20",null,null,"2026-07-01","2026-07-31",1015]
["97-0483","20",null,null,"2026-08-01","2026-08-31",1015]
["97-0483","20",null,null,"2026-09-01","2026-09-30",1015]
["97-0483","20",null,null,"2026-10-01","2026-10-31",1015]
["97-0483","20",null,null,"2026-11-01","2026-11-30",1015]
["97-0483","20",null,null,"2026-12-01","2026-12-31",1015]
["97-0483","10",null,null,"2026-01-01","2026-01-31",145]
["97-0483","10",null,null,"2026-02-01","2026-02-28",145]
["97-0483","10",null,null,"2026-03-01","2026-03-31",145]
["97-0483","10",null,null,"2026-04-01","2026-04-30",145]
["97-0483","10",null,null,"2026-05-01","2026-05-31",145]
["97-0483","10",null,null,"2026-06-01","2026-06-30",145]
["97-0483","10",null,null,"2026-07-01","2026-07-31",145]
["97-0483","10",null,null,"2026-08-01","2026-08-31",145]
["97-0483","10",null,null,"2026-09-01","2026-09-30",145]
["97-0483","10",null,null,"2026-10-01","2026-10-31",145]
["97-0483","10",null,null,"2026-11-01","2026-11-30",145]
["97-0483","10",null,null,"2026-12-01","2026-12-31",145]
["97-0494","30",null,null,"2026-08-01","2026-08-31",5500]
["97-0494","30",null,null,"2026-05-01","2026-05-31",3500]
["97-0494","30",null,null,"2026-06-01","2026-06-30",3500]
["97-0494","30",null,null,"2026-07-01","2026-07-31",3500]
["97-0494","30",null,null,"2026-09-01","2026-09-30",3500]
["97-0494","30",null,null,"2026-10-01","2026-10-31",3500]
["97-0494","30",null,null,"2026-01-01","2026-01-31",3300]
["97-0494","30",null,null,"2026-02-01","2026-02-28",3300]
["97-0494","30",null,null,"2026-03-01","2026-03-31",3300]
["97-0494","30",null,null,"2026-04-01","2026-04-30",3300]
["97-0494","30",null,null,"2026-11-01","2026-11-30",3300]
["97-0494","30",null,null,"2026-12-01","2026-12-31",3300]
["97-0494","20",null,null,"2026-08-01","2026-08-31",1358]
["97-0494","20",null,null,"2026-05-01","2026-05-31",889]
["97-0494","20",null,null,"2026-06-01","2026-06-30",889]
["97-0494","20",null,null,"2026-07-01","2026-07-31",889]
["97-0494","20",null,null,"2026-09-01","2026-09-30",889]
["97-0494","20",null,null,"2026-10-01","2026-10-31",889]
["97-0494","20",null,null,"2026-01-01","2026-01-31",812]
["97-0494","20",null,null,"2026-02-01","2026-02-28",812]
["97-0494","20",null,null,"2026-03-01","2026-03-31",812]
["97-0494","20",null,null,"2026-04-01","2026-04-30",812]
["97-0494","20",null,null,"2026-11-01","2026-11-30",812]
["97-0494","20",null,null,"2026-12-01","2026-12-31",812]
["97-0494","10",null,null,"2026-08-01","2026-08-31",199]
["97-0494","10",null,null,"2026-05-01","2026-05-31",132]
["97-0494","10",null,null,"2026-06-01","2026-06-30",132]
["97-0494","10",null,null,"2026-07-01","2026-07-31",132]
["97-0494","10",null,null,"2026-09-01","2026-09-30",132]
["97-0494","10",null,null,"2026-10-01","2026-10-31",132]
["97-0494","10",null,null,"2026-01-01","2026-01-31",117]
["97-0494","10",null,null,"2026-02-01","2026-02-28",117]
["97-0494","10",null,null,"2026-03-01","2026-03-31",117]
["97-0494","10",null,null,"2026-04-01","2026-04-30",117]
["97-0494","10",null,null,"2026-11-01","2026-11-30",117]
["97-0494","10",null,null,"2026-12-01","2026-12-31",117]
["97-0495","30",null,null,"2026-05-01","2026-05-31",7770]
["97-0495","30",null,null,"2026-06-01","2026-06-30",7770]
["97-0495","30",null,null,"2026-07-01","2026-07-31",7770]
["97-0495","30",null,null,"2026-08-01","2026-08-31",7770]
["97-0495","30",null,null,"2026-09-01","2026-09-30",7770]
["97-0495","30",null,null,"2026-10-01","2026-10-31",7770]
["97-0495","30",null,null,"2026-01-01","2026-01-31",5670]
["97-0495","30",null,null,"2026-02-01","2026-02-28",5670]
["97-0495","30",null,null,"2026-03-01","2026-03-31",5670]
["97-0495","30",null,null,"2026-04-01","2026-04-30",5670]
["97-0495","30",null,null,"2026-11-01","2026-11-30",5670]
["97-0495","30",null,null,"2026-12-01","2026-12-31",5670]
["97-0495","20",null,null,"2026-05-01","2026-05-31",1819]
["97-0495","20",null,null,"2026-06-01","2026-06-30",1819]
["97-0495","20",null,null,"2026-07-01","2026-07-31",1819]
["97-0495","20",null,null,"2026-08-01","2026-08-31",1819]
["97-0495","20",null,null,"2026-09-01","2026-09-30",1819]
["97-0495","20",null,null,"2026-10-01","2026-10-31",1819]
["97-0495","20",null,null,"2026-01-01","2026-01-31",1323]
["97-0495","20",null,null,"2026-02-01","2026-02-28",1323]
["97-0495","20",null,null,"2026-03-01","2026-03-31",1323]
["97-0495","20",null,null,"2026-04-01","2026-04-30",1323]
["97-0495","20",null,null,"2026-11-01","2026-11-30",1323]
["97-0495","20",null,null,"2026-12-01","2026-12-31",1323]
["97-0495","10",null,null,"2026-05-01","2026-05-31",259]
["97-0495","10",null,null,"2026-06-01","2026-06-30",259]
["97-0495","10",null,null,"2026-07-01","2026-07-31",259]
["97-0495","10",null,null,"2026-08-01","2026-08-31",259]
["97-0495","10",null,null,"2026-09-01","2026-09-30",259]
["97-0495","10",null,null,"2026-10-01","2026-10-31",259]
["97-0495","10",null,null,"2026-01-01","2026-01-31",189]
["97-0495","10",null,null,"2026-02-01","2026-02-28",189]
["97-0495","10",null,null,"2026-03-01","2026-03-31",189]
["97-0495","10",null,null,"2026-04-01","2026-04-30",189]
["97-0495","10",null,null,"2026-11-01","2026-11-30",189]
["97-0495","10",null,null,"2026-12-01","2026-12-31",189]
["97-0496","30",null,null,"2026-07-01","2026-07-31",4050]
["97-0496","30",null,null,"2026-08-01","2026-08-31",4050]
["97-0496","30",null,null,"2026-05-01","2026-05-31",3900]
["97-0496","30",null,null,"2026-06-01","2026-06-30",3900]
["97-0496","30",null,null,"2026-09-01","2026-09-30",3900]
["97-0496","30",null,null,"2026-10-01","2026-10-31",3900]
["97-0496","30",null,null,"2026-01-01","2026-01-31",3750]
["97-0496","30",null,null,"2026-02-01","2026-02-28",3750]
["97-0496","30",null,null,"2026-03-01","2026-03-31",3750]
["97-0496","30",null,null,"2026-04-01","2026-04-30",3750]
["97-0496","30",null,null,"2026-11-01","2026-11-30",3750]
["97-0496","30",null,null,"2026-12-01","2026-12-31",3750]
["97-0496","20",null,null,"2026-07-01","2026-07-31",945]
["97-0496","20",null,null,"2026-08-01","2026-08-31",945]
["97-0496","20",null,null,"2026-05-01","2026-05-31",910]
["97-0496","20",null,null,"2026-06-01","2026-06-30",910]
["97-0496","20",null,null,"2026-09-01","2026-09-30",910]
["97-0496","20",null,null,"2026-10-01","2026-10-31",910]
["97-0496","20",null,null,"2026-01-01","2026-01-31",875]
["97-0496","20",null,null,"2026-02-01","2026-02-28",875]
["97-0496","20",null,null,"2026-03-01","2026-03-31",875]
["97-0496","20",null,null,"2026-04-01","2026-04-30",875]
["97-0496","20",null,null,"2026-11-01","2026-11-30",875]
["97-0496","20",null,null,"2026-12-01","2026-12-31",875]
["97-0496","10",null,null,"2026-07-01","2026-07-31",135]
["97-0496","10",null,null,"2026-08-01","2026-08-31",135]
["97-0496","10",null,null,"2026-05-01","2026-05-31",130]
["97-0496","10",null,null,"2026-06-01","2026-06-30",130]
["97-0496","10",null,null,"2026-09-01","2026-09-30",130]
["97-0496","10",null,null,"2026-10-01","2026-10-31",130]
["97-0496","10",null,null,"2026-01-01","2026-01-31",125]
["97-0496","10",null,null,"2026-02-01","2026-02-28",125]
["97-0496","10",null,null,"2026-03-01","2026-03-31",125]
["97-0496","10",null,null,"2026-04-01","2026-04-30",125]
["97-0496","10",null,null,"2026-11-01","2026-11-30",125]
["97-0496","10",null,null,"2026-12-01","2026-12-31",125]
["97-0501","30",null,null,"2026-05-01","2026-05-31",6750]
["97-0501","30",null,null,"2026-06-01","2026-06-30",6750]
["97-0501","30",null,null,"2026-07-01","2026-07-31",6750]
["97-0501","30",null,null,"2026-08-01","2026-08-31",6750]
["97-0501","30",null,null,"2026-09-01","2026-09-30",6750]
["97-0501","30",null,null,"2026-10-01","2026-10-31",6750]
["97-0501","30",null,null,"2026-01-01","2026-01-31",5250]
["97-0501","30",null,null,"2026-02-01","2026-02-28",5250]
["97-0501","30",null,null,"2026-03-01","2026-03-31",5250]
["97-0501","30",null,null,"2026-04-01","2026-04-30",5250]
["97-0501","30",null,null,"2026-11-01","2026-11-30",5250]
["97-0501","30",null,null,"2026-12-01","2026-12-31",5250]
["97-0501","20",null,null,"2026-05-01","2026-05-31",1575]
["97-0501","20",null,null,"2026-06-01","2026-06-30",1575]
["97-0501","20",null,null,"2026-07-01","2026-07-31",1575]
["97-0501","20",null,null,"2026-08-01","2026-08-31",1575]
["97-0501","20",null,null,"2026-09-01","2026-09-30",1575]
["97-0501","20",null,null,"2026-10-01","2026-10-31",1575]
["97-0501","20",null,null,"2026-01-01","2026-01-31",1225]
["97-0501","20",null,null,"2026-02-01","2026-02-28",1225]
["97-0501","20",null,null,"2026-03-01","2026-03-31",1225]
["97-0501","20",null,null,"2026-04-01","2026-04-30",1225]
["97-0501","20",null,null,"2026-11-01","2026-11-30",1225]
["97-0501","20",null,null,"2026-12-01","2026-12-31",1225]
["97-0501","10",null,null,"2026-05-01","2026-05-31",225]
["97-0501","10",null,null,"2026-06-01","2026-06-30",225]
["97-0501","10",null,null,"2026-07-01","2026-07-31",225]
["97-0501","10",null,null,"2026-08-01","2026-08-31",225]
["97-0501","10",null,null,"2026-09-01","2026-09-30",225]
["97-0501","10",null,null,"2026-10-01","2026-10-31",225]
["97-0501","10",null,null,"2026-01-01","2026-01-31",175]
["97-0501","10",null,null,"2026-02-01","2026-02-28",175]
["97-0501","10",null,null,"2026-03-01","2026-03-31",175]
["97-0501","10",null,null,"2026-04-01","2026-04-30",175]
["97-0501","10",null,null,"2026-11-01","2026-11-30",175]
["97-0501","10",null,null,"2026-12-01","2026-12-31",175]
["97-0502","30",null,null,"2026-05-01","2026-05-31",5790]
["97-0502","30",null,null,"2026-06-01","2026-06-30",5790]
["97-0502","30",null,null,"2026-07-01","2026-07-31",5790]
["97-0502","30",null,null,"2026-08-01","2026-08-31",5790]
["97-0502","30",null,null,"2026-09-01","2026-09-30",5790]
["97-0502","30",null,null,"2026-10-01","2026-10-31",5790]
["97-0502","30",null,null,"2026-11-01","2026-11-30",5040]
["97-0502","30",null,null,"2026-12-01","2026-12-31",5040]
["97-0502","30",null,null,"2026-01-01","2026-01-31",4950]
["97-0502","30",null,null,"2026-02-01","2026-02-28",4950]
["97-0502","30",null,null,"2026-03-01","2026-03-31",4950]
["97-0502","30",null,null,"2026-04-01","2026-04-30",4950]
["97-0502","20",null,null,"2026-05-01","2026-05-31",1351]
["97-0502","20",null,null,"2026-06-01","2026-06-30",1351]
["97-0502","20",null,null,"2026-07-01","2026-07-31",1351]
["97-0502","20",null,null,"2026-08-01","2026-08-31",1351]
["97-0502","20",null,null,"2026-09-01","2026-09-30",1351]
["97-0502","20",null,null,"2026-10-01","2026-10-31",1351]
["97-0502","20",null,null,"2026-11-01","2026-11-30",1176]
["97-0502","20",null,null,"2026-12-01","2026-12-31",1176]
["97-0502","20",null,null,"2026-01-01","2026-01-31",1150]
["97-0502","20",null,null,"2026-02-01","2026-02-28",1150]
["97-0502","20",null,null,"2026-03-01","2026-03-31",1150]
["97-0502","20",null,null,"2026-04-01","2026-04-30",1150]
["97-0502","10",null,null,"2026-05-01","2026-05-31",193]
["97-0502","10",null,null,"2026-06-01","2026-06-30",193]
["97-0502","10",null,null,"2026-07-01","2026-07-31",193]
["97-0502","10",null,null,"2026-08-01","2026-08-31",193]
["97-0502","10",null,null,"2026-09-01","2026-09-30",193]
["97-0502","10",null,null,"2026-10-01","2026-10-31",193]
["97-0502","10",null,null,"2026-11-01","2026-11-30",168]
["97-0502","10",null,null,"2026-12-01","2026-12-31",168]
["97-0502","10",null,null,"2026-01-01","2026-01-31",165]
["97-0502","10",null,null,"2026-02-01","2026-02-28",165]
["97-0502","10",null,null,"2026-03-01","2026-03-31",165]
["97-0502","10",null,null,"2026-04-01","2026-04-30",165]
["97-0503","30",null,null,"2026-01-01","2026-01-31",4740]
["97-0503","30",null,null,"2026-02-01","2026-02-28",4740]
["97-0503","30",null,null,"2026-03-01","2026-03-31",4740]
["97-0503","30",null,null,"2026-04-01","2026-04-30",4740]
["97-0503","30",null,null,"2026-05-01","2026-05-31",4740]
["97-0503","30",null,null,"2026-06-01","2026-06-30",4740]
["97-0503","30",null,null,"2026-07-01","2026-07-31",4740]
["97-0503","30",null,null,"2026-08-01","2026-08-31",4740]
["97-0503","30",null,null,"2026-09-01","2026-09-30",4740]
["97-0503","30",null,null,"2026-10-01","2026-10-31",4740]
["97-0503","30",null,null,"2026-11-01","2026-11-30",4740]
["97-0503","30",null,null,"2026-12-01","2026-12-31",4740]
["97-0503","20",null,null,"2026-01-01","2026-01-31",1106]
["97-0503","20",null,null,"2026-02-01","2026-02-28",1106]
["97-0503","20",null,null,"2026-03-01","2026-03-31",1106]
["97-0503","20",null,null,"2026-04-01","2026-04-30",1106]
["97-0503","20",null,null,"2026-05-01","2026-05-31",1106]
["97-0503","20",null,null,"2026-06-01","2026-06-30",1106]
["97-0503","20",null,null,"2026-07-01","2026-07-31",1106]
["97-0503","20",null,null,"2026-08-01","2026-08-31",1106]
["97-0503","20",null,null,"2026-09-01","2026-09-30",1106]
["97-0503","20",null,null,"2026-10-01","2026-10-31",1106]
["97-0503","20",null,null,"2026-11-01","2026-11-30",1106]
["97-0503","20",null,null,"2026-12-01","2026-12-31",1106]
["97-0503","10",null,null,"2026-01-01","2026-01-31",158]
["97-0503","10",null,null,"2026-02-01","2026-02-28",158]
["97-0503","10",null,null,"2026-03-01","2026-03-31",158]
["97-0503","10",null,null,"2026-04-01","2026-04-30",158]
["97-0503","10",null,null,"2026-05-01","2026-05-31",158]
["97-0503","10",null,null,"2026-06-01","2026-06-30",158]
["97-0503","10",null,null,"2026-07-01","2026-07-31",158]
["97-0503","10",null,null,"2026-08-01","2026-08-31",158]
["97-0503","10",null,null,"2026-09-01","2026-09-30",158]
["97-0503","10",null,null,"2026-10-01","2026-10-31",158]
["97-0503","10",null,null,"2026-11-01","2026-11-30",158]
["97-0503","10",null,null,"2026-12-01","2026-12-31",158]
["97-0504","30",null,null,"2026-07-01","2026-07-31",5250]
["97-0504","30",null,null,"2026-08-01","2026-08-31",5250]
["97-0504","30",null,null,"2026-06-01","2026-06-30",3900]
["97-0504","30",null,null,"2026-09-01","2026-09-30",3900]
["97-0504","30",null,null,"2026-05-01","2026-05-31",3300]
["97-0504","30",null,null,"2026-10-01","2026-10-31",3300]
["97-0504","30",null,null,"2026-01-01","2026-01-31",3000]
["97-0504","30",null,null,"2026-02-01","2026-02-28",3000]
["97-0504","30",null,null,"2026-03-01","2026-03-31",3000]
["97-0504","30",null,null,"2026-04-01","2026-04-30",3000]
["97-0504","30",null,null,"2026-11-01","2026-11-30",3000]
["97-0504","30",null,null,"2026-12-01","2026-12-31",3000]
["97-0504","20",null,null,"2026-07-01","2026-07-31",1225]
["97-0504","20",null,null,"2026-08-01","2026-08-31",1225]
["97-0504","20",null,null,"2026-06-01","2026-06-30",910]
["97-0504","20",null,null,"2026-09-01","2026-09-30",910]
["97-0504","20",null,null,"2026-05-01","2026-05-31",770]
["97-0504","20",null,null,"2026-10-01","2026-10-31",770]
["97-0504","20",null,null,"2026-01-01","2026-01-31",700]
["97-0504","20",null,null,"2026-02-01","2026-02-28",700]
["97-0504","20",null,null,"2026-03-01","2026-03-31",700]
["97-0504","20",null,null,"2026-04-01","2026-04-30",700]
["97-0504","20",null,null,"2026-11-01","2026-11-30",700]
["97-0504","20",null,null,"2026-12-01","2026-12-31",700]
["97-0504","10",null,null,"2026-07-01","2026-07-31",175]
["97-0504","10",null,null,"2026-08-01","2026-08-31",175]
["97-0504","10",null,null,"2026-06-01","2026-06-30",130]
["97-0504","10",null,null,"2026-09-01","2026-09-30",130]
["97-0504","10",null,null,"2026-05-01","2026-05-31",110]
["97-0504","10",null,null,"2026-10-01","2026-10-31",110]
["97-0504","10",null,null,"2026-01-01","2026-01-31",100]
["97-0504","10",null,null,"2026-02-01","2026-02-28",100]
["97-0504","10",null,null,"2026-03-01","2026-03-31",100]
["97-0504","10",null,null,"2026-04-01","2026-04-30",100]
["97-0504","10",null,null,"2026-11-01","2026-11-30",100]
["97-0504","10",null,null,"2026-12-01","2026-12-31",100]
["97-0506","30",null,null,"2026-05-01","2026-05-31",5070]
["97-0506","30",null,null,"2026-06-01","2026-06-30",5070]
["97-0506","30",null,null,"2026-07-01","2026-07-31",5070]
["97-0506","30",null,null,"2026-08-01","2026-08-31",5070]
["97-0506","30",null,null,"2026-09-01","2026-09-30",5070]
["97-0506","30",null,null,"2026-01-01","2026-01-31",4470]
["97-0506","30",null,null,"2026-02-01","2026-02-28",4470]
["97-0506","30",null,null,"2026-03-01","2026-03-31",4470]
["97-0506","30",null,null,"2026-04-01","2026-04-30",4470]
["97-0506","30",null,null,"2026-10-01","2026-10-31",4470]
["97-0506","30",null,null,"2026-11-01","2026-11-30",4470]
["97-0506","30",null,null,"2026-12-01","2026-12-31",4470]
["97-0506","20",null,null,"2026-05-01","2026-05-31",1183]
["97-0506","20",null,null,"2026-06-01","2026-06-30",1183]
["97-0506","20",null,null,"2026-07-01","2026-07-31",1183]
["97-0506","20",null,null,"2026-08-01","2026-08-31",1183]
["97-0506","20",null,null,"2026-09-01","2026-09-30",1183]
["97-0506","20",null,null,"2026-01-01","2026-01-31",1043]
["97-0506","20",null,null,"2026-02-01","2026-02-28",1043]
["97-0506","20",null,null,"2026-03-01","2026-03-31",1043]
["97-0506","20",null,null,"2026-04-01","2026-04-30",1043]
["97-0506","20",null,null,"2026-10-01","2026-10-31",1043]
["97-0506","20",null,null,"2026-11-01","2026-11-30",1043]
["97-0506","20",null,null,"2026-12-01","2026-12-31",1043]
["97-0506","10",null,null,"2026-05-01","2026-05-31",169]
["97-0506","10",null,null,"2026-06-01","2026-06-30",169]
["97-0506","10",null,null,"2026-07-01","2026-07-31",169]
["97-0506","10",null,null,"2026-08-01","2026-08-31",169]
["97-0506","10",null,null,"2026-09-01","2026-09-30",169]
["97-0506","10",null,null,"2026-01-01","2026-01-31",149]
["97-0506","10",null,null,"2026-02-01","2026-02-28",149]
["97-0506","10",null,null,"2026-03-01","2026-03-31",149]
["97-0506","10",null,null,"2026-04-01","2026-04-30",149]
["97-0506","10",null,null,"2026-10-01","2026-10-31",149]
["97-0506","10",null,null,"2026-11-01","2026-11-30",149]
["97-0506","10",null,null,"2026-12-01","2026-12-31",149]
["97-0508","30",null,null,"2026-05-01","2026-05-31",4920]
["97-0508","30",null,null,"2026-06-01","2026-06-30",4920]
["97-0508","30",null,null,"2026-07-01","2026-07-31",4920]
["97-0508","30",null,null,"2026-08-01","2026-08-31",4920]
["97-0508","30",null,null,"2026-09-01","2026-09-30",4920]
["97-0508","30",null,null,"2026-10-01","2026-10-31",4320]
["97-0508","30",null,null,"2026-11-01","2026-11-30",4320]
["97-0508","30",null,null,"2026-12-01","2026-12-31",4320]
["97-0508","30",null,null,"2026-01-01","2026-01-31",4200]
["97-0508","30",null,null,"2026-02-01","2026-02-28",4200]
["97-0508","30",null,null,"2026-03-01","2026-03-31",4200]
["97-0508","30",null,null,"2026-04-01","2026-04-30",4200]
["97-0508","20",null,null,"2026-05-01","2026-05-31",1148]
["97-0508","20",null,null,"2026-06-01","2026-06-30",1148]
["97-0508","20",null,null,"2026-07-01","2026-07-31",1148]
["97-0508","20",null,null,"2026-08-01","2026-08-31",1148]
["97-0508","20",null,null,"2026-09-01","2026-09-30",1148]
["97-0508","20",null,null,"2026-10-01","2026-10-31",1008]
["97-0508","20",null,null,"2026-11-01","2026-11-30",1008]
["97-0508","20",null,null,"2026-12-01","2026-12-31",1008]
["97-0508","20",null,null,"2026-01-01","2026-01-31",980]
["97-0508","20",null,null,"2026-02-01","2026-02-28",980]
["97-0508","20",null,null,"2026-03-01","2026-03-31",980]
["97-0508","20",null,null,"2026-04-01","2026-04-30",980]
["97-0508","10",null,null,"2026-05-01","2026-05-31",164]
["97-0508","10",null,null,"2026-06-01","2026-06-30",164]
["97-0508","10",null,null,"2026-07-01","2026-07-31",164]
["97-0508","10",null,null,"2026-08-01","2026-08-31",164]
["97-0508","10",null,null,"2026-09-01","2026-09-30",164]
["97-0508","10",null,null,"2026-10-01","2026-10-31",144]
["97-0508","10",null,null,"2026-11-01","2026-11-30",144]
["97-0508","10",null,null,"2026-12-01","2026-12-31",144]
["97-0508","10",null,null,"2026-01-01","2026-01-31",140]
["97-0508","10",null,null,"2026-02-01","2026-02-28",140]
["97-0508","10",null,null,"2026-03-01","2026-03-31",140]
["97-0508","10",null,null,"2026-04-01","2026-04-30",140]
["97-0509","30",null,null,"2026-07-01","2026-07-31",5070]
["97-0509","30",null,null,"2026-08-01","2026-08-31",5070]
["97-0509","30",null,null,"2026-05-01","2026-05-31",4170]
["97-0509","30",null,null,"2026-06-01","2026-06-30",4170]
["97-0509","30",null,null,"2026-01-01","2026-01-31",3870]
["97-0509","30",null,null,"2026-02-01","2026-02-28",3870]
["97-0509","30",null,null,"2026-03-01","2026-03-31",3870]
["97-0509","30",null,null,"2026-04-01","2026-04-30",3870]
["97-0509","30",null,null,"2026-09-01","2026-09-30",3870]
["97-0509","30",null,null,"2026-10-01","2026-10-31",3870]
["97-0509","30",null,null,"2026-11-01","2026-11-30",3870]
["97-0509","30",null,null,"2026-12-01","2026-12-31",3870]
["97-0509","20",null,null,"2026-07-01","2026-07-31",1183]
["97-0509","20",null,null,"2026-08-01","2026-08-31",1183]
["97-0509","20",null,null,"2026-05-01","2026-05-31",973]
["97-0509","20",null,null,"2026-06-01","2026-06-30",973]
["97-0509","20",null,null,"2026-01-01","2026-01-31",903]
["97-0509","20",null,null,"2026-02-01","2026-02-28",903]
["97-0509","20",null,null,"2026-03-01","2026-03-31",903]
["97-0509","20",null,null,"2026-04-01","2026-04-30",903]
["97-0509","20",null,null,"2026-09-01","2026-09-30",903]
["97-0509","20",null,null,"2026-10-01","2026-10-31",903]
["97-0509","20",null,null,"2026-11-01","2026-11-30",903]
["97-0509","20",null,null,"2026-12-01","2026-12-31",903]
["97-0509","10",null,null,"2026-07-01","2026-07-31",169]
["97-0509","10",null,null,"2026-08-01","2026-08-31",169]
["97-0509","10",null,null,"2026-05-01","2026-05-31",139]
["97-0509","10",null,null,"2026-06-01","2026-06-30",139]
["97-0509","10",null,null,"2026-01-01","2026-01-31",129]
["97-0509","10",null,null,"2026-02-01","2026-02-28",129]
["97-0509","10",null,null,"2026-03-01","2026-03-31",129]
["97-0509","10",null,null,"2026-04-01","2026-04-30",129]
["97-0509","10",null,null,"2026-09-01","2026-09-30",129]
["97-0509","10",null,null,"2026-10-01","2026-10-31",129]
["97-0509","10",null,null,"2026-11-01","2026-11-30",129]
["97-0509","10",null,null,"2026-12-01","2026-12-31",129]
["97-0510","30",null,null,"2026-05-01","2026-05-31",5070]
["97-0510","30",null,null,"2026-06-01","2026-06-30",5070]
["97-0510","30",null,null,"2026-07-01","2026-07-31",5070]
["97-0510","30",null,null,"2026-08-01","2026-08-31",5070]
["97-0510","30",null,null,"2026-09-01","2026-09-30",5070]
["97-0510","30",null,null,"2026-01-01","2026-01-31",4470]
["97-0510","30",null,null,"2026-02-01","2026-02-28",4470]
["97-0510","30",null,null,"2026-03-01","2026-03-31",4470]
["97-0510","30",null,null,"2026-04-01","2026-04-30",4470]
["97-0510","30",null,null,"2026-10-01","2026-10-31",4470]
["97-0510","30",null,null,"2026-11-01","2026-11-30",4470]
["97-0510","30",null,null,"2026-12-01","2026-12-31",4470]
["97-0510","20",null,null,"2026-05-01","2026-05-31",1183]
["97-0510","20",null,null,"2026-06-01","2026-06-30",1183]
["97-0510","20",null,null,"2026-07-01","2026-07-31",1183]
["97-0510","20",null,null,"2026-08-01","2026-08-31",1183]
["97-0510","20",null,null,"2026-09-01","2026-09-30",1183]
["97-0510","20",null,null,"2026-01-01","2026-01-31",1043]
["97-0510","20",null,null,"2026-02-01","2026-02-28",1043]
["97-0510","20",null,null,"2026-03-01","2026-03-31",1043]
["97-0510","20",null,null,"2026-04-01","2026-04-30",1043]
["97-0510","20",null,null,"2026-10-01","2026-10-31",1043]
["97-0510","20",null,null,"2026-11-01","2026-11-30",1043]
["97-0510","20",null,null,"2026-12-01","2026-12-31",1043]
["97-0510","10",null,null,"2026-05-01","2026-05-31",169]
["97-0510","10",null,null,"2026-06-01","2026-06-30",169]
["97-0510","10",null,null,"2026-07-01","2026-07-31",169]
["97-0510","10",null,null,"2026-08-01","2026-08-31",169]
["97-0510","10",null,null,"2026-09-01","2026-09-30",169]
["97-0510","10",null,null,"2026-01-01","2026-01-31",149]
["97-0510","10",null,null,"2026-02-01","2026-02-28",149]
["97-0510","10",null,null,"2026-03-01","2026-03-31",149]
["97-0510","10",null,null,"2026-04-01","2026-04-30",149]
["97-0510","10",null,null,"2026-10-01","2026-10-31",149]
["97-0510","10",null,null,"2026-11-01","2026-11-30",149]
["97-0510","10",null,null,"2026-12-01","2026-12-31",149]
["98-0010","30",null,null,"2026-07-01","2026-07-31",3360]
["98-0010","30",null,null,"2026-08-01","2026-08-31",3360]
["98-0010","30",null,null,"2026-09-01","2026-09-30",3150]
["98-0010","30",null,null,"2026-10-01","2026-10-31",3150]
["98-0010","30",null,null,"2026-05-01","2026-05-31",2940]
["98-0010","30",null,null,"2026-06-01","2026-06-30",2940]
["98-0010","30",null,null,"2026-11-01","2026-11-30",2940]
["98-0010","30",null,null,"2026-12-01","2026-12-31",2940]
["98-0010","30",null,null,"2026-01-01","2026-01-31",2730]
["98-0010","30",null,null,"2026-02-01","2026-02-28",2730]
["98-0010","30",null,null,"2026-03-01","2026-03-31",2730]
["98-0010","30",null,null,"2026-04-01","2026-04-30",2730]
["98-0010","20",null,null,"2026-07-01","2026-07-31",960]
["98-0010","20",null,null,"2026-08-01","2026-08-31",960]
["98-0010","20",null,null,"2026-09-01","2026-09-30",900]
["98-0010","20",null,null,"2026-10-01","2026-10-31",900]
["98-0010","20",null,null,"2026-05-01","2026-05-31",840]
["98-0010","20",null,null,"2026-06-01","2026-06-30",840]
["98-0010","20",null,null,"2026-11-01","2026-11-30",840]
["98-0010","20",null,null,"2026-12-01","2026-12-31",840]
["98-0010","20",null,null,"2026-01-01","2026-01-31",780]
["98-0010","20",null,null,"2026-02-01","2026-02-28",780]
["98-0010","20",null,null,"2026-03-01","2026-03-31",780]
["98-0010","20",null,null,"2026-04-01","2026-04-30",780]
["98-0010","10",null,null,"2026-07-01","2026-07-31",160]
["98-0010","10",null,null,"2026-08-01","2026-08-31",160]
["98-0010","10",null,null,"2026-09-01","2026-09-30",150]
["98-0010","10",null,null,"2026-10-01","2026-10-31",150]
["98-0010","10",null,null,"2026-05-01","2026-05-31",140]
["98-0010","10",null,null,"2026-06-01","2026-06-30",140]
["98-0010","10",null,null,"2026-11-01","2026-11-30",140]
["98-0010","10",null,null,"2026-12-01","2026-12-31",140]
["98-0010","10",null,null,"2026-01-01","2026-01-31",130]
["98-0010","10",null,null,"2026-02-01","2026-02-28",130]
["98-0010","10",null,null,"2026-03-01","2026-03-31",130]
["98-0010","10",null,null,"2026-04-01","2026-04-30",130]
["98-0020","30",null,null,"2026-07-01","2026-07-31",4650]
["98-0020","30",null,null,"2026-08-01","2026-08-31",4650]
["98-0020","30",null,null,"2026-01-01","2026-01-31",4050]
["98-0020","30",null,null,"2026-02-01","2026-02-28",4050]
["98-0020","30",null,null,"2026-03-01","2026-03-31",4050]
["98-0020","30",null,null,"2026-04-01","2026-04-30",4050]
["98-0020","30",null,null,"2026-05-01","2026-05-31",4050]
["98-0020","30",null,null,"2026-06-01","2026-06-30",4050]
["98-0020","30",null,null,"2026-09-01","2026-09-30",4050]
["98-0020","30",null,null,"2026-10-01","2026-10-31",4050]
["98-0020","20",null,null,"2026-07-01","2026-07-31",1085]
["98-0020","20",null,null,"2026-08-01","2026-08-31",1085]
["98-0020","20",null,null,"2026-01-01","2026-01-31",945]
["98-0020","20",null,null,"2026-02-01","2026-02-28",945]
["98-0020","20",null,null,"2026-03-01","2026-03-31",945]
["98-0020","20",null,null,"2026-04-01","2026-04-30",945]
["98-0020","20",null,null,"2026-05-01","2026-05-31",945]
["98-0020","20",null,null,"2026-06-01","2026-06-30",945]
["98-0020","20",null,null,"2026-09-01","2026-09-30",945]
["98-0020","20",null,null,"2026-10-01","2026-10-31",945]
["98-0020","20",null,null,"2026-11-01","2026-11-30",945]
["98-0020","10",null,null,"2026-07-01","2026-07-31",155]
["98-0020","10",null,null,"2026-08-01","2026-08-31",155]
["98-0020","10",null,null,"2026-01-01","2026-01-31",135]
["98-0020","10",null,null,"2026-02-01","2026-02-28",135]
["98-0020","10",null,null,"2026-03-01","2026-03-31",135]
["98-0020","10",null,null,"2026-04-01","2026-04-30",135]
["98-0020","10",null,null,"2026-05-01","2026-05-31",135]
["98-0020","10",null,null,"2026-06-01","2026-06-30",135]
["98-0020","10",null,null,"2026-09-01","2026-09-30",135]
["98-0020","10",null,null,"2026-10-01","2026-10-31",135]
["98-0020","10",null,null,"2026-11-01","2026-11-30",135]
["99-0009","30",null,null,"2026-07-01","2026-07-31",5970]
["99-0009","30",null,null,"2026-08-01","2026-08-31",5970]
["99-0009","30",null,null,"2026-09-01","2026-09-30",5970]
["99-0009","30",null,null,"2026-10-01","2026-10-31",5520]
["99-0009","30",null,null,"2026-05-01","2026-05-31",4470]
["99-0009","30",null,null,"2026-06-01","2026-06-30",4470]
["99-0009","30",null,null,"2026-04-01","2026-04-30",4260]
["99-0009","30",null,null,"2026-03-01","2026-03-31",4260]
["99-0009","30",null,null,"2026-11-01","2026-11-30",4020]
["99-0009","30",null,null,"2026-12-01","2026-12-31",4020]
["99-0009","30",null,null,"2026-01-01","2026-01-31",4020]
["99-0009","30",null,null,"2026-02-01","2026-02-28",4020]
["99-0009","20",null,null,"2026-07-01","2026-07-31",1393]
["99-0009","20",null,null,"2026-08-01","2026-08-31",1393]
["99-0009","20",null,null,"2026-09-01","2026-09-30",1393]
["99-0009","20",null,null,"2026-10-01","2026-10-31",1288]
["99-0009","20",null,null,"2026-05-01","2026-05-31",1043]
["99-0009","20",null,null,"2026-06-01","2026-06-30",1043]
["99-0009","20",null,null,"2026-04-01","2026-04-30",994]
["99-0009","20",null,null,"2026-03-01","2026-03-31",994]
["99-0009","20",null,null,"2026-11-01","2026-11-30",959]
["99-0009","20",null,null,"2026-12-01","2026-12-31",959]
["99-0009","20",null,null,"2026-01-01","2026-01-31",959]
["99-0009","20",null,null,"2026-02-01","2026-02-28",959]
["99-0009","10",null,null,"2026-07-01","2026-07-31",199]
["99-0009","10",null,null,"2026-08-01","2026-08-31",199]
["99-0009","10",null,null,"2026-09-01","2026-09-30",199]
["99-0009","10",null,null,"2026-10-01","2026-10-31",184]
["99-0009","10",null,null,"2026-05-01","2026-05-31",149]
["99-0009","10",null,null,"2026-06-01","2026-06-30",149]
["99-0009","10",null,null,"2026-04-01","2026-04-30",142]
["99-0009","10",null,null,"2026-03-01","2026-03-31",142]
["99-0009","10",null,null,"2026-11-01","2026-11-30",134]
["99-0009","10",null,null,"2026-12-01","2026-12-31",134]
["99-0009","10",null,null,"2026-01-01","2026-01-31",134]
["99-0009","10",null,null,"2026-02-01","2026-02-28",134]
["99-0010","30",null,null,"2026-07-01","2026-07-31",7770]
["99-0010","30",null,null,"2026-08-01","2026-08-31",7770]
["99-0010","30",null,null,"2026-09-01","2026-09-30",7770]
["99-0010","30",null,null,"2026-01-01","2026-01-31",4050]
["99-0010","30",null,null,"2026-02-01","2026-02-28",4050]
["99-0010","30",null,null,"2026-03-01","2026-03-31",4050]
["99-0010","30",null,null,"2026-04-01","2026-04-30",4050]
["99-0010","30",null,null,"2026-05-01","2026-05-31",4050]
["99-0010","30",null,null,"2026-06-01","2026-06-30",4050]
["99-0010","30",null,null,"2026-10-01","2026-10-31",4050]
["99-0010","30",null,null,"2026-11-01","2026-11-30",4050]
["99-0010","30",null,null,"2026-12-01","2026-12-31",4050]
["99-0010","20",null,null,"2026-07-01","2026-07-31",1813]
["99-0010","20",null,null,"2026-08-01","2026-08-31",1813]
["99-0010","20",null,null,"2026-09-01","2026-09-30",1813]
["99-0010","20",null,null,"2026-01-01","2026-01-31",945]
["99-0010","20",null,null,"2026-02-01","2026-02-28",945]
["99-0010","20",null,null,"2026-03-01","2026-03-31",945]
["99-0010","20",null,null,"2026-04-01","2026-04-30",945]
["99-0010","20",null,null,"2026-05-01","2026-05-31",945]
["99-0010","20",null,null,"2026-06-01","2026-06-30",945]
["99-0010","20",null,null,"2026-10-01","2026-10-31",945]
["99-0010","20",null,null,"2026-11-01","2026-11-30",945]
["99-0010","20",null,null,"2026-12-01","2026-12-31",945]
["99-0010","10",null,null,"2026-07-01","2026-07-31",259]
["99-0010","10",null,null,"2026-08-01","2026-08-31",259]
["99-0010","10",null,null,"2026-09-01","2026-09-30",259]
["99-0010","10",null,null,"2026-01-01","2026-01-31",135]
["99-0010","10",null,null,"2026-02-01","2026-02-28",135]
["99-0010","10",null,null,"2026-03-01","2026-03-31",135]
["99-0010","10",null,null,"2026-04-01","2026-04-30",135]
["99-0010","10",null,null,"2026-05-01","2026-05-31",135]
["99-0010","10",null,null,"2026-06-01","2026-06-30",135]
["99-0010","10",null,null,"2026-10-01","2026-10-31",135]
["99-0010","10",null,null,"2026-11-01","2026-11-30",135]
["99-0010","10",null,null,"2026-12-01","2026-12-31",135]

{"sheet":"Listes","index":6,"n_rows":75,"n_cols":16,"rows_kept":75,"cut":false,"hidden":true,"merged":[]}
["No_region","Desc_region",null,null,"Region","Desc_region","Ville",null,null,"FiltreVille",null,"ListeVilleData",null,"no_duree","Duree","Desc_duree"]
[1,"Bas-Saint-Laurent",null,null,1,"Bas-Saint-Laurent","AMQUI",null,null,{"$f":"_xlfn._xlws.FILTER(Tableau1[Ville],Tableau1[Desc_region]=Config!B7)","v":"Blainville"},null,"AMQUI",null,"10","NUITÉE","Jour"]
[2,"Saguenay-Lac-Saint-Jean",null,null,1,"Bas-Saint-Laurent","LA POCATIÈRE",null,null,"MONT-LAURIER",null,"LA POCATIÈRE",null,"20","SEMAINE","Semaine"]
[3,"Capitale Nationale",null,null,1,"Bas-Saint-Laurent","MATANE",null,null,"MONT-TREMBLANT",null,"MATANE",null,"30","MENSUEL","Mois"]
[4,"Mauricie-Bois-Francs",null,null,1,"Bas-Saint-Laurent","RIMOUSKI",null,null,"SAINTE-AGATHE-DES-MONTS",null,"RIMOUSKI"]
[5,"Estrie",null,null,1,"Bas-Saint-Laurent","RIVIÈRE-DU-LOUP",null,null,"SAINT-JÉRÔME",null,"RIVIÈRE-DU-LOUP"]
[6,"Montréal",null,null,1,"Bas-Saint-Laurent","TÉMISCOUATA-SUR-LE-LAC",null,null,null,null,"TÉMISCOUATA-SUR-LE-LAC"]
[7,"Outaouais",null,null,2,"Saguenay-Lac-Saint-Jean","ALMA",null,null,null,null,"ALMA"]
[8,"Abitibi-Témiscamingue",null,null,2,"Saguenay-Lac-Saint-Jean","CHICOUTIMI-SAGUENAY",null,null,null,null,"CHICOUTIMI-SAGUENAY"]
[9,"Côte-Nord",null,null,2,"Saguenay-Lac-Saint-Jean","JONQUIÈRE-SAGUENAY",null,null,null,null,"JONQUIÈRE-SAGUENAY"]
[10,"Nord-du-Québec",null,null,2,"Saguenay-Lac-Saint-Jean","LA BAIE-SAGUENAY",null,null,null,null,"LA BAIE-SAGUENAY"]
[11,"Gaspésie-Îles-de-la-Madeleine",null,null,2,"Saguenay-Lac-Saint-Jean","NORMANDIN",null,null,null,null,"NORMANDIN"]
[12,"Chaudière-Appalaches",null,null,2,"Saguenay-Lac-Saint-Jean","ROBERVAL",null,null,null,null,"ROBERVAL"]
[13,"Laval",null,null,2,"Saguenay-Lac-Saint-Jean","SAINT-FÉLICIEN",null,null,null,null,"SAINT-FÉLICIEN"]
[14,"Lanaudière",null,null,3,"Capitale Nationale","BAIE-SAINT-PAUL",null,null,null,null,"BAIE-SAINT-PAUL"]
[15,"Laurentides",null,null,3,"Capitale Nationale","LA MALBAIE",null,null,null,null,"LA MALBAIE"]
[16,"Montérégie",null,null,3,"Capitale Nationale","L'ANCIENNE-LORETTE",null,null,null,null,"L'ANCIENNE-LORETTE"]
[17,"Centre-du-Québec",null,null,3,"Capitale Nationale","QUÉBEC",null,null,null,null,"QUÉBEC"]
[null,null,null,null,4,"Mauricie-Bois-Francs","LA TUQUE",null,null,null,null,"LA TUQUE"]
[null,null,null,null,4,"Mauricie-Bois-Francs","SHAWINIGAN",null,null,null,null,"SHAWINIGAN"]
[null,null,null,null,4,"Mauricie-Bois-Francs","TROIS-RIVIÈRES",null,null,null,null,"TROIS-RIVIÈRES"]
[null,null,null,null,5,"Estrie","GRANBY",null,null,null,null,"GRANBY"]
[null,null,null,null,5,"Estrie","MAGOG",null,null,null,null,"MAGOG"]
[null,null,null,null,5,"Estrie","SHERBROOKE",null,null,null,null,"SHERBROOKE"]
[null,null,null,null,5,"Estrie","VAL-DES-SOURCES",null,null,null,null,"VAL-DES-SOURCES"]
[null,null,null,null,6,"Montréal","BAIE D'URFÉ",null,null,null,null,"BAIE D'URFÉ"]
[null,null,null,null,6,"Montréal","DORVAL",null,null,null,null,"DORVAL"]
[null,null,null,null,6,"Montréal","MONTRÉAL",null,null,null,null,"MONTRÉAL"]
[null,null,null,null,6,"Montréal","POINTE-CLAIRE",null,null,null,null,"POINTE-CLAIRE"]
[null,null,null,null,6,"Montréal","SAINT-LAURENT",null,null,null,null,"SAINT-LAURENT"]
[null,null,null,null,7,"Outaouais","GATINEAU",null,null,null,null,"GATINEAU"]
[null,null,null,null,7,"Outaouais","MONTEBELLO",null,null,null,null,"MONTEBELLO"]
[null,null,null,null,8,"Abitibi-Témiscamingue","AMOS",null,null,null,null,"AMOS"]
[null,null,null,null,8,"Abitibi-Témiscamingue","DUHAMEL OUEST",null,null,null,null,"DUHAMEL OUEST"]
[null,null,null,null,8,"Abitibi-Témiscamingue","ROUYN-NORANDA",null,null,null,null,"ROUYN-NORANDA"]
[null,null,null,null,8,"Abitibi-Témiscamingue","VAL-D'OR",null,null,null,null,"VAL-D'OR"]
[null,null,null,null,9,"Côte-Nord","BAIE-COMEAU",null,null,null,null,"BAIE-COMEAU"]
[null,null,null,null,9,"Côte-Nord","FORESTVILLE",null,null,null,null,"FORESTVILLE"]
[null,null,null,null,9,"Côte-Nord","SEPT-ÎLES",null,null,null,null,"SEPT-ÎLES"]
[null,null,null,null,9,"Côte-Nord","TADOUSSAC",null,null,null,null,"TADOUSSAC"]
[null,null,null,null,11,"Gaspésie-Îles-de-la-Madeleine","BONAVENTURE",null,null,null,null,"BONAVENTURE"]
[null,null,null,null,11,"Gaspésie-Îles-de-la-Madeleine","CAP-AUX-MEULES",null,null,null,null,"CAP-AUX-MEULES"]
[null,null,null,null,11,"Gaspésie-Îles-de-la-Madeleine","CAPLAN",null,null,null,null,"CAPLAN"]
[null,null,null,null,11,"Gaspésie-Îles-de-la-Madeleine","FATIMA, ILES DE LA MADELEINE",null,null,null,null,"FATIMA, ILES DE LA MADELEINE"]
[null,null,null,null,11,"Gaspésie-Îles-de-la-Madeleine","GASPÉ",null,null,null,null,"GASPÉ"]
[null,null,null,null,11,"Gaspésie-Îles-de-la-Madeleine","MONT-JOLI",null,null,null,null,"MONT-JOLI"]
[null,null,null,null,11,"Gaspésie-Îles-de-la-Madeleine","POINTE-À-LA-CROIX",null,null,null,null,"POINTE-À-LA-CROIX"]
[null,null,null,null,11,"Gaspésie-Îles-de-la-Madeleine","SAINTE-ANNE-DES-MONTS",null,null,null,null,"SAINTE-ANNE-DES-MONTS"]
[null,null,null,null,11,"Gaspésie-Îles-de-la-Madeleine","SAINT-MAXIME-DU-MONT-LOUIS",null,null,null,null,"SAINT-MAXIME-DU-MONT-LOUIS"]
[null,null,null,null,12,"Chaudière-Appalaches","LÉVIS",null,null,null,null,"LÉVIS"]
[null,null,null,null,12,"Chaudière-Appalaches","SAINTE-MARIE",null,null,null,null,"SAINTE-MARIE"]
[null,null,null,null,12,"Chaudière-Appalaches","SAINT-JOSEPH-DE-BEAUCE",null,null,null,null,"SAINT-JOSEPH-DE-BEAUCE"]
[null,null,null,null,12,"Chaudière-Appalaches","THETFORD MINES",null,null,null,null,"THETFORD MINES"]
[null,null,null,null,13,"Laval","LAVAL",null,null,null,null,"LAVAL"]
[null,null,null,null,14,"Lanaudière","BERTHIERVILLE",null,null,null,null,"BERTHIERVILLE"]
[null,null,null,null,14,"Lanaudière","TERREBONNE",null,null,null,null,"TERREBONNE"]
[null,null,null,null,15,"Laurentides","Blainville",null,null,null,null,"Blainville"]
[null,null,null,null,15,"Laurentides","MONT-LAURIER",null,null,null,null,"MONT-LAURIER"]
[null,null,null,null,15,"Laurentides","MONT-TREMBLANT",null,null,null,null,"MONT-TREMBLANT"]
[null,null,null,null,15,"Laurentides","SAINTE-AGATHE-DES-MONTS",null,null,null,null,"SAINTE-AGATHE-DES-MONTS"]
[null,null,null,null,15,"Laurentides","SAINT-JÉRÔME",null,null,null,null,"SAINT-JÉRÔME"]
[null,null,null,null,16,"Montérégie","BELOEIL",null,null,null,null,"BELOEIL"]
[null,null,null,null,16,"Montérégie","BOUCHERVILLE",null,null,null,null,"BOUCHERVILLE"]
[null,null,null,null,16,"Montérégie","BROSSARD",null,null,null,null,"BROSSARD"]
[null,null,null,null,16,"Montérégie","LONGUEUIL",null,null,null,null,"LONGUEUIL"]
[null,null,null,null,16,"Montérégie","RIGAUD",null,null,null,null,"RIGAUD"]
[null,null,null,null,16,"Montérégie","SAINT-HYACINTHE",null,null,null,null,"SAINT-HYACINTHE"]
[null,null,null,null,16,"Montérégie","SAINT-JEAN-SUR-RICHELIEU",null,null,null,null,"SAINT-JEAN-SUR-RICHELIEU"]
[null,null,null,null,16,"Montérégie","SALABERRY-DE-VALLEYFIELD",null,null,null,null,"SALABERRY-DE-VALLEYFIELD"]
[null,null,null,null,16,"Montérégie","VAUDREUIL-DORION",null,null,null,null,"VAUDREUIL-DORION"]
[null,null,null,null,16,"Montérégie","VENISE-EN-QUÉBEC",null,null,null,null,"VENISE-EN-QUÉBEC"]
[null,null,null,null,17,"Centre-du-Québec","BÉCANCOUR",null,null,null,null,"BÉCANCOUR"]
[null,null,null,null,17,"Centre-du-Québec","DRUMMONDVILLE",null,null,null,null,"DRUMMONDVILLE"]
[null,null,null,null,17,"Centre-du-Québec","NICOLET",null,null,null,null,"NICOLET"]
[null,null,null,null,17,"Centre-du-Québec","VICTORIAVILLE",null,null,null,null,"VICTORIAVILLE"]

{"sheet":"IndemnMax","index":7,"n_rows":16,"n_cols":6,"rows_kept":16,"cut":false,"hidden":true,"merged":[]}
["Ville","ValidDateReserv","CLE","Date_debut","Date_fin","Tarif_Max"]
["Autre",{"$f":"IF(AND(Config!$B$13<=E2,Config!$B$13>=D2),1,0)","v":1},{"$f":"A2&\"_\"&B2","v":"Autre_1"},"2025-11-01","2026-05-31",106]
["Autre",0,{"$f":"A3&\"_\"&B3","v":"Autre_0"},"2026-06-01","2026-10-31",111]
["Montréal",{"$f":"IF(AND(Config!$B$13<=E4,Config!$B$13>=D4),1,0)","v":1},{"$f":"A4&\"_\"&B4","v":"Montréal_1"},"2025-11-01","2026-05-31",161]
["Montréal",{"$f":"IF(AND(Config!$B$13<=E5,Config!$B$13>=D5),1,0)","v":0},"Montréal_0","2026-06-01","2026-10-31",177]
["Laval",{"$f":"IF(AND(Config!$B$13<=E6,Config!$B$13>=D6),1,0)","v":1},"Laval_1","2025-11-01","2026-05-31",130]
["Laval",{"$f":"IF(AND(Config!$B$13<=E7,Config!$B$13>=D7),1,0)","v":0},"Laval_0","2026-06-01","2026-10-31",140]
["Gatineau",{"$f":"IF(AND(Config!$B$13<=E8,Config!$B$13>=D8),1,0)","v":1},"Gatineau_1","2025-11-01","2026-05-31",130]
["Gatineau",{"$f":"IF(AND(Config!$B$13<=E9,Config!$B$13>=D9),1,0)","v":0},"Gatineau_0","2026-06-01","2026-10-31",140]
["Lac-Beauport",{"$f":"IF(AND(Config!$B$13<=E10,Config!$B$13>=D10),1,0)","v":1},"Lac-Beauport_1","2025-11-01","2026-05-31",130]
["Lac-Beauport",{"$f":"IF(AND(Config!$B$13<=E11,Config!$B$13>=D11),1,0)","v":0},"Lac-Beauport_0","2026-06-01","2026-10-31",140]
["Lac-Delage",{"$f":"IF(AND(Config!$B$13<=E12,Config!$B$13>=D12),1,0)","v":1},"Lac-Delage_1","2025-11-01","2026-05-31",130]
["Lac-Delage",{"$f":"IF(AND(Config!$B$13<=E13,Config!$B$13>=D13),1,0)","v":0},"Lac-Delage_0","2026-06-01","2026-10-31",140]
["Longueuil",{"$f":"IF(AND(Config!$B$13<=E14,Config!$B$13>=D14),1,0)","v":1},"Longueuil_1","2025-11-01","2026-05-31",130]
["Longueuil",{"$f":"IF(AND(Config!$B$13<=E15,Config!$B$13>=D15),1,0)","v":0},"Longueuil_0","2026-06-01","2026-10-31",140]
["Québec",{"$f":"IF(AND(Config!$B$13<=E16,Config!$B$13>=D16),1,0)","v":1},"Québec_1","2026-01-01","2026-12-31",135]